{"text_format":"1","workbook":"xlsx","n_sheets":14,"sheets":["Dane Firmy","Założenia","Poziom dofinansowania","Sprawozdania finansowe","Przychody","Koszty operacyjne","Środki trwałe","Rozliczenie dotacji","Kapitał pracujący","Finansowanie","Ocena kondycji finansowej","NPV","Nakłady projektowe","Projekty generujące dochód"],"not_rendered":{"charts":0,"images":0,"macros":1,"external_links":0,"defined_names":38,"comments":0,"pivot_tables":0},"unopened":[],"bounds":{"document_bytes":16777216,"sheet_cells":100000,"rows_first":2000,"rows_last":500,"rows_between":2000,"halvings":0,"cell_chars":16384,"cell_head_chars":4096},"cells_cut":0,"cells_raw":0,"read":"whole","date_system":"1900"}

{"sheet":"Dane Firmy","index":0,"n_rows":21,"n_cols":7,"rows_kept":21,"cut":false,"hidden":false,"merged":[[15,6,17,6]]}
[]
[]
[]
[]
[null,null,"Dane Wnioskodawcy"]
[]
[null,null,"Pełna nazwa",null,null,"Numer telefonu"]
[null,null,"Ulica",null,null,"Numer faxu"]
[null,null,"Miasto",null,null,"Adres e-mail"]
[null,null,"Kod pocztowy",null,null,"Firma jest MŚP"]
[null,null,"Województwo"]
[]
[null,null,"Tytuł projektu"]
[]
[null,null,null,null,null,null,"Skoroszyt nie jest zabezpieczony"]
[null,null,null,null,null,null,{"$f":"IF(G15=\"Skoroszyt nie jest zabezpieczony\",\"Przed wysłaniem pliku do oceny pamiętaj, aby zabezpieczyć skoroszyt przed zmianami\",\"\")","v":"Przed wysłaniem pliku do oceny pamiętaj, aby zabezpieczyć skoroszyt przed zmianami"}]
[]
[]
[]
[]
[null,null,null,null,null,null,"Model finansowy v. 1.6"]

{"sheet":"Założenia","index":1,"n_rows":151,"n_cols":23,"rows_kept":151,"cut":false,"hidden":false,"merged":[[1,1,2,7],[19,6,19,9],[13,6,15,9],[20,7,21,7],[11,6,11,9]]}
[]
[null,{"$f":"IF(ISBLANK(Firma),\"Wstaw nazwę firmy\",Firma)","v":"Wstaw nazwę firmy"}]
[]
[]
[]
[]
[]
[]
[]
[]
[]
[null,"Data rozpoczęcia bieżącego roku obrotowego",null,null,null,null,{"$f":"IF(ISBLANK(RokObrotowyPoczatek),\"\",IF(MONTH(RokObrotowyPoczatek)<>1,\"Rok obrotowy różny od roku kalendarzowego\",\"Rok obrotowy zgodny z rokiem kalendarzowym\"))","v":""}]
[]
[null,"Data ostatniego sporządzonego sprawozdania finansowego",null,null,null,null,{"$f":"IF(OR(ISBLANK(C12),ISBLANK(Poczatek),ISBLANK(C20),ISBLANK(D16),ISBLANK(D20),G21<0),\"Uzupełnij wszystkie wymagane pola: datę rozpoczęcia bieżącego roku obrotowego oraz rok i miesiąc rozpoczęcia i zakończenia Projektu\",\"\")","v":"Uzupełnij wszystkie wymagane pola: datę rozpoczęcia bieżącego roku obrotowego oraz rok i miesiąc rozpoczęcia i zakończenia Projektu"}]
[]
[null,"Rok i miesiąc rozpoczęcia realizacji Projektu"]
[null,"Ostatni rok kwalifikowalności wydatków",2023]
[null,"Maksymalny okres realizacji Projektu",{"$f":"IF(ISBLANK(C16),0,C17-C16+1)","v":0}]
[null,"Okres realizacji Projektu (lata)",{"$f":"IF(OR(ISBLANK(Poczatek),ISBLANK(Koniec_Projekt)),0,Koniec_Projekt-Poczatek+1)","v":0}]
[null,"Rok i miesiąc zakończenia realizacji Projektu",null,null,null,null,"Okres realizacji Projektu"]
[null,"Obligatoryjny okres trwałości Projektu",{"$f":"IF(C148=TRUE,3,5)","v":5},null,null,null,{"$f":"IF(OR(ISBLANK(D16),ISBLANK(D20),ISBLANK(Poczatek),ISBLANK(Koniec_Projekt)),0,IFERROR(((Koniec_Projekt-Poczatek)*12)+(D20-D16)+1,0))","v":0},"tj.",{"$f":"ROUNDDOWN(G21/12,0)","v":0},{"$f":"G21-(12*I21)","v":0}]
[null,"Rok zakończenia projekcji finansowej",{"$f":"IF(ISNUMBER(Koniec_Projekt),IFERROR(MAX(D141:D145),\"Uzupełnij dane\"),\"Uzupełnij dane\")","v":"Uzupełnij dane"},null,null,null,{"$f":"IF(G21=1,\"miesiąc\",IF(AND(G21>1,G21<5),\"miesiące\",\"miesięcy\"))","v":"miesięcy"},null,{"$f":"IF(I21=1,\"rok\",IF(AND(I21>1,I21<5),\"lata\",\"lat\"))","v":"lat"},{"$f":"IF(J21=1,\"miesiąc\",IF(AND(J21>1,J21<5),\"miesiące\",\"miesięcy\"))","v":"miesięcy"}]
[]
[]
[null,null,null,null,null,null,null,null,0,0,1,2,3,4,5,6,7,8,9,10,11,12,13]
[null,"Lata projekcji",null,null,null,{"$f":"IF(G26=0,0,G26-1)","v":0},{"$f":"IF(H26=0,0,H26-1)","v":0},{"$f":"IF(OR(ISBLANK(C12),ISBLANK(Poczatek),ISBLANK(C20),ISBLANK(D16),ISBLANK(D20),G21<0),0,IF(ISBLANK(DaneBiezace),YEAR(RokObrotowyPoczatek)-1,IF(ISNUMBER(I26),YEAR(I26)-1,IF(ISBLANK(C12),0,IF(OR(AND(YEAR(TODAY())=YEAR(C12),ISBLANK(DaneBiezace)),AND((YEAR(C12)-YEAR(DaneBiezace)=1),(YEAR(TODAY())-YEAR(DaneBiezace)=1))),YEAR(C12)-2,YEAR(C12)-1)))))","v":0},{"$f":"IF(OR(ISBLANK(DaneBiezace),YEAR(C12)-YEAR(DaneBiezace)>1),\"\",DaneBiezace)","v":""},{"$f":"IF(ISBLANK(C16),\"Uzupełnij dane\",IF(D118=0,D130,D118))","v":"Uzupełnij dane"},{"$f":"IFERROR(J26+1,\"\")","v":""},{"$f":"IFERROR(K26+1,\"\")","v":""},"","","","","","","","","","",""]
[null,null,null,null,null,"n-3","n-2","n-1","n",{"$f":"IFERROR(VLOOKUP(J26,$D$118:$E$145,2,),\"\")","v":""},"","","","","","","","","","","","",""]
[]
[null,"Liczba dni w okresie",null,null,null,{"$f":"IFERROR(IF(F30=12,IF(OR(F26=2012,F26=2016,F26=2020,F26=2024,F26=2028,F26=2032,F26=2036,F26=2040),366,365),ROUND(30.4166*F30,0)),\"\")","v":365},{"$f":"IFERROR(IF(G30=12,IF(OR(G26=2012,G26=2016,G26=2020,G26=2024,G26=2028,G26=2032,G26=2036,G26=2040),366,365),ROUND(30.4166*G30,0)),\"\")","v":365},365,{"$f":"IFERROR(IF(Rok_n=\"\",\"\",IF(I30=12,IF(OR(I26=2012,I26=2016,I26=2020,I26=2024,I26=2028,I26=2032,I26=2036,I26=2040),366,365),ROUND(30.4166*I30,0))),\"\")","v":""},"","","","","","","","","",{"$f":"IFERROR(IF(S30=12,IF(OR(S26=2012,S26=2016,S26=2020,S26=2024,S26=2028,S26=2032,S26=2036,S26=2040),366,365),ROUND(30.4166*S30,0)),\"\")","v":""},{"$f":"IFERROR(IF(T30=12,IF(OR(T26=2012,T26=2016,T26=2020,T26=2024,T26=2028,T26=2032,T26=2036,T26=2040),366,365),ROUND(30.4166*T30,0)),\"\")","v":""},{"$f":"IFERROR(IF(U30=12,IF(OR(U26=2012,U26=2016,U26=2020,U26=2024,U26=2028,U26=2032,U26=2036,U26=2040),366,365),ROUND(30.4166*U30,0)),\"\")","v":""},{"$f":"IFERROR(IF(V30=12,IF(OR(V26=2012,V26=2016,V26=2020,V26=2024,V26=2028,V26=2032,V26=2036,V26=2040),366,365),ROUND(30.4166*V30,0)),\"\")","v":""},{"$f":"IFERROR(IF(W30=12,IF(OR(W26=2012,W26=2016,W26=2020,W26=2024,W26=2028,W26=2032,W26=2036,W26=2040),366,365),ROUND(30.4166*W30,0)),\"\")","v":""}]
[null,"Liczba miesięcy",null,null,null,12,12,12,{"$f":"IF(Rok_n=\"\",\"\",IF(ISBLANK(DaneBiezace),\"\",IF((MONTH(DaneBiezace)-MONTH(C12))<0,((MONTH(DaneBiezace)-MONTH(C12))+1)+12,(MONTH(DaneBiezace)-MONTH(C12))+1)))","v":""},{"$f":"IF(ISNUMBER(J26),12,\"\")","v":""},{"$f":"IF(ISNUMBER(K26),12,\"\")","v":""},"","","","","","","",{"$f":"IF(ISNUMBER(S26),12,\"\")","v":""},{"$f":"IF(ISNUMBER(T26),12,\"\")","v":""},{"$f":"IF(ISNUMBER(U26),12,\"\")","v":""},{"$f":"IF(ISNUMBER(V26),12,\"\")","v":""},{"$f":"IF(ISNUMBER(W26),12,\"\")","v":""}]
[]
[null,"Stopa dyskonta"]
[null,"Współczynnik dyskonta",null,null,null,null,null,null,{"$f":"IFERROR(NPV!J24,\"\")","v":1},{"$f":"IFERROR(NPV!J24,\"\")","v":1},{"$f":"IFERROR(NPV!K24,\"\")","v":1},{"$f":"IFERROR(NPV!L24,\"\")","v":1},{"$f":"IFERROR(NPV!M24,\"\")","v":1},{"$f":"IFERROR(NPV!N24,\"\")","v":1},{"$f":"IFERROR(NPV!O24,\"\")","v":1},{"$f":"IFERROR(NPV!P24,\"\")","v":1},{"$f":"IFERROR(NPV!Q24,\"\")","v":1},{"$f":"IFERROR(NPV!R24,\"\")","v":1},{"$f":"IFERROR(NPV!S24,\"\")","v":1},{"$f":"IFERROR(NPV!T24,\"\")","v":1},{"$f":"IFERROR(NPV!U24,\"\")","v":1},{"$f":"IFERROR(NPV!V24,\"\")","v":1},{"$f":"IFERROR(NPV!W24,\"\")","v":1}]
[]
[null,"Stopa podatku dochodowego"]
[]
[null,"ZUS jako % płac"]
[]
[]
[null,"Kapitał pracujący (dla Projektu)"]
[null,"  Rotacja należności","dni"]
[null,"  Rotacja zapasów","dni"]
[null,"  Rotacja zobowiązań","dni"]
[]
[null,"Stawki amortyzacji"]
[null,"  koszty zakończonych prac rozwojowych","%"]
[null,"  wartość firmy","%"]
[null,"  inne wartości niematerialne i prawne","%"]
[null,"  grunty (w tym prawo użytkowania wieczystego gruntu) ","%"]
[null,"  budynki i budowle ","%"]
[null,"  urządzenia techniczne i maszyny ","%"]
[null,"  środki transportu ","%"]
[null,"  inne środki trwałe ","%"]
[]
[]
[null,"Finansowanie"]
[null,"  Koszt pożyczek od udziałowców","%"]
[null,"  Koszt kredytów krótkoterminowych","%"]
[null,"  Koszt kredytów długoterminowych","%"]
[null,"  Przychody z tytułu oprocentowania środków pieniężnych","%"]
[null,"  Przychody z tytułu oprocentowania depozytów","%"]
[]
[]
[]
[null,"Komentarz"]
[]
[]
[]
[]
[]
[]
[]
[]
[]
[]
[]
[]
[]
[]
[]
[]
[]
[]
[]
[]
[]
[]
[]
[]
[]
[]
[]
[]
[]
[]
[]
[]
[]
[]
[]
[]
[]
[]
[]
[]
[]
[]
[]
[]
[]
[]
[]
[]
[]
[]
[]
[]
[null,"PrzedRealizacją",1,{"$f":"IF(ISTEXT(I26),H26+1,IF(RokObrotowyPoczatek-DaneBiezace=1,H26+2,IF($C$16<=YEAR(DaneBiezace),0,YEAR(DaneBiezace))))","v":1},"pr1"]
[null,null,2,{"$f":"IF(OR(($C$16<=(D118+1)),(D118=0)),0,(D118+1))","v":0},"pr2"]
[null,null,3,0,"pr3"]
[null,null,4,0,"pr4"]
[null,null,5,0,"pr5"]
[null,null,6,0,"pr6"]
[null,null,7,0,"pr7"]
[null,null,8,0,"pr8"]
[null,null,9,0,"pr9"]
[]
[]
[]
[null,"Realizacja",1,{"$f":"IF(C130>$C$19,0,$C$16+C130-1)","v":0},"r1"]
[null,null,2,0,"r2"]
[null,null,3,0,"r3"]
[null,null,4,0,"r4"]
[null,null,5,0,"r5"]
[null,null,6,0,"r6"]
[null,null,7,0,"r7"]
[null,null,8,0,"r8"]
[null,null,9,0,"r9"]
[]
[]
[null,"Trwałość",1,{"$f":"VLOOKUP($C$19,C130:D138,2)+1","v":{"$error":"#N/A"}},"t1"]
[null,null,2,{"$f":"IF(C142>$C$21,0,D141+1)","v":{"$error":"#N/A"}},"t2"]
[null,null,3,{"$f":"IF(C143>$C$21,0,D142+1)","v":{"$error":"#N/A"}},"t3"]
[null,null,4,{"$f":"IF(C144>$C$21,0,D143+1)","v":{"$error":"#N/A"}},"t4"]
[null,null,5,{"$f":"IF(C145>$C$21,0,D144+1)","v":{"$error":"#N/A"}},"t5"]
[]
[]
[null,"MŚP",false]
[]
[null,"czy rok realizacji nie jest wcześniejszy niż bieżący okres",{"$f":"IF(AND((C16>=YEAR(C12)),(C16<=$C$17)),1,0)","v":0}]
[null,"Okres realizacji projektu",{"$f":"IF(C18=0,0,IF(C19=0,0,IF(C19>C18,0,1)))","v":0}]

{"sheet":"Poziom dofinansowania","index":2,"n_rows":60,"n_cols":8,"rows_kept":60,"cut":false,"hidden":true,"merged":[[1,1,2,4],[11,7,17,7],[18,7,21,7],[48,1,58,1],[22,4,23,4],[22,5,23,5],[22,6,23,6],[22,7,23,7],[22,2,22,3],[24,1,34,1],[36,1,46,1]]}
[]
[null,{"$f":"IF(ISBLANK(Firma),\"Wstaw nazwę firmy\",Firma)","v":"Wstaw nazwę firmy"}]
[]
[]
[]
[]
[]
[]
[]
[]
[]
[null,"Czy Wnioskodawca jest MŚP?",null,{"$f":"IF(Założenia!C148,\"Tak\",\"Nie\")","v":"Nie"},null,null,null,{"$f":"IF(proj_gen_doch=\"tak\",\"Projekt kwalifikuje się jako Projekt generujący dochód, dlatego w modelu należy stosować poniższy poziom dofinansowania\",\"\")","v":""}]
[]
[null,"Czy wartość projektu przekracza równowartość 1 mln EUR?",null,{"$f":"IF(ISTEXT(D16),\"Uzupełnij dane\",IFERROR(IF(D16>=1000000,\"Tak\",\"Nie\"),\"Uzupełnij dane\"))","v":"Uzupełnij dane"}]
[]
[null,"Równowartość projektu w EUR",null,{"$f":"IFERROR(IF(OR(ISBLANK(D18),D60=0),\"Uzupełnij dane\",ROUND(D60/D18,2)),\"Uzupełnij dane\")","v":"Uzupełnij dane"}]
[]
[null,"Średni kurs NBP PLN/EUR"]
[null,null,null,null,null,null,null,"ß"]
[null,"Czy Projekt kwalifikuje się jako Projekt generujący dochdód?",null,{"$f":"IF(D14=\"uzupełnij dane\",\"Uzupełnij dane\",IFERROR(IF(AND(D12=\"nie\",D14=\"tak\"),\"Tak\",\"Nie\"),\"Uzupełnij dane\"))","v":"Uzupełnij dane"}]
[]
[null,"Uwaga! Dane liczbowe w poniższej tabeli należy podać w PLN, BEZ ZAOKRĄGLEŃ"]
[null,null,"Nakłady kwalifikowane",null,"Skorygowane nakłady kwalifikowane \no zryczałtowaną stopę dochodów","Poziom dofinansowania zgodnie z pomocą publiczną\n(w %)","Rzeczywisty poziom dofinansowania \n(w PLN)","Rzeczywisty poziom dofinansowania \n(w %)"]
[null,null,"[opis]","[kwota w PLN]"]
[null,"Wydatki inwestycyjne finansowane zgodnie z mapą pomocy regionalnej",null,null,{"$f":"IF(proj_gen_doch=\"tak\",ROUND(D25*0.8,2),D25)","v":0},null,{"$f":"IFERROR(ROUND(E25*F25,2),0)","v":0},{"$f":"IFERROR(ROUND(G25/D25,4),0)","v":0}]
[null,null,null,null,0,null,{"$f":"IFERROR(ROUND(E26*F26,2),0)","v":0},{"$f":"IFERROR(ROUND(G26/D26,4),0)","v":0}]
[null,null,null,null,0,null,0,0]
[null,null,null,null,{"$f":"IF(proj_gen_doch=\"tak\",ROUND(D28*0.8,2),D28)","v":0},null,0,0]
[null,null,null,null,0,null,0,0]
[null,null,null,null,0,null,0,0]
[null,null,null,null,0,null,0,0]
[null,null,null,null,0,null,0,0]
[null,null,null,null,0,null,0,0]
[null,null,null,null,0,null,0,0]
[null,null,"Razem",{"$f":"SUM(D25:D34)","v":0},{"$f":"SUM(E25:E34)","v":0},null,{"$f":"SUM(G25:G34)","v":0},0]
[]
[null,"Wydatki na prace badawczo-rozwojowe (B+R)",null,null,{"$f":"IF(proj_gen_doch=\"tak\",ROUND(D37*0.8,2),D37)","v":0},null,{"$f":"IFERROR(ROUND(E37*F37,2),0)","v":0},{"$f":"IFERROR(ROUND(G37/D37,4),0)","v":0}]
[null,null,null,null,0,null,{"$f":"IFERROR(ROUND(E38*F38,2),0)","v":0},{"$f":"IFERROR(ROUND(G38/D38,4),0)","v":0}]
[null,null,null,null,0,null,0,0]
[null,null,null,null,0,null,0,0]
[null,null,null,null,0,null,0,0]
[null,null,null,null,0,null,0,0]
[null,null,null,null,0,null,0,0]
[null,null,null,null,0,null,0,0]
[null,null,null,null,0,null,0,0]
[null,null,null,null,0,null,0,0]
[null,null,"Razem",{"$f":"SUM(D37:D46)","v":0},{"$f":"SUM(E37:E46)","v":0},null,{"$f":"SUM(G37:G46)","v":0},0]
[]
[null,"Wydatki finansowane \nz pomocy de minimis",null,null,{"$f":"IF(proj_gen_doch=\"tak\",ROUND(D49*1,2),D49)","v":0},null,{"$f":"IFERROR(ROUND(E49*F49,2),0)","v":0},{"$f":"IFERROR(ROUND(G49/D49,4),0)","v":0}]
[null,null,null,null,0,null,{"$f":"IFERROR(ROUND(E50*F50,2),0)","v":0},{"$f":"IFERROR(ROUND(G50/D50,4),0)","v":0}]
[null,null,null,null,{"$f":"IF(proj_gen_doch=\"tak\",ROUND(D51*1,2),D51)","v":0},null,0,0]
[null,null,null,null,0,null,0,0]
[null,null,null,null,0,null,0,0]
[null,null,null,null,0,null,0,0]
[null,null,null,null,0,null,0,0]
[null,null,null,null,0,null,0,0]
[null,null,null,null,0,null,0,0]
[null,null,null,null,0,null,0,0]
[null,null,"Razem",{"$f":"SUM(D49:D58)","v":0},{"$f":"SUM(E49:E58)","v":0},null,{"$f":"SUM(G49:G58)","v":0},0]
[null,null,"Razem",{"$f":"D59+D47+D35","v":0},{"$f":"E59+E47+E35","v":0},null,{"$f":"G59+G47+G35","v":0},0]

{"sheet":"Sprawozdania finansowe","index":3,"n_rows":199,"n_cols":6,"rows_kept":199,"cut":false,"hidden":false,"merged":[[1,1,2,5]]}
[]
[null,{"$f":"IF(ISBLANK(Firma),\"Wstaw nazwę firmy\",Firma)","v":"Wstaw nazwę firmy"}]
[]
[]
[]
[]
[]
[]
[]
[]
[null,"Bilans (w tys. PLN)",{"$f":"Założenia!F26","v":0},{"$f":"Założenia!G26","v":0},{"$f":"Założenia!H26","v":0},{"$f":"Założenia!I26","v":""}]
[]
[null,"A. Aktywa trwałe",{"$f":"C14+C19+C28+C31+C46","v":0},{"$f":"D14+D19+D28+D31+D46","v":0},{"$f":"E14+E19+E28+E31+E46","v":0},{"$f":"F14+F19+F28+F31+F46","v":0}]
[null,"I. Wartości niematerialne i prawne",{"$f":"SUM(C15:C18)","v":0},{"$f":"SUM(D15:D18)","v":0},{"$f":"SUM(E15:E18)","v":0},{"$f":"SUM(F15:F18)","v":0}]
[null,"1. Koszty zakończonych prac rozwojowych"]
[null,"2. Wartość firmy"]
[null,"3. Inne wartości niematerialne i prawne"]
[null,"4. Zaliczki na wartości niematerialne i prawne"]
[null,"II. Rzeczowe aktywa trwałe",{"$f":"C20+C26+C27","v":0},{"$f":"D20+D26+D27","v":0},{"$f":"E20+E26+E27","v":0},{"$f":"F20+F26+F27","v":0}]
[null,"1. Środki trwałe",{"$f":"SUM(C21:C25)","v":0},{"$f":"SUM(D21:D25)","v":0},{"$f":"SUM(E21:E25)","v":0},{"$f":"SUM(F21:F25)","v":0}]
[null," a) grunty (w tym prawo użytk. wiecz. gruntu)"]
[null," b) budynki, lokale i obiekty inż. lądowej i wodnej"]
[null," c) urządzenia techniczne i maszyny"]
[null," d) środki transportu"]
[null," e) inne środki trwałe"]
[null,"2. Środki trwałe w budowie"]
[null,"3. Zaliczki na środki trwałe w budowie"]
[null,"III. Należności długoterminowe",{"$f":"C29+C30","v":0},{"$f":"D29+D30","v":0},{"$f":"E29+E30","v":0},{"$f":"F29+F30","v":0}]
[null,"1. Od jednostek powiązanych"]
[null,"2. Od pozostałych jednostek"]
[null,"IV. Inwestycje długoterminowe",{"$f":"C32+C33+C34+C45","v":0},{"$f":"D32+D33+D34+D45","v":0},{"$f":"E32+E33+E34+E45","v":0},{"$f":"F32+F33+F34+F45","v":0}]
[null,"1. Nieruchomości"]
[null,"2. Wartości niematerialne i prawne"]
[null,"3. Długoterminowe aktywa finansowe",{"$f":"C35+C40","v":0},{"$f":"D35+D40","v":0},{"$f":"E35+E40","v":0},{"$f":"F35+F40","v":0}]
[null," a) w jednostkach powiązanych",{"$f":"SUM(C36:C39)","v":0},{"$f":"SUM(D36:D39)","v":0},{"$f":"SUM(E36:E39)","v":0},{"$f":"SUM(F36:F39)","v":0}]
[null,"    - udziały lub akcje"]
[null,"    - inne papiery wartościowe"]
[null,"    - udzielone pożyczki"]
[null,"    - inne długoterminowe aktywa finansowe"]
[null," b) w pozostałych jednostkach",{"$f":"SUM(C41:C44)","v":0},{"$f":"SUM(D41:D44)","v":0},{"$f":"SUM(E41:E44)","v":0},{"$f":"SUM(F41:F44)","v":0}]
[null,"    - udziały lub akcje"]
[null,"    - inne papiery wartościowe"]
[null,"    - udzielone pożyczki"]
[null,"    - inne długoterminowe aktywa finansowe"]
[null,"4. Inne inwestycje długoterminowe"]
[null,"V. Długoterminowe rozliczenia międzyokresowe",{"$f":"SUM(C47:C48)","v":0},{"$f":"SUM(D47:D48)","v":0},{"$f":"SUM(E47:E48)","v":0},{"$f":"SUM(F47:F48)","v":0}]
[null,"1. Aktywa z tytułu odroczonego pod. dochodowego"]
[null,"2. Inne rozliczenia międzyokresowe"]
[null,"B. Aktywa obrotowe",{"$f":"C50+C56+C69+C86","v":0},{"$f":"D50+D56+D69+D86","v":0},{"$f":"E50+E56+E69+E86","v":0},{"$f":"F50+F56+F69+F86","v":0}]
[null,"I. Zapasy",{"$f":"SUM(C51:C55)","v":0},{"$f":"SUM(D51:D55)","v":0},{"$f":"SUM(E51:E55)","v":0},{"$f":"SUM(F51:F55)","v":0}]
[null,"1. Materiały"]
[null,"2. Półprodukty i produkty w toku"]
[null,"3. Produkty gotowe"]
[null,"4. Towary"]
[null,"5. Zaliczki na dostawy"]
[null,"II. Należności krótkoterminowe",{"$f":"C57+C62","v":0},{"$f":"D57+D62","v":0},{"$f":"E57+E62","v":0},{"$f":"F57+F62","v":0}]
[null,"1. Należności od jednostek powiązanych",{"$f":"C58+C61","v":0},{"$f":"D58+D61","v":0},{"$f":"E58+E61","v":0},{"$f":"F58+F61","v":0}]
[null," a) z tytułu dostaw i usług o okresie spłaty",{"$f":"SUM(C59:C60)","v":0},{"$f":"SUM(D59:D60)","v":0},{"$f":"SUM(E59:E60)","v":0},{"$f":"SUM(F59:F60)","v":0}]
[null,"    - do 12 miesięcy"]
[null,"    - powyżej 12 miesięcy"]
[null," b) inne"]
[null,"2. Należności od pozostałych jednostek",{"$f":"C63+C66+C67+C68","v":0},{"$f":"D63+D66+D67+D68","v":0},{"$f":"E63+E66+E67+E68","v":0},{"$f":"F63+F66+F67+F68","v":0}]
[null," a) z tytułu dostaw i usług o okresie spłaty",{"$f":"SUM(C64:C65)","v":0},{"$f":"SUM(D64:D65)","v":0},{"$f":"SUM(E64:E65)","v":0},{"$f":"SUM(F64:F65)","v":0}]
[null,"    - do 12 miesięcy"]
[null,"    - powyżej 12 miesięcy"]
[null," b) z tytułu podatków, dotacji, ceł, ubezp.społ i zdrowotnych oraz innych świadczeń"]
[null," c) inne"]
[null," d) dochodzone na drodze sądowej"]
[null,"III. Inwestycje krótkoterminowe",{"$f":"C70+C85","v":0},{"$f":"D70+D85","v":0},{"$f":"E70+E85","v":0},{"$f":"F70+F85","v":0}]
[null,"1. Krótkoterminowe aktywa finansowe",{"$f":"C71+C76+C81","v":0},{"$f":"D71+D76+D81","v":0},{"$f":"E71+E76+E81","v":0},{"$f":"F71+F76+F81","v":0}]
[null," a) w jednostkach powiązanych",{"$f":"SUM(C72:C75)","v":0},{"$f":"SUM(D72:D75)","v":0},{"$f":"SUM(E72:E75)","v":0},{"$f":"SUM(F72:F75)","v":0}]
[null,"    - udziały lub akcje"]
[null,"    - inne papiery wartościowe"]
[null,"    - udzielone pożyczki"]
[null,"    - inne krótkoterminowe aktywa finansowe"]
[null," b) w pozostałych jednostkach",{"$f":"SUM(C77:C80)","v":0},{"$f":"SUM(D77:D80)","v":0},{"$f":"SUM(E77:E80)","v":0},{"$f":"SUM(F77:F80)","v":0}]
[null,"    - udziały lub akcje"]
[null,"    - inne papiery wartościowe"]
[null,"    - udzielone pożyczki"]
[null,"    - inne krótkoterminowe aktywa finansowe"]
[null," c) środki pieniężne i inne aktywa pieniężne",{"$f":"SUM(C82:C84)","v":0},{"$f":"SUM(D82:D84)","v":0},{"$f":"SUM(E82:E84)","v":0},{"$f":"SUM(F82:F84)","v":0}]
[null,"    - środki pieniężne w kasie i na rachunkach"]
[null,"    - inne środki pieniężne"]
[null,"    - inne aktywa pieniężne"]
[null,"2. Inne inwestycje krótkoterminowe"]
[null,"IV. Krótkoterminowe rozliczenia międzyokresowe"]
[null,"Aktywa razem",{"$f":"C13+C49","v":0},{"$f":"D13+D49","v":0},{"$f":"E13+E49","v":0},{"$f":"F13+F49","v":0}]
[]
[]
[]
[]
[null,"Aktywa - Pasywa: jeżeli 0 to OK",{"$f":"IF(C144=C87,\"OK\",C87-C144)","v":"OK"},{"$f":"IF(D144=D87,\"OK\",D87-D144)","v":"OK"},{"$f":"IF(E144=E87,\"OK\",E87-E144)","v":"OK"},{"$f":"IF(F144=F87,\"OK\",F87-F144)","v":"OK"}]
[null,"Bilans (w tys. PLN)",{"$f":"C11","v":0},{"$f":"D11","v":0},{"$f":"E11","v":0},{"$f":"F11","v":""}]
[null,"A. Kapitał (fundusz) własny",{"$f":"SUM(C95:C103)","v":0},{"$f":"SUM(D95:D103)","v":0},{"$f":"SUM(E95:E103)","v":0},{"$f":"SUM(F95:F103)","v":0}]
[null,"I. Kapitał (fundusz) podstawowy"]
[null,"II. Należne wpłaty na kapitał podstawowy (wielkość ujemna)"]
[null,"III. Udziały (akcje) własne (wielkość ujemna)"]
[null,"IV. Kapitał (fundusz) zapasowy"]
[null,"V. Kapitał (fundusz) z aktualizacji wyceny"]
[null,"VI. Pozostałe kapitały (fundusze) rezerwowe"]
[null,"VII. Zysk (strata) z lat ubiegłych"]
[null,"VIII. Zysk (strata) netto",{"$f":"C197","v":0},{"$f":"D197","v":0},{"$f":"E197","v":0},{"$f":"F197","v":0}]
[null,"IX. Odpisy z zysku netto w ciągu roku obrotowego (wielkość ujemna)"]
[null,"B. Zobowiązania i rezerwy na zobowiązania",{"$f":"C105+C113+C120+C139","v":0},{"$f":"D105+D113+D120+D139","v":0},{"$f":"E105+E113+E120+E139","v":0},{"$f":"F105+F113+F120+F139","v":0}]
[null,"I. Rezerwy na zobowiązania",{"$f":"C106+C107+C110","v":0},{"$f":"D106+D107+D110","v":0},{"$f":"E106+E107+E110","v":0},{"$f":"F106+F107+F110","v":0}]
[null,"1. Rezerwa z tytułu odroczonego pod. doch."]
[null,"2. Rezerwa na świadczenia emerytalne i podobne",{"$f":"C108+C109","v":0},{"$f":"D108+D109","v":0},{"$f":"E108+E109","v":0},{"$f":"F108+F109","v":0}]
[null,"    - długoterminowa"]
[null,"    - krótkoterminowa"]
[null,"3. Pozostałe rezerwy",{"$f":"C111+C112","v":0},{"$f":"D111+D112","v":0},{"$f":"E111+E112","v":0},{"$f":"F111+F112","v":0}]
[null,"    - długoterminowe"]
[null,"    - krótkoterminowe"]
[null,"II. Zobowiązania długoterminowe",{"$f":"C114+C115","v":0},{"$f":"D114+D115","v":0},{"$f":"E114+E115","v":0},{"$f":"F114+F115","v":0}]
[null,"1. Wobec jednostek powiązanych"]
[null,"2. Wobec pozostałych jednostek",{"$f":"SUM(C116:C119)","v":0},{"$f":"SUM(D116:D119)","v":0},{"$f":"SUM(E116:E119)","v":0},{"$f":"SUM(F116:F119)","v":0}]
[null," a) kredyty i pożyczki"]
[null," b) z tytułu emisji dłużnych papierów wart."]
[null," c) inne zobowiązania finansowe"]
[null," d) inne"]
[null,"III. Zobowiązania krótkoterminowe",{"$f":"C121+C126+C138","v":0},{"$f":"D121+D126+D138","v":0},{"$f":"E121+E126+E138","v":0},{"$f":"F121+F126+F138","v":0}]
[null,"1. Wobec jednostek powiązanych",{"$f":"C122+C125","v":0},{"$f":"D122+D125","v":0},{"$f":"E122+E125","v":0},{"$f":"F122+F125","v":0}]
[null," a) z tytułu dostaw i usług o okresie wymagalności",{"$f":"C123+C124","v":0},{"$f":"D123+D124","v":0},{"$f":"E123+E124","v":0},{"$f":"F123+F124","v":0}]
[null,"    - do 12 miesięcy"]
[null,"    - powyżej 12 miesięcy"]
[null," b) inne"]
[null,"2. Wobec pozostałych jednostek",{"$f":"C127+C128+C129+C130+C133+C134+C135+C136+C137","v":0},{"$f":"D127+D128+D129+D130+D133+D134+D135+D136+D137","v":0},{"$f":"E127+E128+E129+E130+E133+E134+E135+E136+E137","v":0},{"$f":"F127+F128+F129+F130+F133+F134+F135+F136+F137","v":0}]
[null," a) kredyty i pożyczki"]
[null," b) z tytułu emisji dłużnych papierów wart."]
[null," c) inne zobowiązania finansowe"]
[null," d) z tytułu dostaw i usług o okresie wymagalności",{"$f":"C131+C132","v":0},{"$f":"D131+D132","v":0},{"$f":"E131+E132","v":0},{"$f":"F131+F132","v":0}]
[null,"    - do 12 miesięcy"]
[null,"    - powyżej 12 miesięcy"]
[null," e) zaliczki otrzymane na dostawy"]
[null," f) zobowiązania wekslowe"]
[null," g) z tytułu podatków, ceł, ubezp. i innych świadczeń"]
[null," h) z tytułu wynagrodzeń"]
[null," i) inne"]
[null,"3. Fundusze specjalne"]
[null,"IV. Rozliczenia międzyokresowe",{"$f":"C140+C141","v":0},{"$f":"D140+D141","v":0},{"$f":"E140+E141","v":0},{"$f":"F140+F141","v":0}]
[null,"1. Ujemna wartość firmy"]
[null,"2. Inne rozliczenia międzyokresowe",{"$f":"C142+C143","v":0},{"$f":"D142+D143","v":0},{"$f":"E142+E143","v":0},{"$f":"F142+F143","v":0}]
[null,"    - długoterminowe"]
[null,"    - krótkoterminowe"]
[null,"Pasywa razem",{"$f":"C104+C94","v":0},{"$f":"D104+D94","v":0},{"$f":"E104+E94","v":0},{"$f":"F104+F94","v":0}]
[]
[null,"Aktywa - Pasywa: jeżeli 0 to OK",{"$f":"IF(C144=C87,\"OK\",C87-C144)","v":"OK"},{"$f":"IF(D144=D87,\"OK\",D87-D144)","v":"OK"},{"$f":"IF(E144=E87,\"OK\",E87-E144)","v":"OK"},{"$f":"IF(F144=F87,\"OK\",F87-F144)","v":"OK"}]
[]
[]
[null,"Rachunek zysków i strat (w tys. PLN)",{"$f":"C11","v":0},{"$f":"D11","v":0},{"$f":"E11","v":0},{"$f":"F11","v":""}]
[null,"A. Przychody netto ze sprzedaży i zrównane z nimi, w tym",{"$f":"C152+C153+C154+C155","v":0},{"$f":"D152+D153+D154+D155","v":0},{"$f":"E152+E153+E154+E155","v":0},{"$f":"F152+F153+F154+F155","v":0}]
[null,"    - od jednostek powiązanych"]
[null,"I. Przychody netto ze sprzedaży produktów"]
[null,"II. Zmiana stanu produktów (zwiększenie - wartość dodatnia, zmniejszenie - wartość ujemna)"]
[null,"III. Koszt wytworzenia produktów na własne potrzeby jednostki"]
[null,"IV. Przychody netto ze sprzedaży towarów i materiałów"]
[null,"B. Koszty działalności operacyjnej",{"$f":"SUM(C157:C165)-C161","v":0},{"$f":"SUM(D157:D165)-D161","v":0},{"$f":"SUM(E157:E165)-E161","v":0},{"$f":"SUM(F157:F165)-F161","v":0}]
[null,"I. Amortyzacja"]
[null,"II. Zużycie materiałów i energii"]
[null,"III. Usługi obce"]
[null,"IV. Podatki i opłaty, w tym"]
[null,"    - podatek akcyzowy"]
[null,"V. Wynagrodzenia"]
[null,"VI. Ubezpieczenia społeczne i inne świadczenia"]
[null,"VII. Pozostałe koszty rodzajowe"]
[null,"VIII. Wartość sprzedanych towarów i materiałów"]
[null,"C. Zysk (strata) ze sprzedaży (A-B)",{"$f":"C150-C156","v":0},{"$f":"D150-D156","v":0},{"$f":"E150-E156","v":0},{"$f":"F150-F156","v":0}]
[null,"D. Pozostałe przychody operacyjne",{"$f":"SUM(C168:C170)","v":0},{"$f":"SUM(D168:D170)","v":0},{"$f":"SUM(E168:E170)","v":0},{"$f":"SUM(F168:F170)","v":0}]
[null,"I. Zysk ze zbycia niefinansowych aktywów trwałych"]
[null,"II. Dotacje"]
[null,"III. Inne przychody operacyjne"]
[null,"E. Pozostałe koszty operacyjne",{"$f":"SUM(C172:C174)","v":0},{"$f":"SUM(D172:D174)","v":0},{"$f":"SUM(E172:E174)","v":0},{"$f":"SUM(F172:F174)","v":0}]
[null,"I. Strata ze zbycia niefinansowych aktywów trwałych"]
[null,"II. Aktualizacja wartości aktywów niefinansowych"]
[null,"III. Inne koszty operacyjne"]
[null,"F. Zysk (strata) z działalności operacyjnej (C+D-E)",{"$f":"C166+C167-C171","v":0},{"$f":"D166+D167-D171","v":0},{"$f":"E166+E167-E171","v":0},{"$f":"F166+F167-F171","v":0}]
[null,"G. Przychody finansowe",{"$f":"C177+C179+C181+C182+C183","v":0},{"$f":"D177+D179+D181+D182+D183","v":0},{"$f":"E177+E179+E181+E182+E183","v":0},{"$f":"F177+F179+F181+F182+F183","v":0}]
[null,"I. Dywidendy i udziały w zyskach, w tym"]
[null,"    - od jednostek powiązanych"]
[null,"II. Odsetki, w tym"]
[null,"    - od jednostek powiązanych"]
[null,"III. Zysk ze zbycia inwestycji"]
[null,"IV. Aktualizacja wartości inwestycji"]
[null,"V. Inne"]
[null,"H. Koszty finansowe",{"$f":"SUM(C185:C189)-C186","v":0},{"$f":"SUM(D185:D189)-D186","v":0},{"$f":"SUM(E185:E189)-E186","v":0},{"$f":"SUM(F185:F189)-F186","v":0}]
[null,"I. Odsetki, w tym"]
[null,"    - od jednostek powiązanych"]
[null,"II. Strata ze zbycia inwestycji"]
[null,"III. Aktualizacja wartości inwestycji"]
[null,"IV. Inne"]
[null,"I. Zysk (strata) z działalności gospodarczej (F+G-H)",{"$f":"C175+C176-C184","v":0},{"$f":"D175+D176-D184","v":0},{"$f":"E175+E176-E184","v":0},{"$f":"F175+F176-F184","v":0}]
[null,"J. Wynik zdarzeń nadzwyczajnych (J.I. - J.II.)",{"$f":"C192-C193","v":0},{"$f":"D192-D193","v":0},{"$f":"E192-E193","v":0},{"$f":"F192-F193","v":0}]
[null,"I. Zyski nadzwyczajne"]
[null,"II. Straty nadzwyczajne"]
[null,"K. Zysk (strata) brutto (I+J)",{"$f":"C190+C191","v":0},{"$f":"D190+D191","v":0},{"$f":"E190+E191","v":0},{"$f":"F190+F191","v":0}]
[null,"L. Podatek dochodowy"]
[null,"M. Pozostałe obowiązkowe zmniejszenie zysku (zwiększenie straty)"]
[null,"N. Zysk (strata) netto (K-L-M)",{"$f":"C194-C195-C196","v":0},{"$f":"D194-D195-D196","v":0},{"$f":"E194-E195-E196","v":0},{"$f":"F194-F195-F196","v":0}]
[]
[null,null,{"$f":"C197=C102","v":true},{"$f":"D197=D102","v":true},{"$f":"E197=E102","v":true},{"$f":"F197=F102","v":true}]

{"sheet":"Przychody","index":4,"n_rows":391,"n_cols":23,"rows_kept":391,"cut":false,"hidden":false,"merged":[[1,1,2,11]]}
[]
[null,{"$f":"IF(ISBLANK(Firma),\"Wstaw nazwę firmy\",Firma)","v":"Wstaw nazwę firmy"}]
[]
[]
[]
[]
[]
[]
[]
[]
[null,null,null,null,null,null,null,null,null,{"$f":"Założenia!J25","v":0},{"$f":"Założenia!K25","v":1},{"$f":"Założenia!L25","v":2},{"$f":"Założenia!M25","v":3},{"$f":"Założenia!N25","v":4},{"$f":"Założenia!O25","v":5},{"$f":"Założenia!P25","v":6},{"$f":"Założenia!Q25","v":7},{"$f":"Założenia!R25","v":8},{"$f":"Założenia!S25","v":9},{"$f":"Założenia!T25","v":10},{"$f":"Założenia!U25","v":11},{"$f":"Założenia!V25","v":12},{"$f":"Założenia!W25","v":13}]
[null,"Działalność dotychczasowa (bez Projektu)",null,null,null,{"$f":"Założenia!F26","v":0},{"$f":"Założenia!G26","v":0},{"$f":"Założenia!H26","v":0},{"$f":"Założenia!I26","v":""},{"$f":"LataProjekcji","v":"Uzupełnij dane"},"","","","","","","","","","","","",""]
[]
[null,"Przychody netto ze sprzedaży produktów     Nazwa / Ilość produktów"]
[]
[]
[]
[]
[]
[null,"Cena produktu"]
[null,{"$f":"IF(ISBLANK(B15),\"\",B15)","v":""}]
[null,{"$f":"IF(ISBLANK(B16),\"\",B16)","v":""}]
[null,{"$f":"IF(ISBLANK(B17),\"\",B17)","v":""}]
[null,{"$f":"IF(ISBLANK(B18),\"\",B18)","v":""}]
[null,{"$f":"IF(ISBLANK(B19),\"\",B19)","v":""}]
[null,"Wartość sprzedaży produktów"]
[null,{"$f":"IF(ISBLANK(B21),\"\",B21)","v":""},null,null,null,null,null,null,null,{"$f":"ROUND(J21*J15,0)","v":0},0,0,0,0,0,0,0,0,0,0,0,0,0]
[null,{"$f":"IF(ISBLANK(B22),\"\",B22)","v":""},null,null,null,null,null,null,null,{"$f":"ROUND(J22*J16,0)","v":0},0,0,0,0,0,0,0,0,0,0,0,0,0]
[null,{"$f":"IF(ISBLANK(B23),\"\",B23)","v":""},null,null,null,null,null,null,null,{"$f":"ROUND(J23*J17,0)","v":0},0,0,0,0,0,0,0,0,0,0,0,0,0]
[null,{"$f":"IF(ISBLANK(B24),\"\",B24)","v":""},null,null,null,null,null,null,null,{"$f":"ROUND(J24*J18,0)","v":0},0,0,0,0,0,0,0,0,0,0,0,0,0]
[null,{"$f":"IF(ISBLANK(B25),\"\",B25)","v":""},null,null,null,null,null,null,null,{"$f":"ROUND(J25*J19,0)","v":0},0,0,0,0,0,0,0,0,0,0,0,0,0]
[null,"Razem Sprzedaż produktów",null,null,null,null,null,null,null,{"$f":"IF(LataProjekcji<=Koniec,ROUND(SUM(J27:J31),0),0)","v":0},0,0,0,0,0,0,0,0,0,0,0,0,0]
[]
[]
[null,"Zmiana stanu produktów ([+] zwiększenie / [-] zmiejszenie)",null,null,null,null,null,null,null,{"$f":"LataProjekcji","v":"Uzupełnij dane"},"","","","","","","","","","","","",""]
[]
[]
[]
[]
[]
[null,"Razem Zmiana stanu produktów",null,null,null,null,null,null,null,{"$f":"IF(LataProjekcji<=Koniec,ROUND(SUM(J36:J40),0),0)","v":0},0,0,0,0,0,0,0,0,0,0,0,0,0]
[]
[]
[null,"Koszt wytworzenia produktów na własne potrzeby jednostki",null,null,null,null,null,null,null,{"$f":"LataProjekcji","v":"Uzupełnij dane"},"","","","","","","","","","","","",""]
[]
[]
[]
[]
[]
[null,"Razem Koszt wytworzenia produktów na własne potrzeby jednostki",null,null,null,null,null,null,null,{"$f":"IF(LataProjekcji<=Koniec,ROUND(SUM(J45:J49),0),0)","v":0},0,0,0,0,0,0,0,0,0,0,0,0,0]
[]
[]
[null,"Przychody ze sprzedaży towarów i materiałów    Nazwa / Ilość towaru",null,null,null,null,null,null,null,{"$f":"LataProjekcji","v":"Uzupełnij dane"},"","","","","","","","","","","","",""]
[]
[]
[]
[]
[]
[null,"Cena za towar"]
[null,{"$f":"IF(ISBLANK(B54),\"\",B54)","v":""}]
[null,{"$f":"IF(ISBLANK(B55),\"\",B55)","v":""}]
[null,{"$f":"IF(ISBLANK(B56),\"\",B56)","v":""}]
[null,{"$f":"IF(ISBLANK(B57),\"\",B57)","v":""}]
[null,{"$f":"IF(ISBLANK(B58),\"\",B58)","v":""}]
[null,"Wartość sprzedaży towarów i materiałów"]
[null,{"$f":"IF(ISBLANK(B60),\"\",B60)","v":""},null,null,null,null,null,null,null,{"$f":"ROUND(J60*J54,0)","v":0},0,0,0,0,0,0,0,0,0,0,0,0,0]
[null,{"$f":"IF(ISBLANK(B61),\"\",B61)","v":""},null,null,null,null,null,null,null,{"$f":"ROUND(J61*J55,0)","v":0},0,0,0,0,0,0,0,0,0,0,0,0,0]
[null,{"$f":"IF(ISBLANK(B62),\"\",B62)","v":""},null,null,null,null,null,null,null,{"$f":"ROUND(J62*J56,0)","v":0},0,0,0,0,0,0,0,0,0,0,0,0,0]
[null,{"$f":"IF(ISBLANK(B63),\"\",B63)","v":""},null,null,null,null,null,null,null,{"$f":"ROUND(J63*J57,0)","v":0},0,0,0,0,0,0,0,0,0,0,0,0,0]
[null,{"$f":"IF(ISBLANK(B64),\"\",B64)","v":""},null,null,null,null,null,null,null,{"$f":"ROUND(J64*J58,0)","v":0},0,0,0,0,0,0,0,0,0,0,0,0,0]
[null,"Razem Sprzedaż towarów i materiałów",null,null,null,null,null,null,null,{"$f":"IF(LataProjekcji<=Koniec,ROUND(SUM(J66:J70),0),0)","v":0},{"$f":"IF(LataProjekcji<=Koniec,ROUND(SUM(K66:K70),0),0)","v":0},0,0,0,0,0,0,0,0,0,0,0,0]
[]
[]
[null,"Wartość sprzedanych towarów i materiałów (Koszty operacyjne) / Ilość towaru",null,null,null,null,null,null,null,{"$f":"LataProjekcji","v":"Uzupełnij dane"},"","","","","","","","","","","","",""]
[]
[]
[]
[]
[]
[null,"Cena za towar"]
[null,{"$f":"IF(ISBLANK(B75),\"\",B75)","v":""}]
[null,{"$f":"IF(ISBLANK(B76),\"\",B76)","v":""}]
[null,{"$f":"IF(ISBLANK(B77),\"\",B77)","v":""}]
[null,{"$f":"IF(ISBLANK(B78),\"\",B78)","v":""}]
[null,{"$f":"IF(ISBLANK(B79),\"\",B79)","v":""}]
[null,"Wartość w cenie nabycia"]
[null,{"$f":"IF(ISBLANK(B81),\"\",B81)","v":""},null,null,null,null,null,null,null,{"$f":"ROUND(J81*J75,0)","v":0},0,0,0,0,0,0,0,0,0,0,0,0,0]
[null,{"$f":"IF(ISBLANK(B82),\"\",B82)","v":""},null,null,null,null,null,null,null,{"$f":"ROUND(J82*J76,0)","v":0},0,0,0,0,0,0,0,0,0,0,0,0,0]
[null,{"$f":"IF(ISBLANK(B83),\"\",B83)","v":""},null,null,null,null,null,null,null,{"$f":"ROUND(J83*J77,0)","v":0},0,0,0,0,0,0,0,0,0,0,0,0,0]
[null,{"$f":"IF(ISBLANK(B84),\"\",B84)","v":""},null,null,null,null,null,null,null,{"$f":"ROUND(J84*J78,0)","v":0},0,0,0,0,0,0,0,0,0,0,0,0,0]
[null,{"$f":"IF(ISBLANK(B85),\"\",B85)","v":""},null,null,null,null,null,null,null,{"$f":"ROUND(J85*J79,0)","v":0},0,0,0,0,0,0,0,0,0,0,0,0,0]
[null,"Razem Wartość sprzedanych towarów i materiałów",null,null,null,null,null,null,null,{"$f":"IF(LataProjekcji<=Koniec,ROUND(SUM(J87:J91),0),0)","v":0},0,0,0,0,0,0,0,0,0,0,0,0,0]
[]
[]
[null,"Pozostałe przychody operacyjne",null,null,null,null,null,null,null,{"$f":"LataProjekcji","v":"Uzupełnij dane"},"","","","","","","","","","","","",""]
[]
[]
[]
[]
[null,"Dotacje z lat poprzednich",null,null,null,null,null,null,null,{"$f":"ROUND('Rozliczenie dotacji'!J20,0)","v":0},{"$f":"ROUND('Rozliczenie dotacji'!K20,0)","v":0},{"$f":"ROUND('Rozliczenie dotacji'!L20,0)","v":0},{"$f":"ROUND('Rozliczenie dotacji'!M20,0)","v":0},{"$f":"ROUND('Rozliczenie dotacji'!N20,0)","v":0},{"$f":"ROUND('Rozliczenie dotacji'!O20,0)","v":0},{"$f":"ROUND('Rozliczenie dotacji'!P20,0)","v":0},{"$f":"ROUND('Rozliczenie dotacji'!Q20,0)","v":0},{"$f":"ROUND('Rozliczenie dotacji'!R20,0)","v":0},{"$f":"ROUND('Rozliczenie dotacji'!S20,0)","v":0},{"$f":"ROUND('Rozliczenie dotacji'!T20,0)","v":0},{"$f":"ROUND('Rozliczenie dotacji'!U20,0)","v":0},{"$f":"ROUND('Rozliczenie dotacji'!V20,0)","v":0},{"$f":"ROUND('Rozliczenie dotacji'!W20,0)","v":0}]
[null,"Razem Pozostałe przychody operacyjne",null,null,null,null,null,null,null,{"$f":"IF(LataProjekcji<=Koniec,ROUND(SUM(J96:J100),0),0)","v":0},0,0,0,0,0,0,0,0,0,0,0,0,0]
[]
[]
[null,"Przychody finansowe",null,null,null,null,null,null,null,{"$f":"LataProjekcji","v":"Uzupełnij dane"},"","","","","","","","","","","","",""]
[null,"Przychody z tytułu oprocentowania środków pieniężnych",null,null,null,null,null,null,null,{"$f":"ROUND(Finansowanie!J29,0)","v":0},{"$f":"ROUND(Finansowanie!K29,0)","v":0},{"$f":"ROUND(Finansowanie!L29,0)","v":0},{"$f":"ROUND(Finansowanie!M29,0)","v":0},{"$f":"ROUND(Finansowanie!N29,0)","v":0},{"$f":"ROUND(Finansowanie!O29,0)","v":0},{"$f":"ROUND(Finansowanie!P29,0)","v":0},{"$f":"ROUND(Finansowanie!Q29,0)","v":0},{"$f":"ROUND(Finansowanie!R29,0)","v":0},{"$f":"ROUND(Finansowanie!S29,0)","v":0},{"$f":"ROUND(Finansowanie!T29,0)","v":0},{"$f":"ROUND(Finansowanie!U29,0)","v":0},{"$f":"ROUND(Finansowanie!V29,0)","v":0},{"$f":"ROUND(Finansowanie!W29,0)","v":0}]
[null,"Przychody z tytułu oprocentowania depozytów bankowych",null,null,null,null,null,null,null,{"$f":"ROUND(Finansowanie!J38,2)","v":0},{"$f":"ROUND(Finansowanie!K38,2)","v":0},{"$f":"ROUND(Finansowanie!L38,2)","v":0},{"$f":"ROUND(Finansowanie!M38,2)","v":0},{"$f":"ROUND(Finansowanie!N38,2)","v":0},{"$f":"ROUND(Finansowanie!O38,2)","v":0},{"$f":"ROUND(Finansowanie!P38,2)","v":0},{"$f":"ROUND(Finansowanie!Q38,2)","v":0},{"$f":"ROUND(Finansowanie!R38,2)","v":0},{"$f":"ROUND(Finansowanie!S38,2)","v":0},{"$f":"ROUND(Finansowanie!T38,2)","v":0},{"$f":"ROUND(Finansowanie!U38,2)","v":0},{"$f":"ROUND(Finansowanie!V38,2)","v":0},{"$f":"ROUND(Finansowanie!W38,2)","v":0}]
[]
[]
[]
[null,"Razem Przychody finansowe",null,null,null,null,null,null,null,{"$f":"IF(LataProjekcji<=Koniec,ROUND(SUM(J105:J109),0),0)","v":0},0,0,0,0,0,0,0,0,0,0,0,0,0]
[]
[]
[null,"Podsumowanie",null,null,null,null,null,null,null,{"$f":"LataProjekcji","v":"Uzupełnij dane"},"","","","","","","","","","","","",""]
[null,"Sprzedaż produktów",null,null,null,null,null,null,null,{"$f":"J32","v":0},0,0,0,0,0,0,0,0,0,0,0,0,0]
[null,"Zmiana stanu produktów ([+] zwiększenie / [-] zmniejszenie)",null,null,null,null,null,null,null,{"$f":"J41","v":0},{"$f":"K41","v":0},0,0,0,0,0,0,0,0,0,0,0,0]
[null,"Koszt wytworzenia produktów na własne potrzeby jednostki",null,null,null,null,null,null,null,{"$f":"J50","v":0},{"$f":"K50","v":0},0,0,0,0,0,0,0,0,0,0,0,0]
[null,"Sprzedaż towarów i materiałów",null,null,null,null,null,null,null,{"$f":"J71","v":0},0,0,0,0,0,0,0,0,0,0,0,0,0]
[null,"Przychody netto ze sprzedaży",null,null,null,null,null,null,null,{"$f":"SUM(J114:J117)","v":0},{"$f":"SUM(K114:K117)","v":0},0,0,0,0,0,0,0,0,0,0,0,0]
[null,"Wartość sprzedanych towarów i materiałów (koszty operacyjne)",null,null,null,null,null,null,null,{"$f":"J92","v":0},0,0,0,0,0,0,0,0,0,0,0,0,0]
[null,"Pozostałe przychody operacyjne",null,null,null,null,null,null,null,{"$f":"J101","v":0},0,0,0,0,0,0,0,0,0,0,0,0,0]
[null,"Przychody finansowe",null,null,null,null,null,null,null,{"$f":"J110","v":0},{"$f":"K110","v":0},0,0,0,0,0,0,0,0,0,0,0,0]
[]
[]
[null,"Projekt",null,null,null,{"$f":"F12","v":0},{"$f":"G12","v":0},{"$f":"H12","v":0},{"$f":"I12","v":""},{"$f":"LataProjekcji","v":"Uzupełnij dane"},"","","","","","","","","","","","",""]
[]
[null,"Przychody netto ze sprzedaży produktów (Projekt)   Nazwa / Ilość"]
[]
[]
[]
[]
[]
[null,"Cena produktu"]
[null,{"$f":"IF(ISBLANK(B127),\"\",B127)","v":""}]
[null,{"$f":"IF(ISBLANK(B128),\"\",B128)","v":""}]
[null,{"$f":"IF(ISBLANK(B129),\"\",B129)","v":""}]
[null,{"$f":"IF(ISBLANK(B130),\"\",B130)","v":""}]
[null,{"$f":"IF(ISBLANK(B131),\"\",B131)","v":""}]
[null,"Wartość sprzedaży produktów"]
[null,{"$f":"IF(ISBLANK(B133),\"\",B133)","v":""},null,null,null,null,null,null,null,{"$f":"ROUND(J133*J127,0)","v":0},0,0,0,0,0,0,0,0,0,0,0,0,0]
[null,{"$f":"IF(ISBLANK(B134),\"\",B134)","v":""},null,null,null,null,null,null,null,{"$f":"ROUND(J134*J128,0)","v":0},0,0,0,0,0,0,0,0,0,0,0,0,0]
[null,{"$f":"IF(ISBLANK(B135),\"\",B135)","v":""},null,null,null,null,null,null,null,{"$f":"ROUND(J135*J129,0)","v":0},0,0,0,0,0,0,0,0,0,0,0,0,0]
[null,{"$f":"IF(ISBLANK(B136),\"\",B136)","v":""},null,null,null,null,null,null,null,{"$f":"ROUND(J136*J130,0)","v":0},0,0,0,0,0,0,0,0,0,0,0,0,0]
[null,{"$f":"IF(ISBLANK(B137),\"\",B137)","v":""},null,null,null,null,null,null,null,{"$f":"ROUND(J137*J131,0)","v":0},0,0,0,0,0,0,0,0,0,0,0,0,0]
[null,"Razem Sprzedaż produktów (Projekt)",null,null,null,null,null,null,null,{"$f":"IF(LataProjekcji<=Koniec,SUM(J139:J143),0)","v":0},0,0,0,0,0,0,0,0,0,0,0,0,0]
[]
[]
[null,"Zmiana stanu produktów ([+] zwiększenie / [-] zmiejszenie)",null,null,null,null,null,null,null,{"$f":"LataProjekcji","v":"Uzupełnij dane"},"","","","","","","","","","","","",""]
[]
[]
[]
[]
[]
[null,"Razem Zmiana stanu produktów",null,null,null,null,null,null,null,{"$f":"IF(LataProjekcji<=Koniec,ROUND(SUM(J148:J152),0),0)","v":0},0,0,0,0,0,0,0,0,0,0,0,0,0]
[]
[]
[null,"Koszt wytworzenia produktów na własne potrzeby jednostki",null,null,null,null,null,null,null,{"$f":"LataProjekcji","v":"Uzupełnij dane"},"","","","","","","","","","","","",""]
[]
[]
[]
[]
[]
[null,"Razem Koszt wytworzenia produktów na własne potrzeby jednostki",null,null,null,null,null,null,null,{"$f":"IF(LataProjekcji<=Koniec,ROUND(SUM(J157:J161),0),0)","v":0},0,0,0,0,0,0,0,0,0,0,0,0,0]
[]
[]
[null,"Przychody ze sprzedaży towarów i materiałów (Projekt)  Nazwa / Ilość",null,null,null,null,null,null,null,{"$f":"LataProjekcji","v":"Uzupełnij dane"},"","","","","","","","","","","","",""]
[]
[]
[]
[]
[]
[null,"Cena za towar"]
[null,{"$f":"IF(ISBLANK(B166),\"\",B166)","v":""}]
[null,{"$f":"IF(ISBLANK(B167),\"\",B167)","v":""}]
[null,{"$f":"IF(ISBLANK(B168),\"\",B168)","v":""}]
[null,{"$f":"IF(ISBLANK(B169),\"\",B169)","v":""}]
[null,{"$f":"IF(ISBLANK(B170),\"\",B170)","v":""}]
[null,"Wartość sprzedaży towarów i materiałów"]
[null,{"$f":"IF(ISBLANK(B172),\"\",B172)","v":""},null,null,null,null,null,null,null,{"$f":"ROUND(J172*J166,0)","v":0},0,0,0,0,0,0,0,0,0,0,0,0,0]
[null,{"$f":"IF(ISBLANK(B173),\"\",B173)","v":""},null,null,null,null,null,null,null,{"$f":"ROUND(J173*J167,0)","v":0},0,0,0,0,0,0,0,0,0,0,0,0,0]
[null,{"$f":"IF(ISBLANK(B174),\"\",B174)","v":""},null,null,null,null,null,null,null,{"$f":"ROUND(J174*J168,0)","v":0},0,0,0,0,0,0,0,0,0,0,0,0,0]
[null,{"$f":"IF(ISBLANK(B175),\"\",B175)","v":""},null,null,null,null,null,null,null,{"$f":"ROUND(J175*J169,0)","v":0},0,0,0,0,0,0,0,0,0,0,0,0,0]
[null,{"$f":"IF(ISBLANK(B176),\"\",B176)","v":""},null,null,null,null,null,null,null,{"$f":"ROUND(J176*J170,0)","v":0},0,0,0,0,0,0,0,0,0,0,0,0,0]
[null,"Razem Sprzedaż towarów i materiałów (Projekt)",null,null,null,null,null,null,null,{"$f":"IF(LataProjekcji<=Koniec,SUM(J178:J182),0)","v":0},0,0,0,0,0,0,0,0,0,0,0,0,0]
[]
[]
[null,"Wartość sprzedanych towarów i materiałów (Projekt, Koszty operacyjne)",null,null,null,null,null,null,null,{"$f":"LataProjekcji","v":"Uzupełnij dane"},"","","","","","","","","","","","",""]
[]
[]
[]
[]
[]
[null,"Cena za towar"]
[null,{"$f":"IF(ISBLANK(B187),\"\",B187)","v":""}]
[null,{"$f":"IF(ISBLANK(B188),\"\",B188)","v":""}]
[null,{"$f":"IF(ISBLANK(B189),\"\",B189)","v":""}]
[null,{"$f":"IF(ISBLANK(B190),\"\",B190)","v":""}]
[null,{"$f":"IF(ISBLANK(B191),\"\",B191)","v":""}]
[null,"Wartość w cenie nabycia"]
[null,{"$f":"IF(ISBLANK(B193),\"\",B193)","v":""},null,null,null,null,null,null,null,{"$f":"ROUND(J193*J187,0)","v":0},0,0,0,0,0,0,0,0,0,0,0,0,0]
[null,{"$f":"IF(ISBLANK(B194),\"\",B194)","v":""},null,null,null,null,null,null,null,{"$f":"ROUND(J194*J188,0)","v":0},0,0,0,0,0,0,0,0,0,0,0,0,0]
[null,{"$f":"IF(ISBLANK(B195),\"\",B195)","v":""},null,null,null,null,null,null,null,{"$f":"ROUND(J195*J189,0)","v":0},0,0,0,0,0,0,0,0,0,0,0,0,0]
[null,{"$f":"IF(ISBLANK(B196),\"\",B196)","v":""},null,null,null,null,null,null,null,{"$f":"ROUND(J196*J190,0)","v":0},0,0,0,0,0,0,0,0,0,0,0,0,0]
[null,{"$f":"IF(ISBLANK(B197),\"\",B197)","v":""},null,null,null,null,null,null,null,{"$f":"ROUND(J197*J191,0)","v":0},0,0,0,0,0,0,0,0,0,0,0,0,0]
[null,"Razem Wartość sprzedanych towarów i materiałów (Projekt)",null,null,null,null,null,null,null,{"$f":"IF(LataProjekcji<=Koniec,SUM(J199:J203),0)","v":0},0,0,0,0,0,0,0,0,0,0,0,0,0]
[]
[]
[null,"Pozostałe przychody operacyjne (Projekt)",null,null,null,null,null,null,null,{"$f":"LataProjekcji","v":"Uzupełnij dane"},"","","","","","","","","","","","",""]
[]
[]
[]
[]
[null,"Dotacje",null,null,null,null,null,null,null,{"$f":"'Rozliczenie dotacji'!J427","v":0},{"$f":"'Rozliczenie dotacji'!K427","v":0},{"$f":"'Rozliczenie dotacji'!L427","v":0},{"$f":"'Rozliczenie dotacji'!M427","v":0},{"$f":"'Rozliczenie dotacji'!N427","v":0},{"$f":"'Rozliczenie dotacji'!O427","v":0},{"$f":"'Rozliczenie dotacji'!P427","v":0},{"$f":"'Rozliczenie dotacji'!Q427","v":0},{"$f":"'Rozliczenie dotacji'!R427","v":0},{"$f":"'Rozliczenie dotacji'!S427","v":0},{"$f":"'Rozliczenie dotacji'!T427","v":0},{"$f":"'Rozliczenie dotacji'!U427","v":0},{"$f":"'Rozliczenie dotacji'!V427","v":0},{"$f":"'Rozliczenie dotacji'!W427","v":0}]
[null,"Razem Pozostałe przychody operacyjne (Projekt)",null,null,null,null,null,null,null,{"$f":"IF(LataProjekcji<=Koniec,SUM(J208:J212),0)","v":0},0,0,0,0,0,0,0,0,0,0,0,0,0]
[]
[]
[null,"Przychody finansowe (Projekt)",null,null,null,null,null,null,null,{"$f":"LataProjekcji","v":"Uzupełnij dane"},"","","","","","","","","","","","",""]
[null,"Przychody z tytułu oprocentowania środków pieniężnych",null,null,null,null,null,null,null,{"$f":"IFERROR(ROUND(Finansowanie!J93+Finansowanie!J102,0),0)","v":0},{"$f":"IFERROR(ROUND(Finansowanie!K93+Finansowanie!K102,0),0)","v":0},{"$f":"IFERROR(ROUND(Finansowanie!L93+Finansowanie!L102,0),0)","v":0},{"$f":"IFERROR(ROUND(Finansowanie!M93+Finansowanie!M102,0),0)","v":0},{"$f":"IFERROR(ROUND(Finansowanie!N93+Finansowanie!N102,0),0)","v":0},{"$f":"IFERROR(ROUND(Finansowanie!O93+Finansowanie!O102,0),0)","v":0},{"$f":"IFERROR(ROUND(Finansowanie!P93+Finansowanie!P102,0),0)","v":0},{"$f":"IFERROR(ROUND(Finansowanie!Q93+Finansowanie!Q102,0),0)","v":0},{"$f":"IFERROR(ROUND(Finansowanie!R93+Finansowanie!R102,0),0)","v":0},{"$f":"IFERROR(ROUND(Finansowanie!S93+Finansowanie!S102,0),0)","v":0},{"$f":"IFERROR(ROUND(Finansowanie!T93+Finansowanie!T102,0),0)","v":0},{"$f":"IFERROR(ROUND(Finansowanie!U93+Finansowanie!U102,0),0)","v":0},{"$f":"IFERROR(ROUND(Finansowanie!V93+Finansowanie!V102,0),0)","v":0},{"$f":"IFERROR(ROUND(Finansowanie!W93+Finansowanie!W102,0),0)","v":0}]
[]
[]
[]
[]
[null,"Razem Przychody finansowe (Projekt)",null,null,null,null,null,null,null,{"$f":"IF(LataProjekcji<=Koniec,SUM(J217:J221),0)","v":0},0,0,0,0,0,0,0,0,0,0,0,0,0]
[]
[]
[null,"Podsumowanie (Projekt)",null,null,null,null,null,null,null,{"$f":"LataProjekcji","v":"Uzupełnij dane"},"","","","","","","","","","","","",""]
[null,"Sprzedaż produktów",null,null,null,null,null,null,null,{"$f":"IF(LataProjekcji<=Koniec,J144,0)","v":0},0,0,0,0,0,0,0,0,0,0,0,0,0]
[null,"Zmiana stanu produktów ([+] zwiększenie / [-] zmniejszenie)",null,null,null,null,null,null,null,{"$f":"J153","v":0},{"$f":"K153","v":0},0,0,0,0,0,0,0,0,0,0,0,0]
[null,"Koszt wytworzenia produktów na własne potrzeby jednostki",null,null,null,null,null,null,null,{"$f":"J162","v":0},{"$f":"K162","v":0},0,0,0,0,0,0,0,0,0,0,0,0]
[null,"Sprzedaż towarów i materiałów",null,null,null,null,null,null,null,{"$f":"IF(LataProjekcji<=Koniec,J183,0)","v":0},0,0,0,0,0,0,0,0,0,0,0,0,0]
[null,"Przychody netto ze sprzedaży",null,null,null,null,null,null,null,{"$f":"SUM(J226:J229)","v":0},{"$f":"SUM(K226:K229)","v":0},0,0,0,0,0,0,0,0,0,0,0,0]
[null,"Wartość sprzedanych towarów i materiałów (koszty operacyjne)",null,null,null,null,null,null,null,{"$f":"J204","v":0},0,0,0,0,0,0,0,0,0,0,0,0,0]
[null,"Pozostałe przychody operacyjne",null,null,null,null,null,null,null,{"$f":"J213","v":0},{"$f":"K213","v":0},0,0,0,0,0,0,0,0,0,0,0,0]
[null,"Przychody finansowe",null,null,null,null,null,null,null,{"$f":"J222","v":0},{"$f":"K222","v":0},0,0,0,0,0,0,0,0,0,0,0,0]
[]
[]
[]
[null,"Komentarz:"]
[]
[]
[]
[]
[]
[]
[]
[]
[]
[]
[]
[]
[]
[]
[]
[]
[]
[]
[]
[]
[]
[]
[]
[]
[]
[]
[]
[]
[]
[]
[]
[]
[]
[]
[]
[]
[]
[]
[]
[]
[]
[]
[]
[]
[]
[]
[]
[]
[]
[]
[]
[]
[]
[]
[]
[]
[]
[]
[]
[]
[]
[]
[]
[]
[]
[]
[]
[]
[]
[]
[]
[]
[]
[]
[]
[]
[]
[]
[]
[]
[]
[]
[]
[]
[]
[]
[]
[]
[]
[]
[]
[]
[]
[]
[]
[]
[]
[]
[]
[]
[]
[]
[]
[]
[]
[]
[]
[]
[]
[]
[]
[]
[]
[]
[]
[]
[]
[]
[]
[]
[]
[]
[]
[]
[]
[]
[]
[]
[]
[]
[]
[]
[]
[]
[]
[]
[]
[]
[]
[]
[]
[]
[]
[]
[]
[]
[]
[]
[]
[]
[]
[]
[]
[null,null,true]

{"sheet":"Koszty operacyjne","index":5,"n_rows":1144,"n_cols":23,"rows_kept":1144,"cut":false,"hidden":false,"merged":[[284,9,284,22],[1,1,2,11],[217,9,217,22],[258,9,258,22],[127,9,127,22],[152,9,152,22],[172,9,172,22]]}
[]
[null,{"$f":"IF(ISBLANK(Firma),\"Wstaw nazwę firmy\",Firma)","v":"Wstaw nazwę firmy"}]
[]
[]
[]
[]
[]
[]
[]
[]
[null,null,null,null,null,null,null,null,null,{"$f":"Założenia!J25","v":0},{"$f":"Założenia!K25","v":1},{"$f":"Założenia!L25","v":2},{"$f":"Założenia!M25","v":3},{"$f":"Założenia!N25","v":4},{"$f":"Założenia!O25","v":5},{"$f":"Założenia!P25","v":6},{"$f":"Założenia!Q25","v":7},{"$f":"Założenia!R25","v":8},{"$f":"Założenia!S25","v":9},{"$f":"Założenia!T25","v":10},{"$f":"Założenia!U25","v":11},{"$f":"Założenia!V25","v":12},{"$f":"Założenia!W25","v":13}]
[null,"Działalność dotychczasowa (bez Projektu)",null,null,null,{"$f":"Założenia!F26","v":0},{"$f":"Założenia!G26","v":0},{"$f":"Założenia!H26","v":0},{"$f":"Założenia!I26","v":""},{"$f":"LataProjekcji","v":"Uzupełnij dane"},"","","","","","","","","","","","",""]
[]
[null,"Zużycie materiałów i eneregii"]
[]
[]
[]
[]
[]
[null,"Razem Zużycie materiałów i energii",null,null,null,null,null,null,null,{"$f":"IF(LataProjekcji<=Koniec,ROUND(SUM(J15:J19),0),0)","v":0},0,0,0,0,0,0,0,0,0,0,0,0,0]
[]
[]
[null,"Usługi obce",null,null,null,null,null,null,null,{"$f":"LataProjekcji","v":"Uzupełnij dane"},"","","","","","","","","","","","",""]
[]
[]
[]
[]
[]
[null,"Razem Usługi obce",null,null,null,null,null,null,null,{"$f":"IF(LataProjekcji<=Koniec,ROUND(SUM(J24:J28),0),0)","v":0},0,0,0,0,0,0,0,0,0,0,0,0,0]
[]
[]
[null,"Podatki i opłaty",null,null,null,null,null,null,null,{"$f":"LataProjekcji","v":"Uzupełnij dane"},"","","","","","","","","","","","",""]
[]
[]
[]
[]
[]
[null,"Razem Podatki i opłaty",null,null,null,null,null,null,null,{"$f":"IF(LataProjekcji<=Koniec,ROUND(SUM(J33:J37),0),0)","v":0},0,0,0,0,0,0,0,0,0,0,0,0,0]
[]
[]
[null,"Wynagrodzenia (brutto)"]
[null,"Stanowisko / Grupa              Średnie miesięczne wynagrodzenie brutto",null,null,null,null,null,null,null,{"$f":"LataProjekcji","v":"Uzupełnij dane"},"","","","","","","","","","","","",""]
[]
[]
[]
[]
[]
[null,"Ilość etatów na danym stanowisku / w danej grupie"]
[null,{"$f":"IF(ISBLANK(B43),\"\",B43)","v":""}]
[null,{"$f":"IF(ISBLANK(B44),\"\",B44)","v":""}]
[null,{"$f":"IF(ISBLANK(B45),\"\",B45)","v":""}]
[null,{"$f":"IF(ISBLANK(B46),\"\",B46)","v":""}]
[null,{"$f":"IF(ISBLANK(B47),\"\",B47)","v":""}]
[null,"Koszty rocznych wynagrodzeń na danym stanowisku / w danej grupie"]
[null,{"$f":"IF(ISBLANK(B49),\"\",B49)","v":""},null,null,null,null,null,null,null,{"$f":"ROUND(J49*J43*12,0)","v":0},0,0,0,0,0,0,0,0,0,0,0,0,0]
[null,{"$f":"IF(ISBLANK(B50),\"\",B50)","v":""},null,null,null,null,null,null,null,{"$f":"ROUND(J50*J44*12,0)","v":0},0,0,0,0,0,0,0,0,0,0,0,0,0]
[null,{"$f":"IF(ISBLANK(B51),\"\",B51)","v":""},null,null,null,null,null,null,null,{"$f":"ROUND(J51*J45*12,0)","v":0},0,0,0,0,0,0,0,0,0,0,0,0,0]
[null,{"$f":"IF(ISBLANK(B52),\"\",B52)","v":""},null,null,null,null,null,null,null,{"$f":"ROUND(J52*J46*12,0)","v":0},0,0,0,0,0,0,0,0,0,0,0,0,0]
[null,{"$f":"IF(ISBLANK(B53),\"\",B53)","v":""},null,null,null,null,null,null,null,{"$f":"ROUND(J53*J47*12,0)","v":0},0,0,0,0,0,0,0,0,0,0,0,0,0]
[null,"Razem Wynagrodzenia",null,null,null,null,null,null,null,{"$f":"IF(LataProjekcji<=Koniec,ROUND(SUM(J55:J59),0),0)","v":0},0,0,0,0,0,0,0,0,0,0,0,0,0]
[]
[]
[null,"Ubezpieczenia społeczne i inne świadczenia",null,null,null,null,null,null,null,{"$f":"LataProjekcji","v":"Uzupełnij dane"},"","","","","","","","","","","","",""]
[null,"Stanowisko / Grupa"]
[null,{"$f":"IF(ISBLANK(B43),\"\",B43)","v":""},null,null,null,null,null,null,null,{"$f":"ROUND(J55*ZUS,0)","v":0},0,0,0,0,0,0,0,0,0,0,0,0,0]
[null,{"$f":"IF(ISBLANK(B44),\"\",B44)","v":""},null,null,null,null,null,null,null,{"$f":"ROUND(J56*ZUS,0)","v":0},0,0,0,0,0,0,0,0,0,0,0,0,0]
[null,{"$f":"IF(ISBLANK(B45),\"\",B45)","v":""},null,null,null,null,null,null,null,{"$f":"ROUND(J57*ZUS,0)","v":0},0,0,0,0,0,0,0,0,0,0,0,0,0]
[null,{"$f":"IF(ISBLANK(B46),\"\",B46)","v":""},null,null,null,null,null,null,null,{"$f":"ROUND(J58*ZUS,0)","v":0},0,0,0,0,0,0,0,0,0,0,0,0,0]
[null,{"$f":"IF(ISBLANK(B47),\"\",B47)","v":""},null,null,null,null,null,null,null,{"$f":"ROUND(J59*ZUS,0)","v":0},0,0,0,0,0,0,0,0,0,0,0,0,0]
[null,"Razem Ubezpieczenia społeczne i inne świadczenia",null,null,null,null,null,null,null,{"$f":"IF(LataProjekcji<=Koniec,ROUND(SUM(J65:J69),0),0)","v":0},0,0,0,0,0,0,0,0,0,0,0,0,0]
[]
[]
[null,"Pozostałe koszty rodzajowe",null,null,null,null,null,null,null,{"$f":"LataProjekcji","v":"Uzupełnij dane"},"","","","","","","","","","","","",""]
[]
[]
[]
[]
[]
[null,"Razem Pozostałe koszty",null,null,null,null,null,null,null,{"$f":"IF(LataProjekcji<=Koniec,ROUND(SUM(J74:J78),0),0)","v":0},0,0,0,0,0,0,0,0,0,0,0,0,0]
[]
[]
[null,"Pozostałe koszty operacyjne",null,null,null,null,null,null,null,{"$f":"LataProjekcji","v":"Uzupełnij dane"},"","","","","","","","","","","","",""]
[]
[]
[]
[]
[]
[null,"Razem Pozostałe koszty operacyjne",null,null,null,null,null,null,null,{"$f":"IF(LataProjekcji<=Koniec,ROUND(SUM(J83:J87),0),0)","v":0},0,0,0,0,0,0,0,0,0,0,0,0,0]
[]
[]
[null,"Koszty finansowe",null,null,null,null,null,null,null,{"$f":"LataProjekcji","v":"Uzupełnij dane"},"","","","","","","","","","","","",""]
[null,"Koszty z tytułu oprocentowania kredytów i pożyczek",null,null,null,null,null,null,null,{"$f":"ROUND(Finansowanie!J47+Finansowanie!J56+Finansowanie!J65,0)","v":0},{"$f":"ROUND(Finansowanie!K47+Finansowanie!K56+Finansowanie!K65,0)","v":0},{"$f":"ROUND(Finansowanie!L47+Finansowanie!L56+Finansowanie!L65,0)","v":0},{"$f":"ROUND(Finansowanie!M47+Finansowanie!M56+Finansowanie!M65,0)","v":0},{"$f":"ROUND(Finansowanie!N47+Finansowanie!N56+Finansowanie!N65,0)","v":0},{"$f":"ROUND(Finansowanie!O47+Finansowanie!O56+Finansowanie!O65,0)","v":0},{"$f":"ROUND(Finansowanie!P47+Finansowanie!P56+Finansowanie!P65,0)","v":0},{"$f":"ROUND(Finansowanie!Q47+Finansowanie!Q56+Finansowanie!Q65,0)","v":0},{"$f":"ROUND(Finansowanie!R47+Finansowanie!R56+Finansowanie!R65,0)","v":0},{"$f":"ROUND(Finansowanie!S47+Finansowanie!S56+Finansowanie!S65,0)","v":0},{"$f":"ROUND(Finansowanie!T47+Finansowanie!T56+Finansowanie!T65,0)","v":0},{"$f":"ROUND(Finansowanie!U47+Finansowanie!U56+Finansowanie!U65,0)","v":0},{"$f":"ROUND(Finansowanie!V47+Finansowanie!V56+Finansowanie!V65,0)","v":0},{"$f":"ROUND(Finansowanie!W47+Finansowanie!W56+Finansowanie!W65,0)","v":0}]
[]
[]
[]
[]
[null,"Razem Koszty finansowe",null,null,null,null,null,null,null,{"$f":"IF(LataProjekcji<=Koniec,ROUND(SUM(J92:J96),0),0)","v":0},0,0,0,0,0,0,0,0,0,0,0,0,0]
[]
[]
[null,"Koszty dotychczasowej działalności operacyjnej",null,null,null,null,null,null,null,{"$f":"LataProjekcji","v":"Uzupełnij dane"},"","","","","","","","","","","","",""]
[null,"Amortyzacja",null,null,null,null,null,null,null,{"$f":"'Środki trwałe'!J83","v":0},{"$f":"'Środki trwałe'!K83","v":0},{"$f":"'Środki trwałe'!L83","v":0},{"$f":"'Środki trwałe'!M83","v":0},{"$f":"'Środki trwałe'!N83","v":0},{"$f":"'Środki trwałe'!O83","v":0},{"$f":"'Środki trwałe'!P83","v":0},{"$f":"'Środki trwałe'!Q83","v":0},{"$f":"'Środki trwałe'!R83","v":0},{"$f":"'Środki trwałe'!S83","v":0},{"$f":"'Środki trwałe'!T83","v":0},{"$f":"'Środki trwałe'!U83","v":0},{"$f":"'Środki trwałe'!V83","v":0},{"$f":"'Środki trwałe'!W83","v":0}]
[null,"Zużycie materiałów i energii",null,null,null,null,null,null,null,{"$f":"ROUND(J20,0)","v":0},{"$f":"K20","v":0},0,0,0,0,0,0,0,0,0,0,0,0]
[null,"Usługi obce",null,null,null,null,null,null,null,{"$f":"ROUND(J29,0)","v":0},{"$f":"K29","v":0},0,0,0,0,0,0,0,0,0,0,0,0]
[null,"Podatki i opłaty",null,null,null,null,null,null,null,{"$f":"ROUND(J38,0)","v":0},{"$f":"K38","v":0},0,0,0,0,0,0,0,0,0,0,0,0]
[null,"Wynagrodzenia",null,null,null,null,null,null,null,{"$f":"ROUND(J60,0)","v":0},{"$f":"K60","v":0},0,0,0,0,0,0,0,0,0,0,0,0]
[null,"Ubezpieczenia społeczne i inne świadczenia",null,null,null,null,null,null,null,{"$f":"ROUND(J70,0)","v":0},{"$f":"K70","v":0},0,0,0,0,0,0,0,0,0,0,0,0]
[null,"Pozostałe koszty rodzajowe",null,null,null,null,null,null,null,{"$f":"ROUND(J79,0)","v":0},{"$f":"K79","v":0},0,0,0,0,0,0,0,0,0,0,0,0]
[null,"Wartość sprzedanych towarów i materiałów",null,null,null,null,null,null,null,{"$f":"ROUND(Przychody!J92,0)","v":0},{"$f":"ROUND(Przychody!K92,0)","v":0},{"$f":"ROUND(Przychody!L92,0)","v":0},{"$f":"ROUND(Przychody!M92,0)","v":0},{"$f":"ROUND(Przychody!N92,0)","v":0},{"$f":"ROUND(Przychody!O92,0)","v":0},{"$f":"ROUND(Przychody!P92,0)","v":0},{"$f":"ROUND(Przychody!Q92,0)","v":0},{"$f":"ROUND(Przychody!R92,0)","v":0},{"$f":"ROUND(Przychody!S92,0)","v":0},{"$f":"ROUND(Przychody!T92,0)","v":0},{"$f":"ROUND(Przychody!U92,0)","v":0},{"$f":"ROUND(Przychody!V92,0)","v":0},{"$f":"ROUND(Przychody!W92,0)","v":0}]
[null,"Razem",null,null,null,null,null,null,null,{"$f":"SUM(J101:J108)","v":0},{"$f":"SUM(K101:K108)","v":0},0,0,0,0,0,0,0,0,0,0,0,0]
[null,"Pozostałe koszty operacyjne",null,null,null,null,null,null,null,{"$f":"ROUND(J88,0)","v":0},{"$f":"K88","v":0},0,0,0,0,0,0,0,0,0,0,0,0]
[null,"Koszty finansowe",null,null,null,null,null,null,null,{"$f":"ROUND(J97,0)","v":0},{"$f":"ROUND(K97,0)","v":0},0,0,0,0,0,0,0,0,0,0,0,0]
[]
[]
[null,"Projekt",null,null,null,{"$f":"F12","v":0},0,0,"",{"$f":"LataProjekcji","v":"Uzupełnij dane"},"","","","","","","","","","","","",""]
[]
[null,"Zużycie materiałów i eneregii (Projekt)"]
[]
[]
[]
[]
[]
[]
[]
[]
[]
[]
[null,"Razem Zużycie materiałów i energii (Projekt)",null,null,null,null,null,null,null,{"$f":"IF(LataProjekcji<=Koniec,ROUND(SUM(J117:J126),0),0)","v":0},0,0,0,0,0,0,0,0,0,0,0,0,0]
[null,"Poziom dofinansowania (w %)",null,null,null,null,null,null,null,"w przypadku gdy te koszty są finansowane z dotacji"]
[null,{"$f":"IF(ISBLANK(B117),\"\",B117)","v":""}]
[null,{"$f":"IF(ISBLANK(B118),\"\",B118)","v":""}]
[null,""]
[null,""]
[null,""]
[null,""]
[null,""]
[null,""]
[null,""]
[null,""]
[]
[]
[null,"Usługi obce (Projekt)",null,null,null,null,null,null,null,{"$f":"LataProjekcji","v":"Uzupełnij dane"},"","","","","","","","","","","","",""]
[]
[]
[]
[]
[]
[]
[]
[]
[]
[]
[null,"Razem Usługi obce (Projekt)",null,null,null,null,null,null,null,{"$f":"IF(LataProjekcji<=Koniec,ROUND(SUM(J142:J151),0),0)","v":0},0,0,0,0,0,0,0,0,0,0,0,0,0]
[null,"Poziom dofinansowania (w %)",null,null,null,null,null,null,null,"w przypadku gdy te koszty są finansowane z dotacji"]
[null,{"$f":"IF(ISBLANK(B142),\"\",B142)","v":""}]
[null,{"$f":"IF(ISBLANK(B143),\"\",B143)","v":""}]
[null,""]
[null,""]
[null,""]
[null,""]
[null,""]
[null,""]
[null,""]
[null,""]
[]
[]
[null,"Podatki i opłaty (Projekt)",null,null,null,null,null,null,null,{"$f":"LataProjekcji","v":"Uzupełnij dane"},"","","","","","","","","","","","",""]
[]
[]
[]
[]
[]
[null,"Razem Podatki i opłaty (Projekt)",null,null,null,null,null,null,null,{"$f":"IF(LataProjekcji<=Koniec,ROUND(SUM(J167:J171),0),0)","v":0},0,0,0,0,0,0,0,0,0,0,0,0,0]
[null,"Poziom dofinansowania (w %)",null,null,null,null,null,null,null,"w przypadku gdy te koszty są finansowane z dotacji"]
[null,{"$f":"IF(ISBLANK(B167),\"\",B167)","v":""}]
[null,{"$f":"IF(ISBLANK(B168),\"\",B168)","v":""}]
[null,{"$f":"IF(ISBLANK(B169),\"\",B169)","v":""}]
[null,{"$f":"IF(ISBLANK(B170),\"\",B170)","v":""}]
[null,{"$f":"IF(ISBLANK(B171),\"\",B171)","v":""}]
[]
[]
[null,"Wynagrodzenia (brutto) (Projekt)"]
[null,"Stanowisko / Grupa         Średnie miesięczne wynagrodzenie brutto",null,null,null,null,null,null,null,{"$f":"LataProjekcji","v":"Uzupełnij dane"},"","","","","","","","","","","","",""]
[]
[]
[]
[]
[]
[]
[]
[]
[]
[]
[null,"Pozostałe"]
[null,"Ilość etatów na danym stanowisku / w danej grupie"]
[null,{"$f":"IF(ISBLANK(B183),\"\",B183)","v":""}]
[null,{"$f":"IF(ISBLANK(B184),\"\",B184)","v":""}]
[null,""]
[null,""]
[null,""]
[null,""]
[null,""]
[null,""]
[null,""]
[null,""]
[null,"Pozostałe"]
[null,"Ilość miesięcy zatrudnienia w danym roku na danym stanowisku"]
[null,{"$f":"IF(ISBLANK(B195),\"\",B195)","v":""}]
[null,{"$f":"IF(ISBLANK(B196),\"\",B196)","v":""}]
[null,""]
[null,""]
[null,""]
[null,""]
[null,""]
[null,""]
[null,""]
[null,""]
[null,"Pozostałe"]
[null,"Stanowisko / Grupa",null,null,null,null,null,null,null,"Poziom dofinansowania (w %) Kosztów wynagrodzeń \n(w przypadku gdy wynagrodzenia są finansowane z dotacji)"]
[]
[null,{"$f":"IF(ISBLANK(B196),\"\",B196)","v":""}]
[null,""]
[null,""]
[null,""]
[null,""]
[null,""]
[null,""]
[null,""]
[null,""]
[null,"Pozostałe"]
[null,"Stanowisko / Grupa",null,null,null,null,null,null,null,"Koszty rocznych wynagrodzeń na danym stanowisku / w danej grupie"]
[null,{"$f":"IF(ISBLANK(B195),\"\",B195)","v":""},null,null,null,null,null,null,null,{"$f":"ROUND(J195*J183*J207,0)","v":0},{"$f":"ROUND(K195*K183*K207,0)","v":0},0,0,0,0,0,0,0,0,0,0,0,0]
[null,"",null,null,null,null,null,null,null,{"$f":"ROUND(J196*J184*J208,0)","v":0},0,{"$f":"ROUND(L196*L184*L208,0)","v":0},{"$f":"ROUND(M196*M184*M208,0)","v":0},0,0,0,0,0,0,0,0,0,0]
[null,"",null,null,null,null,null,null,null,0,0,0,0,0,0,0,0,0,0,0,0,0,0]
[null,"",null,null,null,null,null,null,null,0,0,0,0,0,{"$f":"ROUND(O198*O186*O210,0)","v":0},{"$f":"ROUND(P198*P186*P210,0)","v":0},0,0,0,0,0,0,0]
[null,"",null,null,null,null,null,null,null,0,0,0,0,0,0,0,0,0,0,0,0,0,0]
[null,"",null,null,null,null,null,null,null,0,0,0,0,0,0,0,0,0,0,0,0,0,0]
[null,"",null,null,null,null,null,null,null,0,0,0,0,0,0,0,0,0,0,0,0,0,0]
[null,"",null,null,null,null,null,null,null,0,0,0,0,0,0,0,0,0,0,0,0,0,0]
[null,"",null,null,null,null,null,null,null,0,0,0,0,0,0,0,0,0,0,0,0,0,0]
[null,"",null,null,null,null,null,null,null,0,0,0,0,0,0,0,0,0,0,0,0,0,0]
[null,"Pozostałe",null,null,null,null,null,null,null,0,0,0,0,0,0,0,0,0,0,0,0,0,0]
[null,"Razem Wynagrodzenia",null,null,null,null,null,null,null,{"$f":"IF(LataProjekcji<=Koniec,ROUND(SUM(J231:J241),0),0)","v":0},0,0,0,0,0,0,0,0,0,0,0,0,0]
[]
[]
[null,"Ubezpieczenia społeczne i inne świadczenia",null,null,null,null,null,null,null,{"$f":"LataProjekcji","v":"Uzupełnij dane"},"","","","","","","","","","","","",""]
[null,"Stanowisko / Grupa"]
[null,{"$f":"IF(ISBLANK(B183),\"\",B183)","v":""},null,null,null,null,null,null,null,{"$f":"ROUND(J231*ZUS,0)","v":0},{"$f":"ROUND(K231*ZUS,0)","v":0},0,0,0,0,0,0,0,0,0,0,0,0]
[null,"",null,null,null,null,null,null,null,{"$f":"ROUND(J232*ZUS,0)","v":0},0,0,0,0,0,0,0,0,0,0,0,0,0]
[null,"",null,null,null,null,null,null,null,{"$f":"ROUND(J233*ZUS,0)","v":0},0,0,0,0,0,0,0,0,0,0,0,0,0]
[null,"",null,null,null,null,null,null,null,{"$f":"ROUND(J234*ZUS,0)","v":0},0,0,0,0,0,0,0,0,0,0,0,0,0]
[null,"",null,null,null,null,null,null,null,{"$f":"ROUND(J235*ZUS,0)","v":0},0,0,0,0,0,0,0,0,0,0,0,0,0]
[null,"",null,null,null,null,null,null,null,{"$f":"ROUND(J236*ZUS,0)","v":0},0,0,0,0,0,0,0,0,0,0,0,0,0]
[null,"",null,null,null,null,null,null,null,{"$f":"ROUND(J237*ZUS,0)","v":0},0,0,0,0,0,0,0,0,0,0,0,0,0]
[null,"",null,null,null,null,null,null,null,{"$f":"ROUND(J238*ZUS,0)","v":0},0,0,0,0,0,0,0,0,0,0,0,0,0]
[null,"",null,null,null,null,null,null,null,{"$f":"ROUND(J239*ZUS,0)","v":0},0,0,0,0,0,0,0,0,0,0,0,0,0]
[null,"",null,null,null,null,null,null,null,{"$f":"ROUND(J240*ZUS,0)","v":0},0,0,0,0,0,0,0,0,0,0,0,0,0]
[null,"Pozostałe",null,null,null,null,null,null,null,{"$f":"ROUND(J241*ZUS,0)","v":0},0,0,0,0,0,0,0,0,0,0,0,0,0]
[null,"Razem Ubezpieczenia społeczne i inne świadczenia",null,null,null,null,null,null,null,{"$f":"IF(LataProjekcji<=Koniec,ROUND(SUM(J247:J257),0),0)","v":0},0,0,0,0,0,0,0,0,0,0,0,0,0]
[null,"Stanowisko / Grupa",null,null,null,null,null,null,null,"Poziom dofinansowania (w %) Kosztów wynagrodzeń \n(w przypadku gdy wynagrodzenia są finansowane z dotacji)"]
[null,{"$f":"IF(ISBLANK(B195),\"\",B195)","v":""},null,null,null,null,null,null,null,{"$f":"ROUND(J219,2)","v":0},{"$f":"ROUND(K219,2)","v":0},0,0,0,0,0,0,0,0,0,0,0,0]
[null,"",null,null,null,null,null,null,null,0,{"$f":"ROUND(K220,2)","v":0},0,0,0,0,0,0,0,0,0,0,0,0]
[null,"",null,null,null,null,null,null,null,0,{"$f":"ROUND(K221,2)","v":0},0,0,0,0,0,0,0,0,0,0,0,0]
[null,"",null,null,null,null,null,null,null,0,{"$f":"ROUND(K222,2)","v":0},0,0,0,0,0,0,0,0,0,0,0,0]
[null,"",null,null,null,null,null,null,null,0,{"$f":"ROUND(K223,2)","v":0},0,0,0,0,0,0,0,0,0,0,0,0]
[null,"",null,null,null,null,null,null,null,0,{"$f":"ROUND(K224,2)","v":0},0,0,0,0,0,0,0,0,0,0,0,0]
[null,"",null,null,null,null,null,null,null,0,{"$f":"ROUND(K225,2)","v":0},0,0,0,0,0,0,0,0,0,0,0,0]
[null,"",null,null,null,null,null,null,null,0,{"$f":"ROUND(K226,2)","v":0},0,0,0,0,0,0,0,0,0,0,0,0]
[null,"",null,null,null,null,null,null,null,0,{"$f":"ROUND(K227,2)","v":0},0,0,0,0,0,0,0,0,0,0,0,0]
[null,"",null,null,null,null,null,null,null,0,{"$f":"ROUND(K228,2)","v":0},0,0,0,0,0,0,0,0,0,0,0,0]
[null,"Pozostałe",null,null,null,null,null,null,null,0,{"$f":"ROUND(K229,2)","v":0},0,0,0,0,0,0,0,0,0,0,0,0]
[]
[]
[null,"Pozostałe koszty rodzajowe",null,null,null,null,null,null,null,{"$f":"LataProjekcji","v":"Uzupełnij dane"},"","","","","","","","","","","","",""]
[]
[]
[]
[]
[]
[]
[]
[]
[]
[]
[null,"Razem Pozostałe koszty rodzajowe",null,null,null,null,null,null,null,{"$f":"IF(LataProjekcji<=Koniec,ROUND(SUM(J274:J283),0),0)","v":0},0,0,0,0,0,0,0,0,0,0,0,0,0]
[null,"Poziom dofinansowania (w %)",null,null,null,null,null,null,null,"w przypadku gdy te koszty są finansowane z dotacji"]
[null,{"$f":"IF(ISBLANK(B274),\"\",B274)","v":""}]
[null,{"$f":"IF(ISBLANK(B275),\"\",B275)","v":""}]
[null,""]
[null,""]
[null,""]
[null,""]
[null,""]
[null,""]
[null,""]
[null,""]
[]
[]
[null,"Pozostałe koszty operacyjne",null,null,null,null,null,null,null,{"$f":"LataProjekcji","v":"Uzupełnij dane"},"","","","","","","","","","","","",""]
[]
[]
[]
[]
[]
[null,"Razem Pozostałe koszty operacyjne",null,null,null,null,null,null,null,{"$f":"IF(LataProjekcji<=Koniec,ROUND(SUM(J299:J303),0),0)","v":0},0,0,0,0,0,0,0,0,0,0,0,0,0]
[]
[]
[null,"Koszty finansowe",null,null,null,null,null,null,null,{"$f":"LataProjekcji","v":"Uzupełnij dane"},"","","","","","","","","","","","",""]
[null,"Koszty z tytułu oprocentowania kredytów i pożyczek",null,null,null,null,null,null,null,{"$f":"IF(LataProjekcji<=Koniec,Finansowanie!J111+Finansowanie!J120+Finansowanie!J129+Finansowanie!J137,0)","v":0},{"$f":"IF(LataProjekcji<=Koniec,Finansowanie!K111+Finansowanie!K120+Finansowanie!K129+Finansowanie!K137,0)","v":0},{"$f":"IF(LataProjekcji<=Koniec,Finansowanie!L111+Finansowanie!L120+Finansowanie!L129+Finansowanie!L137,0)","v":0},{"$f":"IF(LataProjekcji<=Koniec,Finansowanie!M111+Finansowanie!M120+Finansowanie!M129+Finansowanie!M137,0)","v":0},{"$f":"IF(LataProjekcji<=Koniec,Finansowanie!N111+Finansowanie!N120+Finansowanie!N129+Finansowanie!N137,0)","v":0},{"$f":"IF(LataProjekcji<=Koniec,Finansowanie!O111+Finansowanie!O120+Finansowanie!O129+Finansowanie!O137,0)","v":0},{"$f":"IF(LataProjekcji<=Koniec,Finansowanie!P111+Finansowanie!P120+Finansowanie!P129+Finansowanie!P137,0)","v":0},{"$f":"IF(LataProjekcji<=Koniec,Finansowanie!Q111+Finansowanie!Q120+Finansowanie!Q129+Finansowanie!Q137,0)","v":0},{"$f":"IF(LataProjekcji<=Koniec,Finansowanie!R111+Finansowanie!R120+Finansowanie!R129+Finansowanie!R137,0)","v":0},{"$f":"IF(LataProjekcji<=Koniec,Finansowanie!S111+Finansowanie!S120+Finansowanie!S129+Finansowanie!S137,0)","v":0},{"$f":"IF(LataProjekcji<=Koniec,Finansowanie!T111+Finansowanie!T120+Finansowanie!T129+Finansowanie!T137,0)","v":0},{"$f":"IF(LataProjekcji<=Koniec,Finansowanie!U111+Finansowanie!U120+Finansowanie!U129+Finansowanie!U137,0)","v":0},{"$f":"IF(LataProjekcji<=Koniec,Finansowanie!V111+Finansowanie!V120+Finansowanie!V129+Finansowanie!V137,0)","v":0},{"$f":"IF(LataProjekcji<=Koniec,Finansowanie!W111+Finansowanie!W120+Finansowanie!W129+Finansowanie!W137,0)","v":0}]
[]
[]
[]
[]
[null,"Razem Koszty finansowe",null,null,null,null,null,null,null,{"$f":"IF(LataProjekcji<=Koniec,ROUND(SUM(J308:J312),0),0)","v":0},0,0,0,0,0,0,0,0,0,0,0,0,0]
[]
[]
[null,"Koszty planowanej działalności operacyjnej (Projekt)",null,null,null,null,null,null,null,{"$f":"LataProjekcji","v":"Uzupełnij dane"},"","","","","","","","","","","","",""]
[null,"Amortyzacja",null,null,null,null,null,null,null,{"$f":"'Środki trwałe'!J554","v":0},{"$f":"'Środki trwałe'!K554","v":0},{"$f":"'Środki trwałe'!L554","v":0},{"$f":"'Środki trwałe'!M554","v":0},{"$f":"'Środki trwałe'!N554","v":0},{"$f":"'Środki trwałe'!O554","v":0},{"$f":"'Środki trwałe'!P554","v":0},{"$f":"'Środki trwałe'!Q554","v":0},{"$f":"'Środki trwałe'!R554","v":0},{"$f":"'Środki trwałe'!S554","v":0},{"$f":"'Środki trwałe'!T554","v":0},{"$f":"'Środki trwałe'!U554","v":0},{"$f":"'Środki trwałe'!V554","v":0},{"$f":"'Środki trwałe'!W554","v":0}]
[null,"Zużycie materiałów i energii",null,null,null,null,null,null,null,{"$f":"IF(LataProjekcji<=Koniec,ROUND(J127,0),0)","v":0},0,0,0,0,0,0,0,0,0,0,0,0,0]
[null,"Usługi obce",null,null,null,null,null,null,null,{"$f":"IF(LataProjekcji<=Koniec,ROUND(J152,0),0)","v":0},0,0,0,0,0,0,0,0,0,0,0,0,0]
[null,"Podatki i opłaty",null,null,null,null,null,null,null,{"$f":"IF(LataProjekcji<=Koniec,ROUND(J172,0),0)","v":0},0,0,0,0,0,0,0,0,0,0,0,0,0]
[null,"Wynagrodzenia",null,null,null,null,null,null,null,{"$f":"IF(LataProjekcji<=Koniec,ROUND(J242,0),0)","v":0},0,0,0,0,0,0,0,0,0,0,0,0,0]
[null,"Ubezpieczenia społeczne i inne świadczenia",null,null,null,null,null,null,null,{"$f":"IF(LataProjekcji<=Koniec,ROUND(J258,0),0)","v":0},0,0,0,0,0,0,0,0,0,0,0,0,0]
[null,"Pozostałe koszty rodzajowe",null,null,null,null,null,null,null,{"$f":"IF(LataProjekcji<=Koniec,ROUND(J284,0),0)","v":0},0,0,0,0,0,0,0,0,0,0,0,0,0]
[null,"Wartość sprzedanych towarów i materiałów",null,null,null,null,null,null,null,{"$f":"IF(LataProjekcji<=Koniec,Przychody!J231,0)","v":0},{"$f":"IF(LataProjekcji<=Koniec,Przychody!K231,0)","v":0},{"$f":"IF(LataProjekcji<=Koniec,Przychody!L231,0)","v":0},{"$f":"IF(LataProjekcji<=Koniec,Przychody!M231,0)","v":0},{"$f":"IF(LataProjekcji<=Koniec,Przychody!N231,0)","v":0},{"$f":"IF(LataProjekcji<=Koniec,Przychody!O231,0)","v":0},{"$f":"IF(LataProjekcji<=Koniec,Przychody!P231,0)","v":0},{"$f":"IF(LataProjekcji<=Koniec,Przychody!Q231,0)","v":0},{"$f":"IF(LataProjekcji<=Koniec,Przychody!R231,0)","v":0},{"$f":"IF(LataProjekcji<=Koniec,Przychody!S231,0)","v":0},{"$f":"IF(LataProjekcji<=Koniec,Przychody!T231,0)","v":0},{"$f":"IF(LataProjekcji<=Koniec,Przychody!U231,0)","v":0},{"$f":"IF(LataProjekcji<=Koniec,Przychody!V231,0)","v":0},{"$f":"IF(LataProjekcji<=Koniec,Przychody!W231,0)","v":0}]
[null,"Razem",null,null,null,null,null,null,null,{"$f":"SUM(J317:J324)","v":0},{"$f":"SUM(K317:K324)","v":0},0,0,0,0,0,0,0,0,0,0,0,0]
[null,"Pozostałe koszty operacyjne",null,null,null,null,null,null,null,{"$f":"IF(LataProjekcji<=Koniec,ROUND(J304,0),0)","v":0},0,0,0,0,0,0,0,0,0,0,0,0,0]
[null,"Koszty finansowe",null,null,null,null,null,null,null,{"$f":"IF(LataProjekcji<=Koniec,ROUND(J313,0),0)","v":0},0,0,0,0,0,0,0,0,0,0,0,0,0]
[]
[]
[null,"Koszty planowanej działalności operacyjnej (Projekt, bez kosztów B+R, dotacja w RZiS)",null,null,null,null,null,null,null,{"$f":"LataProjekcji","v":"Uzupełnij dane"},"","","","","","","","","","","","",""]
[null,"Zużycie materiałów i energii",null,null,null,null,null,null,null,{"$f":"IF(LataProjekcji<=Koniec,ROUND(J318-J343,0),0)","v":0},0,0,0,0,0,0,0,0,0,0,0,0,0]
[null,"Usługi obce",null,null,null,null,null,null,null,{"$f":"IF(LataProjekcji<=Koniec,ROUND(J319-J344,0),0)","v":0},0,0,0,0,0,0,0,0,0,0,0,0,0]
[null,"Podatki i opłaty",null,null,null,null,null,null,null,{"$f":"IF(LataProjekcji<=Koniec,ROUND(J320-J345,0),0)","v":0},0,0,0,0,0,0,0,0,0,0,0,0,0]
[null,"Wynagrodzenia",null,null,null,null,null,null,null,{"$f":"IF(LataProjekcji<=Koniec,ROUND(J321-J346,0),0)","v":0},0,0,0,0,0,0,0,0,0,0,0,0,0]
[null,"Ubezpieczenia społeczne i inne świadczenia",null,null,null,null,null,null,null,{"$f":"IF(LataProjekcji<=Koniec,ROUND(J322-J347,0),0)","v":0},0,0,0,0,0,0,0,0,0,0,0,0,0]
[null,"Pozostałe koszty rodzajowe",null,null,null,null,null,null,null,{"$f":"IF(LataProjekcji<=Koniec,ROUND(J323-J348,0),0)","v":0},0,0,0,0,0,0,0,0,0,0,0,0,0]
[null,"Wartość sprzedanych towarów i materiałów",null,null,null,null,null,null,null,{"$f":"IF(LataProjekcji<=Koniec,ROUND(J324-J349,0),0)","v":0},0,0,0,0,0,0,0,0,0,0,0,0,0]
[null,"Pozostałe koszty operacyjne",null,null,null,null,null,null,null,{"$f":"IF(LataProjekcji<=Koniec,ROUND(J326-J350,0),0)","v":0},0,0,0,0,0,0,0,0,0,0,0,0,0]
[null,"Koszty finansowe",null,null,null,null,null,null,null,{"$f":"IF(LataProjekcji<=Koniec,ROUND(J327-J351,0),0)","v":0},0,0,0,0,0,0,0,0,0,0,0,0,0]
[]
[]
[null,"Koszty planowanej działalności operacyjnej (Projekt, B+R, rozliczane w czasie)",null,null,null,null,null,null,null,{"$f":"LataProjekcji","v":"Uzupełnij dane"},"","","","","","","","","","","","",""]
[null,"Zużycie materiałów i energii",null,null,null,null,null,null,null,{"$f":"IF(LataProjekcji<=Koniec,J498,0)","v":0},0,0,0,0,0,0,0,0,0,0,0,0,0]
[null,"Usługi obce",null,null,null,null,null,null,null,{"$f":"IF(LataProjekcji<=Koniec,J499,0)","v":0},0,0,0,0,0,0,0,0,0,0,0,0,0]
[null,"Podatki i opłaty",null,null,null,null,null,null,null,{"$f":"IF(LataProjekcji<=Koniec,J500,0)","v":0},0,0,0,0,0,0,0,0,0,0,0,0,0]
[null,"Wynagrodzenia",null,null,null,null,null,null,null,{"$f":"IF(LataProjekcji<=Koniec,J501,0)","v":0},0,0,0,0,0,0,0,0,0,0,0,0,0]
[null,"Ubezpieczenia społeczne i inne świadczenia",null,null,null,null,null,null,null,{"$f":"IF(LataProjekcji<=Koniec,J502,0)","v":0},0,0,0,0,0,0,0,0,0,0,0,0,0]
[null,"Pozostałe koszty rodzajowe",null,null,null,null,null,null,null,{"$f":"IF(LataProjekcji<=Koniec,J503,0)","v":0},0,0,0,0,0,0,0,0,0,0,0,0,0]
[null,"Wartość sprzedanych towarów i materiałów",null,null,null,null,null,null,null,{"$f":"IF(LataProjekcji<=Koniec,J504,0)","v":0},0,0,0,0,0,0,0,0,0,0,0,0,0]
[null,"Pozostałe koszty operacyjne",null,null,null,null,null,null,null,{"$f":"IF(LataProjekcji<=Koniec,J505,0)","v":0},0,0,0,0,0,0,0,0,0,0,0,0,0]
[null,"Koszty finansowe",null,null,null,null,null,null,null,{"$f":"IF(LataProjekcji<=Koniec,J506,0)","v":0},0,0,0,0,0,0,0,0,0,0,0,0,0]
[]
[]
[null,"Komentarz"]
[]
[]
[]
[]
[]
[]
[]
[]
[]
[]
[]
[]
[]
[]
[]
[]
[]
[]
[]
[]
[]
[]
[]
[]
[]
[]
[]
[]
[]
[]
[null,"Rozliczenie kosztów B+R projektu do rozliczeń międzyokresowych",null,null,null,null,null,null,null,{"$f":"LataProjekcji","v":"Uzupełnij dane"},"","","","","","","","","","","","",""]
[]
[null,"Zużycie materiałów i eneregii (Projekt)"]
[null,{"$f":"IF(ISBLANK(B117),\"\",B117)","v":""},false,null,null,null,null,null,null,{"$f":"IF(AND($C388,LataProjekcji<=Koniec_Projekt),ROUND(J117,0),0)","v":0},{"$f":"IF((AND($C388,LataProjekcji<=Koniec_Projekt)),ROUND(K117,0),0)","v":0},0,0,0,0,0,0,0,0,0,0,0,0]
[null,"",false,null,null,null,null,null,null,{"$f":"IF((AND($C389,LataProjekcji<=Koniec_Projekt)),ROUND(J118,0),0)","v":0},{"$f":"IF((AND($C389,LataProjekcji<=Koniec_Projekt)),ROUND(K118,0),0)","v":0},0,0,0,0,0,0,0,0,0,0,0,0]
[null,"",false,null,null,null,null,null,null,0,{"$f":"IF((AND($C390,LataProjekcji<=Koniec_Projekt)),ROUND(K119,0),0)","v":0},0,0,0,0,0,0,0,0,0,0,0,0]
[null,"",false,null,null,null,null,null,null,0,{"$f":"IF((AND($C391,LataProjekcji<=Koniec_Projekt)),ROUND(K120,0),0)","v":0},0,0,0,0,0,0,0,0,0,0,0,0]
[null,"",false,null,null,null,null,null,null,0,{"$f":"IF((AND($C392,LataProjekcji<=Koniec_Projekt)),ROUND(K121,0),0)","v":0},0,0,0,0,0,0,0,0,0,0,0,0]
[null,"",false,null,null,null,null,null,null,0,{"$f":"IF((AND($C393,LataProjekcji<=Koniec_Projekt)),ROUND(K122,0),0)","v":0},0,0,0,0,0,0,0,0,0,0,0,0]
[null,"",false,null,null,null,null,null,null,0,{"$f":"IF((AND($C394,LataProjekcji<=Koniec_Projekt)),ROUND(K123,0),0)","v":0},0,0,0,0,0,0,0,0,0,0,0,0]
[null,"",false,null,null,null,null,null,null,0,{"$f":"IF((AND($C395,LataProjekcji<=Koniec_Projekt)),ROUND(K124,0),0)","v":0},0,0,0,0,0,0,0,0,0,0,0,0]
[null,"",false,null,null,null,null,null,null,0,{"$f":"IF((AND($C396,LataProjekcji<=Koniec_Projekt)),ROUND(K125,0),0)","v":0},0,0,0,0,0,0,0,0,0,0,0,0]
[null,"",false,null,null,null,null,null,null,0,{"$f":"IF((AND($C397,LataProjekcji<=Koniec_Projekt)),ROUND(K126,0),0)","v":0},0,0,0,0,0,0,0,0,0,0,0,0]
[null,"Razem Zużycie materiałów i energii (Projekt)",null,null,null,null,null,null,null,{"$f":"ROUND(SUM(J388:J397),0)","v":0},0,0,0,0,0,0,0,0,0,0,0,0,0]
[]
[]
[null,"Usługi obce (Projekt)"]
[null,{"$f":"IF(ISBLANK(B142),\"\",B142)","v":""},false,null,null,null,null,null,null,{"$f":"IF(AND($C402,LataProjekcji<=Koniec_Projekt),ROUND(J142,0),0)","v":0},0,0,0,0,0,0,0,0,0,0,0,0,0]
[null,"",false,null,null,null,null,null,null,{"$f":"IF(AND($C403,LataProjekcji<=Koniec_Projekt),ROUND(J143,0),0)","v":0},0,0,0,0,0,0,0,0,0,0,0,0,0]
[null,"",false,null,null,null,null,null,null,{"$f":"IF(AND($C404,LataProjekcji<=Koniec_Projekt),ROUND(J144,0),0)","v":0},0,0,0,0,0,0,0,0,0,0,0,0,0]
[null,"",false,null,null,null,null,null,null,{"$f":"IF(AND($C405,LataProjekcji<=Koniec_Projekt),ROUND(J145,0),0)","v":0},0,0,0,0,0,0,0,0,0,0,0,0,0]
[null,"",false,null,null,null,null,null,null,{"$f":"IF(AND($C406,LataProjekcji<=Koniec_Projekt),ROUND(J146,0),0)","v":0},0,0,0,0,0,0,0,0,0,0,0,0,0]
[null,"",false,null,null,null,null,null,null,{"$f":"IF(AND($C407,LataProjekcji<=Koniec_Projekt),ROUND(J147,0),0)","v":0},0,0,0,0,0,0,0,0,0,0,0,0,0]
[null,"",false,null,null,null,null,null,null,{"$f":"IF(AND($C408,LataProjekcji<=Koniec_Projekt),ROUND(J148,0),0)","v":0},0,0,0,0,0,0,0,0,0,0,0,0,0]
[null,"",false,null,null,null,null,null,null,{"$f":"IF(AND($C409,LataProjekcji<=Koniec_Projekt),ROUND(J149,0),0)","v":0},0,0,0,0,0,0,0,0,0,0,0,0,0]
[null,"",false,null,null,null,null,null,null,{"$f":"IF(AND($C410,LataProjekcji<=Koniec_Projekt),ROUND(J150,0),0)","v":0},0,0,0,0,0,0,0,0,0,0,0,0,0]
[null,"",false,null,null,null,null,null,null,{"$f":"IF(AND($C411,LataProjekcji<=Koniec_Projekt),ROUND(J151,0),0)","v":0},0,0,0,0,0,0,0,0,0,0,0,0,0]
[null,"Razem Usługi obce (Projekt)",null,null,null,null,null,null,null,{"$f":"ROUND(SUM(J402:J411),0)","v":0},0,0,0,0,0,0,0,0,0,0,0,0,0]
[]
[]
[null,"Podatki i opłaty (Projekt)"]
[null,{"$f":"IF(ISBLANK(B167),\"\",B167)","v":""},false,null,null,null,null,null,null,{"$f":"IF(AND($C416,LataProjekcji<=Koniec_Projekt),ROUND(J167,0),0)","v":0},0,0,0,0,0,0,0,0,0,0,0,0,0]
[null,{"$f":"IF(ISBLANK(B168),\"\",B168)","v":""},false,null,null,null,null,null,null,{"$f":"IF(AND($C417,LataProjekcji<=Koniec_Projekt),ROUND(J168,0),0)","v":0},0,0,0,0,0,0,0,0,0,0,0,0,0]
[null,{"$f":"IF(ISBLANK(B169),\"\",B169)","v":""},false,null,null,null,null,null,null,{"$f":"IF(AND($C418,LataProjekcji<=Koniec_Projekt),ROUND(J169,0),0)","v":0},0,0,0,0,0,0,0,0,0,0,0,0,0]
[null,{"$f":"IF(ISBLANK(B170),\"\",B170)","v":""},false,null,null,null,null,null,null,{"$f":"IF(AND($C419,LataProjekcji<=Koniec_Projekt),ROUND(J170,0),0)","v":0},0,0,0,0,0,0,0,0,0,0,0,0,0]
[null,{"$f":"IF(ISBLANK(B171),\"\",B171)","v":""},false,null,null,null,null,null,null,{"$f":"IF(AND($C420,LataProjekcji<=Koniec_Projekt),ROUND(J171,0),0)","v":0},0,0,0,0,0,0,0,0,0,0,0,0,0]
[null,"Razem Podatki i opłaty (Projekt)",null,null,null,null,null,null,null,{"$f":"ROUND(SUM(J416:J420),0)","v":0},0,0,0,0,0,0,0,0,0,0,0,0,0]
[]
[]
[null,"Wynagrodzenia (brutto) (Projekt)"]
[null,"Stanowisko / Grupa",null,null,null,null,null,null,null,"Koszty rocznych wynagrodzeń na danym stanowisku / w danej grupie"]
[null,{"$f":"IF(ISBLANK(B183),\"\",B183)","v":""},false,null,null,null,null,null,null,{"$f":"IF(AND($C426,LataProjekcji<=Koniec_Projekt),ROUND(J231,0),0)","v":0},0,0,0,0,0,0,0,0,0,0,0,0,0]
[null,"",false,null,null,null,null,null,null,{"$f":"IF(AND($C427,LataProjekcji<=Koniec_Projekt),ROUND(J232,0),0)","v":0},0,0,0,0,0,0,0,0,0,0,0,0,0]
[null,"",false,null,null,null,null,null,null,{"$f":"IF(AND($C428,LataProjekcji<=Koniec_Projekt),ROUND(J233,0),0)","v":0},0,0,0,0,0,0,0,0,0,0,0,0,0]
[null,"",false,null,null,null,null,null,null,{"$f":"IF(AND($C429,LataProjekcji<=Koniec_Projekt),ROUND(J234,0),0)","v":0},0,0,0,0,0,0,0,0,0,0,0,0,0]
[null,"",false,null,null,null,null,null,null,{"$f":"IF(AND($C430,LataProjekcji<=Koniec_Projekt),ROUND(J235,0),0)","v":0},0,0,0,0,0,0,0,0,0,0,0,0,0]
[null,"",false,null,null,null,null,null,null,{"$f":"IF(AND($C431,LataProjekcji<=Koniec_Projekt),ROUND(J236,0),0)","v":0},0,0,0,0,0,0,0,0,0,0,0,0,0]
[null,"",false,null,null,null,null,null,null,{"$f":"IF(AND($C432,LataProjekcji<=Koniec_Projekt),ROUND(J237,0),0)","v":0},0,0,0,0,0,0,0,0,0,0,0,0,0]
[null,"",false,null,null,null,null,null,null,{"$f":"IF(AND($C433,LataProjekcji<=Koniec_Projekt),ROUND(J238,0),0)","v":0},0,0,0,0,0,0,0,0,0,0,0,0,0]
[null,"",false,null,null,null,null,null,null,{"$f":"IF(AND($C434,LataProjekcji<=Koniec_Projekt),ROUND(J239,0),0)","v":0},0,0,0,0,0,0,0,0,0,0,0,0,0]
[null,"",false,null,null,null,null,null,null,{"$f":"IF(AND($C435,LataProjekcji<=Koniec_Projekt),ROUND(J240,0),0)","v":0},0,0,0,0,0,0,0,0,0,0,0,0,0]
[null,"Pozostałe",false,null,null,null,null,null,null,{"$f":"IF(AND($C436,LataProjekcji<=Koniec_Projekt),ROUND(J241,0),0)","v":0},0,0,0,0,0,0,0,0,0,0,0,0,0]
[null,"Razem Wynagrodzenia",null,null,null,null,null,null,null,{"$f":"ROUND(SUM(J426:J436),0)","v":0},{"$f":"ROUND(SUM(K426:K436),0)","v":0},0,0,0,0,0,0,0,0,0,0,0,0]
[]
[]
[null,"Ubezpieczenia społeczne i inne świadczenia"]
[null,"Stanowisko / Grupa"]
[null,{"$f":"IF(ISBLANK(B247),\"\",B247)","v":""},{"$f":"C426","v":false},null,null,null,null,null,null,{"$f":"IF(AND($C442,LataProjekcji<=Koniec_Projekt),ROUND(J247,0),0)","v":0},0,0,0,0,0,0,0,0,0,0,0,0,0]
[null,"",{"$f":"C427","v":false},null,null,null,null,null,null,{"$f":"IF(AND($C443,LataProjekcji<=Koniec_Projekt),ROUND(J248,0),0)","v":0},0,0,0,0,0,0,0,0,0,0,0,0,0]
[null,"",false,null,null,null,null,null,null,{"$f":"IF(AND($C444,LataProjekcji<=Koniec_Projekt),ROUND(J249,0),0)","v":0},0,0,0,0,0,0,0,0,0,0,0,0,0]
[null,"",false,null,null,null,null,null,null,{"$f":"IF(AND($C445,LataProjekcji<=Koniec_Projekt),ROUND(J250,0),0)","v":0},0,0,0,0,0,0,0,0,0,0,0,0,0]
[null,"",false,null,null,null,null,null,null,{"$f":"IF(AND($C446,LataProjekcji<=Koniec_Projekt),ROUND(J251,0),0)","v":0},0,0,0,0,0,0,0,0,0,0,0,0,0]
[null,"",false,null,null,null,null,null,null,{"$f":"IF(AND($C447,LataProjekcji<=Koniec_Projekt),ROUND(J252,0),0)","v":0},0,0,0,0,0,0,0,0,0,0,0,0,0]
[null,"",false,null,null,null,null,null,null,{"$f":"IF(AND($C448,LataProjekcji<=Koniec_Projekt),ROUND(J253,0),0)","v":0},0,0,0,0,0,0,0,0,0,0,0,0,0]
[null,"",false,null,null,null,null,null,null,{"$f":"IF(AND($C449,LataProjekcji<=Koniec_Projekt),ROUND(J254,0),0)","v":0},0,0,0,0,0,0,0,0,0,0,0,0,0]
[null,"",false,null,null,null,null,null,null,{"$f":"IF(AND($C450,LataProjekcji<=Koniec_Projekt),ROUND(J255,0),0)","v":0},0,0,0,0,0,0,0,0,0,0,0,0,0]
[null,"",false,null,null,null,null,null,null,{"$f":"IF(AND($C451,LataProjekcji<=Koniec_Projekt),ROUND(J256,0),0)","v":0},0,0,0,0,0,0,0,0,0,0,0,0,0]
[null,"Pozostałe",false,null,null,null,null,null,null,{"$f":"IF(AND($C452,LataProjekcji<=Koniec_Projekt),ROUND(J257,0),0)","v":0},0,0,0,0,0,0,0,0,0,0,0,0,0]
[null,"Razem Ubezpieczenia społeczne i inne świadczenia",null,null,null,null,null,null,null,{"$f":"ROUND(SUM(J442:J452),0)","v":0},0,0,0,0,0,0,0,0,0,0,0,0,0]
[]
[]
[null,"Pozostałe koszty rodzajowe"]
[null,{"$f":"IF(ISBLANK(B274),\"\",B274)","v":""},false,null,null,null,null,null,null,{"$f":"IF(AND($C457,LataProjekcji<=Koniec_Projekt),ROUND(J274,0),0)","v":0},0,0,0,0,0,0,0,0,0,0,0,0,0]
[null,"",false,null,null,null,null,null,null,{"$f":"IF(AND($C458,LataProjekcji<=Koniec_Projekt),ROUND(J275,0),0)","v":0},0,0,0,0,0,0,0,0,0,0,0,0,0]
[null,"",false,null,null,null,null,null,null,{"$f":"IF(AND($C459,LataProjekcji<=Koniec_Projekt),ROUND(J276,0),0)","v":0},0,0,0,0,0,0,0,0,0,0,0,0,0]
[null,"",false,null,null,null,null,null,null,{"$f":"IF(AND($C460,LataProjekcji<=Koniec_Projekt),ROUND(J277,0),0)","v":0},0,0,0,0,0,0,0,0,0,0,0,0,0]
[null,"",false,null,null,null,null,null,null,{"$f":"IF(AND($C461,LataProjekcji<=Koniec_Projekt),ROUND(J278,0),0)","v":0},0,0,0,0,0,0,0,0,0,0,0,0,0]
[null,"",false,null,null,null,null,null,null,{"$f":"IF(AND($C462,LataProjekcji<=Koniec_Projekt),ROUND(J279,0),0)","v":0},0,0,0,0,0,0,0,0,0,0,0,0,0]
[null,"",false,null,null,null,null,null,null,{"$f":"IF(AND($C463,LataProjekcji<=Koniec_Projekt),ROUND(J280,0),0)","v":0},0,0,0,0,0,0,0,0,0,0,0,0,0]
[null,"",false,null,null,null,null,null,null,{"$f":"IF(AND($C464,LataProjekcji<=Koniec_Projekt),ROUND(J281,0),0)","v":0},0,0,0,0,0,0,0,0,0,0,0,0,0]
[null,"",false,null,null,null,null,null,null,{"$f":"IF(AND($C465,LataProjekcji<=Koniec_Projekt),ROUND(J282,0),0)","v":0},0,0,0,0,0,0,0,0,0,0,0,0,0]
[null,"",false,null,null,null,null,null,null,{"$f":"IF(AND($C466,LataProjekcji<=Koniec_Projekt),ROUND(J283,0),0)","v":0},0,0,0,0,0,0,0,0,0,0,0,0,0]
[null,"Razem Pozostałe koszty rodzajowe",null,null,null,null,null,null,null,{"$f":"ROUND(SUM(J457:J466),0)","v":0},0,0,0,0,0,0,0,0,0,0,0,0,0]
[]
[]
[null,"Wartość sprzedanych towarów i materiałów"]
[null,{"$f":"IF(ISBLANK(Przychody!B187),\"\",Przychody!B187)","v":""},true]
[null,{"$f":"IF(ISBLANK(Przychody!B188),\"\",Przychody!B188)","v":""},false]
[null,{"$f":"IF(ISBLANK(Przychody!B189),\"\",Przychody!B189)","v":""},false]
[null,{"$f":"IF(ISBLANK(Przychody!B190),\"\",Przychody!B190)","v":""},false]
[null,{"$f":"IF(ISBLANK(Przychody!B191),\"\",Przychody!B191)","v":""},false]
[null,"Razem Wartość sprzedanych towarów i materiałów",null,null,null,null,null,null,null,{"$f":"ROUND(SUM(J471:J475),0)","v":0},0,0,0,0,0,0,0,0,0,0,0,0,0]
[]
[]
[null,"Pozostałe koszty operacyjne"]
[null,{"$f":"IF(ISBLANK(B299),\"\",B299)","v":""},false,null,null,null,null,null,null,{"$f":"IF(AND($C480,LataProjekcji<=Koniec_Projekt),ROUND(J299,0),0)","v":0},0,0,0,0,0,0,0,0,0,0,0,0,0]
[null,{"$f":"IF(ISBLANK(B300),\"\",B300)","v":""},false,null,null,null,null,null,null,{"$f":"IF(AND($C481,LataProjekcji<=Koniec_Projekt),ROUND(J300,0),0)","v":0},0,0,0,0,0,0,0,0,0,0,0,0,0]
[null,{"$f":"IF(ISBLANK(B301),\"\",B301)","v":""},false,null,null,null,null,null,null,{"$f":"IF(AND($C482,LataProjekcji<=Koniec_Projekt),ROUND(J301,0),0)","v":0},0,0,0,0,0,0,0,0,0,0,0,0,0]
[null,{"$f":"IF(ISBLANK(B302),\"\",B302)","v":""},false,null,null,null,null,null,null,{"$f":"IF(AND($C483,LataProjekcji<=Koniec_Projekt),ROUND(J302,0),0)","v":0},0,0,0,0,0,0,0,0,0,0,0,0,0]
[null,{"$f":"IF(ISBLANK(B303),\"\",B303)","v":""},false,null,null,null,null,null,null,{"$f":"IF(AND($C484,LataProjekcji<=Koniec_Projekt),ROUND(J303,0),0)","v":0},0,0,0,0,0,0,0,0,0,0,0,0,0]
[null,"Razem Pozostałe koszty operacyjne",null,null,null,null,null,null,null,{"$f":"ROUND(SUM(J480:J484),0)","v":0},0,0,0,0,0,0,0,0,0,0,0,0,0]
[]
[]
[null,"Koszty finansowe"]
[null,{"$f":"IF(ISBLANK(B308),\"\",B308)","v":"Koszty z tytułu oprocentowania kredytów i pożyczek"},false,null,null,null,null,null,null,{"$f":"IF(AND($C489,LataProjekcji<=Koniec_Projekt),ROUND(J308,0),0)","v":0},0,0,0,0,0,0,0,0,0,0,0,0,0]
[null,{"$f":"IF(ISBLANK(B309),\"\",B309)","v":""},false,null,null,null,null,null,null,{"$f":"IF(AND($C490,LataProjekcji<=Koniec_Projekt),ROUND(J309,0),0)","v":0},0,0,0,0,0,0,0,0,0,0,0,0,0]
[null,{"$f":"IF(ISBLANK(B310),\"\",B310)","v":""},false,null,null,null,null,null,null,{"$f":"IF(AND($C491,LataProjekcji<=Koniec_Projekt),ROUND(J310,0),0)","v":0},0,0,0,0,0,0,0,0,0,0,0,0,0]
[null,{"$f":"IF(ISBLANK(B311),\"\",B311)","v":""},false,null,null,null,null,null,null,{"$f":"IF(AND($C492,LataProjekcji<=Koniec_Projekt),ROUND(J311,0),0)","v":0},0,0,0,0,0,0,0,0,0,0,0,0,0]
[null,{"$f":"IF(ISBLANK(B312),\"\",B312)","v":""},false,null,null,null,null,null,null,{"$f":"IF(AND($C493,LataProjekcji<=Koniec_Projekt),ROUND(J312,0),0)","v":0},0,0,0,0,0,0,0,0,0,0,0,0,0]
[null,"Razem Koszty finansowe",null,null,null,null,null,null,null,{"$f":"ROUND(SUM(J489:J493),0)","v":0},{"$f":"ROUND(SUM(K489:K493),0)","v":0},0,0,0,0,0,0,0,0,0,0,0,0]
[]
[]
[null,"Rozliczenie kosztów operacyjnych projektu do rozliczeń międzyokresowych"]
[null,"Zużycie materiałów i energii",null,null,null,null,null,null,null,{"$f":"IF(LataProjekcji<=Koniec_Projekt,ROUND(J398,0),0)","v":0},0,0,0,0,0,0,0,0,0,0,0,0,0]
[null,"Usługi obce",null,null,null,null,null,null,null,{"$f":"IF(LataProjekcji<=Koniec_Projekt,ROUND(J412,0),0)","v":0},0,0,0,0,0,0,0,0,0,0,0,0,0]
[null,"Podatki i opłaty",null,null,null,null,null,null,null,{"$f":"IF(LataProjekcji<=Koniec_Projekt,ROUND(J421,0),0)","v":0},0,0,0,0,0,0,0,0,0,0,0,0,0]
[null,"Wynagrodzenia",null,null,null,null,null,null,null,{"$f":"IF(LataProjekcji<=Koniec_Projekt,ROUND(J437,0),0)","v":0},0,0,0,0,0,0,0,0,0,0,0,0,0]
[null,"Ubezpieczenia społeczne i inne świadczenia",null,null,null,null,null,null,null,{"$f":"IF(LataProjekcji<=Koniec_Projekt,ROUND(J453,0),0)","v":0},0,0,0,0,0,0,0,0,0,0,0,0,0]
[null,"Pozostałe koszty rodzajowe",null,null,null,null,null,null,null,{"$f":"IF(LataProjekcji<=Koniec_Projekt,ROUND(J467,0),0)","v":0},0,0,0,0,0,0,0,0,0,0,0,0,0]
[null,"Wartość sprzedanych towarów i materiałów",null,null,null,null,null,null,null,{"$f":"IF(LataProjekcji<=Koniec_Projekt,J476,0)","v":0},0,0,0,0,0,0,0,0,0,0,0,0,0]
[null,"Pozostałe koszty operacyjne",null,null,null,null,null,null,null,{"$f":"IF(LataProjekcji<=Koniec_Projekt,ROUND(J485,0),0)","v":0},0,0,0,0,0,0,0,0,0,0,0,0,0]
[null,"Koszty finansowe",null,null,null,null,null,null,null,{"$f":"IF(LataProjekcji<=Koniec_Projekt,ROUND(J494,0),0)","v":0},0,0,0,0,0,0,0,0,0,0,0,0,0]
[null,"Razem",null,null,null,null,null,null,null,{"$f":"ROUND(SUM(J498:J506),0)","v":0},{"$f":"ROUND(SUM(K498:K506),0)","v":0},0,0,0,0,0,0,0,0,0,0,0,0]
[]
[]
[null,null,null,null,null,null,null,null,null,{"$f":"LataProjekcji","v":"Uzupełnij dane"},"","","","","","","","","","","","",""]
[]
[null,"Koszty B+R narastająco",null,null,null,null,null,null,null,{"$f":"ROUND(J507,0)","v":0},{"$f":"ROUND(J512+K507,0)","v":0},{"$f":"ROUND(K512+L507,0)","v":0},0,0,0,0,0,0,0,0,0,0,0]
[null,null,null,"kolumna","wiersz","adres"]
[null,"Rok rozpoczęcia projektu",{"$f":"Poczatek","v":0},{"$f":"MATCH($C514,$A$510:$W$510,0)","v":{"$error":"#N/A"}},{"$f":"ROW($J$507)","v":507},{"$f":"ADDRESS(E514,D514)","v":{"$error":"#N/A"}}]
[null,"Rok zakończenia projektu",{"$f":"Koniec_Projekt","v":0},{"$f":"MATCH($C515,$A$510:$W$510,0)","v":{"$error":"#N/A"}},{"$f":"ROW($J$507)","v":507},{"$f":"ADDRESS(E515,D515)","v":{"$error":"#N/A"}}]
[]
[null,"Rozliczenia międzyokresowe B+R w danym roku",null,null,null,null,null,null,null,{"$f":"IF(LataProjekcji<=Koniec_Projekt,J507,0)","v":0},0,0,0,0,0,0,0,0,0,0,0,0,0]
[null,"Rozliczenia międzyokresowe B+R (aktywa)",null,null,null,null,null,null,null,{"$f":"IF(LataProjekcji<Koniec_Projekt,J517,0)","v":0},{"$f":"IF(LataProjekcji<Koniec_Projekt,(K517+J518),0)","v":0},0,0,0,0,0,0,0,0,0,0,0,0]
[null,"Zakończone prace rozwojowe przenoszone do WNiP",null,null,null,null,null,null,null,{"$f":"IF(J510=Koniec_Projekt,J512,0)","v":0},0,0,0,0,0,0,0,0,0,0,0,0,0]
[]
[]
[]
[]
[]
[]
[]
[]
[null,"Koszty B+R NIEKWALIFIKOWANE",null,null,null,null,null,null,null,{"$f":"LataProjekcji","v":"Uzupełnij dane"},"","","","","","","","","","","","",""]
[]
[null,"Zużycie materiałów i eneregii (Projekt)"]
[null,{"$f":"B117","v":0},{"$f":"C388","v":false},null,null,null,null,null,null,{"$f":"IF(AND($C531,LataProjekcji<=Koniec_Projekt,OR(ISBLANK(J129),J129=0)),ROUND(J117,0),0)","v":0},0,0,0,0,0,0,0,0,0,0,0,0,0]
[null,0,{"$f":"C389","v":false},null,null,null,null,null,null,{"$f":"IF(AND($C532,LataProjekcji<=Koniec_Projekt,OR(ISBLANK(J130),J130=0)),ROUND(J118,0),0)","v":0},0,0,0,0,0,0,0,0,0,0,0,0,0]
[null,0,false,null,null,null,null,null,null,{"$f":"IF(AND($C533,LataProjekcji<=Koniec_Projekt,OR(ISBLANK(J131),J131=0)),ROUND(J119,0),0)","v":0},0,0,0,0,0,0,0,0,0,0,0,0,0]
[null,0,false,null,null,null,null,null,null,{"$f":"IF(AND($C534,LataProjekcji<=Koniec_Projekt,OR(ISBLANK(J132),J132=0)),ROUND(J120,0),0)","v":0},0,0,0,0,0,0,0,0,0,0,0,0,0]
[null,0,false,null,null,null,null,null,null,{"$f":"IF(AND($C535,LataProjekcji<=Koniec_Projekt,OR(ISBLANK(J133),J133=0)),ROUND(J121,0),0)","v":0},0,0,0,0,0,0,0,0,0,0,0,0,0]
[null,0,false,null,null,null,null,null,null,{"$f":"IF(AND($C536,LataProjekcji<=Koniec_Projekt,OR(ISBLANK(J134),J134=0)),ROUND(J122,0),0)","v":0},0,0,0,0,0,0,0,0,0,0,0,0,0]
[null,0,false,null,null,null,null,null,null,{"$f":"IF(AND($C537,LataProjekcji<=Koniec_Projekt,OR(ISBLANK(J135),J135=0)),ROUND(J123,0),0)","v":0},0,0,0,0,0,0,0,0,0,0,0,0,0]
[null,0,false,null,null,null,null,null,null,{"$f":"IF(AND($C538,LataProjekcji<=Koniec_Projekt,OR(ISBLANK(J136),J136=0)),ROUND(J124,0),0)","v":0},0,0,0,0,0,0,0,0,0,0,0,0,0]
[null,0,false,null,null,null,null,null,null,{"$f":"IF(AND($C539,LataProjekcji<=Koniec_Projekt,OR(ISBLANK(J137),J137=0)),ROUND(J125,0),0)","v":0},0,0,0,0,0,0,0,0,0,0,0,0,0]
[null,0,false,null,null,null,null,null,null,{"$f":"IF(AND($C540,LataProjekcji<=Koniec_Projekt,OR(ISBLANK(J138),J138=0)),ROUND(J126,0),0)","v":0},0,0,0,0,0,0,0,0,0,0,0,0,0]
[null,"Razem Zużycie materiałów i energii (Projekt)",null,null,null,null,null,null,null,{"$f":"ROUND(SUM(J531:J540),0)","v":0},{"$f":"ROUND(SUM(K531:K540),0)","v":0},0,0,0,0,0,0,0,0,0,0,0,0]
[]
[]
[null,"Usługi obce (Projekt)"]
[null,{"$f":"B142","v":0},{"$f":"C402","v":false},null,null,null,null,null,null,{"$f":"IF(AND($C545,LataProjekcji<=Koniec_Projekt,OR(ISBLANK(J154),J154=0)),ROUND(J142,0),0)","v":0},0,0,0,0,0,0,0,0,0,0,0,0,0]
[null,0,{"$f":"C403","v":false},null,null,null,null,null,null,{"$f":"IF(AND($C546,LataProjekcji<=Koniec_Projekt,ISBLANK(J155)),ROUND(J143,0),0)","v":0},0,0,0,0,0,0,0,0,0,0,0,0,0]
[null,0,false,null,null,null,null,null,null,{"$f":"IF(AND($C547,LataProjekcji<=Koniec_Projekt,ISBLANK(J156)),ROUND(J144,0),0)","v":0},0,0,0,0,0,0,0,0,0,0,0,0,0]
[null,0,false,null,null,null,null,null,null,{"$f":"IF(AND($C548,LataProjekcji<=Koniec_Projekt,ISBLANK(J157)),ROUND(J145,0),0)","v":0},0,0,0,0,0,0,0,0,0,0,0,0,0]
[null,0,false,null,null,null,null,null,null,{"$f":"IF(AND($C549,LataProjekcji<=Koniec_Projekt,ISBLANK(J158)),ROUND(J146,0),0)","v":0},0,0,0,0,0,0,0,0,0,0,0,0,0]
[null,0,false,null,null,null,null,null,null,{"$f":"IF(AND($C550,LataProjekcji<=Koniec_Projekt,ISBLANK(J159)),ROUND(J147,0),0)","v":0},0,0,0,0,0,0,0,0,0,0,0,0,0]
[null,0,false,null,null,null,null,null,null,{"$f":"IF(AND($C551,LataProjekcji<=Koniec_Projekt,ISBLANK(J160)),ROUND(J148,0),0)","v":0},0,0,0,0,0,0,0,0,0,0,0,0,0]
[null,0,false,null,null,null,null,null,null,{"$f":"IF(AND($C552,LataProjekcji<=Koniec_Projekt,ISBLANK(J161)),ROUND(J149,0),0)","v":0},0,0,0,0,0,0,0,0,0,0,0,0,0]
[null,0,false,null,null,null,null,null,null,{"$f":"IF(AND($C553,LataProjekcji<=Koniec_Projekt,ISBLANK(J162)),ROUND(J150,0),0)","v":0},0,0,0,0,0,0,0,0,0,0,0,0,0]
[null,0,false,null,null,null,null,null,null,{"$f":"IF(AND($C554,LataProjekcji<=Koniec_Projekt,ISBLANK(J163)),ROUND(J151,0),0)","v":0},0,0,0,0,0,0,0,0,0,0,0,0,0]
[null,"Razem Usługi obce (Projekt)",null,null,null,null,null,null,null,{"$f":"ROUND(SUM(J545:J554),0)","v":0},{"$f":"ROUND(SUM(K545:K554),0)","v":0},0,0,0,0,0,0,0,0,0,0,0,0]
[]
[]
[null,"Podatki i opłaty (Projekt)"]
[null,{"$f":"B416","v":""},false,null,null,null,null,null,null,{"$f":"IF(AND($C559,LataProjekcji<=Koniec_Projekt,OR(ISBLANK(J174),J174=0)),ROUND(J167,0),0)","v":0},0,0,0,0,0,0,0,0,0,0,0,0,0]
[null,"",false,null,null,null,null,null,null,{"$f":"IF(AND($C560,LataProjekcji<=Koniec_Projekt,OR(ISBLANK(J175),J175=0)),ROUND(J168,0),0)","v":0},0,0,0,0,0,0,0,0,0,0,0,0,0]
[null,"",false,null,null,null,null,null,null,{"$f":"IF(AND($C561,LataProjekcji<=Koniec_Projekt,OR(ISBLANK(J176),J176=0)),ROUND(J169,0),0)","v":0},0,0,0,0,0,0,0,0,0,0,0,0,0]
[null,"",false,null,null,null,null,null,null,{"$f":"IF(AND($C562,LataProjekcji<=Koniec_Projekt,OR(ISBLANK(J177),J177=0)),ROUND(J170,0),0)","v":0},0,0,0,0,0,0,0,0,0,0,0,0,0]
[null,"",false,null,null,null,null,null,null,{"$f":"IF(AND($C563,LataProjekcji<=Koniec_Projekt,OR(ISBLANK(J178),J178=0)),ROUND(J171,0),0)","v":0},0,0,0,0,0,0,0,0,0,0,0,0,0]
[null,"Razem Podatki i opłaty (Projekt)",null,null,null,null,null,null,null,{"$f":"ROUND(SUM(J559:J563),0)","v":0},{"$f":"ROUND(SUM(K559:K563),0)","v":0},0,0,0,0,0,0,0,0,0,0,0,0]
[]
[]
[null,"Wynagrodzenia (brutto) (Projekt)"]
[null,"Stanowisko / Grupa",null,null,null,null,null,null,null,"Koszty rocznych wynagrodzeń na danym stanowisku / w danej grupie"]
[null,{"$f":"B219","v":0},{"$f":"C426","v":false},null,null,null,null,null,null,{"$f":"IF(AND($C569,LataProjekcji<=Koniec_Projekt,OR(ISBLANK(J219),J219=0)),ROUND(J231,0),0)","v":0},{"$f":"IF(AND($C569,LataProjekcji<=Koniec_Projekt,OR(ISBLANK(K219),K219=0)),ROUND(K231,0),0)","v":0},0,0,0,0,0,0,0,0,0,0,0,0]
[null,"",false,null,null,null,null,null,null,{"$f":"IF(AND($C570,LataProjekcji<=Koniec_Projekt,OR(ISBLANK(J220),J220=0)),ROUND(J232,0),0)","v":0},0,0,0,0,0,0,0,0,0,0,0,0,0]
[null,"",false,null,null,null,null,null,null,{"$f":"IF(AND($C571,LataProjekcji<=Koniec_Projekt,OR(ISBLANK(J221),J221=0)),ROUND(J233,0),0)","v":0},0,0,0,0,0,0,0,0,0,0,0,0,0]
[null,"",false,null,null,null,null,null,null,{"$f":"IF(AND($C572,LataProjekcji<=Koniec_Projekt,OR(ISBLANK(J222),J222=0)),ROUND(J234,0),0)","v":0},0,0,0,0,0,0,0,0,0,0,0,0,0]
[null,"",false,null,null,null,null,null,null,{"$f":"IF(AND($C573,LataProjekcji<=Koniec_Projekt,OR(ISBLANK(J223),J223=0)),ROUND(J235,0),0)","v":0},0,0,0,0,0,0,0,0,0,0,0,0,0]
[null,"",false,null,null,null,null,null,null,{"$f":"IF(AND($C574,LataProjekcji<=Koniec_Projekt,OR(ISBLANK(J224),J224=0)),ROUND(J236,0),0)","v":0},0,0,0,0,0,0,0,0,0,0,0,0,0]
[null,"",false,null,null,null,null,null,null,{"$f":"IF(AND($C575,LataProjekcji<=Koniec_Projekt,OR(ISBLANK(J225),J225=0)),ROUND(J237,0),0)","v":0},0,0,0,0,0,0,0,0,0,0,0,0,0]
[null,"",false,null,null,null,null,null,null,{"$f":"IF(AND($C576,LataProjekcji<=Koniec_Projekt,OR(ISBLANK(J226),J226=0)),ROUND(J238,0),0)","v":0},0,0,0,0,0,0,0,0,0,0,0,0,0]
[null,"",false,null,null,null,null,null,null,{"$f":"IF(AND($C577,LataProjekcji<=Koniec_Projekt,OR(ISBLANK(J227),J227=0)),ROUND(J239,0),0)","v":0},0,0,0,0,0,0,0,0,0,0,0,0,0]
[null,"",false,null,null,null,null,null,null,{"$f":"IF(AND($C578,LataProjekcji<=Koniec_Projekt,OR(ISBLANK(J228),J228=0)),ROUND(J240,0),0)","v":0},0,0,0,0,0,0,0,0,0,0,0,0,0]
[null,"Pozostałe",false,null,null,null,null,null,null,{"$f":"IF(AND($C579,LataProjekcji<=Koniec_Projekt,OR(ISBLANK(J229),J229=0)),ROUND(J241,0),0)","v":0},0,0,0,0,0,0,0,0,0,0,0,0,0]
[null,"Razem Wynagrodzenia",null,null,null,null,null,null,null,{"$f":"ROUND(SUM(J569:J579),0)","v":0},{"$f":"ROUND(SUM(K569:K579),0)","v":0},0,0,0,0,0,0,0,0,0,0,0,0]
[]
[]
[null,"Ubezpieczenia społeczne i inne świadczenia"]
[null,"Stanowisko / Grupa"]
[null,{"$f":"IF(ISBLANK(B375),\"\",B375)","v":""},{"$f":"C442","v":false},null,null,null,null,null,null,{"$f":"IF(AND($C585,LataProjekcji<=Koniec_Projekt,J260=0),ROUND(J247,0),0)","v":0},0,0,0,0,0,0,0,0,0,0,0,0,0]
[null,"",false,null,null,null,null,null,null,{"$f":"IF(AND($C586,LataProjekcji<=Koniec_Projekt,J261=0),ROUND(J248,0),0)","v":0},0,0,0,0,0,0,0,0,0,0,0,0,0]
[null,"",false,null,null,null,null,null,null,{"$f":"IF(AND($C587,LataProjekcji<=Koniec_Projekt,J262=0),ROUND(J249,0),0)","v":0},0,0,0,0,0,0,0,0,0,0,0,0,0]
[null,"",false,null,null,null,null,null,null,{"$f":"IF(AND($C588,LataProjekcji<=Koniec_Projekt,J263=0),ROUND(J250,0),0)","v":0},0,0,0,0,0,0,0,0,0,0,0,0,0]
[null,"",false,null,null,null,null,null,null,{"$f":"IF(AND($C589,LataProjekcji<=Koniec_Projekt,J264=0),ROUND(J251,0),0)","v":0},0,0,0,0,0,0,0,0,0,0,0,0,0]
[null,"",false,null,null,null,null,null,null,{"$f":"IF(AND($C590,LataProjekcji<=Koniec_Projekt,J265=0),ROUND(J252,0),0)","v":0},0,0,0,0,0,0,0,0,0,0,0,0,0]
[null,"",false,null,null,null,null,null,null,{"$f":"IF(AND($C591,LataProjekcji<=Koniec_Projekt,J266=0),ROUND(J253,0),0)","v":0},0,0,0,0,0,0,0,0,0,0,0,0,0]
[null,"",false,null,null,null,null,null,null,{"$f":"IF(AND($C592,LataProjekcji<=Koniec_Projekt,J267=0),ROUND(J254,0),0)","v":0},0,0,0,0,0,0,0,0,0,0,0,0,0]
[null,"",false,null,null,null,null,null,null,{"$f":"IF(AND($C593,LataProjekcji<=Koniec_Projekt,J268=0),ROUND(J255,0),0)","v":0},0,0,0,0,0,0,0,0,0,0,0,0,0]
[null,"",false,null,null,null,null,null,null,{"$f":"IF(AND($C594,LataProjekcji<=Koniec_Projekt,J269=0),ROUND(J256,0),0)","v":0},0,0,0,0,0,0,0,0,0,0,0,0,0]
[null,"Rozliczenie kosztów B+R projektu do rozliczeń międzyokresowych",false,null,null,null,null,null,null,{"$f":"IF(AND($C595,LataProjekcji<=Koniec_Projekt,J270=0),ROUND(J257,0),0)","v":0},0,0,0,0,0,0,0,0,0,0,0,0,0]
[null,"Razem Ubezpieczenia społeczne i inne świadczenia",null,null,null,null,null,null,null,{"$f":"ROUND(SUM(J585:J595),0)","v":0},{"$f":"ROUND(SUM(K585:K595),0)","v":0},0,0,0,0,0,0,0,0,0,0,0,0]
[]
[]
[null,"Pozostałe koszty rodzajowe"]
[null,{"$f":"B457","v":""},{"$f":"C457","v":false},null,null,null,null,null,null,{"$f":"IF(AND($C600,LataProjekcji<=Koniec_Projekt,OR(ISBLANK(J286),J286=0)),ROUND(J274,0),0)","v":0},0,0,0,0,0,0,0,0,0,0,0,0,0]
[null,{"$f":"B458","v":""},false,null,null,null,null,null,null,{"$f":"IF(AND($C601,LataProjekcji<=Koniec_Projekt,OR(ISBLANK(J287),J287=0)),ROUND(J275,0),0)","v":0},0,0,0,0,0,0,0,0,0,0,0,0,0]
[null,"",false,null,null,null,null,null,null,{"$f":"IF(AND($C602,LataProjekcji<=Koniec_Projekt,OR(ISBLANK(J288),J288=0)),ROUND(J276,0),0)","v":0},0,0,0,0,0,0,0,0,0,0,0,0,0]
[null,"",false,null,null,null,null,null,null,{"$f":"IF(AND($C603,LataProjekcji<=Koniec_Projekt,OR(ISBLANK(J289),J289=0)),ROUND(J277,0),0)","v":0},0,0,0,0,0,0,0,0,0,0,0,0,0]
[null,"",false,null,null,null,null,null,null,{"$f":"IF(AND($C604,LataProjekcji<=Koniec_Projekt,OR(ISBLANK(J290),J290=0)),ROUND(J278,0),0)","v":0},0,0,0,0,0,0,0,0,0,0,0,0,0]
[null,"",false,null,null,null,null,null,null,{"$f":"IF(AND($C605,LataProjekcji<=Koniec_Projekt,OR(ISBLANK(J291),J291=0)),ROUND(J279,0),0)","v":0},0,0,0,0,0,0,0,0,0,0,0,0,0]
[null,"",false,null,null,null,null,null,null,{"$f":"IF(AND($C606,LataProjekcji<=Koniec_Projekt,OR(ISBLANK(J292),J292=0)),ROUND(J280,0),0)","v":0},0,0,0,0,0,0,0,0,0,0,0,0,0]
[null,"",false,null,null,null,null,null,null,{"$f":"IF(AND($C607,LataProjekcji<=Koniec_Projekt,OR(ISBLANK(J293),J293=0)),ROUND(J281,0),0)","v":0},0,0,0,0,0,0,0,0,0,0,0,0,0]
[null,"",false,null,null,null,null,null,null,{"$f":"IF(AND($C608,LataProjekcji<=Koniec_Projekt,OR(ISBLANK(J294),J294=0)),ROUND(J282,0),0)","v":0},0,0,0,0,0,0,0,0,0,0,0,0,0]
[null,"",false,null,null,null,null,null,null,{"$f":"IF(AND($C609,LataProjekcji<=Koniec_Projekt,OR(ISBLANK(J295),J295=0)),ROUND(J283,0),0)","v":0},0,0,0,0,0,0,0,0,0,0,0,0,0]
[null,"Razem Pozostałe koszty rodzajowe",null,null,null,null,null,null,null,{"$f":"ROUND(SUM(J600:J609),0)","v":0},{"$f":"ROUND(SUM(K600:K609),0)","v":0},0,0,0,0,0,0,0,0,0,0,0,0]
[]
[]
[null,"Wartość sprzedanych towarów i materiałów"]
[null,{"$f":"IF(ISBLANK(Przychody!B317),\"\",Przychody!B317)","v":""},{"$f":"C471","v":true}]
[null,{"$f":"IF(ISBLANK(Przychody!B318),\"\",Przychody!B318)","v":""},{"$f":"C472","v":false}]
[null,{"$f":"IF(ISBLANK(Przychody!B319),\"\",Przychody!B319)","v":""},{"$f":"C473","v":false}]
[null,{"$f":"IF(ISBLANK(Przychody!B320),\"\",Przychody!B320)","v":""},{"$f":"C474","v":false}]
[null,{"$f":"IF(ISBLANK(Przychody!B321),\"\",Przychody!B321)","v":""},{"$f":"C475","v":false}]
[null,"Razem Wartość sprzedanych towarów i materiałów",null,null,null,null,null,null,null,{"$f":"ROUND(SUM(J614:J618),0)","v":0},{"$f":"ROUND(SUM(K614:K618),0)","v":0},0,0,0,0,0,0,0,0,0,0,0,0]
[]
[]
[null,"Pozostałe koszty operacyjne"]
[null,{"$f":"IF(ISBLANK(B427),\"\",B427)","v":""},{"$f":"C480","v":false}]
[null,{"$f":"IF(ISBLANK(B428),\"\",B428)","v":""},{"$f":"C481","v":false}]
[null,{"$f":"IF(ISBLANK(B429),\"\",B429)","v":""},{"$f":"C482","v":false}]
[null,{"$f":"IF(ISBLANK(B430),\"\",B430)","v":""},{"$f":"C483","v":false}]
[null,{"$f":"IF(ISBLANK(B431),\"\",B431)","v":""},{"$f":"C484","v":false}]
[null,"Razem Pozostałe koszty operacyjne",null,null,null,null,null,null,null,{"$f":"ROUND(SUM(J623:J627),0)","v":0},{"$f":"ROUND(SUM(K623:K627),0)","v":0},0,0,0,0,0,0,0,0,0,0,0,0]
[]
[]
[null,"Koszty finansowe"]
[null,{"$f":"IF(ISBLANK(B442),\"\",B442)","v":""},{"$f":"C489","v":false}]
[null,{"$f":"IF(ISBLANK(B443),\"\",B443)","v":""},{"$f":"C490","v":false}]
[null,{"$f":"IF(ISBLANK(B444),\"\",B444)","v":""},{"$f":"C491","v":false}]
[null,{"$f":"IF(ISBLANK(B445),\"\",B445)","v":""},{"$f":"C492","v":false}]
[null,{"$f":"IF(ISBLANK(B446),\"\",B446)","v":""},{"$f":"C493","v":false}]
[null,"Razem Koszty finansowe",null,null,null,null,null,null,null,{"$f":"ROUND(SUM(J632:J636),0)","v":0},{"$f":"ROUND(SUM(K632:K636),0)","v":0},0,0,0,0,0,0,0,0,0,0,0,0]
[]
[]
[null,"Rozliczenie kosztów operacyjnych projektu do rozliczeń międzyokresowych"]
[null,"Zużycie materiałów i energii",null,null,null,null,null,null,null,{"$f":"IF(LataProjekcji<=Koniec_Projekt,ROUND(J541,0),0)","v":0},0,0,0,0,0,0,0,0,0,0,0,0,0]
[null,"Usługi obce",null,null,null,null,null,null,null,{"$f":"IF(LataProjekcji<=Koniec_Projekt,ROUND(J555,0),0)","v":0},0,0,0,0,0,0,0,0,0,0,0,0,0]
[null,"Podatki i opłaty",null,null,null,null,null,null,null,{"$f":"IF(LataProjekcji<=Koniec_Projekt,ROUND(J564,0),0)","v":0},0,0,0,0,0,0,0,0,0,0,0,0,0]
[null,"Wynagrodzenia",null,null,null,null,null,null,null,{"$f":"IF(LataProjekcji<=Koniec_Projekt,ROUND(J580,0),0)","v":0},0,0,0,0,0,0,0,0,0,0,0,0,0]
[null,"Ubezpieczenia społeczne i inne świadczenia",null,null,null,null,null,null,null,{"$f":"IF(LataProjekcji<=Koniec_Projekt,ROUND(J596,0),0)","v":0},{"$f":"IF(LataProjekcji<=Koniec_Projekt,ROUND(K596,0),0)","v":0},0,0,0,0,0,0,0,0,0,0,0,0]
[null,"Pozostałe koszty rodzajowe",null,null,null,null,null,null,null,{"$f":"IF(LataProjekcji<=Koniec_Projekt,ROUND(J610,0),0)","v":0},0,0,0,0,0,0,0,0,0,0,0,0,0]
[null,"Wartość sprzedanych towarów i materiałów",null,null,null,null,null,null,null,{"$f":"IF(LataProjekcji<=Koniec_Projekt,J619,0)","v":0},0,0,0,0,0,0,0,0,0,0,0,0,0]
[null,"Pozostałe koszty operacyjne",null,null,null,null,null,null,null,{"$f":"IF(LataProjekcji<=Koniec_Projekt,ROUND(J628,0),0)","v":0},0,0,0,0,0,0,0,0,0,0,0,0,0]
[null,"Koszty finansowe",null,null,null,null,null,null,null,{"$f":"IF(LataProjekcji<=Koniec_Projekt,ROUND(J637,0),0)","v":0},0,0,0,0,0,0,0,0,0,0,0,0,0]
[null,"Razem",null,null,null,null,null,null,null,{"$f":"ROUND(SUM(J641:J649),0)","v":0},{"$f":"ROUND(SUM(K641:K649),0)","v":0},0,0,0,0,0,0,0,0,0,0,0,0]
[]
[]
[null,null,null,null,null,null,null,null,null,{"$f":"LataProjekcji","v":"Uzupełnij dane"},"","","","","","","","","","","","",""]
[]
[null,"Koszty B+R narastająco",null,null,null,null,null,null,null,{"$f":"ROUND(J650,0)","v":0},{"$f":"ROUND(J655+K650,0)","v":0},0,0,0,0,0,0,0,0,0,0,0,0]
[null,null,null,"kolumna","wiersz","adres"]
[null,"Rok rozpoczęcia projektu",{"$f":"Poczatek","v":0},{"$f":"MATCH($C657,$A$510:$W$510,0)","v":{"$error":"#N/A"}},{"$f":"ROW($J$507)","v":507},{"$f":"ADDRESS(E657,D657)","v":{"$error":"#N/A"}}]
[null,"Rok zakończenia projektu",{"$f":"Koniec_Projekt","v":0},{"$f":"MATCH($C658,$A$510:$W$510,0)","v":{"$error":"#N/A"}},{"$f":"ROW($J$507)","v":507},{"$f":"ADDRESS(E658,D658)","v":{"$error":"#N/A"}}]
[]
[null,"Rozliczenia międzyokresowe B+R w danym roku",null,null,null,null,null,null,null,{"$f":"IF(LataProjekcji<=Koniec_Projekt,J650,0)","v":0},0,0,0,0,0,0,0,0,0,0,0,0,0]
[null,"Rozliczenia międzyokresowe B+R (aktywa)",null,null,null,null,null,null,null,{"$f":"IF(LataProjekcji<Koniec_Projekt,J660,0)","v":0},{"$f":"IF(LataProjekcji<Koniec_Projekt,(K660+J661),0)","v":0},0,0,0,0,0,0,0,0,0,0,0,0]
[null,"Zakończone prace rozwojowe przenoszone do WNiP",null,null,null,null,null,null,null,{"$f":"IF(J653=Koniec_Projekt,J655,0)","v":0},0,0,0,0,0,0,0,0,0,0,0,0,0]
[]
[]
[]
[]
[]
[]
[]
[]
[null,"Rozliczenie dotacji dotyczącej kosztów B+R",null,null,null,null,null,null,null,{"$f":"LataProjekcji","v":"Uzupełnij dane"},"","","","","","","","","","","","",""]
[]
[null,"Zużycie materiałów i eneregii (Projekt)"]
[null,{"$f":"IF(ISBLANK(B388),\"\",B388)","v":""},{"$f":"C388","v":false},null,null,null,null,null,null,{"$f":"IF(AND($C674,J129>0),ROUND(J388*J129,0),0)","v":0},{"$f":"IF(AND($C674,K129>0),ROUND(K388*K129,0),0)","v":0},0,0,0,0,0,0,0,0,0,0,0,0]
[null,{"$f":"IF(ISBLANK(B389),\"\",B389)","v":""},{"$f":"C389","v":false},null,null,null,null,null,null,{"$f":"IF($C675,ROUND(J389*J130,0),0)","v":0},0,0,0,0,0,0,0,0,0,0,0,0,0]
[null,"",false,null,null,null,null,null,null,{"$f":"IF($C676,ROUND(J390*J131,0),0)","v":0},0,0,0,0,0,0,0,0,0,0,0,0,0]
[null,"",false,null,null,null,null,null,null,{"$f":"IF($C677,ROUND(J391*J132,0),0)","v":0},0,0,0,0,0,0,0,0,0,0,0,0,0]
[null,"",false,null,null,null,null,null,null,{"$f":"IF($C678,ROUND(J392*J133,0),0)","v":0},0,0,0,0,0,0,0,0,0,0,0,0,0]
[null,"",false,null,null,null,null,null,null,{"$f":"IF($C679,ROUND(J393*J134,0),0)","v":0},0,0,0,0,0,0,0,0,0,0,0,0,0]
[null,"",false,null,null,null,null,null,null,{"$f":"IF($C680,ROUND(J394*J135,0),0)","v":0},0,0,0,0,0,0,0,0,0,0,0,0,0]
[null,"",false,null,null,null,null,null,null,{"$f":"IF($C681,ROUND(J395*J136,0),0)","v":0},0,0,0,0,0,0,0,0,0,0,0,0,0]
[null,"",false,null,null,null,null,null,null,{"$f":"IF($C682,ROUND(J396*J137,0),0)","v":0},0,0,0,0,0,0,0,0,0,0,0,0,0]
[null,"",false,null,null,null,null,null,null,{"$f":"IF($C683,ROUND(J397*J138,0),0)","v":0},0,0,0,0,0,0,0,0,0,0,0,0,0]
[null,"Razem Zużycie materiałów i energii (Projekt)",null,null,null,null,null,null,null,{"$f":"ROUND(SUM(J674:J683),0)","v":0},0,0,0,0,0,0,0,0,0,0,0,0,0]
[]
[]
[null,"Usługi obce (Projekt)"]
[null,{"$f":"IF(ISBLANK(B402),\"\",B402)","v":""},{"$f":"C402","v":false},null,null,null,null,null,null,{"$f":"IF($C688,ROUND(J402*J154,0),0)","v":0},0,0,0,0,0,0,0,0,0,0,0,0,0]
[null,{"$f":"IF(ISBLANK(B403),\"\",B403)","v":""},{"$f":"C403","v":false},null,null,null,null,null,null,{"$f":"IF($C689,ROUND(J403*J155,0),0)","v":0},0,0,0,0,0,0,0,0,0,0,0,0,0]
[null,"",false,null,null,null,null,null,null,{"$f":"IF($C690,ROUND(J404*J156,0),0)","v":0},0,0,0,0,0,0,0,0,0,0,0,0,0]
[null,"",false,null,null,null,null,null,null,{"$f":"IF($C691,ROUND(J405*J157,0),0)","v":0},0,0,0,0,0,0,0,0,0,0,0,0,0]
[null,"",false,null,null,null,null,null,null,{"$f":"IF($C692,ROUND(J406*J158,0),0)","v":0},0,0,0,0,0,0,0,0,0,0,0,0,0]
[null,"",false,null,null,null,null,null,null,{"$f":"IF($C693,ROUND(J407*J159,0),0)","v":0},0,0,0,0,0,0,0,0,0,0,0,0,0]
[null,"",false,null,null,null,null,null,null,{"$f":"IF($C694,ROUND(J408*J160,0),0)","v":0},0,0,0,0,0,0,0,0,0,0,0,0,0]
[null,"",false,null,null,null,null,null,null,{"$f":"IF($C695,ROUND(J409*J161,0),0)","v":0},0,0,0,0,0,0,0,0,0,0,0,0,0]
[null,"",false,null,null,null,null,null,null,{"$f":"IF($C696,ROUND(J410*J162,0),0)","v":0},0,0,0,0,0,0,0,0,0,0,0,0,0]
[null,"",false,null,null,null,null,null,null,{"$f":"IF($C697,ROUND(J411*J163,0),0)","v":0},0,0,0,0,0,0,0,0,0,0,0,0,0]
[null,"Razem Usługi obce (Projekt)",null,null,null,null,null,null,null,{"$f":"ROUND(SUM(J688:J697),0)","v":0},0,0,0,0,0,0,0,0,0,0,0,0,0]
[]
[]
[null,"Podatki i opłaty (Projekt)"]
[null,{"$f":"IF(ISBLANK(B416),\"\",B416)","v":""},{"$f":"C416","v":false},null,null,null,null,null,null,{"$f":"IF($C702,ROUND(J416*J174,0),0)","v":0},0,0,0,0,0,0,0,0,0,0,0,0,0]
[null,{"$f":"IF(ISBLANK(B417),\"\",B417)","v":""},{"$f":"C417","v":false},null,null,null,null,null,null,{"$f":"IF($C703,ROUND(J417*J175,0),0)","v":0},0,0,0,0,0,0,0,0,0,0,0,0,0]
[null,{"$f":"IF(ISBLANK(B418),\"\",B418)","v":""},{"$f":"C418","v":false},null,null,null,null,null,null,{"$f":"IF($C704,ROUND(J418*J176,0),0)","v":0},0,0,0,0,0,0,0,0,0,0,0,0,0]
[null,{"$f":"IF(ISBLANK(B419),\"\",B419)","v":""},{"$f":"C419","v":false},null,null,null,null,null,null,{"$f":"IF($C705,ROUND(J419*J177,0),0)","v":0},0,0,0,0,0,0,0,0,0,0,0,0,0]
[null,{"$f":"IF(ISBLANK(B420),\"\",B420)","v":""},{"$f":"C420","v":false},null,null,null,null,null,null,{"$f":"IF($C706,ROUND(J420*J178,0),0)","v":0},0,0,0,0,0,0,0,0,0,0,0,0,0]
[null,"Razem Podatki i opłaty (Projekt)",null,null,null,null,null,null,null,{"$f":"ROUND(SUM(J702:J706),0)","v":0},0,0,0,0,0,0,0,0,0,0,0,0,0]
[]
[]
[null,"Wynagrodzenia (brutto) (Projekt)"]
[null,"Stanowisko / Grupa",null,null,null,null,null,null,null,"Koszty rocznych wynagrodzeń na danym stanowisku / w danej grupie"]
[null,{"$f":"IF(ISBLANK(B426),\"\",B426)","v":""},{"$f":"C426","v":false},null,null,null,null,null,null,{"$f":"IF($C712,ROUND(J426*J219,0),0)","v":0},0,0,0,0,0,0,0,0,0,0,0,0,0]
[null,"",false,null,null,null,null,null,null,{"$f":"IF($C713,ROUND(J427*J220,0),0)","v":0},0,0,0,0,0,0,0,0,0,0,0,0,0]
[null,"",false,null,null,null,null,null,null,{"$f":"IF($C714,ROUND(J428*J221,0),0)","v":0},0,0,0,0,0,0,0,0,0,0,0,0,0]
[null,"",false,null,null,null,null,null,null,{"$f":"IF($C715,ROUND(J429*J222,0),0)","v":0},0,0,0,0,0,0,0,0,0,0,0,0,0]
[null,"",false,null,null,null,null,null,null,{"$f":"IF($C716,ROUND(J430*J223,0),0)","v":0},0,0,0,0,0,0,0,0,0,0,0,0,0]
[null,"",false,null,null,null,null,null,null,{"$f":"IF($C717,ROUND(J431*J224,0),0)","v":0},0,0,0,0,0,0,0,0,0,0,0,0,0]
[null,"",false,null,null,null,null,null,null,{"$f":"IF($C718,ROUND(J432*J225,0),0)","v":0},0,0,0,0,0,0,0,0,0,0,0,0,0]
[null,"",false,null,null,null,null,null,null,{"$f":"IF($C719,ROUND(J433*J226,0),0)","v":0},0,0,0,0,0,0,0,0,0,0,0,0,0]
[null,"",false,null,null,null,null,null,null,{"$f":"IF($C720,ROUND(J434*J227,0),0)","v":0},0,0,0,0,0,0,0,0,0,0,0,0,0]
[null,"",false,null,null,null,null,null,null,{"$f":"IF($C721,ROUND(J435*J228,0),0)","v":0},0,0,0,0,0,0,0,0,0,0,0,0,0]
[null,"Pozostałe",false,null,null,null,null,null,null,{"$f":"IF($C722,ROUND(J436*J229,0),0)","v":0},0,0,0,0,0,0,0,0,0,0,0,0,0]
[null,"Razem Wynagrodzenia",null,null,null,null,null,null,null,{"$f":"ROUND(SUM(J712:J722),0)","v":0},0,0,0,0,0,0,0,0,0,0,0,0,0]
[]
[]
[null,"Ubezpieczenia społeczne i inne świadczenia"]
[null,"Stanowisko / Grupa"]
[null,{"$f":"IF(ISBLANK(B442),\"\",B442)","v":""},{"$f":"C442","v":false},null,null,null,null,null,null,{"$f":"IF($C728,ROUND(J442*J260,0),0)","v":0},0,0,0,0,0,0,0,0,0,0,0,0,0]
[null,"",false,null,null,null,null,null,null,{"$f":"IF($C729,ROUND(J443*J261,0),0)","v":0},0,0,0,0,0,0,0,0,0,0,0,0,0]
[null,"",false,null,null,null,null,null,null,{"$f":"IF($C730,ROUND(J444*J262,0),0)","v":0},0,0,0,0,0,0,0,0,0,0,0,0,0]
[null,"",false,null,null,null,null,null,null,{"$f":"IF($C731,ROUND(J445*J263,0),0)","v":0},0,0,0,0,0,0,0,0,0,0,0,0,0]
[null,"",false,null,null,null,null,null,null,{"$f":"IF($C732,ROUND(J446*J264,0),0)","v":0},0,0,0,0,0,0,0,0,0,0,0,0,0]
[null,"",false,null,null,null,null,null,null,{"$f":"IF($C733,ROUND(J447*J265,0),0)","v":0},0,0,0,0,0,0,0,0,0,0,0,0,0]
[null,"",false,null,null,null,null,null,null,{"$f":"IF($C734,ROUND(J448*J266,0),0)","v":0},0,0,0,0,0,0,0,0,0,0,0,0,0]
[null,"",false,null,null,null,null,null,null,{"$f":"IF($C735,ROUND(J449*J267,0),0)","v":0},0,0,0,0,0,0,0,0,0,0,0,0,0]
[null,"",false,null,null,null,null,null,null,{"$f":"IF($C736,ROUND(J450*J268,0),0)","v":0},0,0,0,0,0,0,0,0,0,0,0,0,0]
[null,"",false,null,null,null,null,null,null,{"$f":"IF($C737,ROUND(J451*J269,0),0)","v":0},0,0,0,0,0,0,0,0,0,0,0,0,0]
[null,"Pozostałe",false,null,null,null,null,null,null,{"$f":"IF($C738,ROUND(J452*J270,0),0)","v":0},0,0,0,0,0,0,0,0,0,0,0,0,0]
[null,"Razem Ubezpieczenia społeczne i inne świadczenia",null,null,null,null,null,null,null,{"$f":"ROUND(SUM(J728:J738),0)","v":0},0,0,0,0,0,0,0,0,0,0,0,0,0]
[]
[]
[null,"Pozostałe koszty rodzajowe"]
[null,{"$f":"IF(ISBLANK(B457),\"\",B457)","v":""},{"$f":"C457","v":false},null,null,null,null,null,null,{"$f":"IF($C743,ROUND(J457*J286,0),0)","v":0},0,0,0,0,0,0,0,0,0,0,0,0,0]
[null,{"$f":"IF(ISBLANK(B458),\"\",B458)","v":""},{"$f":"C458","v":false},null,null,null,null,null,null,{"$f":"IF($C744,ROUND(J458*J287,0),0)","v":0},0,0,0,0,0,0,0,0,0,0,0,0,0]
[null,"",false,null,null,null,null,null,null,{"$f":"IF($C745,ROUND(J459*J288,0),0)","v":0},0,0,0,0,0,0,0,0,0,0,0,0,0]
[null,"",false,null,null,null,null,null,null,{"$f":"IF($C746,ROUND(J460*J289,0),0)","v":0},0,0,0,0,0,0,0,0,0,0,0,0,0]
[null,"",false,null,null,null,null,null,null,{"$f":"IF($C747,ROUND(J461*J290,0),0)","v":0},0,0,0,0,0,0,0,0,0,0,0,0,0]
[null,"",false,null,null,null,null,null,null,{"$f":"IF($C748,ROUND(J462*J291,0),0)","v":0},0,0,0,0,0,0,0,0,0,0,0,0,0]
[null,"",false,null,null,null,null,null,null,{"$f":"IF($C749,ROUND(J463*J292,0),0)","v":0},0,0,0,0,0,0,0,0,0,0,0,0,0]
[null,"",false,null,null,null,null,null,null,{"$f":"IF($C750,ROUND(J464*J293,0),0)","v":0},0,0,0,0,0,0,0,0,0,0,0,0,0]
[null,"",false,null,null,null,null,null,null,{"$f":"IF($C751,ROUND(J465*J294,0),0)","v":0},0,0,0,0,0,0,0,0,0,0,0,0,0]
[null,"",false,null,null,null,null,null,null,{"$f":"IF($C752,ROUND(J466*J295,0),0)","v":0},0,0,0,0,0,0,0,0,0,0,0,0,0]
[null,"Razem Pozostałe koszty rodzajowe",null,null,null,null,null,null,null,{"$f":"ROUND(SUM(J743:J752),0)","v":0},0,0,0,0,0,0,0,0,0,0,0,0,0]
[]
[]
[null,"Wartość sprzedanych towarów i materiałów"]
[null,{"$f":"IF(ISBLANK(B471),\"\",B471)","v":""}]
[null,{"$f":"IF(ISBLANK(B472),\"\",B472)","v":""}]
[null,{"$f":"IF(ISBLANK(B473),\"\",B473)","v":""}]
[null,{"$f":"IF(ISBLANK(B474),\"\",B474)","v":""}]
[null,{"$f":"IF(ISBLANK(B475),\"\",B475)","v":""}]
[null,"Razem Wartość sprzedanych towarów i materiałów",null,null,null,null,null,null,null,{"$f":"ROUND(SUM(J757:J761),0)","v":0},0,0,0,0,0,0,0,0,0,0,0,0,0]
[]
[]
[null,"Pozostałe koszty operacyjne"]
[null,{"$f":"IF(ISBLANK(B480),\"\",B480)","v":""}]
[null,{"$f":"IF(ISBLANK(B481),\"\",B481)","v":""}]
[null,{"$f":"IF(ISBLANK(B482),\"\",B482)","v":""}]
[null,{"$f":"IF(ISBLANK(B483),\"\",B483)","v":""}]
[null,{"$f":"IF(ISBLANK(B484),\"\",B484)","v":""}]
[null,"Razem Pozostałe koszty operacyjne",null,null,null,null,null,null,null,{"$f":"ROUND(SUM(J766:J770),0)","v":0},0,0,0,0,0,0,0,0,0,0,0,0,0]
[]
[]
[null,"Koszty finansowe"]
[null,{"$f":"IF(ISBLANK(B489),\"\",B489)","v":"Koszty z tytułu oprocentowania kredytów i pożyczek"}]
[null,{"$f":"IF(ISBLANK(B490),\"\",B490)","v":""}]
[null,{"$f":"IF(ISBLANK(B491),\"\",B491)","v":""}]
[null,{"$f":"IF(ISBLANK(B492),\"\",B492)","v":""}]
[null,{"$f":"IF(ISBLANK(B493),\"\",B493)","v":""}]
[null,"Razem Koszty finansowe",null,null,null,null,null,null,null,{"$f":"ROUND(SUM(J775:J779),0)","v":0},{"$f":"ROUND(SUM(K775:K779),0)","v":0},0,0,0,0,0,0,0,0,0,0,0,0]
[]
[]
[null,"Rozliczenie kosztów operacyjnych projektu do rozliczeń międzyokresowych"]
[null,"Zużycie materiałów i energii",null,null,null,null,null,null,null,{"$f":"IF(LataProjekcji<=Koniec_Projekt,ROUND(J684,0),0)","v":0},0,0,0,0,0,0,0,0,0,0,0,0,0]
[null,"Usługi obce",null,null,null,null,null,null,null,{"$f":"IF(LataProjekcji<=Koniec_Projekt,ROUND(J698,0),0)","v":0},0,0,0,0,0,0,0,0,0,0,0,0,0]
[null,"Podatki i opłaty",null,null,null,null,null,null,null,{"$f":"IF(LataProjekcji<=Koniec_Projekt,ROUND(J707,0),0)","v":0},0,0,0,0,0,0,0,0,0,0,0,0,0]
[null,"Wynagrodzenia",null,null,null,null,null,null,null,{"$f":"IF(LataProjekcji<=Koniec_Projekt,ROUND(J723,0),0)","v":0},0,0,0,0,0,0,0,0,0,0,0,0,0]
[null,"Ubezpieczenia społeczne i inne świadczenia",null,null,null,null,null,null,null,{"$f":"IF(LataProjekcji<=Koniec_Projekt,ROUND(J739,0),0)","v":0},0,0,0,0,0,0,0,0,0,0,0,0,0]
[null,"Pozostałe koszty rodzajowe",null,null,null,null,null,null,null,{"$f":"IF(LataProjekcji<=Koniec_Projekt,ROUND(J753,0),0)","v":0},0,0,0,0,0,0,0,0,0,0,0,0,0]
[null,"Wartość sprzedanych towarów i materiałów",null,null,null,null,null,null,null,{"$f":"IF(LataProjekcji<=Koniec_Projekt,J762,0)","v":0},0,0,0,0,0,0,0,0,0,0,0,0,0]
[null,"Pozostałe koszty operacyjne",null,null,null,null,null,null,null,{"$f":"IF(LataProjekcji<=Koniec_Projekt,ROUND(J771,0),0)","v":0},0,0,0,0,0,0,0,0,0,0,0,0,0]
[null,"Koszty finansowe",null,null,null,null,null,null,null,{"$f":"IF(LataProjekcji<=Koniec_Projekt,ROUND(J780,0),0)","v":0},0,0,0,0,0,0,0,0,0,0,0,0,0]
[null,"Razem",null,null,null,null,null,null,null,{"$f":"ROUND(SUM(J784:J792),0)","v":0},{"$f":"ROUND(SUM(K784:K792),0)","v":0},0,0,0,0,0,0,0,0,0,0,0,0]
[]
[]
[null,null,null,null,null,null,null,null,null,{"$f":"LataProjekcji","v":"Uzupełnij dane"},"","","","","","","","","","","","",""]
[]
[null,"Dotacja B+R narastająco",null,null,null,null,null,null,null,{"$f":"ROUND(J793,0)","v":0},{"$f":"ROUND(J798+K793,0)","v":0},{"$f":"ROUND(K798+L793,0)","v":0},0,0,0,0,0,0,0,0,0,0,0]
[null,null,null,"kolumna","wiersz","adres"]
[null,"Rok rozpoczęcia projektu",{"$f":"Poczatek","v":0},{"$f":"MATCH($C800,$A$510:$W$510,0)","v":{"$error":"#N/A"}},{"$f":"ROW($J$793)","v":793},{"$f":"ADDRESS(E800,D800)","v":{"$error":"#N/A"}}]
[null,"Rok zakończenia projektu",{"$f":"Koniec_Projekt","v":0},{"$f":"MATCH($C801,$A$510:$W$510,0)","v":{"$error":"#N/A"}},{"$f":"ROW($J$793)","v":793},{"$f":"ADDRESS(E801,D801)","v":{"$error":"#N/A"}}]
[]
[null,"Dotacja kosztów operacyjnych B+R w danym roku",null,null,null,null,null,null,null,{"$f":"IF(LataProjekcji<=Koniec_Projekt,J793,0)","v":0},0,0,0,0,0,0,0,0,0,0,0,0,0]
[null,"Rozliczenia międzyokresowe B+R narastająco (pasywa)",null,null,null,null,null,null,null,{"$f":"IF(LataProjekcji<=Koniec_Projekt,(J803+I804),0)","v":0},0,0,0,0,0,0,0,0,0,0,0,0,0]
[]
[]
[]
[]
[]
[]
[]
[]
[null,"Rozliczenie dotacji dotyczącej kosztów operacyjnych nie będących B+R",null,null,null,null,null,null,null,{"$f":"LataProjekcji","v":"Uzupełnij dane"},"","","","","","","","","","","","",""]
[]
[null,"Zużycie materiałów i eneregii (Projekt)"]
[null,{"$f":"IF(ISBLANK(B674),\"\",B674)","v":""},{"$f":"C674","v":false},null,null,null,null,null,null,{"$f":"IF($C816,0,IF(J$813<=Koniec_Projekt,ROUND(J117*J129,0),0))","v":0},0,0,0,0,0,0,0,0,0,0,0,0,0]
[null,{"$f":"IF(ISBLANK(B675),\"\",B675)","v":""},{"$f":"C675","v":false},null,null,null,null,null,null,{"$f":"IF($C817,0,IF(J$813<=Koniec_Projekt,ROUND(J118*J130,0),0))","v":0},0,0,0,0,0,0,0,0,0,0,0,0,0]
[null,"",false,null,null,null,null,null,null,{"$f":"IF($C818,0,IF(J$813<=Koniec_Projekt,ROUND(J119*J131,0),0))","v":0},0,0,0,0,0,0,0,0,0,0,0,0,0]
[null,"",false,null,null,null,null,null,null,{"$f":"IF($C819,0,IF(J$813<=Koniec_Projekt,ROUND(J120*J132,0),0))","v":0},0,0,0,0,0,0,0,0,0,0,0,0,0]
[null,"",false,null,null,null,null,null,null,{"$f":"IF($C820,0,IF(J$813<=Koniec_Projekt,ROUND(J121*J133,0),0))","v":0},0,0,0,0,0,0,0,0,0,0,0,0,0]
[null,"",false,null,null,null,null,null,null,{"$f":"IF($C821,0,IF(J$813<=Koniec_Projekt,ROUND(J122*J134,0),0))","v":0},0,0,0,0,0,0,0,0,0,0,0,0,0]
[null,"",false,null,null,null,null,null,null,{"$f":"IF($C822,0,IF(J$813<=Koniec_Projekt,ROUND(J123*J135,0),0))","v":0},0,0,0,0,0,0,0,0,0,0,0,0,0]
[null,"",false,null,null,null,null,null,null,{"$f":"IF($C823,0,IF(J$813<=Koniec_Projekt,ROUND(J124*J136,0),0))","v":0},0,0,0,0,0,0,0,0,0,0,0,0,0]
[null,"",false,null,null,null,null,null,null,{"$f":"IF($C824,0,IF(J$813<=Koniec_Projekt,ROUND(J125*J137,0),0))","v":0},0,0,0,0,0,0,0,0,0,0,0,0,0]
[null,"",false,null,null,null,null,null,null,{"$f":"IF($C825,0,IF(J$813<=Koniec_Projekt,ROUND(J126*J138,0),0))","v":0},0,0,0,0,0,0,0,0,0,0,0,0,0]
[null,"Razem Zużycie materiałów i energii (Projekt)",null,null,null,null,null,null,null,{"$f":"ROUND(SUM(J816:J825),0)","v":0},{"$f":"ROUND(SUM(K816:K825),0)","v":0},0,0,0,0,0,0,0,0,0,0,0,0]
[]
[]
[null,"Usługi obce (Projekt)"]
[null,{"$f":"IF(ISBLANK(B688),\"\",B688)","v":""},{"$f":"C688","v":false},null,null,null,null,null,null,{"$f":"IF($C830,0,IF(J$813<=Koniec_Projekt,ROUND(J142*J154,0),0))","v":0},0,0,0,0,0,0,0,0,0,0,0,0,0]
[null,{"$f":"IF(ISBLANK(B689),\"\",B689)","v":""},{"$f":"C689","v":false},null,null,null,null,null,null,{"$f":"IF($C831,0,IF(J$813<=Koniec_Projekt,ROUND(J143*J155,0),0))","v":0},0,0,0,0,0,0,0,0,0,0,0,0,0]
[null,"",false,null,null,null,null,null,null,{"$f":"IF($C832,0,IF(J$813<=Koniec_Projekt,ROUND(J144*J156,0),0))","v":0},0,0,0,0,0,0,0,0,0,0,0,0,0]
[null,"",false,null,null,null,null,null,null,{"$f":"IF($C833,0,IF(J$813<=Koniec_Projekt,ROUND(J145*J157,0),0))","v":0},0,0,0,0,0,0,0,0,0,0,0,0,0]
[null,"",false,null,null,null,null,null,null,{"$f":"IF($C834,0,IF(J$813<=Koniec_Projekt,ROUND(J146*J158,0),0))","v":0},0,0,0,0,0,0,0,0,0,0,0,0,0]
[null,"",false,null,null,null,null,null,null,{"$f":"IF($C835,0,IF(J$813<=Koniec_Projekt,ROUND(J147*J159,0),0))","v":0},0,0,0,0,0,0,0,0,0,0,0,0,0]
[null,"",false,null,null,null,null,null,null,{"$f":"IF($C836,0,IF(J$813<=Koniec_Projekt,ROUND(J148*J160,0),0))","v":0},0,0,0,0,0,0,0,0,0,0,0,0,0]
[null,"",false,null,null,null,null,null,null,{"$f":"IF($C837,0,IF(J$813<=Koniec_Projekt,ROUND(J149*J161,0),0))","v":0},0,0,0,0,0,0,0,0,0,0,0,0,0]
[null,"",false,null,null,null,null,null,null,{"$f":"IF($C838,0,IF(J$813<=Koniec_Projekt,ROUND(J150*J162,0),0))","v":0},0,0,0,0,0,0,0,0,0,0,0,0,0]
[null,"",false,null,null,null,null,null,null,{"$f":"IF($C839,0,IF(J$813<=Koniec_Projekt,ROUND(J151*J163,0),0))","v":0},0,0,0,0,0,0,0,0,0,0,0,0,0]
[null,"Razem Usługi obce (Projekt)",null,null,null,null,null,null,null,{"$f":"ROUND(SUM(J830:J839),0)","v":0},{"$f":"ROUND(SUM(K830:K839),0)","v":0},0,0,0,0,0,0,0,0,0,0,0,0]
[]
[]
[null,"Podatki i opłaty (Projekt)"]
[null,{"$f":"IF(ISBLANK(B702),\"\",B702)","v":""},{"$f":"C702","v":false},null,null,null,null,null,null,{"$f":"IF($C844,0,IF(J$813<=Koniec_Projekt,ROUND(J167*J174,0),0))","v":0},0,0,0,0,0,0,0,0,0,0,0,0,0]
[null,{"$f":"IF(ISBLANK(B703),\"\",B703)","v":""},{"$f":"C703","v":false},null,null,null,null,null,null,{"$f":"IF($C845,0,IF(J$813<=Koniec_Projekt,ROUND(J168*J175,0),0))","v":0},0,0,0,0,0,0,0,0,0,0,0,0,0]
[null,{"$f":"IF(ISBLANK(B704),\"\",B704)","v":""},{"$f":"C704","v":false},null,null,null,null,null,null,{"$f":"IF($C846,0,IF(J$813<=Koniec_Projekt,ROUND(J169*J176,0),0))","v":0},0,0,0,0,0,0,0,0,0,0,0,0,0]
[null,{"$f":"IF(ISBLANK(B705),\"\",B705)","v":""},{"$f":"C705","v":false},null,null,null,null,null,null,{"$f":"IF($C847,0,IF(J$813<=Koniec_Projekt,ROUND(J170*J177,0),0))","v":0},0,0,0,0,0,0,0,0,0,0,0,0,0]
[null,{"$f":"IF(ISBLANK(B706),\"\",B706)","v":""},{"$f":"C706","v":false},null,null,null,null,null,null,{"$f":"IF($C848,0,IF(J$813<=Koniec_Projekt,ROUND(J171*J178,0),0))","v":0},0,0,0,0,0,0,0,0,0,0,0,0,0]
[null,"Razem Podatki i opłaty (Projekt)",null,null,null,null,null,null,null,{"$f":"ROUND(SUM(J844:J848),0)","v":0},{"$f":"ROUND(SUM(K844:K848),0)","v":0},0,0,0,0,0,0,0,0,0,0,0,0]
[]
[]
[null,"Wynagrodzenia (brutto) (Projekt)"]
[null,"Stanowisko / Grupa",null,null,null,null,null,null,null,"Koszty rocznych wynagrodzeń na danym stanowisku / w danej grupie"]
[null,{"$f":"IF(ISBLANK(B712),\"\",B712)","v":""},{"$f":"C712","v":false},null,null,null,null,null,null,{"$f":"IF($C854,0,IF(J$813<=Koniec_Projekt,ROUND(J231*J219,0),0))","v":0},0,0,0,0,0,0,0,0,0,0,0,0,0]
[null,"",false,null,null,null,null,null,null,{"$f":"IF($C855,0,IF(J$813<=Koniec_Projekt,ROUND(J232*J220,0),0))","v":0},0,0,0,0,0,0,0,0,0,0,0,0,0]
[null,"",false,null,null,null,null,null,null,{"$f":"IF($C856,0,IF(J$813<=Koniec_Projekt,ROUND(J233*J221,0),0))","v":0},0,0,0,0,0,0,0,0,0,0,0,0,0]
[null,"",false,null,null,null,null,null,null,{"$f":"IF($C857,0,IF(J$813<=Koniec_Projekt,ROUND(J234*J222,0),0))","v":0},0,0,0,0,0,0,0,0,0,0,0,0,0]
[null,"",false,null,null,null,null,null,null,{"$f":"IF($C858,0,IF(J$813<=Koniec_Projekt,ROUND(J235*J223,0),0))","v":0},0,0,0,0,0,0,0,0,0,0,0,0,0]
[null,"",false,null,null,null,null,null,null,{"$f":"IF($C859,0,IF(J$813<=Koniec_Projekt,ROUND(J236*J224,0),0))","v":0},0,0,0,0,0,0,0,0,0,0,0,0,0]
[null,"",false,null,null,null,null,null,null,{"$f":"IF($C860,0,IF(J$813<=Koniec_Projekt,ROUND(J237*J225,0),0))","v":0},0,0,0,0,0,0,0,0,0,0,0,0,0]
[null,"",false,null,null,null,null,null,null,{"$f":"IF($C861,0,IF(J$813<=Koniec_Projekt,ROUND(J238*J226,0),0))","v":0},0,0,0,0,0,0,0,0,0,0,0,0,0]
[null,"",false,null,null,null,null,null,null,{"$f":"IF($C862,0,IF(J$813<=Koniec_Projekt,ROUND(J239*J227,0),0))","v":0},0,0,0,0,0,0,0,0,0,0,0,0,0]
[null,"",false,null,null,null,null,null,null,{"$f":"IF($C863,0,IF(J$813<=Koniec_Projekt,ROUND(J240*J228,0),0))","v":0},0,0,0,0,0,0,0,0,0,0,0,0,0]
[null,"Pozostałe",false,null,null,null,null,null,null,{"$f":"IF($C864,0,IF(J$813<=Koniec_Projekt,ROUND(J241*J229,0),0))","v":0},0,0,0,0,0,0,0,0,0,0,0,0,0]
[null,"Razem Wynagrodzenia",null,null,null,null,null,null,null,{"$f":"ROUND(SUM(J854:J864),0)","v":0},{"$f":"ROUND(SUM(K854:K864),0)","v":0},0,0,0,0,0,0,0,0,0,0,0,0]
[]
[]
[null,"Ubezpieczenia społeczne i inne świadczenia"]
[null,"Stanowisko / Grupa"]
[null,{"$f":"IF(ISBLANK(B728),\"\",B728)","v":""},{"$f":"C728","v":false},null,null,null,null,null,null,{"$f":"IF($C870,0,IF(J$813<=Koniec_Projekt,ROUND(J247*J260,0),0))","v":0},0,0,0,0,0,0,0,0,0,0,0,0,0]
[null,"",false,null,null,null,null,null,null,{"$f":"IF($C871,0,IF(J$813<=Koniec_Projekt,ROUND(J248*J261,0),0))","v":0},0,0,0,0,0,0,0,0,0,0,0,0,0]
[null,"",false,null,null,null,null,null,null,{"$f":"IF($C872,0,IF(J$813<=Koniec_Projekt,ROUND(J249*J262,0),0))","v":0},0,0,0,0,0,0,0,0,0,0,0,0,0]
[null,"",false,null,null,null,null,null,null,{"$f":"IF($C873,0,IF(J$813<=Koniec_Projekt,ROUND(J250*J263,0),0))","v":0},0,0,0,0,0,0,0,0,0,0,0,0,0]
[null,"",false,null,null,null,null,null,null,{"$f":"IF($C874,0,IF(J$813<=Koniec_Projekt,ROUND(J251*J264,0),0))","v":0},0,0,0,0,0,0,0,0,0,0,0,0,0]
[null,"",false,null,null,null,null,null,null,{"$f":"IF($C875,0,IF(J$813<=Koniec_Projekt,ROUND(J252*J265,0),0))","v":0},0,0,0,0,0,0,0,0,0,0,0,0,0]
[null,"",false,null,null,null,null,null,null,{"$f":"IF($C876,0,IF(J$813<=Koniec_Projekt,ROUND(J253*J266,0),0))","v":0},0,0,0,0,0,0,0,0,0,0,0,0,0]
[null,"",false,null,null,null,null,null,null,{"$f":"IF($C877,0,IF(J$813<=Koniec_Projekt,ROUND(J254*J267,0),0))","v":0},0,0,0,0,0,0,0,0,0,0,0,0,0]
[null,"",false,null,null,null,null,null,null,{"$f":"IF($C878,0,IF(J$813<=Koniec_Projekt,ROUND(J255*J268,0),0))","v":0},0,0,0,0,0,0,0,0,0,0,0,0,0]
[null,"",false,null,null,null,null,null,null,{"$f":"IF($C879,0,IF(J$813<=Koniec_Projekt,ROUND(J256*J269,0),0))","v":0},0,0,0,0,0,0,0,0,0,0,0,0,0]
[null,"Pozostałe",false,null,null,null,null,null,null,{"$f":"IF($C880,0,IF(J$813<=Koniec_Projekt,ROUND(J257*J270,0),0))","v":0},0,0,0,0,0,0,0,0,0,0,0,0,0]
[null,"Razem Ubezpieczenia społeczne i inne świadczenia",null,null,null,null,null,null,null,{"$f":"ROUND(SUM(J870:J880),0)","v":0},{"$f":"ROUND(SUM(K870:K880),0)","v":0},0,0,0,0,0,0,0,0,0,0,0,0]
[]
[]
[null,"Pozostałe koszty rodzajowe"]
[null,{"$f":"IF(ISBLANK(B743),\"\",B743)","v":""},{"$f":"C743","v":false},null,null,null,null,null,null,{"$f":"IF($C885,0,IF(J$813<=Koniec_Projekt,ROUND(J274*J286,0),0))","v":0},0,0,0,0,0,0,0,0,0,0,0,0,0]
[null,{"$f":"IF(ISBLANK(B744),\"\",B744)","v":""},{"$f":"C744","v":false},null,null,null,null,null,null,{"$f":"IF($C886,0,IF(J$813<=Koniec_Projekt,ROUND(J275*J287,0),0))","v":0},0,0,0,0,0,0,0,0,0,0,0,0,0]
[null,"",false,null,null,null,null,null,null,{"$f":"IF($C887,0,IF(J$813<=Koniec_Projekt,ROUND(J276*J288,0),0))","v":0},0,0,0,0,0,0,0,0,0,0,0,0,0]
[null,"",false,null,null,null,null,null,null,{"$f":"IF($C888,0,IF(J$813<=Koniec_Projekt,ROUND(J277*J289,0),0))","v":0},0,0,0,0,0,0,0,0,0,0,0,0,0]
[null,"",false,null,null,null,null,null,null,{"$f":"IF($C889,0,IF(J$813<=Koniec_Projekt,ROUND(J278*J290,0),0))","v":0},0,0,0,0,0,0,0,0,0,0,0,0,0]
[null,"",false,null,null,null,null,null,null,{"$f":"IF($C890,0,IF(J$813<=Koniec_Projekt,ROUND(J279*J291,0),0))","v":0},0,0,0,0,0,0,0,0,0,0,0,0,0]
[null,"",false,null,null,null,null,null,null,{"$f":"IF($C891,0,IF(J$813<=Koniec_Projekt,ROUND(J280*J292,0),0))","v":0},0,0,0,0,0,0,0,0,0,0,0,0,0]
[null,"",false,null,null,null,null,null,null,{"$f":"IF($C892,0,IF(J$813<=Koniec_Projekt,ROUND(J281*J293,0),0))","v":0},0,0,0,0,0,0,0,0,0,0,0,0,0]
[null,"",false,null,null,null,null,null,null,{"$f":"IF($C893,0,IF(J$813<=Koniec_Projekt,ROUND(J282*J294,0),0))","v":0},0,0,0,0,0,0,0,0,0,0,0,0,0]
[null,"",false,null,null,null,null,null,null,{"$f":"IF($C894,0,IF(J$813<=Koniec_Projekt,ROUND(J283*J295,0),0))","v":0},0,0,0,0,0,0,0,0,0,0,0,0,0]
[null,"Razem Pozostałe koszty rodzajowe",null,null,null,null,null,null,null,{"$f":"ROUND(SUM(J885:J894),0)","v":0},{"$f":"ROUND(SUM(K885:K894),0)","v":0},0,0,0,0,0,0,0,0,0,0,0,0]
[]
[]
[null,"Wartość sprzedanych towarów i materiałów"]
[null,{"$f":"IF(ISBLANK(B757),\"\",B757)","v":""}]
[null,{"$f":"IF(ISBLANK(B758),\"\",B758)","v":""}]
[null,{"$f":"IF(ISBLANK(B759),\"\",B759)","v":""}]
[null,{"$f":"IF(ISBLANK(B760),\"\",B760)","v":""}]
[null,{"$f":"IF(ISBLANK(B761),\"\",B761)","v":""}]
[null,"Razem Wartość sprzedanych towarów i materiałów",null,null,null,null,null,null,null,{"$f":"ROUND(SUM(J899:J903),0)","v":0},{"$f":"ROUND(SUM(K899:K903),0)","v":0},0,0,0,0,0,0,0,0,0,0,0,0]
[]
[]
[null,"Pozostałe koszty operacyjne"]
[null,{"$f":"IF(ISBLANK(B766),\"\",B766)","v":""},{"$f":"C623","v":false}]
[null,{"$f":"IF(ISBLANK(B767),\"\",B767)","v":""},{"$f":"C624","v":false}]
[null,{"$f":"IF(ISBLANK(B768),\"\",B768)","v":""},{"$f":"C625","v":false}]
[null,{"$f":"IF(ISBLANK(B769),\"\",B769)","v":""},{"$f":"C626","v":false}]
[null,{"$f":"IF(ISBLANK(B770),\"\",B770)","v":""},{"$f":"C627","v":false}]
[null,"Razem Pozostałe koszty operacyjne",null,null,null,null,null,null,null,{"$f":"ROUND(SUM(J908:J912),0)","v":0},{"$f":"ROUND(SUM(K908:K912),0)","v":0},0,0,0,0,0,0,0,0,0,0,0,0]
[]
[]
[null,"Koszty finansowe"]
[null,{"$f":"IF(ISBLANK(B775),\"\",B775)","v":"Koszty z tytułu oprocentowania kredytów i pożyczek"},{"$f":"C632","v":false}]
[null,{"$f":"IF(ISBLANK(B776),\"\",B776)","v":""},{"$f":"C633","v":false}]
[null,{"$f":"IF(ISBLANK(B777),\"\",B777)","v":""},{"$f":"C634","v":false}]
[null,{"$f":"IF(ISBLANK(B778),\"\",B778)","v":""},{"$f":"C635","v":false}]
[null,{"$f":"IF(ISBLANK(B779),\"\",B779)","v":""},{"$f":"C636","v":false}]
[null,"Razem Koszty finansowe",null,null,null,null,null,null,null,{"$f":"ROUND(SUM(J917:J921),0)","v":0},{"$f":"ROUND(SUM(K917:K921),0)","v":0},0,0,0,0,0,0,0,0,0,0,0,0]
[]
[]
[null,"Rozliczenie kosztów operacyjnych projektu do rozliczeń międzyokresowych"]
[null,"Zużycie materiałów i energii",null,null,null,null,null,null,null,{"$f":"IF(LataProjekcji<=Koniec_Projekt,ROUND(J826,0),0)","v":0},0,0,0,0,0,0,0,0,0,0,0,0,0]
[null,"Usługi obce",null,null,null,null,null,null,null,{"$f":"IF(LataProjekcji<=Koniec_Projekt,ROUND(J840,0),0)","v":0},0,0,0,0,0,0,0,0,0,0,0,0,0]
[null,"Podatki i opłaty",null,null,null,null,null,null,null,{"$f":"IF(LataProjekcji<=Koniec_Projekt,ROUND(J849,0),0)","v":0},0,0,0,0,0,0,0,0,0,0,0,0,0]
[null,"Wynagrodzenia",null,null,null,null,null,null,null,{"$f":"IF(LataProjekcji<=Koniec_Projekt,ROUND(J865,0),0)","v":0},0,0,0,0,0,0,0,0,0,0,0,0,0]
[null,"Ubezpieczenia społeczne i inne świadczenia",null,null,null,null,null,null,null,{"$f":"IF(LataProjekcji<=Koniec_Projekt,ROUND(J881,0),0)","v":0},0,0,0,0,0,0,0,0,0,0,0,0,0]
[null,"Pozostałe koszty rodzajowe",null,null,null,null,null,null,null,{"$f":"IF(LataProjekcji<=Koniec_Projekt,ROUND(J895,0),0)","v":0},0,0,0,0,0,0,0,0,0,0,0,0,0]
[null,"Wartość sprzedanych towarów i materiałów",null,null,null,null,null,null,null,{"$f":"IF(LataProjekcji<=Koniec_Projekt,J904,0)","v":0},0,0,0,0,0,0,0,0,0,0,0,0,0]
[null,"Pozostałe koszty operacyjne",null,null,null,null,null,null,null,{"$f":"IF(LataProjekcji<=Koniec_Projekt,ROUND(J913,0),0)","v":0},0,0,0,0,0,0,0,0,0,0,0,0,0]
[null,"Koszty finansowe",null,null,null,null,null,null,null,{"$f":"IF(LataProjekcji<=Koniec_Projekt,ROUND(J922,0),0)","v":0},0,0,0,0,0,0,0,0,0,0,0,0,0]
[null,"Razem",null,null,null,null,null,null,null,{"$f":"ROUND(SUM(J926:J934),0)","v":0},{"$f":"ROUND(SUM(K926:K934),0)","v":0},0,0,0,0,0,0,0,0,0,0,0,0]
[]
[]
[null,null,null,null,null,null,null,null,null,{"$f":"LataProjekcji","v":"Uzupełnij dane"},"","","","","","","","","","","","",""]
[]
[null,"Dotacja koszty operacyjne nie będące B+R narastająco",null,null,null,null,null,null,null,{"$f":"ROUND(J935,0)","v":0},{"$f":"ROUND(J940+K935,0)","v":0},0,0,0,0,0,0,0,0,0,0,0,0]
[null,null,null,"kolumna","wiersz","adres"]
[null,"Rok rozpoczęcia projektu",{"$f":"Poczatek","v":0},{"$f":"MATCH($C942,$A$510:$W$510,0)","v":{"$error":"#N/A"}},{"$f":"ROW($J$793)","v":793},{"$f":"ADDRESS(E942,D942)","v":{"$error":"#N/A"}}]
[null,"Rok zakończenia projektu",{"$f":"Koniec_Projekt","v":0},{"$f":"MATCH($C943,$A$510:$W$510,0)","v":{"$error":"#N/A"}},{"$f":"ROW($J$793)","v":793},{"$f":"ADDRESS(E943,D943)","v":{"$error":"#N/A"}}]
[]
[null,"Dotacja kosztów operacyjnych nie będących B+R w danym roku (RZiS)",null,null,null,null,null,null,null,{"$f":"IF(LataProjekcji<=Koniec_Projekt,J935,0)","v":0},0,0,0,0,0,0,0,0,0,0,0,0,0]
[]
[]
[]
[]
[]
[]
[]
[]
[]
[null,"Rozliczenie kosztów operacyjnych które nie są B+R ale są kwalifikowane",null,null,null,null,null,null,null,{"$f":"LataProjekcji","v":"Uzupełnij dane"},"","","","","","","","","","","","",""]
[]
[null,"Zużycie materiałów i eneregii (Projekt)"]
[null,{"$f":"IF(ISBLANK(B816),\"\",B816)","v":""},{"$f":"C816","v":false},null,null,null,null,null,null,{"$f":"IF(LataProjekcji<=Koniec_Projekt,IF(AND(J117>0,J129>0,$C958=FALSE()),J117,0),0)","v":0},0,0,0,0,0,0,0,0,0,0,0,0,0]
[null,{"$f":"IF(ISBLANK(B817),\"\",B817)","v":""},{"$f":"C817","v":false},null,null,null,null,null,null,{"$f":"IF(LataProjekcji<=Koniec_Projekt,IF(AND(J118>0,J130>0,$C959=FALSE()),J118,0),0)","v":0},0,0,0,0,0,0,0,0,0,0,0,0,0]
[null,"",false,null,null,null,null,null,null,{"$f":"IF(LataProjekcji<=Koniec_Projekt,IF(AND(J119>0,J131>0,$C960=FALSE()),J119,0),0)","v":0},0,0,0,0,0,0,0,0,0,0,0,0,0]
[null,"",false,null,null,null,null,null,null,{"$f":"IF(LataProjekcji<=Koniec_Projekt,IF(AND(J120>0,J132>0,$C961=FALSE()),J120,0),0)","v":0},0,0,0,0,0,0,0,0,0,0,0,0,0]
[null,"",false,null,null,null,null,null,null,{"$f":"IF(LataProjekcji<=Koniec_Projekt,IF(AND(J121>0,J133>0,$C962=FALSE()),J121,0),0)","v":0},0,0,0,0,0,0,0,0,0,0,0,0,0]
[null,"",false,null,null,null,null,null,null,{"$f":"IF(LataProjekcji<=Koniec_Projekt,IF(AND(J122>0,J134>0,$C963=FALSE()),J122,0),0)","v":0},0,0,0,0,0,0,0,0,0,0,0,0,0]
[null,"",false,null,null,null,null,null,null,{"$f":"IF(LataProjekcji<=Koniec_Projekt,IF(AND(J123>0,J135>0,$C964=FALSE()),J123,0),0)","v":0},0,0,0,0,0,0,0,0,0,0,0,0,0]
[null,"",false,null,null,null,null,null,null,{"$f":"IF(LataProjekcji<=Koniec_Projekt,IF(AND(J124>0,J136>0,$C965=FALSE()),J124,0),0)","v":0},0,0,0,0,0,0,0,0,0,0,0,0,0]
[null,"",false,null,null,null,null,null,null,{"$f":"IF(LataProjekcji<=Koniec_Projekt,IF(AND(J125>0,J137>0,$C966=FALSE()),J125,0),0)","v":0},0,0,0,0,0,0,0,0,0,0,0,0,0]
[null,"",false,null,null,null,null,null,null,{"$f":"IF(LataProjekcji<=Koniec_Projekt,IF(AND(J126>0,J138>0,$C967=FALSE()),J126,0),0)","v":0},0,0,0,0,0,0,0,0,0,0,0,0,0]
[null,"Razem Zużycie materiałów i energii (Projekt)",null,null,null,null,null,null,null,{"$f":"ROUND(SUM(J958:J967),0)","v":0},{"$f":"ROUND(SUM(K958:K967),0)","v":0},0,0,0,0,0,0,0,0,0,0,0,0]
[]
[]
[null,"Usługi obce (Projekt)"]
[null,{"$f":"IF(ISBLANK(B830),\"\",B830)","v":""},{"$f":"C830","v":false},null,null,null,null,null,null,{"$f":"IF(LataProjekcji<=Koniec_Projekt,IF(AND(J142>0,J154>0,$C972=FALSE()),J142,0),0)","v":0},0,0,0,0,0,0,0,0,0,0,0,0,0]
[null,{"$f":"IF(ISBLANK(B831),\"\",B831)","v":""},{"$f":"C831","v":false},null,null,null,null,null,null,{"$f":"IF(LataProjekcji<=Koniec_Projekt,IF(AND(J143>0,J155>0,$C973=FALSE()),J143,0),0)","v":0},0,0,0,0,0,0,0,0,0,0,0,0,0]
[null,"",false,null,null,null,null,null,null,{"$f":"IF(LataProjekcji<=Koniec_Projekt,IF(AND(J144>0,J156>0,$C974=FALSE()),J144,0),0)","v":0},0,0,0,0,0,0,0,0,0,0,0,0,0]
[null,"",false,null,null,null,null,null,null,{"$f":"IF(LataProjekcji<=Koniec_Projekt,IF(AND(J145>0,J157>0,$C975=FALSE()),J145,0),0)","v":0},0,0,0,0,0,0,0,0,0,0,0,0,0]
[null,"",false,null,null,null,null,null,null,{"$f":"IF(LataProjekcji<=Koniec_Projekt,IF(AND(J146>0,J158>0,$C976=FALSE()),J146,0),0)","v":0},0,0,0,0,0,0,0,0,0,0,0,0,0]
[null,"",false,null,null,null,null,null,null,{"$f":"IF(LataProjekcji<=Koniec_Projekt,IF(AND(J147>0,J159>0,$C977=FALSE()),J147,0),0)","v":0},0,0,0,0,0,0,0,0,0,0,0,0,0]
[null,"",false,null,null,null,null,null,null,{"$f":"IF(LataProjekcji<=Koniec_Projekt,IF(AND(J148>0,J160>0,$C978=FALSE()),J148,0),0)","v":0},0,0,0,0,0,0,0,0,0,0,0,0,0]
[null,"",false,null,null,null,null,null,null,{"$f":"IF(LataProjekcji<=Koniec_Projekt,IF(AND(J149>0,J161>0,$C979=FALSE()),J149,0),0)","v":0},0,0,0,0,0,0,0,0,0,0,0,0,0]
[null,"",false,null,null,null,null,null,null,{"$f":"IF(LataProjekcji<=Koniec_Projekt,IF(AND(J150>0,J162>0,$C980=FALSE()),J150,0),0)","v":0},0,0,0,0,0,0,0,0,0,0,0,0,0]
[null,"",false,null,null,null,null,null,null,{"$f":"IF(LataProjekcji<=Koniec_Projekt,IF(AND(J151>0,J163>0,$C981=FALSE()),J151,0),0)","v":0},0,0,0,0,0,0,0,0,0,0,0,0,0]
[null,"Razem Usługi obce (Projekt)",null,null,null,null,null,null,null,{"$f":"ROUND(SUM(J972:J981),0)","v":0},{"$f":"ROUND(SUM(K972:K981),0)","v":0},0,0,0,0,0,0,0,0,0,0,0,0]
[]
[]
[null,"Podatki i opłaty (Projekt)"]
[null,{"$f":"IF(ISBLANK(B844),\"\",B844)","v":""},{"$f":"C844","v":false},null,null,null,null,null,null,{"$f":"IF(LataProjekcji<=Koniec_Projekt,IF(AND(J167>0,J174>0,$C986=FALSE()),J167,0),0)","v":0},0,0,0,0,0,0,0,0,0,0,0,0,0]
[null,{"$f":"IF(ISBLANK(B845),\"\",B845)","v":""},{"$f":"C845","v":false},null,null,null,null,null,null,{"$f":"IF(LataProjekcji<=Koniec_Projekt,IF(AND(J168>0,J175>0,$C987=FALSE()),J168,0),0)","v":0},0,0,0,0,0,0,0,0,0,0,0,0,0]
[null,{"$f":"IF(ISBLANK(B846),\"\",B846)","v":""},{"$f":"C846","v":false},null,null,null,null,null,null,{"$f":"IF(LataProjekcji<=Koniec_Projekt,IF(AND(J169>0,J176>0,$C988=FALSE()),J169,0),0)","v":0},0,0,0,0,0,0,0,0,0,0,0,0,0]
[null,{"$f":"IF(ISBLANK(B847),\"\",B847)","v":""},{"$f":"C847","v":false},null,null,null,null,null,null,{"$f":"IF(LataProjekcji<=Koniec_Projekt,IF(AND(J170>0,J177>0,$C989=FALSE()),J170,0),0)","v":0},0,0,0,0,0,0,0,0,0,0,0,0,0]
[null,{"$f":"IF(ISBLANK(B848),\"\",B848)","v":""},{"$f":"C848","v":false},null,null,null,null,null,null,{"$f":"IF(LataProjekcji<=Koniec_Projekt,IF(AND(J171>0,J178>0,$C990=FALSE()),J171,0),0)","v":0},0,0,0,0,0,0,0,0,0,0,0,0,0]
[null,"Razem Podatki i opłaty (Projekt)",null,null,null,null,null,null,null,{"$f":"ROUND(SUM(J986:J990),0)","v":0},{"$f":"ROUND(SUM(K986:K990),0)","v":0},0,0,0,0,0,0,0,0,0,0,0,0]
[]
[]
[null,"Wynagrodzenia (brutto) (Projekt)"]
[null,"Stanowisko / Grupa",null,null,null,null,null,null,null,"Koszty rocznych wynagrodzeń na danym stanowisku / w danej grupie"]
[null,{"$f":"IF(ISBLANK(B854),\"\",B854)","v":""},{"$f":"C854","v":false},null,null,null,null,null,null,{"$f":"IF(LataProjekcji<=Koniec_Projekt,IF(AND(J231>0,J219>0,$C996=FALSE()),J231,0),0)","v":0},0,0,0,0,0,0,0,0,0,0,0,0,0]
[null,"",false,null,null,null,null,null,null,{"$f":"IF(LataProjekcji<=Koniec_Projekt,IF(AND(J232>0,J220>0,$C997=FALSE()),J232,0),0)","v":0},0,0,0,0,0,0,0,0,0,0,0,0,0]
[null,"",false,null,null,null,null,null,null,{"$f":"IF(LataProjekcji<=Koniec_Projekt,IF(AND(J233>0,J221>0,$C998=FALSE()),J233,0),0)","v":0},0,0,0,0,0,0,0,0,0,0,0,0,0]
[null,"",false,null,null,null,null,null,null,{"$f":"IF(LataProjekcji<=Koniec_Projekt,IF(AND(J234>0,J222>0,$C999=FALSE()),J234,0),0)","v":0},0,0,0,0,0,0,0,0,0,0,0,0,0]
[null,"",false,null,null,null,null,null,null,{"$f":"IF(LataProjekcji<=Koniec_Projekt,IF(AND(J235>0,J223>0,$C1000=FALSE()),J235,0),0)","v":0},0,0,0,0,0,0,0,0,0,0,0,0,0]
[null,"",false,null,null,null,null,null,null,{"$f":"IF(LataProjekcji<=Koniec_Projekt,IF(AND(J236>0,J224>0,$C1001=FALSE()),J236,0),0)","v":0},0,0,0,0,0,0,0,0,0,0,0,0,0]
[null,"",false,null,null,null,null,null,null,{"$f":"IF(LataProjekcji<=Koniec_Projekt,IF(AND(J237>0,J225>0,$C1002=FALSE()),J237,0),0)","v":0},0,0,0,0,0,0,0,0,0,0,0,0,0]
[null,"",false,null,null,null,null,null,null,{"$f":"IF(LataProjekcji<=Koniec_Projekt,IF(AND(J238>0,J226>0,$C1003=FALSE()),J238,0),0)","v":0},0,0,0,0,0,0,0,0,0,0,0,0,0]
[null,"",false,null,null,null,null,null,null,{"$f":"IF(LataProjekcji<=Koniec_Projekt,IF(AND(J239>0,J227>0,$C1004=FALSE()),J239,0),0)","v":0},0,0,0,0,0,0,0,0,0,0,0,0,0]
[null,"",false,null,null,null,null,null,null,{"$f":"IF(LataProjekcji<=Koniec_Projekt,IF(AND(J240>0,J228>0,$C1005=FALSE()),J240,0),0)","v":0},0,0,0,0,0,0,0,0,0,0,0,0,0]
[null,"Pozostałe",false,null,null,null,null,null,null,{"$f":"IF(LataProjekcji<=Koniec_Projekt,IF(AND(J241>0,J229>0,$C1006=FALSE()),J241,0),0)","v":0},0,0,0,0,0,0,0,0,0,0,0,0,0]
[null,"Razem Wynagrodzenia",null,null,null,null,null,null,null,{"$f":"ROUND(SUM(J996:J1006),0)","v":0},{"$f":"ROUND(SUM(K996:K1006),0)","v":0},0,0,0,0,0,0,0,0,0,0,0,0]
[]
[]
[null,"Ubezpieczenia społeczne i inne świadczenia"]
[null,"Stanowisko / Grupa"]
[null,{"$f":"IF(ISBLANK(B870),\"\",B870)","v":""},{"$f":"C870","v":false},null,null,null,null,null,null,{"$f":"IF(LataProjekcji<=Koniec_Projekt,IF(AND(J247>0,J260>0,$C1012=FALSE()),J247,0),0)","v":0},0,0,0,0,0,0,0,0,0,0,0,0,0]
[null,"",false,null,null,null,null,null,null,{"$f":"IF(LataProjekcji<=Koniec_Projekt,IF(AND(J248>0,J261>0,$C1013=FALSE()),J248,0),0)","v":0},0,0,0,0,0,0,0,0,0,0,0,0,0]
[null,"",false,null,null,null,null,null,null,{"$f":"IF(LataProjekcji<=Koniec_Projekt,IF(AND(J249>0,J262>0,$C1014=FALSE()),J249,0),0)","v":0},0,0,0,0,0,0,0,0,0,0,0,0,0]
[null,"",false,null,null,null,null,null,null,{"$f":"IF(LataProjekcji<=Koniec_Projekt,IF(AND(J250>0,J263>0,$C1015=FALSE()),J250,0),0)","v":0},0,0,0,0,0,0,0,0,0,0,0,0,0]
[null,"",false,null,null,null,null,null,null,{"$f":"IF(LataProjekcji<=Koniec_Projekt,IF(AND(J251>0,J264>0,$C1016=FALSE()),J251,0),0)","v":0},0,0,0,0,0,0,0,0,0,0,0,0,0]
[null,"",false,null,null,null,null,null,null,{"$f":"IF(LataProjekcji<=Koniec_Projekt,IF(AND(J252>0,J265>0,$C1017=FALSE()),J252,0),0)","v":0},0,0,0,0,0,0,0,0,0,0,0,0,0]
[null,"",false,null,null,null,null,null,null,{"$f":"IF(LataProjekcji<=Koniec_Projekt,IF(AND(J253>0,J266>0,$C1018=FALSE()),J253,0),0)","v":0},0,0,0,0,0,0,0,0,0,0,0,0,0]
[null,"",false,null,null,null,null,null,null,{"$f":"IF(LataProjekcji<=Koniec_Projekt,IF(AND(J254>0,J267>0,$C1019=FALSE()),J254,0),0)","v":0},0,0,0,0,0,0,0,0,0,0,0,0,0]
[null,"",false,null,null,null,null,null,null,{"$f":"IF(LataProjekcji<=Koniec_Projekt,IF(AND(J255>0,J268>0,$C1020=FALSE()),J255,0),0)","v":0},0,0,0,0,0,0,0,0,0,0,0,0,0]
[null,"",false,null,null,null,null,null,null,{"$f":"IF(LataProjekcji<=Koniec_Projekt,IF(AND(J256>0,J269>0,$C1021=FALSE()),J256,0),0)","v":0},0,0,0,0,0,0,0,0,0,0,0,0,0]
[null,"Pozostałe",false,null,null,null,null,null,null,{"$f":"IF(LataProjekcji<=Koniec_Projekt,IF(AND(J257>0,J270>0,$C1022=FALSE()),J257,0),0)","v":0},0,0,0,0,0,0,0,0,0,0,0,0,0]
[null,"Razem Ubezpieczenia społeczne i inne świadczenia",null,null,null,null,null,null,null,{"$f":"ROUND(SUM(J1012:J1022),0)","v":0},{"$f":"ROUND(SUM(K1012:K1022),0)","v":0},0,0,0,0,0,0,0,0,0,0,0,0]
[]
[]
[null,"Pozostałe koszty rodzajowe"]
[null,{"$f":"IF(ISBLANK(B885),\"\",B885)","v":""},{"$f":"C885","v":false},null,null,null,null,null,null,{"$f":"IF(LataProjekcji<=Koniec_Projekt,IF(AND(J274>0,J286>0,$C1027=FALSE()),J274,0),0)","v":0},0,0,0,0,0,0,0,0,0,0,0,0,0]
[null,{"$f":"IF(ISBLANK(B886),\"\",B886)","v":""},{"$f":"C886","v":false},null,null,null,null,null,null,{"$f":"IF(LataProjekcji<=Koniec_Projekt,IF(AND(J275>0,J287>0,$C1028=FALSE()),J275,0),0)","v":0},0,0,0,0,0,0,0,0,0,0,0,0,0]
[null,"",false,null,null,null,null,null,null,{"$f":"IF(LataProjekcji<=Koniec_Projekt,IF(AND(J276>0,J288>0,$C1029=FALSE()),J276,0),0)","v":0},0,0,0,0,0,0,0,0,0,0,0,0,0]
[null,"",false,null,null,null,null,null,null,{"$f":"IF(LataProjekcji<=Koniec_Projekt,IF(AND(J277>0,J289>0,$C1030=FALSE()),J277,0),0)","v":0},0,0,0,0,0,0,0,0,0,0,0,0,0]
[null,"",false,null,null,null,null,null,null,{"$f":"IF(LataProjekcji<=Koniec_Projekt,IF(AND(J278>0,J290>0,$C1031=FALSE()),J278,0),0)","v":0},0,0,0,0,0,0,0,0,0,0,0,0,0]
[null,"",false,null,null,null,null,null,null,{"$f":"IF(LataProjekcji<=Koniec_Projekt,IF(AND(J279>0,J291>0,$C1032=FALSE()),J279,0),0)","v":0},0,0,0,0,0,0,0,0,0,0,0,0,0]
[null,"",false,null,null,null,null,null,null,{"$f":"IF(LataProjekcji<=Koniec_Projekt,IF(AND(J280>0,J292>0,$C1033=FALSE()),J280,0),0)","v":0},0,0,0,0,0,0,0,0,0,0,0,0,0]
[null,"",false,null,null,null,null,null,null,{"$f":"IF(LataProjekcji<=Koniec_Projekt,IF(AND(J281>0,J293>0,$C1034=FALSE()),J281,0),0)","v":0},0,0,0,0,0,0,0,0,0,0,0,0,0]
[null,"",false,null,null,null,null,null,null,{"$f":"IF(LataProjekcji<=Koniec_Projekt,IF(AND(J282>0,J294>0,$C1035=FALSE()),J282,0),0)","v":0},0,0,0,0,0,0,0,0,0,0,0,0,0]
[null,"",false,null,null,null,null,null,null,{"$f":"IF(LataProjekcji<=Koniec_Projekt,IF(AND(J283>0,J295>0,$C1036=FALSE()),J283,0),0)","v":0},0,0,0,0,0,0,0,0,0,0,0,0,0]
[null,"Razem Pozostałe koszty rodzajowe",null,null,null,null,null,null,null,{"$f":"ROUND(SUM(J1027:J1036),0)","v":0},{"$f":"ROUND(SUM(K1027:K1036),0)","v":0},0,0,0,0,0,0,0,0,0,0,0,0]
[]
[]
[null,"Wartość sprzedanych towarów i materiałów"]
[null,{"$f":"IF(ISBLANK(B899),\"\",B899)","v":""}]
[null,{"$f":"IF(ISBLANK(B900),\"\",B900)","v":""}]
[null,{"$f":"IF(ISBLANK(B901),\"\",B901)","v":""}]
[null,{"$f":"IF(ISBLANK(B902),\"\",B902)","v":""}]
[null,{"$f":"IF(ISBLANK(B903),\"\",B903)","v":""}]
[null,"Razem Wartość sprzedanych towarów i materiałów",null,null,null,null,null,null,null,{"$f":"ROUND(SUM(J1041:J1045),0)","v":0},{"$f":"ROUND(SUM(K1041:K1045),0)","v":0},0,0,0,0,0,0,0,0,0,0,0,0]
[]
[]
[null,"Pozostałe koszty operacyjne"]
[null,{"$f":"IF(ISBLANK(B908),\"\",B908)","v":""}]
[null,{"$f":"IF(ISBLANK(B909),\"\",B909)","v":""}]
[null,{"$f":"IF(ISBLANK(B910),\"\",B910)","v":""}]
[null,{"$f":"IF(ISBLANK(B911),\"\",B911)","v":""}]
[null,{"$f":"IF(ISBLANK(B912),\"\",B912)","v":""}]
[null,"Razem Pozostałe koszty operacyjne",null,null,null,null,null,null,null,{"$f":"ROUND(SUM(J1050:J1054),0)","v":0},{"$f":"ROUND(SUM(K1050:K1054),0)","v":0},0,0,0,0,0,0,0,0,0,0,0,0]
[]
[]
[null,"Koszty finansowe"]
[null,{"$f":"IF(ISBLANK(B917),\"\",B917)","v":"Koszty z tytułu oprocentowania kredytów i pożyczek"}]
[null,{"$f":"IF(ISBLANK(B918),\"\",B918)","v":""}]
[null,{"$f":"IF(ISBLANK(B919),\"\",B919)","v":""}]
[null,{"$f":"IF(ISBLANK(B920),\"\",B920)","v":""}]
[null,{"$f":"IF(ISBLANK(B921),\"\",B921)","v":""}]
[null,"Razem Koszty finansowe",null,null,null,null,null,null,null,{"$f":"ROUND(SUM(J1059:J1063),0)","v":0},{"$f":"ROUND(SUM(K1059:K1063),0)","v":0},0,0,0,0,0,0,0,0,0,0,0,0]
[]
[]
[null,"Rozliczenie kwalifikowanych kosztów operacyjnych projektu do npv"]
[null,"Zużycie materiałów i energii",null,null,null,null,null,null,null,{"$f":"IF(LataProjekcji<=Koniec_Projekt,ROUND(J968,0),0)","v":0},0,0,0,0,0,0,0,0,0,0,0,0,0]
[null,"Usługi obce",null,null,null,null,null,null,null,{"$f":"IF(LataProjekcji<=Koniec_Projekt,ROUND(J982,0),0)","v":0},0,0,0,0,0,0,0,0,0,0,0,0,0]
[null,"Podatki i opłaty",null,null,null,null,null,null,null,{"$f":"IF(LataProjekcji<=Koniec_Projekt,ROUND(J991,0),0)","v":0},0,0,0,0,0,0,0,0,0,0,0,0,0]
[null,"Wynagrodzenia",null,null,null,null,null,null,null,{"$f":"IF(LataProjekcji<=Koniec_Projekt,ROUND(J1007,0),0)","v":0},0,0,0,0,0,0,0,0,0,0,0,0,0]
[null,"Ubezpieczenia społeczne i inne świadczenia",null,null,null,null,null,null,null,{"$f":"IF(LataProjekcji<=Koniec_Projekt,ROUND(J1023,0),0)","v":0},0,0,0,0,0,0,0,0,0,0,0,0,0]
[null,"Pozostałe koszty rodzajowe",null,null,null,null,null,null,null,{"$f":"IF(LataProjekcji<=Koniec_Projekt,ROUND(J1037,0),0)","v":0},0,0,0,0,0,0,0,0,0,0,0,0,0]
[null,"Wartość sprzedanych towarów i materiałów",null,null,null,null,null,null,null,{"$f":"IF(LataProjekcji<=Koniec_Projekt,J1046,0)","v":0},0,0,0,0,0,0,0,0,0,0,0,0,0]
[null,"Pozostałe koszty operacyjne",null,null,null,null,null,null,null,{"$f":"IF(LataProjekcji<=Koniec_Projekt,ROUND(J1055,0),0)","v":0},0,0,0,0,0,0,0,0,0,0,0,0,0]
[null,"Koszty finansowe",null,null,null,null,null,null,null,{"$f":"IF(LataProjekcji<=Koniec_Projekt,ROUND(J1064,0),0)","v":0},0,0,0,0,0,0,0,0,0,0,0,0,0]
[null,"Razem",null,null,null,null,null,null,null,{"$f":"ROUND(SUM(J1068:J1076),0)","v":0},0,0,0,0,0,0,0,0,0,0,0,0,0]
[]
[]
[null,null,null,null,null,null,null,null,null,{"$f":"LataProjekcji","v":"Uzupełnij dane"},"","","","","","","","","","","","",""]
[]
[null,"Koszty operacyjne KWALIFIKOWANE nie będące B+R narastająco",null,null,null,null,null,null,null,{"$f":"ROUND(J1077,0)","v":0},{"$f":"ROUND(J1082+K1077,0)","v":0},0,0,0,0,0,0,0,0,0,0,0,0]
[null,null,null,"kolumna","wiersz","adres"]
[null,"Rok rozpoczęcia projektu",{"$f":"Poczatek","v":0},{"$f":"MATCH($C1084,$A$510:$W$510,0)","v":{"$error":"#N/A"}},{"$f":"ROW($J$793)","v":793},{"$f":"ADDRESS(E1084,D1084)","v":{"$error":"#N/A"}}]
[null,"Rok zakończenia projektu",{"$f":"Koniec_Projekt","v":0},{"$f":"MATCH($C1085,$A$510:$W$510,0)","v":{"$error":"#N/A"}},{"$f":"ROW($J$793)","v":793},{"$f":"ADDRESS(E1085,D1085)","v":{"$error":"#N/A"}}]
[]
[null,"Koszty operacyjne KWALIFIKOWANE nie będące B+R w danym roku (RZiS)",null,null,null,null,null,null,null,{"$f":"IF(LataProjekcji<=Koniec_Projekt,J1077,0)","v":0},0,0,0,0,0,0,0,0,0,0,0,0,0]
[]
[]
[]
[null,"Koszty planowanej działalności operacyjnej"]
[null,"Zużycie materiałów i energii",null,null,null,null,null,null,null,{"$f":"J1106+J1120+J1134","v":0},0,0,0,0,0,0,0,0,0,0,0,0,0]
[null,"Usługi obce",null,null,null,null,null,null,null,{"$f":"J1107+J1121+J1135","v":0},{"$f":"K1107+K1121+K1135","v":0},0,{"$f":"M1107+M1121+M1135","v":0},0,0,0,0,0,0,0,0,0,0]
[null,"Podatki i opłaty",null,null,null,null,null,null,null,0,{"$f":"K1108+K1122+K1136","v":0},0,{"$f":"M1108+M1122+M1136","v":0},0,0,0,0,0,0,0,0,0,0]
[null,"Wynagrodzenia",null,null,null,null,null,null,null,0,{"$f":"K1109+K1123+K1137","v":0},0,{"$f":"M1109+M1123+M1137","v":0},0,0,0,0,0,0,0,0,0,0]
[null,"Ubezpieczenia społeczne i inne świadczenia",null,null,null,null,null,null,null,0,{"$f":"K1110+K1124+K1138","v":0},0,{"$f":"M1110+M1124+M1138","v":0},0,0,0,0,0,0,0,0,0,0]
[null,"Pozostałe koszty rodzajowe",null,null,null,null,null,null,null,0,{"$f":"K1111+K1125+K1139","v":0},0,{"$f":"M1111+M1125+M1139","v":0},0,0,0,0,0,0,0,0,0,0]
[null,"Wartość sprzedanych towarów i materiałów",null,null,null,null,null,null,null,0,{"$f":"K1112+K1126+K1140","v":0},0,{"$f":"M1112+M1126+M1140","v":0},0,0,0,0,0,0,0,0,0,0]
[null,"Razem Koszty operacyjne ogółem (kwalifikowane i niekwalifikowane)",null,null,null,null,null,null,null,{"$f":"SUM(J1092:J1098)","v":0},0,0,0,0,0,0,0,0,0,0,0,0,0]
[null,"Pozostałe koszty operacyjne",null,null,null,null,null,null,null,0,{"$f":"K1114+K1128+K1142","v":0},0,{"$f":"M1114+M1128+M1142","v":0},0,0,0,0,0,0,0,0,0,0]
[null,"Koszty finansowe",null,null,null,null,null,null,null,0,{"$f":"K1115+K1129+K1143","v":0},0,{"$f":"M1115+M1129+M1143","v":0},0,0,0,0,0,0,0,0,0,0]
[null,"Razem Koszty ogółem (kwalifikowane i niekwalifikowane)",null,null,null,null,null,null,null,{"$f":"J1099+SUM(J1100:J1101)","v":0},0,0,0,0,0,0,0,0,0,0,0,0,0]
[]
[]
[null,"Koszty operacyjne kwalifikowane"]
[null,"Zużycie materiałów i energii",null,null,null,null,null,null,null,{"$f":"J1068","v":0},{"$f":"K1068","v":0},0,0,0,0,0,0,0,0,0,0,0,0]
[null,"Usługi obce",null,null,null,null,null,null,null,0,{"$f":"K1069","v":0},0,0,0,0,0,0,0,0,0,0,0,0]
[null,"Podatki i opłaty",null,null,null,null,null,null,null,0,{"$f":"K1070","v":0},0,0,0,0,0,0,0,0,0,0,0,0]
[null,"Wynagrodzenia",null,null,null,null,null,null,null,0,{"$f":"K1071","v":0},0,0,0,0,0,0,0,0,0,0,0,0]
[null,"Ubezpieczenia społeczne i inne świadczenia",null,null,null,null,null,null,null,0,{"$f":"K1072","v":0},0,0,0,0,0,0,0,0,0,0,0,0]
[null,"Pozostałe koszty rodzajowe",null,null,null,null,null,null,null,0,{"$f":"K1073","v":0},0,0,0,0,0,0,0,0,0,0,0,0]
[null,"Wartość sprzedanych towarów i materiałów",null,null,null,null,null,null,null,0,{"$f":"K1074","v":0},0,0,0,0,0,0,0,0,0,0,0,0]
[null,"Razem Koszty operacyjne kwalifikowane",null,null,null,null,null,null,null,{"$f":"SUM(J1106:J1112)","v":0},{"$f":"SUM(K1106:K1112)","v":0},{"$f":"SUM(L1106:L1112)","v":0},{"$f":"SUM(M1106:M1112)","v":0},{"$f":"SUM(N1106:N1112)","v":0},{"$f":"SUM(O1106:O1112)","v":0},{"$f":"SUM(P1106:P1112)","v":0},{"$f":"SUM(Q1106:Q1112)","v":0},{"$f":"SUM(R1106:R1112)","v":0},{"$f":"SUM(S1106:S1112)","v":0},{"$f":"SUM(T1106:T1112)","v":0},{"$f":"SUM(U1106:U1112)","v":0},{"$f":"SUM(V1106:V1112)","v":0},{"$f":"SUM(W1106:W1112)","v":0}]
[null,"Pozostałe koszty operacyjne",null,null,null,null,null,null,null,{"$f":"J1075","v":0},0,0,0,0,0,0,0,0,0,0,0,0,0]
[null,"Koszty finansowe",null,null,null,null,null,null,null,{"$f":"J1076","v":0},0,0,0,0,0,0,0,0,0,0,0,0,0]
[null,"Razem Koszty kwalifikowane",null,null,null,null,null,null,null,{"$f":"J1113+SUM(J1114:J1115)","v":0},{"$f":"K1113+SUM(K1114:K1115)","v":0},{"$f":"L1113+SUM(L1114:L1115)","v":0},{"$f":"M1113+SUM(M1114:M1115)","v":0},{"$f":"N1113+SUM(N1114:N1115)","v":0},{"$f":"O1113+SUM(O1114:O1115)","v":0},{"$f":"P1113+SUM(P1114:P1115)","v":0},{"$f":"Q1113+SUM(Q1114:Q1115)","v":0},{"$f":"R1113+SUM(R1114:R1115)","v":0},{"$f":"S1113+SUM(S1114:S1115)","v":0},{"$f":"T1113+SUM(T1114:T1115)","v":0},{"$f":"U1113+SUM(U1114:U1115)","v":0},{"$f":"V1113+SUM(V1114:V1115)","v":0},{"$f":"W1113+SUM(W1114:W1115)","v":0}]
[]
[]
[null,"Koszty operacyjne B+R"]
[null,"Zużycie materiałów i energii",null,null,null,null,null,null,null,{"$f":"J498","v":0},{"$f":"K498","v":0},0,0,0,0,0,0,0,0,0,0,0,0]
[null,"Usługi obce",null,null,null,null,null,null,null,0,{"$f":"K499","v":0},0,0,0,0,0,0,0,0,0,0,0,0]
[null,"Podatki i opłaty",null,null,null,null,null,null,null,0,{"$f":"K500","v":0},0,0,0,0,0,0,0,0,0,0,0,0]
[null,"Wynagrodzenia",null,null,null,null,null,null,null,0,{"$f":"K501","v":0},0,0,0,0,0,0,0,0,0,0,0,0]
[null,"Ubezpieczenia społeczne i inne świadczenia",null,null,null,null,null,null,null,0,{"$f":"K502","v":0},0,0,0,0,0,0,0,0,0,0,0,0]
[null,"Pozostałe koszty rodzajowe",null,null,null,null,null,null,null,0,{"$f":"K503","v":0},0,0,0,0,0,0,0,0,0,0,0,0]
[null,"Wartość sprzedanych towarów i materiałów",null,null,null,null,null,null,null,0,{"$f":"K504","v":0},0,0,0,0,0,0,0,0,0,0,0,0]
[null,"Razem Koszty operacyjne B+R",null,null,null,null,null,null,null,{"$f":"SUM(J1120:J1126)","v":0},{"$f":"SUM(K1120:K1126)","v":0},{"$f":"SUM(L1120:L1126)","v":0},{"$f":"SUM(M1120:M1126)","v":0},{"$f":"SUM(N1120:N1126)","v":0},{"$f":"SUM(O1120:O1126)","v":0},{"$f":"SUM(P1120:P1126)","v":0},{"$f":"SUM(Q1120:Q1126)","v":0},{"$f":"SUM(R1120:R1126)","v":0},{"$f":"SUM(S1120:S1126)","v":0},{"$f":"SUM(T1120:T1126)","v":0},{"$f":"SUM(U1120:U1126)","v":0},{"$f":"SUM(V1120:V1126)","v":0},{"$f":"SUM(W1120:W1126)","v":0}]
[null,"Pozostałe koszty operacyjne",null,null,null,null,null,null,null,{"$f":"J505","v":0},{"$f":"K505","v":0},0,0,0,0,0,0,0,0,0,0,0,0]
[null,"Koszty finansowe",null,null,null,null,null,null,null,{"$f":"J506","v":0},{"$f":"K506","v":0},0,0,0,0,0,0,0,0,0,0,0,0]
[null,"Razem Koszty kwalifikowane B+R",null,null,null,null,null,null,null,{"$f":"J1127+SUM(J1128:J1129)","v":0},{"$f":"K1127+SUM(K1128:K1129)","v":0},{"$f":"L1127+SUM(L1128:L1129)","v":0},{"$f":"M1127+SUM(M1128:M1129)","v":0},{"$f":"N1127+SUM(N1128:N1129)","v":0},{"$f":"O1127+SUM(O1128:O1129)","v":0},{"$f":"P1127+SUM(P1128:P1129)","v":0},{"$f":"Q1127+SUM(Q1128:Q1129)","v":0},{"$f":"R1127+SUM(R1128:R1129)","v":0},{"$f":"S1127+SUM(S1128:S1129)","v":0},{"$f":"T1127+SUM(T1128:T1129)","v":0},{"$f":"U1127+SUM(U1128:U1129)","v":0},{"$f":"V1127+SUM(V1128:V1129)","v":0},{"$f":"W1127+SUM(W1128:W1129)","v":0}]
[]
[]
[null,"Koszty operacyjne niekwalifikowane"]
[null,"Zużycie materiałów i energii",null,null,null,null,null,null,null,{"$f":"J318-J1106-J1120","v":0},{"$f":"K318-K1106-K1120","v":0},0,0,0,0,0,0,0,0,0,0,0,0]
[null,"Usługi obce",null,null,null,null,null,null,null,0,{"$f":"K319-K1107-K1121","v":0},0,0,0,0,0,0,0,0,0,0,0,0]
[null,"Podatki i opłaty",null,null,null,null,null,null,null,0,{"$f":"K320-K1108-K1122","v":0},0,0,0,0,0,0,0,0,0,0,0,0]
[null,"Wynagrodzenia",null,null,null,null,null,null,null,0,{"$f":"K321-K1109-K1123","v":0},0,0,0,0,0,0,0,0,0,0,0,0]
[null,"Ubezpieczenia społeczne i inne świadczenia",null,null,null,null,null,null,null,0,{"$f":"K322-K1110-K1124","v":0},0,0,0,0,0,0,0,0,0,0,0,0]
[null,"Pozostałe koszty rodzajowe",null,null,null,null,null,null,null,0,{"$f":"K323-K1111-K1125","v":0},0,0,0,0,0,0,0,0,0,0,0,0]
[null,"Wartość sprzedanych towarów i materiałów",null,null,null,null,null,null,null,0,{"$f":"K324-K1112-K1126","v":0},0,0,0,0,0,0,0,0,0,0,0,0]
[null,"Razem Koszty operacyjne niekwalifikowane",null,null,null,null,null,null,null,{"$f":"SUM(J1134:J1140)","v":0},{"$f":"SUM(K1134:K1140)","v":0},{"$f":"SUM(L1134:L1140)","v":0},{"$f":"SUM(M1134:M1140)","v":0},0,0,0,0,0,0,0,0,0,0]
[null,"Pozostałe koszty operacyjne",null,null,null,null,null,null,null,{"$f":"J326-J1114-J1128","v":0},{"$f":"K326-K1114-K1128","v":0},0,0,0,0,0,0,0,0,0,0,0,0]
[null,"Koszty finansowe",null,null,null,null,null,null,null,{"$f":"J327-J1115-J1129","v":0},{"$f":"K327-K1115-K1129","v":0},0,0,0,0,0,0,0,0,0,0,0,0]
[null,"Razem Koszty niekwalifikowane",null,null,null,null,null,null,null,{"$f":"J1141+SUM(J1142:J1143)","v":0},{"$f":"K1141+SUM(K1142:K1143)","v":0},0,0,0,0,0,0,0,0,0,0,0,0]

{"sheet":"Środki trwałe","index":6,"n_rows":786,"n_cols":23,"rows_kept":786,"cut":false,"hidden":false,"merged":[[1,1,2,5]]}
[]
[null,{"$f":"IF(ISBLANK(Firma),\"Wstaw nazwę firmy\",Firma)","v":"Wstaw nazwę firmy"}]
[]
[]
[]
[]
[]
[]
[]
[]
[null,null,null,null,null,null,null,null,null,{"$f":"Założenia!J25","v":0},{"$f":"Założenia!K25","v":1},{"$f":"Założenia!L25","v":2},{"$f":"Założenia!M25","v":3},{"$f":"Założenia!N25","v":4},{"$f":"Założenia!O25","v":5},{"$f":"Założenia!P25","v":6},{"$f":"Założenia!Q25","v":7},{"$f":"Założenia!R25","v":8},{"$f":"Założenia!S25","v":9},{"$f":"Założenia!T25","v":10},{"$f":"Założenia!U25","v":11},{"$f":"Założenia!V25","v":12},{"$f":"Założenia!W25","v":13}]
[null,"Działalność dotychczasowa (bez Projektu)",null,null,null,null,null,null,{"$f":"Założenia!I26","v":""},{"$f":"Założenia!J26","v":"Uzupełnij dane"},{"$f":"Założenia!K26","v":""},{"$f":"Założenia!L26","v":""},{"$f":"Założenia!M26","v":""},{"$f":"Założenia!N26","v":""},{"$f":"Założenia!O26","v":""},{"$f":"Założenia!P26","v":""},{"$f":"Założenia!Q26","v":""},{"$f":"Założenia!R26","v":""},{"$f":"Założenia!S26","v":""},{"$f":"Założenia!T26","v":""},{"$f":"Założenia!U26","v":""},{"$f":"Założenia!V26","v":""},{"$f":"Założenia!W26","v":""}]
[]
[null,"koszty zakończonych prac rozwojowych"]
[null,"     - wartość netto",{"$f":"MAX('Sprawozdania finansowe'!E15,'Sprawozdania finansowe'!F15)","v":0},null,null,null,null,null,{"$f":"ROUND(C15,0)","v":0}]
[null,"     - stopa amortyzacji",{"$f":"am_prace_rozwojowe","v":0}]
[null,"     - amortyzacja",null,null,null,null,null,null,null,{"$f":"IFERROR(ROUND(MIN($C16*$I15,$I15),0),0)","v":0},{"$f":"IFERROR(ROUND(MIN($C16*$I15,$I15-J18),0),0)","v":0},0,0,0,0,0,0,0,0,0,0,0,0]
[null,"     - umorzenie",null,null,null,null,null,null,null,{"$f":"ROUND(J17,0)","v":0},{"$f":"ROUND(K17+J18,0)","v":0},0,0,0,0,0,0,0,0,0,0,0,0]
[null,"     - wartość księgowa netto",null,null,null,null,null,null,null,{"$f":"ROUND($I15-J18,0)","v":0},0,0,0,0,0,0,0,0,0,0,0,0,0]
[]
[null,"wartość firmy",null,null,null,null,null,null,null,{"$f":"LataProjekcji","v":"Uzupełnij dane"},"","","","","","","","","","","","",""]
[null,"     - wartość netto",{"$f":"MAX('Sprawozdania finansowe'!E16,'Sprawozdania finansowe'!F16)","v":0},null,null,null,null,null,{"$f":"ROUND(C22,0)","v":0}]
[null,"     - stopa amortyzacji",{"$f":"am_wartosc_firmy","v":0}]
[null,"     - amortyzacja",null,null,null,null,null,null,null,{"$f":"IFERROR(ROUND(MIN($C23*$I22,$I22),0),0)","v":0},{"$f":"IFERROR(ROUND(MIN($C23*$I22,$I22-J25),0),0)","v":0},0,0,0,0,0,0,0,0,0,0,0,0]
[null,"     - umorzenie",null,null,null,null,null,null,null,{"$f":"ROUND(J24,0)","v":0},{"$f":"ROUND(K24+J25,0)","v":0},0,0,0,0,0,0,0,0,0,0,0,0]
[null,"     - wartość księgowa netto",null,null,null,null,null,null,null,{"$f":"ROUND($I22-J25,0)","v":0},0,0,0,0,0,0,0,0,0,0,0,0,0]
[]
[null,"inne wartości niematerialne i prawne",null,null,null,null,null,null,null,{"$f":"LataProjekcji","v":"Uzupełnij dane"},"","","","","","","","","","","","",""]
[null,"     - wartość netto",{"$f":"MAX('Sprawozdania finansowe'!E17,'Sprawozdania finansowe'!F17)","v":0},null,null,null,null,null,{"$f":"ROUND(C29,0)","v":0}]
[null,"     - stopa amortyzacji",{"$f":"am_wnip","v":0}]
[null,"     - amortyzacja",null,null,null,null,null,null,null,{"$f":"IFERROR(ROUND(MIN($C30*$I29,$I29),0),0)","v":0},{"$f":"IFERROR(ROUND(MIN($C30*$I29,$I29-J32),0),0)","v":0},0,0,0,0,0,0,0,0,0,0,0,0]
[null,"     - umorzenie",null,null,null,null,null,null,null,{"$f":"ROUND(J31,0)","v":0},{"$f":"ROUND(K31+J32,0)","v":0},0,0,0,0,0,0,0,0,0,0,0,0]
[null,"     - wartość księgowa netto",null,null,null,null,null,null,null,{"$f":"ROUND($I29-J32,0)","v":0},0,0,0,0,0,0,0,0,0,0,0,0,0]
[]
[null,"grunty",null,null,null,null,null,null,null,{"$f":"LataProjekcji","v":"Uzupełnij dane"},"","","","","","","","","","","","",""]
[null,"     - wartość netto",{"$f":"MAX('Sprawozdania finansowe'!E21,'Sprawozdania finansowe'!F21)","v":0},null,null,null,null,null,{"$f":"ROUND(C36,0)","v":0}]
[null,"     - stopa amortyzacji",{"$f":"am_grunty","v":0}]
[null,"     - amortyzacja",null,null,null,null,null,null,null,{"$f":"IFERROR(ROUND(MIN($C37*$I36,$I36),0),0)","v":0},{"$f":"IFERROR(ROUND(MIN($C37*$I36,$I36-J39),0),0)","v":0},0,0,0,0,0,0,0,0,0,0,0,0]
[null,"     - umorzenie",null,null,null,null,null,null,null,{"$f":"ROUND(J38,0)","v":0},{"$f":"ROUND(K38+J39,0)","v":0},0,0,0,0,0,0,0,0,0,0,0,0]
[null,"     - wartość księgowa netto",null,null,null,null,null,null,null,{"$f":"ROUND($I36-J39,0)","v":0},0,0,0,0,0,0,0,0,0,0,0,0,0]
[]
[null,"budynki i budowle ",null,null,null,null,null,null,null,{"$f":"LataProjekcji","v":"Uzupełnij dane"},"","","","","","","","","","","","",""]
[null,"     - wartość netto",{"$f":"MAX('Sprawozdania finansowe'!E22,'Sprawozdania finansowe'!F22)","v":0},null,null,null,null,null,{"$f":"ROUND(C43,0)","v":0}]
[null,"     - stopa amortyzacji",{"$f":"am_budynki","v":0}]
[null,"     - amortyzacja",null,null,null,null,null,null,null,{"$f":"IFERROR(ROUND(MIN($C44*$I43,$I43),0),0)","v":0},{"$f":"IFERROR(ROUND(MIN($C44*$I43,$I43-J46),0),0)","v":0},0,0,0,0,0,0,0,0,0,0,0,0]
[null,"     - umorzenie",null,null,null,null,null,null,null,{"$f":"ROUND(J45,0)","v":0},{"$f":"ROUND(K45+J46,0)","v":0},0,0,0,0,0,0,0,0,0,0,0,0]
[null,"     - wartość księgowa netto",null,null,null,null,null,null,null,{"$f":"ROUND($I43-J46,0)","v":0},0,0,0,0,0,0,0,0,0,0,0,0,0]
[]
[null,"urządzenia techniczne i maszyny ",null,null,null,null,null,null,null,{"$f":"LataProjekcji","v":"Uzupełnij dane"},"","","","","","","","","","","","",""]
[null,"     - wartość netto",{"$f":"MAX('Sprawozdania finansowe'!E23,'Sprawozdania finansowe'!F23)","v":0},null,null,null,null,null,{"$f":"ROUND(C50,0)","v":0}]
[null,"     - stopa amortyzacji",{"$f":"am_maszyny","v":0}]
[null,"     - amortyzacja",null,null,null,null,null,null,null,{"$f":"IFERROR(ROUND(MIN($C51*$I50,$I50),0),0)","v":0},{"$f":"IFERROR(ROUND(MIN($C51*$I50,$I50-J53),0),0)","v":0},0,0,0,0,0,0,0,0,0,0,0,0]
[null,"     - umorzenie",null,null,null,null,null,null,null,{"$f":"ROUND(J52,0)","v":0},{"$f":"ROUND(K52+J53,0)","v":0},0,0,0,0,0,0,0,0,0,0,0,0]
[null,"     - wartość księgowa netto",null,null,null,null,null,null,null,{"$f":"ROUND($I50-J53,0)","v":0},0,0,0,0,0,0,0,0,0,0,0,0,0]
[]
[null,"środki transportu ",null,null,null,null,null,null,null,{"$f":"LataProjekcji","v":"Uzupełnij dane"},"","","","","","","","","","","","",""]
[null,"     - wartość netto",{"$f":"MAX('Sprawozdania finansowe'!E24,'Sprawozdania finansowe'!F24)","v":0},null,null,null,null,null,{"$f":"ROUND(C57,0)","v":0}]
[null,"     - stopa amortyzacji",{"$f":"am_transport","v":0}]
[null,"     - amortyzacja",null,null,null,null,null,null,null,{"$f":"IFERROR(ROUND(MIN($C58*$I57,$I57),0),0)","v":0},{"$f":"IFERROR(ROUND(MIN($C58*$I57,$I57-J60),0),0)","v":0},0,0,0,0,0,0,0,0,0,0,0,0]
[null,"     - umorzenie",null,null,null,null,null,null,null,{"$f":"ROUND(J59,0)","v":0},{"$f":"ROUND(K59+J60,0)","v":0},{"$f":"ROUND(L59+K60,0)","v":0},0,0,0,0,0,0,0,0,0,0,0]
[null,"     - wartość księgowa netto",null,null,null,null,null,null,null,{"$f":"ROUND($I57-J60,0)","v":0},{"$f":"ROUND($I57-K60,0)","v":0},{"$f":"ROUND($I57-L60,0)","v":0},0,0,0,0,0,0,0,0,0,0,0]
[]
[null,"inne środki trwałe ",null,null,null,null,null,null,null,{"$f":"LataProjekcji","v":"Uzupełnij dane"},"","","","","","","","","","","","",""]
[null,"     - wartość netto",{"$f":"MAX('Sprawozdania finansowe'!E25,'Sprawozdania finansowe'!F25)","v":0},null,null,null,null,null,{"$f":"ROUND(C64,0)","v":0}]
[null,"     - stopa amortyzacji",{"$f":"am_inneST","v":0}]
[null,"     - amortyzacja",null,null,null,null,null,null,null,{"$f":"IFERROR(ROUND(MIN($C65*$I64,$I64),0),0)","v":0},{"$f":"IFERROR(ROUND(MIN($C65*$I64,$I64-J67),0),0)","v":0},0,0,0,0,0,0,0,0,0,0,0,0]
[null,"     - umorzenie",null,null,null,null,null,null,null,{"$f":"ROUND(J66,0)","v":0},{"$f":"ROUND(K66+J67,0)","v":0},{"$f":"ROUND(L66+K67,0)","v":0},0,0,0,0,0,0,0,0,0,0,0]
[null,"     - wartość księgowa netto",null,null,null,null,null,null,null,{"$f":"ROUND($I64-J67,0)","v":0},{"$f":"ROUND($I64-K67,0)","v":0},{"$f":"ROUND($I64-L67,0)","v":0},0,0,0,0,0,0,0,0,0,0,0]
[]
[]
[null,"Wartość księgowa netto",null,null,null,null,null,null,null,{"$f":"LataProjekcji","v":"Uzupełnij dane"},"","","","","","","","","","","","",""]
[null,"Wartości niematerialne i prawne",null,null,null,null,null,null,null,{"$f":"SUM(J73:J75)","v":0},{"$f":"SUM(K73:K75)","v":0},0,0,0,0,0,0,0,0,0,0,0,0]
[null,"   a) koszty zakończonych prac rozwojowych",null,null,null,null,null,null,null,{"$f":"ROUND(J19,0)","v":0},{"$f":"ROUND(K19,0)","v":0},0,0,0,0,0,0,0,0,0,0,0,0]
[null,"   b) wartość firmy",null,null,null,null,null,null,null,{"$f":"ROUND(J26,0)","v":0},{"$f":"ROUND(K26,0)","v":0},0,0,0,0,0,0,0,0,0,0,0,0]
[null,"   c) inne wartości niematerialne i prawne",null,null,null,null,null,null,null,{"$f":"ROUND(J33,0)","v":0},{"$f":"ROUND(K33,0)","v":0},0,0,0,0,0,0,0,0,0,0,0,0]
[null,"Środki trwałe",null,null,null,null,null,null,null,{"$f":"SUM(J77:J81)","v":0},{"$f":"SUM(K77:K81)","v":0},0,0,0,0,0,0,0,0,0,0,0,0]
[null,"   a) grunty",null,null,null,null,null,null,null,{"$f":"ROUND(J40,0)","v":0},{"$f":"ROUND(K40,0)","v":0},0,0,0,0,0,0,0,0,0,0,0,0]
[null,"   b) budynki i budowle ",null,null,null,null,null,null,null,{"$f":"ROUND(J47,0)","v":0},{"$f":"ROUND(K47,0)","v":0},0,0,0,0,0,0,0,0,0,0,0,0]
[null,"   c) urządzenia techniczne i maszyny ",null,null,null,null,null,null,null,{"$f":"ROUND(J54,0)","v":0},{"$f":"ROUND(K54,0)","v":0},0,0,0,0,0,0,0,0,0,0,0,0]
[null,"   d) środki transportu ",null,null,null,null,null,null,null,{"$f":"ROUND(J61,0)","v":0},{"$f":"ROUND(K61,0)","v":0},0,0,0,0,0,0,0,0,0,0,0,0]
[null,"   e) inne środki trwałe ",null,null,null,null,null,null,null,{"$f":"ROUND(J68,0)","v":0},{"$f":"ROUND(K68,0)","v":0},0,0,0,0,0,0,0,0,0,0,0,0]
[]
[null,"Amortyzacja (Rachunek zysków i strat)",null,null,null,null,null,null,null,{"$f":"ROUND(J66+J59+J52+J45+J38+J31+J24+J17,0)","v":0},{"$f":"ROUND(K66+K59+K52+K45+K38+K31+K24+K17,0)","v":0},0,0,0,0,0,0,0,0,0,0,0,0]
[]
[]
[null,"Projekt",null,null,null,null,null,null,null,{"$f":"J12","v":"Uzupełnij dane"},"","","","","","","","","","","","",""]
[]
[null,"koszty zakończonych prac rozwojowych","wartość netto","rok i miesiąc zakończenia","dofinansowanie %","dofinansowanie PLN"]
[null,null,{"$f":"MAX('Koszty operacyjne'!J519:W519)","v":0},{"$f":"IF(C89=0,\"\",DATE(Koniec_Projekt,Założenia!D20,1))","v":""},{"$f":"'Rozliczenie dotacji'!E28","v":0},{"$f":"'Rozliczenie dotacji'!F28","v":0},null,null,{"$f":"IF(OR(AND(ISNUMBER(C89),ISBLANK(D89)),AND(ISNUMBER(D89),ISBLANK(C89))),\"uzupełnij dane\",\"\")","v":""},{"$f":"IFERROR(ROUND(IF(AND(YEAR($D89)=LataProjekcji,$C89>0),$C89,0),0),0)","v":0},0,0,0,0,0,0,0,0,0,0,0,0,0]
[null,null,null,null,null,{"$f":"IF(E90=0,0,ROUND(E90*C90,0))","v":0},null,null,"",0,0,0,0,0,0,0,0,0,0,0,0,0,0]
[null,null,null,null,null,{"$f":"IF(E91=0,0,ROUND(E91*C91,0))","v":0},null,null,"",0,0,0,0,0,0,0,0,0,0,0,0,0,0]
[null,null,null,null,null,{"$f":"IF(E92=0,0,ROUND(E92*C92,0))","v":0},null,null,"",0,0,0,0,0,0,0,0,0,0,0,0,0,0]
[null,null,null,null,null,{"$f":"IF(E93=0,0,ROUND(E93*C93,0))","v":0},null,null,"",0,0,0,0,0,0,0,0,0,0,0,0,0,0]
[null,"Razem",{"$f":"SUM(C89:C93)","v":0},null,null,{"$f":"SUM(F89:F93)","v":0},null,null,null,{"$f":"SUM(J89:J93)","v":0},0,0,0,0,0,0,0,0,0,0,0,0,0]
[null,"     - amortyzacja",null,null,null,null,null,null,null,{"$f":"J102+J109+J116+J123+J130","v":0},{"$f":"K102+K109+K116+K123+K130","v":0},0,0,0,0,0,0,0,0,0,0,0,0]
[null,"     - umorzenie",null,null,null,null,null,null,null,{"$f":"J103+J110+J117+J124+J131","v":0},{"$f":"K103+K110+K117+K124+K131","v":0},0,0,0,0,0,0,0,0,0,0,0,0]
[null,"     - wartość księgowa netto",null,null,null,null,null,null,null,{"$f":"J104+J111+J118+J125+J132","v":0},{"$f":"K104+K111+K118+K125+K132","v":0},0,0,0,0,0,0,0,0,0,0,0,0]
[]
[null,"A&D1",0,null,"ile miesiący do końca roku",null,"niekwalifikowalne","spr"]
[null,"rok zakupu",{"$f":"IFERROR(YEAR(OFFSET($D$89,C99,0)),0)","v":0},{"$f":"IFERROR(MONTH(OFFSET($D$89,C99,0)),0)","v":0},{"$f":"12-$D100","v":12},null,{"$f":"C94-F100","v":0},{"$f":"C94-F100-G100","v":0}]
[null,"wartość netto",{"$f":"IF(D101<0,0,ROUND(D101,0))","v":0},{"$f":"OFFSET($C$89,C99,0)","v":0},{"$f":"IF(D101>3.5,ROUND(($C102/12)*$E100,0),$C101)","v":0}]
[null,"amortyzacja roczna",{"$f":"IF(ISBLANK(OFFSET($D$89,C99,0)),0,IF(D101>3.5,ROUND(C101*am_prace_rozwojowe,0),IF(C101<0,0,C101)))","v":0},null,null,null,null,null,null,{"$f":"ROUND(IF(($C100+1)=J$86,$C102,0),0)","v":0},{"$f":"ROUND(IF(OR(AND($C100=LataProjekcji,$E100>0),AND($C100=LataProjekcji,$E100=0,$D101<=3.5)),$E101,IF($C100<LataProjekcji,IF((SUM($J102:J102)+$C102)<$C101,$C102,$C101-SUM($J102:J102)),0)),0)","v":0},{"$f":"ROUND(IF(OR(AND($C100=LataProjekcji,$E100>0),AND($C100=LataProjekcji,$E100=0,$D101<=3.5)),$E101,IF($C100<LataProjekcji,IF((SUM($J102:K102)+$C102)<$C101,$C102,$C101-SUM($J102:K102)),0)),0)","v":0},{"$f":"ROUND(IF(OR(AND($C100=LataProjekcji,$E100>0),AND($C100=LataProjekcji,$E100=0,$D101<=3.5)),$E101,IF($C100<LataProjekcji,IF((SUM($J102:L102)+$C102)<$C101,$C102,$C101-SUM($J102:L102)),0)),0)","v":0},{"$f":"ROUND(IF(OR(AND($C100=LataProjekcji,$E100>0),AND($C100=LataProjekcji,$E100=0,$D101<=3.5)),$E101,IF($C100<LataProjekcji,IF((SUM($J102:M102)+$C102)<$C101,$C102,$C101-SUM($J102:M102)),0)),0)","v":0},{"$f":"ROUND(IF(OR(AND($C100=LataProjekcji,$E100>0),AND($C100=LataProjekcji,$E100=0,$D101<=3.5)),$E101,IF($C100<LataProjekcji,IF((SUM($J102:N102)+$C102)<$C101,$C102,$C101-SUM($J102:N102)),0)),0)","v":0},{"$f":"ROUND(IF(OR(AND($C100=LataProjekcji,$E100>0),AND($C100=LataProjekcji,$E100=0,$D101<=3.5)),$E101,IF($C100<LataProjekcji,IF((SUM($J102:O102)+$C102)<$C101,$C102,$C101-SUM($J102:O102)),0)),0)","v":0},{"$f":"ROUND(IF(OR(AND($C100=LataProjekcji,$E100>0),AND($C100=LataProjekcji,$E100=0,$D101<=3.5)),$E101,IF($C100<LataProjekcji,IF((SUM($J102:P102)+$C102)<$C101,$C102,$C101-SUM($J102:P102)),0)),0)","v":0},{"$f":"ROUND(IF(OR(AND($C100=LataProjekcji,$E100>0),AND($C100=LataProjekcji,$E100=0,$D101<=3.5)),$E101,IF($C100<LataProjekcji,IF((SUM($J102:Q102)+$C102)<$C101,$C102,$C101-SUM($J102:Q102)),0)),0)","v":0},{"$f":"ROUND(IF(OR(AND($C100=LataProjekcji,$E100>0),AND($C100=LataProjekcji,$E100=0,$D101<=3.5)),$E101,IF($C100<LataProjekcji,IF((SUM($J102:R102)+$C102)<$C101,$C102,$C101-SUM($J102:R102)),0)),0)","v":0},{"$f":"ROUND(IF(OR(AND($C100=LataProjekcji,$E100>0),AND($C100=LataProjekcji,$E100=0,$D101<=3.5)),$E101,IF($C100<LataProjekcji,IF((SUM($J102:S102)+$C102)<$C101,$C102,$C101-SUM($J102:S102)),0)),0)","v":0},{"$f":"ROUND(IF(OR(AND($C100=LataProjekcji,$E100>0),AND($C100=LataProjekcji,$E100=0,$D101<=3.5)),$E101,IF($C100<LataProjekcji,IF((SUM($J102:T102)+$C102)<$C101,$C102,$C101-SUM($J102:T102)),0)),0)","v":0},{"$f":"ROUND(IF(OR(AND($C100=LataProjekcji,$E100>0),AND($C100=LataProjekcji,$E100=0,$D101<=3.5)),$E101,IF($C100<LataProjekcji,IF((SUM($J102:U102)+$C102)<$C101,$C102,$C101-SUM($J102:U102)),0)),0)","v":0},{"$f":"ROUND(IF(OR(AND($C100=LataProjekcji,$E100>0),AND($C100=LataProjekcji,$E100=0,$D101<=3.5)),$E101,IF($C100<LataProjekcji,IF((SUM($J102:V102)+$C102)<$C101,$C102,$C101-SUM($J102:V102)),0)),0)","v":0}]
[null,"umorzenie",null,null,null,null,null,null,null,{"$f":"ROUND(J102,0)","v":0},{"$f":"ROUND(J103+K102,0)","v":0},{"$f":"ROUND(K103+L102,0)","v":0},{"$f":"ROUND(L103+M102,0)","v":0},{"$f":"ROUND(M103+N102,0)","v":0},{"$f":"ROUND(N103+O102,0)","v":0},{"$f":"ROUND(O103+P102,0)","v":0},{"$f":"ROUND(P103+Q102,0)","v":0},{"$f":"ROUND(Q103+R102,0)","v":0},{"$f":"ROUND(R103+S102,0)","v":0},{"$f":"ROUND(S103+T102,0)","v":0},{"$f":"ROUND(T103+U102,0)","v":0},{"$f":"ROUND(U103+V102,0)","v":0},{"$f":"ROUND(V103+W102,0)","v":0}]
[null,"wartość netto",null,null,null,null,null,null,null,{"$f":"IF($C100=LataProjekcji,ROUND($C101-J103,0),ROUND(IF(J102=0,0,$C101-J103),0))","v":0},{"$f":"IF($C100=LataProjekcji,ROUND($C101-K103,0),ROUND(IF(AND(K102=0,J104>0),$C101-K103,IF(K102=0,0,$C101-K103)),0))","v":0},{"$f":"IF($C100=LataProjekcji,ROUND($C101-L103,0),ROUND(IF(AND(L102=0,K104>0),$C101-L103,IF(L102=0,0,$C101-L103)),0))","v":0},{"$f":"IF($C100=LataProjekcji,ROUND($C101-M103,0),ROUND(IF(AND(M102=0,L104>0),$C101-M103,IF(M102=0,0,$C101-M103)),0))","v":0},{"$f":"IF($C100=LataProjekcji,ROUND($C101-N103,0),ROUND(IF(AND(N102=0,M104>0),$C101-N103,IF(N102=0,0,$C101-N103)),0))","v":0},{"$f":"IF($C100=LataProjekcji,ROUND($C101-O103,0),ROUND(IF(AND(O102=0,N104>0),$C101-O103,IF(O102=0,0,$C101-O103)),0))","v":0},{"$f":"IF($C100=LataProjekcji,ROUND($C101-P103,0),ROUND(IF(AND(P102=0,O104>0),$C101-P103,IF(P102=0,0,$C101-P103)),0))","v":0},{"$f":"IF($C100=LataProjekcji,ROUND($C101-Q103,0),ROUND(IF(AND(Q102=0,P104>0),$C101-Q103,IF(Q102=0,0,$C101-Q103)),0))","v":0},{"$f":"IF($C100=LataProjekcji,ROUND($C101-R103,0),ROUND(IF(AND(R102=0,Q104>0),$C101-R103,IF(R102=0,0,$C101-R103)),0))","v":0},{"$f":"IF($C100=LataProjekcji,ROUND($C101-S103,0),ROUND(IF(AND(S102=0,R104>0),$C101-S103,IF(S102=0,0,$C101-S103)),0))","v":0},{"$f":"IF($C100=LataProjekcji,ROUND($C101-T103,0),ROUND(IF(AND(T102=0,S104>0),$C101-T103,IF(T102=0,0,$C101-T103)),0))","v":0},{"$f":"IF($C100=LataProjekcji,ROUND($C101-U103,0),ROUND(IF(AND(U102=0,T104>0),$C101-U103,IF(U102=0,0,$C101-U103)),0))","v":0},{"$f":"IF($C100=LataProjekcji,ROUND($C101-V103,0),ROUND(IF(AND(V102=0,U104>0),$C101-V103,IF(V102=0,0,$C101-V103)),0))","v":0},{"$f":"IF($C100=LataProjekcji,ROUND($C101-W103,0),ROUND(IF(AND(W102=0,V104>0),$C101-W103,IF(W102=0,0,$C101-W103)),0))","v":0}]
[]
[null,"A&D2",{"$f":"C99+1","v":1}]
[null,"rok zakupu",{"$f":"YEAR(OFFSET($D$89,C106,0))","v":1900},{"$f":"MONTH(OFFSET($D$89,C106,0))","v":1},{"$f":"12-$D107","v":11}]
[null,"wartość netto",{"$f":"IF(D108<0,0,ROUND(D108,0))","v":0},{"$f":"OFFSET($C$89,C106,0)","v":0},{"$f":"IF(D108>3.5,ROUND(($C109/12)*$E107,0),$C108)","v":0}]
[null,"amortyzacja roczna",{"$f":"IF(ISBLANK(OFFSET($D$89,C106,0)),0,IF(D108>3.5,ROUND(C108*am_prace_rozwojowe,0),IF(C108<0,0,C108)))","v":0},null,null,null,null,null,null,{"$f":"ROUND(IF(($C107+1)=J$86,$C109,0),0)","v":0},{"$f":"ROUND(IF(OR(AND($C107=LataProjekcji,$E107>0),AND($C107=LataProjekcji,$E107=0,$D108<=3.5)),$E108,IF($C107<LataProjekcji,IF((SUM($J109:J109)+$C109)<$C108,$C109,$C108-SUM($J109:J109)),0)),0)","v":0},{"$f":"ROUND(IF(OR(AND($C107=LataProjekcji,$E107>0),AND($C107=LataProjekcji,$E107=0,$D108<=3.5)),$E108,IF($C107<LataProjekcji,IF((SUM($J109:K109)+$C109)<$C108,$C109,$C108-SUM($J109:K109)),0)),0)","v":0},{"$f":"ROUND(IF(OR(AND($C107=LataProjekcji,$E107>0),AND($C107=LataProjekcji,$E107=0,$D108<=3.5)),$E108,IF($C107<LataProjekcji,IF((SUM($J109:L109)+$C109)<$C108,$C109,$C108-SUM($J109:L109)),0)),0)","v":0},{"$f":"ROUND(IF(OR(AND($C107=LataProjekcji,$E107>0),AND($C107=LataProjekcji,$E107=0,$D108<=3.5)),$E108,IF($C107<LataProjekcji,IF((SUM($J109:M109)+$C109)<$C108,$C109,$C108-SUM($J109:M109)),0)),0)","v":0},{"$f":"ROUND(IF(OR(AND($C107=LataProjekcji,$E107>0),AND($C107=LataProjekcji,$E107=0,$D108<=3.5)),$E108,IF($C107<LataProjekcji,IF((SUM($J109:N109)+$C109)<$C108,$C109,$C108-SUM($J109:N109)),0)),0)","v":0},{"$f":"ROUND(IF(OR(AND($C107=LataProjekcji,$E107>0),AND($C107=LataProjekcji,$E107=0,$D108<=3.5)),$E108,IF($C107<LataProjekcji,IF((SUM($J109:O109)+$C109)<$C108,$C109,$C108-SUM($J109:O109)),0)),0)","v":0},{"$f":"ROUND(IF(OR(AND($C107=LataProjekcji,$E107>0),AND($C107=LataProjekcji,$E107=0,$D108<=3.5)),$E108,IF($C107<LataProjekcji,IF((SUM($J109:P109)+$C109)<$C108,$C109,$C108-SUM($J109:P109)),0)),0)","v":0},{"$f":"ROUND(IF(OR(AND($C107=LataProjekcji,$E107>0),AND($C107=LataProjekcji,$E107=0,$D108<=3.5)),$E108,IF($C107<LataProjekcji,IF((SUM($J109:Q109)+$C109)<$C108,$C109,$C108-SUM($J109:Q109)),0)),0)","v":0},{"$f":"ROUND(IF(OR(AND($C107=LataProjekcji,$E107>0),AND($C107=LataProjekcji,$E107=0,$D108<=3.5)),$E108,IF($C107<LataProjekcji,IF((SUM($J109:R109)+$C109)<$C108,$C109,$C108-SUM($J109:R109)),0)),0)","v":0},{"$f":"ROUND(IF(OR(AND($C107=LataProjekcji,$E107>0),AND($C107=LataProjekcji,$E107=0,$D108<=3.5)),$E108,IF($C107<LataProjekcji,IF((SUM($J109:S109)+$C109)<$C108,$C109,$C108-SUM($J109:S109)),0)),0)","v":0},{"$f":"ROUND(IF(OR(AND($C107=LataProjekcji,$E107>0),AND($C107=LataProjekcji,$E107=0,$D108<=3.5)),$E108,IF($C107<LataProjekcji,IF((SUM($J109:T109)+$C109)<$C108,$C109,$C108-SUM($J109:T109)),0)),0)","v":0},{"$f":"ROUND(IF(OR(AND($C107=LataProjekcji,$E107>0),AND($C107=LataProjekcji,$E107=0,$D108<=3.5)),$E108,IF($C107<LataProjekcji,IF((SUM($J109:U109)+$C109)<$C108,$C109,$C108-SUM($J109:U109)),0)),0)","v":0},{"$f":"ROUND(IF(OR(AND($C107=LataProjekcji,$E107>0),AND($C107=LataProjekcji,$E107=0,$D108<=3.5)),$E108,IF($C107<LataProjekcji,IF((SUM($J109:V109)+$C109)<$C108,$C109,$C108-SUM($J109:V109)),0)),0)","v":0}]
[null,"umorzenie",null,null,null,null,null,null,null,{"$f":"ROUND(J109,0)","v":0},{"$f":"ROUND(J110+K109,0)","v":0},{"$f":"ROUND(K110+L109,0)","v":0},{"$f":"ROUND(L110+M109,0)","v":0},{"$f":"ROUND(M110+N109,0)","v":0},{"$f":"ROUND(N110+O109,0)","v":0},{"$f":"ROUND(O110+P109,0)","v":0},{"$f":"ROUND(P110+Q109,0)","v":0},{"$f":"ROUND(Q110+R109,0)","v":0},{"$f":"ROUND(R110+S109,0)","v":0},{"$f":"ROUND(S110+T109,0)","v":0},{"$f":"ROUND(T110+U109,0)","v":0},{"$f":"ROUND(U110+V109,0)","v":0},{"$f":"ROUND(V110+W109,0)","v":0}]
[null,"wartość netto",null,null,null,null,null,null,null,{"$f":"IF($C107=LataProjekcji,ROUND($C108-J110,0),ROUND(IF(J109=0,0,$C108-J110),0))","v":0},{"$f":"IF($C107=LataProjekcji,ROUND($C108-K110,0),ROUND(IF(AND(K109=0,J111>0),$C108-K110,IF(K109=0,0,$C108-K110)),0))","v":0},{"$f":"IF($C107=LataProjekcji,ROUND($C108-L110,0),ROUND(IF(AND(L109=0,K111>0),$C108-L110,IF(L109=0,0,$C108-L110)),0))","v":0},{"$f":"IF($C107=LataProjekcji,ROUND($C108-M110,0),ROUND(IF(AND(M109=0,L111>0),$C108-M110,IF(M109=0,0,$C108-M110)),0))","v":0},{"$f":"IF($C107=LataProjekcji,ROUND($C108-N110,0),ROUND(IF(AND(N109=0,M111>0),$C108-N110,IF(N109=0,0,$C108-N110)),0))","v":0},{"$f":"IF($C107=LataProjekcji,ROUND($C108-O110,0),ROUND(IF(AND(O109=0,N111>0),$C108-O110,IF(O109=0,0,$C108-O110)),0))","v":0},{"$f":"IF($C107=LataProjekcji,ROUND($C108-P110,0),ROUND(IF(AND(P109=0,O111>0),$C108-P110,IF(P109=0,0,$C108-P110)),0))","v":0},{"$f":"IF($C107=LataProjekcji,ROUND($C108-Q110,0),ROUND(IF(AND(Q109=0,P111>0),$C108-Q110,IF(Q109=0,0,$C108-Q110)),0))","v":0},{"$f":"IF($C107=LataProjekcji,ROUND($C108-R110,0),ROUND(IF(AND(R109=0,Q111>0),$C108-R110,IF(R109=0,0,$C108-R110)),0))","v":0},{"$f":"IF($C107=LataProjekcji,ROUND($C108-S110,0),ROUND(IF(AND(S109=0,R111>0),$C108-S110,IF(S109=0,0,$C108-S110)),0))","v":0},{"$f":"IF($C107=LataProjekcji,ROUND($C108-T110,0),ROUND(IF(AND(T109=0,S111>0),$C108-T110,IF(T109=0,0,$C108-T110)),0))","v":0},{"$f":"IF($C107=LataProjekcji,ROUND($C108-U110,0),ROUND(IF(AND(U109=0,T111>0),$C108-U110,IF(U109=0,0,$C108-U110)),0))","v":0},{"$f":"IF($C107=LataProjekcji,ROUND($C108-V110,0),ROUND(IF(AND(V109=0,U111>0),$C108-V110,IF(V109=0,0,$C108-V110)),0))","v":0},{"$f":"IF($C107=LataProjekcji,ROUND($C108-W110,0),ROUND(IF(AND(W109=0,V111>0),$C108-W110,IF(W109=0,0,$C108-W110)),0))","v":0}]
[]
[null,"A&3",{"$f":"C106+1","v":2}]
[null,"rok zakupu",{"$f":"YEAR(OFFSET($D$89,C113,0))","v":1900},{"$f":"MONTH(OFFSET($D$89,C113,0))","v":1},{"$f":"12-$D114","v":11}]
[null,"wartość netto",{"$f":"IF(D115<0,0,ROUND(D115,0))","v":0},{"$f":"OFFSET($C$89,C113,0)","v":0},{"$f":"IF(D115>3.5,ROUND(($C116/12)*$E114,0),$C115)","v":0}]
[null,"amortyzacja roczna",{"$f":"IF(ISBLANK(OFFSET($D$89,C113,0)),0,IF(D115>3.5,ROUND(C115*am_prace_rozwojowe,0),IF(C115<0,0,C115)))","v":0},null,null,null,null,null,null,{"$f":"ROUND(IF(($C114+1)=J$86,$C116,0),0)","v":0},{"$f":"ROUND(IF(OR(AND($C114=LataProjekcji,$E114>0),AND($C114=LataProjekcji,$E114=0,$D115<=3.5)),$E115,IF($C114<LataProjekcji,IF((SUM($J116:J116)+$C116)<$C115,$C116,$C115-SUM($J116:J116)),0)),0)","v":0},{"$f":"ROUND(IF(OR(AND($C114=LataProjekcji,$E114>0),AND($C114=LataProjekcji,$E114=0,$D115<=3.5)),$E115,IF($C114<LataProjekcji,IF((SUM($J116:K116)+$C116)<$C115,$C116,$C115-SUM($J116:K116)),0)),0)","v":0},{"$f":"ROUND(IF(OR(AND($C114=LataProjekcji,$E114>0),AND($C114=LataProjekcji,$E114=0,$D115<=3.5)),$E115,IF($C114<LataProjekcji,IF((SUM($J116:L116)+$C116)<$C115,$C116,$C115-SUM($J116:L116)),0)),0)","v":0},{"$f":"ROUND(IF(OR(AND($C114=LataProjekcji,$E114>0),AND($C114=LataProjekcji,$E114=0,$D115<=3.5)),$E115,IF($C114<LataProjekcji,IF((SUM($J116:M116)+$C116)<$C115,$C116,$C115-SUM($J116:M116)),0)),0)","v":0},{"$f":"ROUND(IF(OR(AND($C114=LataProjekcji,$E114>0),AND($C114=LataProjekcji,$E114=0,$D115<=3.5)),$E115,IF($C114<LataProjekcji,IF((SUM($J116:N116)+$C116)<$C115,$C116,$C115-SUM($J116:N116)),0)),0)","v":0},{"$f":"ROUND(IF(OR(AND($C114=LataProjekcji,$E114>0),AND($C114=LataProjekcji,$E114=0,$D115<=3.5)),$E115,IF($C114<LataProjekcji,IF((SUM($J116:O116)+$C116)<$C115,$C116,$C115-SUM($J116:O116)),0)),0)","v":0},{"$f":"ROUND(IF(OR(AND($C114=LataProjekcji,$E114>0),AND($C114=LataProjekcji,$E114=0,$D115<=3.5)),$E115,IF($C114<LataProjekcji,IF((SUM($J116:P116)+$C116)<$C115,$C116,$C115-SUM($J116:P116)),0)),0)","v":0},{"$f":"ROUND(IF(OR(AND($C114=LataProjekcji,$E114>0),AND($C114=LataProjekcji,$E114=0,$D115<=3.5)),$E115,IF($C114<LataProjekcji,IF((SUM($J116:Q116)+$C116)<$C115,$C116,$C115-SUM($J116:Q116)),0)),0)","v":0},{"$f":"ROUND(IF(OR(AND($C114=LataProjekcji,$E114>0),AND($C114=LataProjekcji,$E114=0,$D115<=3.5)),$E115,IF($C114<LataProjekcji,IF((SUM($J116:R116)+$C116)<$C115,$C116,$C115-SUM($J116:R116)),0)),0)","v":0},{"$f":"ROUND(IF(OR(AND($C114=LataProjekcji,$E114>0),AND($C114=LataProjekcji,$E114=0,$D115<=3.5)),$E115,IF($C114<LataProjekcji,IF((SUM($J116:S116)+$C116)<$C115,$C116,$C115-SUM($J116:S116)),0)),0)","v":0},{"$f":"ROUND(IF(OR(AND($C114=LataProjekcji,$E114>0),AND($C114=LataProjekcji,$E114=0,$D115<=3.5)),$E115,IF($C114<LataProjekcji,IF((SUM($J116:T116)+$C116)<$C115,$C116,$C115-SUM($J116:T116)),0)),0)","v":0},{"$f":"ROUND(IF(OR(AND($C114=LataProjekcji,$E114>0),AND($C114=LataProjekcji,$E114=0,$D115<=3.5)),$E115,IF($C114<LataProjekcji,IF((SUM($J116:U116)+$C116)<$C115,$C116,$C115-SUM($J116:U116)),0)),0)","v":0},{"$f":"ROUND(IF(OR(AND($C114=LataProjekcji,$E114>0),AND($C114=LataProjekcji,$E114=0,$D115<=3.5)),$E115,IF($C114<LataProjekcji,IF((SUM($J116:V116)+$C116)<$C115,$C116,$C115-SUM($J116:V116)),0)),0)","v":0}]
[null,"umorzenie",null,null,null,null,null,null,null,{"$f":"ROUND(J116,0)","v":0},{"$f":"ROUND(J117+K116,0)","v":0},{"$f":"ROUND(K117+L116,0)","v":0},{"$f":"ROUND(L117+M116,0)","v":0},{"$f":"ROUND(M117+N116,0)","v":0},{"$f":"ROUND(N117+O116,0)","v":0},{"$f":"ROUND(O117+P116,0)","v":0},{"$f":"ROUND(P117+Q116,0)","v":0},{"$f":"ROUND(Q117+R116,0)","v":0},{"$f":"ROUND(R117+S116,0)","v":0},{"$f":"ROUND(S117+T116,0)","v":0},{"$f":"ROUND(T117+U116,0)","v":0},{"$f":"ROUND(U117+V116,0)","v":0},{"$f":"ROUND(V117+W116,0)","v":0}]
[null,"wartość netto",null,null,null,null,null,null,null,{"$f":"IF($C114=LataProjekcji,ROUND($C115-J117,0),ROUND(IF(J116=0,0,$C115-J117),0))","v":0},{"$f":"IF($C114=LataProjekcji,ROUND($C115-K117,0),ROUND(IF(AND(K116=0,J118>0),$C115-K117,IF(K116=0,0,$C115-K117)),0))","v":0},{"$f":"IF($C114=LataProjekcji,ROUND($C115-L117,0),ROUND(IF(AND(L116=0,K118>0),$C115-L117,IF(L116=0,0,$C115-L117)),0))","v":0},{"$f":"IF($C114=LataProjekcji,ROUND($C115-M117,0),ROUND(IF(AND(M116=0,L118>0),$C115-M117,IF(M116=0,0,$C115-M117)),0))","v":0},{"$f":"IF($C114=LataProjekcji,ROUND($C115-N117,0),ROUND(IF(AND(N116=0,M118>0),$C115-N117,IF(N116=0,0,$C115-N117)),0))","v":0},{"$f":"IF($C114=LataProjekcji,ROUND($C115-O117,0),ROUND(IF(AND(O116=0,N118>0),$C115-O117,IF(O116=0,0,$C115-O117)),0))","v":0},{"$f":"IF($C114=LataProjekcji,ROUND($C115-P117,0),ROUND(IF(AND(P116=0,O118>0),$C115-P117,IF(P116=0,0,$C115-P117)),0))","v":0},{"$f":"IF($C114=LataProjekcji,ROUND($C115-Q117,0),ROUND(IF(AND(Q116=0,P118>0),$C115-Q117,IF(Q116=0,0,$C115-Q117)),0))","v":0},{"$f":"IF($C114=LataProjekcji,ROUND($C115-R117,0),ROUND(IF(AND(R116=0,Q118>0),$C115-R117,IF(R116=0,0,$C115-R117)),0))","v":0},{"$f":"IF($C114=LataProjekcji,ROUND($C115-S117,0),ROUND(IF(AND(S116=0,R118>0),$C115-S117,IF(S116=0,0,$C115-S117)),0))","v":0},{"$f":"IF($C114=LataProjekcji,ROUND($C115-T117,0),ROUND(IF(AND(T116=0,S118>0),$C115-T117,IF(T116=0,0,$C115-T117)),0))","v":0},{"$f":"IF($C114=LataProjekcji,ROUND($C115-U117,0),ROUND(IF(AND(U116=0,T118>0),$C115-U117,IF(U116=0,0,$C115-U117)),0))","v":0},{"$f":"IF($C114=LataProjekcji,ROUND($C115-V117,0),ROUND(IF(AND(V116=0,U118>0),$C115-V117,IF(V116=0,0,$C115-V117)),0))","v":0},{"$f":"IF($C114=LataProjekcji,ROUND($C115-W117,0),ROUND(IF(AND(W116=0,V118>0),$C115-W117,IF(W116=0,0,$C115-W117)),0))","v":0}]
[]
[null,"A&D4",{"$f":"C113+1","v":3}]
[null,"rok zakupu",{"$f":"YEAR(OFFSET($D$89,C120,0))","v":1900},{"$f":"MONTH(OFFSET($D$89,C120,0))","v":1},{"$f":"12-$D121","v":11}]
[null,"wartość netto",{"$f":"IF(D122<0,0,ROUND(D122,0))","v":0},{"$f":"OFFSET($C$89,C120,0)","v":0},{"$f":"IF(D122>3.5,ROUND(($C123/12)*$E121,0),$C122)","v":0}]
[null,"amortyzacja roczna",{"$f":"IF(ISBLANK(OFFSET($D$89,C120,0)),0,IF(D122>3.5,ROUND(C122*am_prace_rozwojowe,0),IF(C122<0,0,C122)))","v":0},null,null,null,null,null,null,{"$f":"ROUND(IF(($C121+1)=J$86,$C123,0),0)","v":0},{"$f":"ROUND(IF(OR(AND($C121=LataProjekcji,$E121>0),AND($C121=LataProjekcji,$E121=0,$D122<=3.5)),$E122,IF($C121<LataProjekcji,IF((SUM($J123:J123)+$C123)<$C122,$C123,$C122-SUM($J123:J123)),0)),0)","v":0},{"$f":"ROUND(IF(OR(AND($C121=LataProjekcji,$E121>0),AND($C121=LataProjekcji,$E121=0,$D122<=3.5)),$E122,IF($C121<LataProjekcji,IF((SUM($J123:K123)+$C123)<$C122,$C123,$C122-SUM($J123:K123)),0)),0)","v":0},{"$f":"ROUND(IF(OR(AND($C121=LataProjekcji,$E121>0),AND($C121=LataProjekcji,$E121=0,$D122<=3.5)),$E122,IF($C121<LataProjekcji,IF((SUM($J123:L123)+$C123)<$C122,$C123,$C122-SUM($J123:L123)),0)),0)","v":0},{"$f":"ROUND(IF(OR(AND($C121=LataProjekcji,$E121>0),AND($C121=LataProjekcji,$E121=0,$D122<=3.5)),$E122,IF($C121<LataProjekcji,IF((SUM($J123:M123)+$C123)<$C122,$C123,$C122-SUM($J123:M123)),0)),0)","v":0},{"$f":"ROUND(IF(OR(AND($C121=LataProjekcji,$E121>0),AND($C121=LataProjekcji,$E121=0,$D122<=3.5)),$E122,IF($C121<LataProjekcji,IF((SUM($J123:N123)+$C123)<$C122,$C123,$C122-SUM($J123:N123)),0)),0)","v":0},{"$f":"ROUND(IF(OR(AND($C121=LataProjekcji,$E121>0),AND($C121=LataProjekcji,$E121=0,$D122<=3.5)),$E122,IF($C121<LataProjekcji,IF((SUM($J123:O123)+$C123)<$C122,$C123,$C122-SUM($J123:O123)),0)),0)","v":0},{"$f":"ROUND(IF(OR(AND($C121=LataProjekcji,$E121>0),AND($C121=LataProjekcji,$E121=0,$D122<=3.5)),$E122,IF($C121<LataProjekcji,IF((SUM($J123:P123)+$C123)<$C122,$C123,$C122-SUM($J123:P123)),0)),0)","v":0},{"$f":"ROUND(IF(OR(AND($C121=LataProjekcji,$E121>0),AND($C121=LataProjekcji,$E121=0,$D122<=3.5)),$E122,IF($C121<LataProjekcji,IF((SUM($J123:Q123)+$C123)<$C122,$C123,$C122-SUM($J123:Q123)),0)),0)","v":0},{"$f":"ROUND(IF(OR(AND($C121=LataProjekcji,$E121>0),AND($C121=LataProjekcji,$E121=0,$D122<=3.5)),$E122,IF($C121<LataProjekcji,IF((SUM($J123:R123)+$C123)<$C122,$C123,$C122-SUM($J123:R123)),0)),0)","v":0},{"$f":"ROUND(IF(OR(AND($C121=LataProjekcji,$E121>0),AND($C121=LataProjekcji,$E121=0,$D122<=3.5)),$E122,IF($C121<LataProjekcji,IF((SUM($J123:S123)+$C123)<$C122,$C123,$C122-SUM($J123:S123)),0)),0)","v":0},{"$f":"ROUND(IF(OR(AND($C121=LataProjekcji,$E121>0),AND($C121=LataProjekcji,$E121=0,$D122<=3.5)),$E122,IF($C121<LataProjekcji,IF((SUM($J123:T123)+$C123)<$C122,$C123,$C122-SUM($J123:T123)),0)),0)","v":0},{"$f":"ROUND(IF(OR(AND($C121=LataProjekcji,$E121>0),AND($C121=LataProjekcji,$E121=0,$D122<=3.5)),$E122,IF($C121<LataProjekcji,IF((SUM($J123:U123)+$C123)<$C122,$C123,$C122-SUM($J123:U123)),0)),0)","v":0},{"$f":"ROUND(IF(OR(AND($C121=LataProjekcji,$E121>0),AND($C121=LataProjekcji,$E121=0,$D122<=3.5)),$E122,IF($C121<LataProjekcji,IF((SUM($J123:V123)+$C123)<$C122,$C123,$C122-SUM($J123:V123)),0)),0)","v":0}]
[null,"umorzenie",null,null,null,null,null,null,null,{"$f":"ROUND(J123,0)","v":0},{"$f":"ROUND(J124+K123,0)","v":0},{"$f":"ROUND(K124+L123,0)","v":0},{"$f":"ROUND(L124+M123,0)","v":0},{"$f":"ROUND(M124+N123,0)","v":0},{"$f":"ROUND(N124+O123,0)","v":0},{"$f":"ROUND(O124+P123,0)","v":0},{"$f":"ROUND(P124+Q123,0)","v":0},{"$f":"ROUND(Q124+R123,0)","v":0},{"$f":"ROUND(R124+S123,0)","v":0},{"$f":"ROUND(S124+T123,0)","v":0},{"$f":"ROUND(T124+U123,0)","v":0},{"$f":"ROUND(U124+V123,0)","v":0},{"$f":"ROUND(V124+W123,0)","v":0}]
[null,"wartość netto",null,null,null,null,null,null,null,{"$f":"IF($C121=LataProjekcji,ROUND($C122-J124,0),ROUND(IF(J123=0,0,$C122-J124),0))","v":0},{"$f":"IF($C121=LataProjekcji,ROUND($C122-K124,0),ROUND(IF(AND(K123=0,J125>0),$C122-K124,IF(K123=0,0,$C122-K124)),0))","v":0},{"$f":"IF($C121=LataProjekcji,ROUND($C122-L124,0),ROUND(IF(AND(L123=0,K125>0),$C122-L124,IF(L123=0,0,$C122-L124)),0))","v":0},{"$f":"IF($C121=LataProjekcji,ROUND($C122-M124,0),ROUND(IF(AND(M123=0,L125>0),$C122-M124,IF(M123=0,0,$C122-M124)),0))","v":0},{"$f":"IF($C121=LataProjekcji,ROUND($C122-N124,0),ROUND(IF(AND(N123=0,M125>0),$C122-N124,IF(N123=0,0,$C122-N124)),0))","v":0},{"$f":"IF($C121=LataProjekcji,ROUND($C122-O124,0),ROUND(IF(AND(O123=0,N125>0),$C122-O124,IF(O123=0,0,$C122-O124)),0))","v":0},{"$f":"IF($C121=LataProjekcji,ROUND($C122-P124,0),ROUND(IF(AND(P123=0,O125>0),$C122-P124,IF(P123=0,0,$C122-P124)),0))","v":0},{"$f":"IF($C121=LataProjekcji,ROUND($C122-Q124,0),ROUND(IF(AND(Q123=0,P125>0),$C122-Q124,IF(Q123=0,0,$C122-Q124)),0))","v":0},{"$f":"IF($C121=LataProjekcji,ROUND($C122-R124,0),ROUND(IF(AND(R123=0,Q125>0),$C122-R124,IF(R123=0,0,$C122-R124)),0))","v":0},{"$f":"IF($C121=LataProjekcji,ROUND($C122-S124,0),ROUND(IF(AND(S123=0,R125>0),$C122-S124,IF(S123=0,0,$C122-S124)),0))","v":0},{"$f":"IF($C121=LataProjekcji,ROUND($C122-T124,0),ROUND(IF(AND(T123=0,S125>0),$C122-T124,IF(T123=0,0,$C122-T124)),0))","v":0},{"$f":"IF($C121=LataProjekcji,ROUND($C122-U124,0),ROUND(IF(AND(U123=0,T125>0),$C122-U124,IF(U123=0,0,$C122-U124)),0))","v":0},{"$f":"IF($C121=LataProjekcji,ROUND($C122-V124,0),ROUND(IF(AND(V123=0,U125>0),$C122-V124,IF(V123=0,0,$C122-V124)),0))","v":0},{"$f":"IF($C121=LataProjekcji,ROUND($C122-W124,0),ROUND(IF(AND(W123=0,V125>0),$C122-W124,IF(W123=0,0,$C122-W124)),0))","v":0}]
[]
[null,"A&D5",{"$f":"C120+1","v":4}]
[null,"rok zakupu",{"$f":"YEAR(OFFSET($D$89,C127,0))","v":1900},{"$f":"MONTH(OFFSET($D$89,C127,0))","v":1},{"$f":"12-$D128","v":11}]
[null,"wartość netto",{"$f":"IF(D129<0,0,ROUND(D129,0))","v":0},{"$f":"OFFSET($C$89,C127,0)","v":0},{"$f":"IF(D129>3.5,ROUND(($C130/12)*$E128,0),$C129)","v":0}]
[null,"amortyzacja roczna",{"$f":"IF(ISBLANK(OFFSET($D$89,C127,0)),0,IF(D129>3.5,ROUND(C129*am_prace_rozwojowe,0),IF(C129<0,0,C129)))","v":0},null,null,null,null,null,null,{"$f":"ROUND(IF(($C128+1)=J$86,$C130,0),0)","v":0},{"$f":"ROUND(IF(OR(AND($C128=LataProjekcji,$E128>0),AND($C128=LataProjekcji,$E128=0,$D129<=3.5)),$E129,IF($C128<LataProjekcji,IF((SUM($J130:J130)+$C130)<$C129,$C130,$C129-SUM($J130:J130)),0)),0)","v":0},{"$f":"ROUND(IF(OR(AND($C128=LataProjekcji,$E128>0),AND($C128=LataProjekcji,$E128=0,$D129<=3.5)),$E129,IF($C128<LataProjekcji,IF((SUM($J130:K130)+$C130)<$C129,$C130,$C129-SUM($J130:K130)),0)),0)","v":0},{"$f":"ROUND(IF(OR(AND($C128=LataProjekcji,$E128>0),AND($C128=LataProjekcji,$E128=0,$D129<=3.5)),$E129,IF($C128<LataProjekcji,IF((SUM($J130:L130)+$C130)<$C129,$C130,$C129-SUM($J130:L130)),0)),0)","v":0},{"$f":"ROUND(IF(OR(AND($C128=LataProjekcji,$E128>0),AND($C128=LataProjekcji,$E128=0,$D129<=3.5)),$E129,IF($C128<LataProjekcji,IF((SUM($J130:M130)+$C130)<$C129,$C130,$C129-SUM($J130:M130)),0)),0)","v":0},{"$f":"ROUND(IF(OR(AND($C128=LataProjekcji,$E128>0),AND($C128=LataProjekcji,$E128=0,$D129<=3.5)),$E129,IF($C128<LataProjekcji,IF((SUM($J130:N130)+$C130)<$C129,$C130,$C129-SUM($J130:N130)),0)),0)","v":0},{"$f":"ROUND(IF(OR(AND($C128=LataProjekcji,$E128>0),AND($C128=LataProjekcji,$E128=0,$D129<=3.5)),$E129,IF($C128<LataProjekcji,IF((SUM($J130:O130)+$C130)<$C129,$C130,$C129-SUM($J130:O130)),0)),0)","v":0},{"$f":"ROUND(IF(OR(AND($C128=LataProjekcji,$E128>0),AND($C128=LataProjekcji,$E128=0,$D129<=3.5)),$E129,IF($C128<LataProjekcji,IF((SUM($J130:P130)+$C130)<$C129,$C130,$C129-SUM($J130:P130)),0)),0)","v":0},{"$f":"ROUND(IF(OR(AND($C128=LataProjekcji,$E128>0),AND($C128=LataProjekcji,$E128=0,$D129<=3.5)),$E129,IF($C128<LataProjekcji,IF((SUM($J130:Q130)+$C130)<$C129,$C130,$C129-SUM($J130:Q130)),0)),0)","v":0},{"$f":"ROUND(IF(OR(AND($C128=LataProjekcji,$E128>0),AND($C128=LataProjekcji,$E128=0,$D129<=3.5)),$E129,IF($C128<LataProjekcji,IF((SUM($J130:R130)+$C130)<$C129,$C130,$C129-SUM($J130:R130)),0)),0)","v":0},{"$f":"ROUND(IF(OR(AND($C128=LataProjekcji,$E128>0),AND($C128=LataProjekcji,$E128=0,$D129<=3.5)),$E129,IF($C128<LataProjekcji,IF((SUM($J130:S130)+$C130)<$C129,$C130,$C129-SUM($J130:S130)),0)),0)","v":0},{"$f":"ROUND(IF(OR(AND($C128=LataProjekcji,$E128>0),AND($C128=LataProjekcji,$E128=0,$D129<=3.5)),$E129,IF($C128<LataProjekcji,IF((SUM($J130:T130)+$C130)<$C129,$C130,$C129-SUM($J130:T130)),0)),0)","v":0},{"$f":"ROUND(IF(OR(AND($C128=LataProjekcji,$E128>0),AND($C128=LataProjekcji,$E128=0,$D129<=3.5)),$E129,IF($C128<LataProjekcji,IF((SUM($J130:U130)+$C130)<$C129,$C130,$C129-SUM($J130:U130)),0)),0)","v":0},{"$f":"ROUND(IF(OR(AND($C128=LataProjekcji,$E128>0),AND($C128=LataProjekcji,$E128=0,$D129<=3.5)),$E129,IF($C128<LataProjekcji,IF((SUM($J130:V130)+$C130)<$C129,$C130,$C129-SUM($J130:V130)),0)),0)","v":0}]
[null,"umorzenie",null,null,null,null,null,null,null,{"$f":"ROUND(J130,0)","v":0},{"$f":"ROUND(J131+K130,0)","v":0},{"$f":"ROUND(K131+L130,0)","v":0},{"$f":"ROUND(L131+M130,0)","v":0},{"$f":"ROUND(M131+N130,0)","v":0},{"$f":"ROUND(N131+O130,0)","v":0},{"$f":"ROUND(O131+P130,0)","v":0},{"$f":"ROUND(P131+Q130,0)","v":0},{"$f":"ROUND(Q131+R130,0)","v":0},{"$f":"ROUND(R131+S130,0)","v":0},{"$f":"ROUND(S131+T130,0)","v":0},{"$f":"ROUND(T131+U130,0)","v":0},{"$f":"ROUND(U131+V130,0)","v":0},{"$f":"ROUND(V131+W130,0)","v":0}]
[null,"wartość netto",null,null,null,null,null,null,null,{"$f":"IF($C128=LataProjekcji,ROUND($C129-J131,0),ROUND(IF(J130=0,0,$C129-J131),0))","v":0},{"$f":"IF($C128=LataProjekcji,ROUND($C129-K131,0),ROUND(IF(AND(K130=0,J132>0),$C129-K131,IF(K130=0,0,$C129-K131)),0))","v":0},{"$f":"IF($C128=LataProjekcji,ROUND($C129-L131,0),ROUND(IF(AND(L130=0,K132>0),$C129-L131,IF(L130=0,0,$C129-L131)),0))","v":0},{"$f":"IF($C128=LataProjekcji,ROUND($C129-M131,0),ROUND(IF(AND(M130=0,L132>0),$C129-M131,IF(M130=0,0,$C129-M131)),0))","v":0},{"$f":"IF($C128=LataProjekcji,ROUND($C129-N131,0),ROUND(IF(AND(N130=0,M132>0),$C129-N131,IF(N130=0,0,$C129-N131)),0))","v":0},{"$f":"IF($C128=LataProjekcji,ROUND($C129-O131,0),ROUND(IF(AND(O130=0,N132>0),$C129-O131,IF(O130=0,0,$C129-O131)),0))","v":0},{"$f":"IF($C128=LataProjekcji,ROUND($C129-P131,0),ROUND(IF(AND(P130=0,O132>0),$C129-P131,IF(P130=0,0,$C129-P131)),0))","v":0},{"$f":"IF($C128=LataProjekcji,ROUND($C129-Q131,0),ROUND(IF(AND(Q130=0,P132>0),$C129-Q131,IF(Q130=0,0,$C129-Q131)),0))","v":0},{"$f":"IF($C128=LataProjekcji,ROUND($C129-R131,0),ROUND(IF(AND(R130=0,Q132>0),$C129-R131,IF(R130=0,0,$C129-R131)),0))","v":0},{"$f":"IF($C128=LataProjekcji,ROUND($C129-S131,0),ROUND(IF(AND(S130=0,R132>0),$C129-S131,IF(S130=0,0,$C129-S131)),0))","v":0},{"$f":"IF($C128=LataProjekcji,ROUND($C129-T131,0),ROUND(IF(AND(T130=0,S132>0),$C129-T131,IF(T130=0,0,$C129-T131)),0))","v":0},{"$f":"IF($C128=LataProjekcji,ROUND($C129-U131,0),ROUND(IF(AND(U130=0,T132>0),$C129-U131,IF(U130=0,0,$C129-U131)),0))","v":0},{"$f":"IF($C128=LataProjekcji,ROUND($C129-V131,0),ROUND(IF(AND(V130=0,U132>0),$C129-V131,IF(V130=0,0,$C129-V131)),0))","v":0},{"$f":"IF($C128=LataProjekcji,ROUND($C129-W131,0),ROUND(IF(AND(W130=0,V132>0),$C129-W131,IF(W130=0,0,$C129-W131)),0))","v":0}]
[]
[]
[null,"inne wartości niematerialne i prawne","wartość netto","rok i miesiąc zakupu","dofinansowanie %","dofinansowanie PLN",null,null,null,{"$f":"LataProjekcji","v":"Uzupełnij dane"},"","","","","","","","","","","","",""]
[null,null,null,null,null,{"$f":"IF(E136=0,0,ROUND(E136*C136,0))","v":0},null,null,{"$f":"IF(OR(AND(ISNUMBER(C136),ISBLANK(D136)),AND(ISNUMBER(D136),ISBLANK(C136))),\"uzupełnij dane\",\"\")","v":""},{"$f":"ROUND(IF(AND(YEAR($D136)=LataProjekcji,$C136>0),$C136,0),0)","v":0},0,0,0,0,0,0,0,0,0,0,0,0,0]
[null,null,null,null,null,{"$f":"IF(E137=0,0,ROUND(E137*C137,0))","v":0},null,null,"",0,0,0,0,0,0,0,0,0,0,0,0,0,0]
[null,null,null,null,null,{"$f":"IF(E138=0,0,ROUND(E138*C138,0))","v":0},null,null,"",0,0,0,0,0,0,0,0,0,0,0,0,0,0]
[null,null,null,null,null,{"$f":"IF(E139=0,0,ROUND(E139*C139,0))","v":0},null,null,"",0,0,0,0,0,0,0,0,0,0,0,0,0,0]
[null,null,null,null,null,{"$f":"IF(E140=0,0,ROUND(E140*C140,0))","v":0},null,null,"",0,0,0,0,0,0,0,0,0,0,0,0,0,0]
[null,"Razem",{"$f":"SUM(C136:C140)","v":0},null,null,{"$f":"SUM(F136:F140)","v":0},null,null,null,{"$f":"SUM(J136:J140)","v":0},0,0,0,0,0,0,0,0,0,0,0,0,0]
[null,"     - amortyzacja",null,null,null,null,null,null,null,{"$f":"J149+J156+J163+J170+J177","v":0},{"$f":"K149+K156+K163+K170+K177","v":0},0,0,0,0,0,0,0,0,0,0,0,0]
[null,"     - umorzenie",null,null,null,null,null,null,null,{"$f":"J150+J157+J164+J171+J178","v":0},{"$f":"K150+K157+K164+K171+K178","v":0},0,0,0,0,0,0,0,0,0,0,0,0]
[null,"     - wartość księgowa netto",null,null,null,null,null,null,null,{"$f":"J151+J158+J165+J172+J179","v":0},{"$f":"K151+K158+K165+K172+K179","v":0},0,0,0,0,0,0,0,0,0,0,0,0]
[]
[null,"A&D1",0,null,"ile miesiący do końca roku",null,"niekwalifikowalne","spr"]
[null,"rok zakupu i miesiąc zakupu",{"$f":"YEAR(OFFSET($D$136,C146,0))","v":1900},{"$f":"MONTH(OFFSET($D$136,C146,0))","v":1},{"$f":"12-$D147","v":11},null,{"$f":"C141-F147","v":0},{"$f":"C141-F147-G147","v":0}]
[null,"wartość netto",{"$f":"IF(D148<0,0,ROUND(D148,0))","v":0},{"$f":"OFFSET($C$136,C146,0)","v":0},{"$f":"IF(D148>3.5,ROUND(($C149/12)*$E147,0),$C148)","v":0},"<- am. Do końca roku"]
[null,"amortyzacja roczna",{"$f":"IF(ISBLANK(OFFSET($D$136,C146,0)),0,IF(D148>3.5,ROUND(C148*am_wnip,0),IF(C148<0,0,C148)))","v":0},null,null,null,null,null,null,{"$f":"ROUND(IF($C147=LataProjekcji,$E148,IF($C147=LataProjekcji,$C149,0)),0)","v":0},{"$f":"ROUND(IF(OR(AND($C147=LataProjekcji,$E147>0),AND($C147=LataProjekcji,$E147=0,$D148<=3.5)),$E148,IF($C147<LataProjekcji,IF((SUM($J149:J149)+$C149)<$C148,$C149,$C148-SUM($J149:J149)),0)),0)","v":0},{"$f":"ROUND(IF(OR(AND($C147=LataProjekcji,$E147>0),AND($C147=LataProjekcji,$E147=0,$D148<=3.5)),$E148,IF($C147<LataProjekcji,IF((SUM($J149:K149)+$C149)<$C148,$C149,$C148-SUM($J149:K149)),0)),0)","v":0},{"$f":"ROUND(IF(OR(AND($C147=LataProjekcji,$E147>0),AND($C147=LataProjekcji,$E147=0,$D148<=3.5)),$E148,IF($C147<LataProjekcji,IF((SUM($J149:L149)+$C149)<$C148,$C149,$C148-SUM($J149:L149)),0)),0)","v":0},{"$f":"ROUND(IF(OR(AND($C147=LataProjekcji,$E147>0),AND($C147=LataProjekcji,$E147=0,$D148<=3.5)),$E148,IF($C147<LataProjekcji,IF((SUM($J149:M149)+$C149)<$C148,$C149,$C148-SUM($J149:M149)),0)),0)","v":0},{"$f":"ROUND(IF(OR(AND($C147=LataProjekcji,$E147>0),AND($C147=LataProjekcji,$E147=0,$D148<=3.5)),$E148,IF($C147<LataProjekcji,IF((SUM($J149:N149)+$C149)<$C148,$C149,$C148-SUM($J149:N149)),0)),0)","v":0},{"$f":"ROUND(IF(OR(AND($C147=LataProjekcji,$E147>0),AND($C147=LataProjekcji,$E147=0,$D148<=3.5)),$E148,IF($C147<LataProjekcji,IF((SUM($J149:O149)+$C149)<$C148,$C149,$C148-SUM($J149:O149)),0)),0)","v":0},{"$f":"ROUND(IF(OR(AND($C147=LataProjekcji,$E147>0),AND($C147=LataProjekcji,$E147=0,$D148<=3.5)),$E148,IF($C147<LataProjekcji,IF((SUM($J149:P149)+$C149)<$C148,$C149,$C148-SUM($J149:P149)),0)),0)","v":0},{"$f":"ROUND(IF(OR(AND($C147=LataProjekcji,$E147>0),AND($C147=LataProjekcji,$E147=0,$D148<=3.5)),$E148,IF($C147<LataProjekcji,IF((SUM($J149:Q149)+$C149)<$C148,$C149,$C148-SUM($J149:Q149)),0)),0)","v":0},{"$f":"ROUND(IF(OR(AND($C147=LataProjekcji,$E147>0),AND($C147=LataProjekcji,$E147=0,$D148<=3.5)),$E148,IF($C147<LataProjekcji,IF((SUM($J149:R149)+$C149)<$C148,$C149,$C148-SUM($J149:R149)),0)),0)","v":0},{"$f":"ROUND(IF(OR(AND($C147=LataProjekcji,$E147>0),AND($C147=LataProjekcji,$E147=0,$D148<=3.5)),$E148,IF($C147<LataProjekcji,IF((SUM($J149:S149)+$C149)<$C148,$C149,$C148-SUM($J149:S149)),0)),0)","v":0},{"$f":"ROUND(IF(OR(AND($C147=LataProjekcji,$E147>0),AND($C147=LataProjekcji,$E147=0,$D148<=3.5)),$E148,IF($C147<LataProjekcji,IF((SUM($J149:T149)+$C149)<$C148,$C149,$C148-SUM($J149:T149)),0)),0)","v":0},{"$f":"ROUND(IF(OR(AND($C147=LataProjekcji,$E147>0),AND($C147=LataProjekcji,$E147=0,$D148<=3.5)),$E148,IF($C147<LataProjekcji,IF((SUM($J149:U149)+$C149)<$C148,$C149,$C148-SUM($J149:U149)),0)),0)","v":0},{"$f":"ROUND(IF(OR(AND($C147=LataProjekcji,$E147>0),AND($C147=LataProjekcji,$E147=0,$D148<=3.5)),$E148,IF($C147<LataProjekcji,IF((SUM($J149:V149)+$C149)<$C148,$C149,$C148-SUM($J149:V149)),0)),0)","v":0}]
[null,"umorzenie",null,null,null,null,null,null,null,{"$f":"ROUND(J149,0)","v":0},{"$f":"ROUND(J150+K149,0)","v":0},0,0,0,0,0,0,0,0,0,0,0,0]
[null,"wartość netto",null,null,null,null,null,null,null,{"$f":"IF($C147=LataProjekcji,ROUND($C148-J150,0),ROUND(IF(J149=0,0,$C148-J150),0))","v":0},{"$f":"IF($C147=LataProjekcji,ROUND($C148-K150,0),ROUND(IF(AND(K149=0,J151>0),$C148-K150,IF(K149=0,0,$C148-K150)),0))","v":0},{"$f":"IF($C147=LataProjekcji,ROUND($C148-L150,0),ROUND(IF(AND(L149=0,K151>0),$C148-L150,IF(L149=0,0,$C148-L150)),0))","v":0},{"$f":"IF($C147=LataProjekcji,ROUND($C148-M150,0),ROUND(IF(AND(M149=0,L151>0),$C148-M150,IF(M149=0,0,$C148-M150)),0))","v":0},{"$f":"IF($C147=LataProjekcji,ROUND($C148-N150,0),ROUND(IF(AND(N149=0,M151>0),$C148-N150,IF(N149=0,0,$C148-N150)),0))","v":0},{"$f":"IF($C147=LataProjekcji,ROUND($C148-O150,0),ROUND(IF(AND(O149=0,N151>0),$C148-O150,IF(O149=0,0,$C148-O150)),0))","v":0},{"$f":"IF($C147=LataProjekcji,ROUND($C148-P150,0),ROUND(IF(AND(P149=0,O151>0),$C148-P150,IF(P149=0,0,$C148-P150)),0))","v":0},{"$f":"IF($C147=LataProjekcji,ROUND($C148-Q150,0),ROUND(IF(AND(Q149=0,P151>0),$C148-Q150,IF(Q149=0,0,$C148-Q150)),0))","v":0},{"$f":"IF($C147=LataProjekcji,ROUND($C148-R150,0),ROUND(IF(AND(R149=0,Q151>0),$C148-R150,IF(R149=0,0,$C148-R150)),0))","v":0},{"$f":"IF($C147=LataProjekcji,ROUND($C148-S150,0),ROUND(IF(AND(S149=0,R151>0),$C148-S150,IF(S149=0,0,$C148-S150)),0))","v":0},{"$f":"IF($C147=LataProjekcji,ROUND($C148-T150,0),ROUND(IF(AND(T149=0,S151>0),$C148-T150,IF(T149=0,0,$C148-T150)),0))","v":0},{"$f":"IF($C147=LataProjekcji,ROUND($C148-U150,0),ROUND(IF(AND(U149=0,T151>0),$C148-U150,IF(U149=0,0,$C148-U150)),0))","v":0},{"$f":"IF($C147=LataProjekcji,ROUND($C148-V150,0),ROUND(IF(AND(V149=0,U151>0),$C148-V150,IF(V149=0,0,$C148-V150)),0))","v":0},{"$f":"IF($C147=LataProjekcji,ROUND($C148-W150,0),ROUND(IF(AND(W149=0,V151>0),$C148-W150,IF(W149=0,0,$C148-W150)),0))","v":0}]
[]
[null,"A&D2",{"$f":"C146+1","v":1}]
[null,"rok zakupu i miesiąc zakupu",{"$f":"YEAR(OFFSET($D$136,C153,0))","v":1900},{"$f":"MONTH(OFFSET($D$136,C153,0))","v":1},{"$f":"12-$D154","v":11}]
[null,"wartość netto",{"$f":"IF(D155<0,0,ROUND(D155,0))","v":0},{"$f":"OFFSET($C$136,C153,0)","v":0},{"$f":"IF(D155>3.5,ROUND(($C156/12)*$E154,0),$C155)","v":0}]
[null,"amortyzacja roczna",{"$f":"IF(ISBLANK(OFFSET($D$136,C153,0)),0,IF(D155>3.5,ROUND(C155*am_wnip,0),IF(C155<0,0,C155)))","v":0},null,null,null,null,null,null,{"$f":"ROUND(IF($C154=LataProjekcji,$E155,IF($C154=LataProjekcji,$C156,0)),0)","v":0},{"$f":"ROUND(IF(OR(AND($C154=LataProjekcji,$E154>0),AND($C154=LataProjekcji,$E154=0,$D155<=3.5)),$E155,IF($C154<LataProjekcji,IF((SUM($J156:J156)+$C156)<$C155,$C156,$C155-SUM($J156:J156)),0)),0)","v":0},{"$f":"ROUND(IF(OR(AND($C154=LataProjekcji,$E154>0),AND($C154=LataProjekcji,$E154=0,$D155<=3.5)),$E155,IF($C154<LataProjekcji,IF((SUM($J156:K156)+$C156)<$C155,$C156,$C155-SUM($J156:K156)),0)),0)","v":0},{"$f":"ROUND(IF(OR(AND($C154=LataProjekcji,$E154>0),AND($C154=LataProjekcji,$E154=0,$D155<=3.5)),$E155,IF($C154<LataProjekcji,IF((SUM($J156:L156)+$C156)<$C155,$C156,$C155-SUM($J156:L156)),0)),0)","v":0},{"$f":"ROUND(IF(OR(AND($C154=LataProjekcji,$E154>0),AND($C154=LataProjekcji,$E154=0,$D155<=3.5)),$E155,IF($C154<LataProjekcji,IF((SUM($J156:M156)+$C156)<$C155,$C156,$C155-SUM($J156:M156)),0)),0)","v":0},{"$f":"ROUND(IF(OR(AND($C154=LataProjekcji,$E154>0),AND($C154=LataProjekcji,$E154=0,$D155<=3.5)),$E155,IF($C154<LataProjekcji,IF((SUM($J156:N156)+$C156)<$C155,$C156,$C155-SUM($J156:N156)),0)),0)","v":0},{"$f":"ROUND(IF(OR(AND($C154=LataProjekcji,$E154>0),AND($C154=LataProjekcji,$E154=0,$D155<=3.5)),$E155,IF($C154<LataProjekcji,IF((SUM($J156:O156)+$C156)<$C155,$C156,$C155-SUM($J156:O156)),0)),0)","v":0},{"$f":"ROUND(IF(OR(AND($C154=LataProjekcji,$E154>0),AND($C154=LataProjekcji,$E154=0,$D155<=3.5)),$E155,IF($C154<LataProjekcji,IF((SUM($J156:P156)+$C156)<$C155,$C156,$C155-SUM($J156:P156)),0)),0)","v":0},{"$f":"ROUND(IF(OR(AND($C154=LataProjekcji,$E154>0),AND($C154=LataProjekcji,$E154=0,$D155<=3.5)),$E155,IF($C154<LataProjekcji,IF((SUM($J156:Q156)+$C156)<$C155,$C156,$C155-SUM($J156:Q156)),0)),0)","v":0},{"$f":"ROUND(IF(OR(AND($C154=LataProjekcji,$E154>0),AND($C154=LataProjekcji,$E154=0,$D155<=3.5)),$E155,IF($C154<LataProjekcji,IF((SUM($J156:R156)+$C156)<$C155,$C156,$C155-SUM($J156:R156)),0)),0)","v":0},{"$f":"ROUND(IF(OR(AND($C154=LataProjekcji,$E154>0),AND($C154=LataProjekcji,$E154=0,$D155<=3.5)),$E155,IF($C154<LataProjekcji,IF((SUM($J156:S156)+$C156)<$C155,$C156,$C155-SUM($J156:S156)),0)),0)","v":0},{"$f":"ROUND(IF(OR(AND($C154=LataProjekcji,$E154>0),AND($C154=LataProjekcji,$E154=0,$D155<=3.5)),$E155,IF($C154<LataProjekcji,IF((SUM($J156:T156)+$C156)<$C155,$C156,$C155-SUM($J156:T156)),0)),0)","v":0},{"$f":"ROUND(IF(OR(AND($C154=LataProjekcji,$E154>0),AND($C154=LataProjekcji,$E154=0,$D155<=3.5)),$E155,IF($C154<LataProjekcji,IF((SUM($J156:U156)+$C156)<$C155,$C156,$C155-SUM($J156:U156)),0)),0)","v":0},{"$f":"ROUND(IF(OR(AND($C154=LataProjekcji,$E154>0),AND($C154=LataProjekcji,$E154=0,$D155<=3.5)),$E155,IF($C154<LataProjekcji,IF((SUM($J156:V156)+$C156)<$C155,$C156,$C155-SUM($J156:V156)),0)),0)","v":0}]
[null,"umorzenie",null,null,null,null,null,null,null,{"$f":"ROUND(J156,0)","v":0},{"$f":"ROUND(J157+K156,0)","v":0},{"$f":"ROUND(K157+L156,0)","v":0},{"$f":"ROUND(L157+M156,0)","v":0},{"$f":"ROUND(M157+N156,0)","v":0},{"$f":"ROUND(N157+O156,0)","v":0},{"$f":"ROUND(O157+P156,0)","v":0},{"$f":"ROUND(P157+Q156,0)","v":0},{"$f":"ROUND(Q157+R156,0)","v":0},{"$f":"ROUND(R157+S156,0)","v":0},{"$f":"ROUND(S157+T156,0)","v":0},{"$f":"ROUND(T157+U156,0)","v":0},{"$f":"ROUND(U157+V156,0)","v":0},{"$f":"ROUND(V157+W156,0)","v":0}]
[null,"wartość netto",null,null,null,null,null,null,null,{"$f":"IF($C154=LataProjekcji,ROUND($C155-J157,0),ROUND(IF(J156=0,0,$C155-J157),0))","v":0},{"$f":"IF($C154=LataProjekcji,ROUND($C155-K157,0),ROUND(IF(AND(K156=0,J158>0),$C155-K157,IF(K156=0,0,$C155-K157)),0))","v":0},{"$f":"IF($C154=LataProjekcji,ROUND($C155-L157,0),ROUND(IF(AND(L156=0,K158>0),$C155-L157,IF(L156=0,0,$C155-L157)),0))","v":0},{"$f":"IF($C154=LataProjekcji,ROUND($C155-M157,0),ROUND(IF(AND(M156=0,L158>0),$C155-M157,IF(M156=0,0,$C155-M157)),0))","v":0},{"$f":"IF($C154=LataProjekcji,ROUND($C155-N157,0),ROUND(IF(AND(N156=0,M158>0),$C155-N157,IF(N156=0,0,$C155-N157)),0))","v":0},{"$f":"IF($C154=LataProjekcji,ROUND($C155-O157,0),ROUND(IF(AND(O156=0,N158>0),$C155-O157,IF(O156=0,0,$C155-O157)),0))","v":0},{"$f":"IF($C154=LataProjekcji,ROUND($C155-P157,0),ROUND(IF(AND(P156=0,O158>0),$C155-P157,IF(P156=0,0,$C155-P157)),0))","v":0},{"$f":"IF($C154=LataProjekcji,ROUND($C155-Q157,0),ROUND(IF(AND(Q156=0,P158>0),$C155-Q157,IF(Q156=0,0,$C155-Q157)),0))","v":0},{"$f":"IF($C154=LataProjekcji,ROUND($C155-R157,0),ROUND(IF(AND(R156=0,Q158>0),$C155-R157,IF(R156=0,0,$C155-R157)),0))","v":0},{"$f":"IF($C154=LataProjekcji,ROUND($C155-S157,0),ROUND(IF(AND(S156=0,R158>0),$C155-S157,IF(S156=0,0,$C155-S157)),0))","v":0},{"$f":"IF($C154=LataProjekcji,ROUND($C155-T157,0),ROUND(IF(AND(T156=0,S158>0),$C155-T157,IF(T156=0,0,$C155-T157)),0))","v":0},{"$f":"IF($C154=LataProjekcji,ROUND($C155-U157,0),ROUND(IF(AND(U156=0,T158>0),$C155-U157,IF(U156=0,0,$C155-U157)),0))","v":0},{"$f":"IF($C154=LataProjekcji,ROUND($C155-V157,0),ROUND(IF(AND(V156=0,U158>0),$C155-V157,IF(V156=0,0,$C155-V157)),0))","v":0},{"$f":"IF($C154=LataProjekcji,ROUND($C155-W157,0),ROUND(IF(AND(W156=0,V158>0),$C155-W157,IF(W156=0,0,$C155-W157)),0))","v":0}]
[]
[null,"A&3",{"$f":"C153+1","v":2}]
[null,"rok zakupu i miesiąc zakupu",{"$f":"YEAR(OFFSET($D$136,C160,0))","v":1900},{"$f":"MONTH(OFFSET($D$136,C160,0))","v":1},{"$f":"12-$D161","v":11}]
[null,"wartość netto",{"$f":"IF(D162<0,0,ROUND(D162,0))","v":0},{"$f":"OFFSET($C$136,C160,0)","v":0},{"$f":"IF(D162>3.5,ROUND(($C163/12)*$E161,0),$C162)","v":0}]
[null,"amortyzacja roczna",{"$f":"IF(ISBLANK(OFFSET($D$136,C160,0)),0,IF(D162>3.5,ROUND(C162*am_wnip,0),IF(C162<0,0,C162)))","v":0},null,null,null,null,null,null,{"$f":"ROUND(IF($C161=LataProjekcji,$E162,IF($C161=LataProjekcji,$C163,0)),0)","v":0},{"$f":"ROUND(IF(OR(AND($C161=LataProjekcji,$E161>0),AND($C161=LataProjekcji,$E161=0,$D162<=3.5)),$E162,IF($C161<LataProjekcji,IF((SUM($J163:J163)+$C163)<$C162,$C163,$C162-SUM($J163:J163)),0)),0)","v":0},{"$f":"ROUND(IF(OR(AND($C161=LataProjekcji,$E161>0),AND($C161=LataProjekcji,$E161=0,$D162<=3.5)),$E162,IF($C161<LataProjekcji,IF((SUM($J163:K163)+$C163)<$C162,$C163,$C162-SUM($J163:K163)),0)),0)","v":0},{"$f":"ROUND(IF(OR(AND($C161=LataProjekcji,$E161>0),AND($C161=LataProjekcji,$E161=0,$D162<=3.5)),$E162,IF($C161<LataProjekcji,IF((SUM($J163:L163)+$C163)<$C162,$C163,$C162-SUM($J163:L163)),0)),0)","v":0},{"$f":"ROUND(IF(OR(AND($C161=LataProjekcji,$E161>0),AND($C161=LataProjekcji,$E161=0,$D162<=3.5)),$E162,IF($C161<LataProjekcji,IF((SUM($J163:M163)+$C163)<$C162,$C163,$C162-SUM($J163:M163)),0)),0)","v":0},{"$f":"ROUND(IF(OR(AND($C161=LataProjekcji,$E161>0),AND($C161=LataProjekcji,$E161=0,$D162<=3.5)),$E162,IF($C161<LataProjekcji,IF((SUM($J163:N163)+$C163)<$C162,$C163,$C162-SUM($J163:N163)),0)),0)","v":0},{"$f":"ROUND(IF(OR(AND($C161=LataProjekcji,$E161>0),AND($C161=LataProjekcji,$E161=0,$D162<=3.5)),$E162,IF($C161<LataProjekcji,IF((SUM($J163:O163)+$C163)<$C162,$C163,$C162-SUM($J163:O163)),0)),0)","v":0},{"$f":"ROUND(IF(OR(AND($C161=LataProjekcji,$E161>0),AND($C161=LataProjekcji,$E161=0,$D162<=3.5)),$E162,IF($C161<LataProjekcji,IF((SUM($J163:P163)+$C163)<$C162,$C163,$C162-SUM($J163:P163)),0)),0)","v":0},{"$f":"ROUND(IF(OR(AND($C161=LataProjekcji,$E161>0),AND($C161=LataProjekcji,$E161=0,$D162<=3.5)),$E162,IF($C161<LataProjekcji,IF((SUM($J163:Q163)+$C163)<$C162,$C163,$C162-SUM($J163:Q163)),0)),0)","v":0},{"$f":"ROUND(IF(OR(AND($C161=LataProjekcji,$E161>0),AND($C161=LataProjekcji,$E161=0,$D162<=3.5)),$E162,IF($C161<LataProjekcji,IF((SUM($J163:R163)+$C163)<$C162,$C163,$C162-SUM($J163:R163)),0)),0)","v":0},{"$f":"ROUND(IF(OR(AND($C161=LataProjekcji,$E161>0),AND($C161=LataProjekcji,$E161=0,$D162<=3.5)),$E162,IF($C161<LataProjekcji,IF((SUM($J163:S163)+$C163)<$C162,$C163,$C162-SUM($J163:S163)),0)),0)","v":0},{"$f":"ROUND(IF(OR(AND($C161=LataProjekcji,$E161>0),AND($C161=LataProjekcji,$E161=0,$D162<=3.5)),$E162,IF($C161<LataProjekcji,IF((SUM($J163:T163)+$C163)<$C162,$C163,$C162-SUM($J163:T163)),0)),0)","v":0},{"$f":"ROUND(IF(OR(AND($C161=LataProjekcji,$E161>0),AND($C161=LataProjekcji,$E161=0,$D162<=3.5)),$E162,IF($C161<LataProjekcji,IF((SUM($J163:U163)+$C163)<$C162,$C163,$C162-SUM($J163:U163)),0)),0)","v":0},{"$f":"ROUND(IF(OR(AND($C161=LataProjekcji,$E161>0),AND($C161=LataProjekcji,$E161=0,$D162<=3.5)),$E162,IF($C161<LataProjekcji,IF((SUM($J163:V163)+$C163)<$C162,$C163,$C162-SUM($J163:V163)),0)),0)","v":0}]
[null,"umorzenie",null,null,null,null,null,null,null,{"$f":"ROUND(J163,0)","v":0},{"$f":"ROUND(J164+K163,0)","v":0},{"$f":"ROUND(K164+L163,0)","v":0},{"$f":"ROUND(L164+M163,0)","v":0},{"$f":"ROUND(M164+N163,0)","v":0},{"$f":"ROUND(N164+O163,0)","v":0},{"$f":"ROUND(O164+P163,0)","v":0},{"$f":"ROUND(P164+Q163,0)","v":0},{"$f":"ROUND(Q164+R163,0)","v":0},{"$f":"ROUND(R164+S163,0)","v":0},{"$f":"ROUND(S164+T163,0)","v":0},{"$f":"ROUND(T164+U163,0)","v":0},{"$f":"ROUND(U164+V163,0)","v":0},{"$f":"ROUND(V164+W163,0)","v":0}]
[null,"wartość netto",null,null,null,null,null,null,null,{"$f":"IF($C161=LataProjekcji,ROUND($C162-J164,0),ROUND(IF(J163=0,0,$C162-J164),0))","v":0},{"$f":"IF($C161=LataProjekcji,ROUND($C162-K164,0),ROUND(IF(AND(K163=0,J165>0),$C162-K164,IF(K163=0,0,$C162-K164)),0))","v":0},{"$f":"IF($C161=LataProjekcji,ROUND($C162-L164,0),ROUND(IF(AND(L163=0,K165>0),$C162-L164,IF(L163=0,0,$C162-L164)),0))","v":0},{"$f":"IF($C161=LataProjekcji,ROUND($C162-M164,0),ROUND(IF(AND(M163=0,L165>0),$C162-M164,IF(M163=0,0,$C162-M164)),0))","v":0},{"$f":"IF($C161=LataProjekcji,ROUND($C162-N164,0),ROUND(IF(AND(N163=0,M165>0),$C162-N164,IF(N163=0,0,$C162-N164)),0))","v":0},{"$f":"IF($C161=LataProjekcji,ROUND($C162-O164,0),ROUND(IF(AND(O163=0,N165>0),$C162-O164,IF(O163=0,0,$C162-O164)),0))","v":0},{"$f":"IF($C161=LataProjekcji,ROUND($C162-P164,0),ROUND(IF(AND(P163=0,O165>0),$C162-P164,IF(P163=0,0,$C162-P164)),0))","v":0},{"$f":"IF($C161=LataProjekcji,ROUND($C162-Q164,0),ROUND(IF(AND(Q163=0,P165>0),$C162-Q164,IF(Q163=0,0,$C162-Q164)),0))","v":0},{"$f":"IF($C161=LataProjekcji,ROUND($C162-R164,0),ROUND(IF(AND(R163=0,Q165>0),$C162-R164,IF(R163=0,0,$C162-R164)),0))","v":0},{"$f":"IF($C161=LataProjekcji,ROUND($C162-S164,0),ROUND(IF(AND(S163=0,R165>0),$C162-S164,IF(S163=0,0,$C162-S164)),0))","v":0},{"$f":"IF($C161=LataProjekcji,ROUND($C162-T164,0),ROUND(IF(AND(T163=0,S165>0),$C162-T164,IF(T163=0,0,$C162-T164)),0))","v":0},{"$f":"IF($C161=LataProjekcji,ROUND($C162-U164,0),ROUND(IF(AND(U163=0,T165>0),$C162-U164,IF(U163=0,0,$C162-U164)),0))","v":0},{"$f":"IF($C161=LataProjekcji,ROUND($C162-V164,0),ROUND(IF(AND(V163=0,U165>0),$C162-V164,IF(V163=0,0,$C162-V164)),0))","v":0},{"$f":"IF($C161=LataProjekcji,ROUND($C162-W164,0),ROUND(IF(AND(W163=0,V165>0),$C162-W164,IF(W163=0,0,$C162-W164)),0))","v":0}]
[]
[null,"A&D4",{"$f":"C160+1","v":3}]
[null,"rok zakupu i miesiąc zakupu",{"$f":"YEAR(OFFSET($D$136,C167,0))","v":1900},{"$f":"MONTH(OFFSET($D$136,C167,0))","v":1},{"$f":"12-$D168","v":11}]
[null,"wartość netto",{"$f":"IF(D169<0,0,ROUND(D169,0))","v":0},{"$f":"OFFSET($C$136,C167,0)","v":0},{"$f":"IF(D169>3.5,ROUND(($C170/12)*$E168,0),$C169)","v":0}]
[null,"amortyzacja roczna",{"$f":"IF(ISBLANK(OFFSET($D$136,C167,0)),0,IF(D169>3.5,ROUND(C169*am_wnip,0),IF(C169<0,0,C169)))","v":0},null,null,null,null,null,null,{"$f":"ROUND(IF($C168=LataProjekcji,$E169,IF($C168=LataProjekcji,$C170,0)),0)","v":0},{"$f":"ROUND(IF(OR(AND($C168=LataProjekcji,$E168>0),AND($C168=LataProjekcji,$E168=0,$D169<=3.5)),$E169,IF($C168<LataProjekcji,IF((SUM($J170:J170)+$C170)<$C169,$C170,$C169-SUM($J170:J170)),0)),0)","v":0},{"$f":"ROUND(IF(OR(AND($C168=LataProjekcji,$E168>0),AND($C168=LataProjekcji,$E168=0,$D169<=3.5)),$E169,IF($C168<LataProjekcji,IF((SUM($J170:K170)+$C170)<$C169,$C170,$C169-SUM($J170:K170)),0)),0)","v":0},{"$f":"ROUND(IF(OR(AND($C168=LataProjekcji,$E168>0),AND($C168=LataProjekcji,$E168=0,$D169<=3.5)),$E169,IF($C168<LataProjekcji,IF((SUM($J170:L170)+$C170)<$C169,$C170,$C169-SUM($J170:L170)),0)),0)","v":0},{"$f":"ROUND(IF(OR(AND($C168=LataProjekcji,$E168>0),AND($C168=LataProjekcji,$E168=0,$D169<=3.5)),$E169,IF($C168<LataProjekcji,IF((SUM($J170:M170)+$C170)<$C169,$C170,$C169-SUM($J170:M170)),0)),0)","v":0},{"$f":"ROUND(IF(OR(AND($C168=LataProjekcji,$E168>0),AND($C168=LataProjekcji,$E168=0,$D169<=3.5)),$E169,IF($C168<LataProjekcji,IF((SUM($J170:N170)+$C170)<$C169,$C170,$C169-SUM($J170:N170)),0)),0)","v":0},{"$f":"ROUND(IF(OR(AND($C168=LataProjekcji,$E168>0),AND($C168=LataProjekcji,$E168=0,$D169<=3.5)),$E169,IF($C168<LataProjekcji,IF((SUM($J170:O170)+$C170)<$C169,$C170,$C169-SUM($J170:O170)),0)),0)","v":0},{"$f":"ROUND(IF(OR(AND($C168=LataProjekcji,$E168>0),AND($C168=LataProjekcji,$E168=0,$D169<=3.5)),$E169,IF($C168<LataProjekcji,IF((SUM($J170:P170)+$C170)<$C169,$C170,$C169-SUM($J170:P170)),0)),0)","v":0},{"$f":"ROUND(IF(OR(AND($C168=LataProjekcji,$E168>0),AND($C168=LataProjekcji,$E168=0,$D169<=3.5)),$E169,IF($C168<LataProjekcji,IF((SUM($J170:Q170)+$C170)<$C169,$C170,$C169-SUM($J170:Q170)),0)),0)","v":0},{"$f":"ROUND(IF(OR(AND($C168=LataProjekcji,$E168>0),AND($C168=LataProjekcji,$E168=0,$D169<=3.5)),$E169,IF($C168<LataProjekcji,IF((SUM($J170:R170)+$C170)<$C169,$C170,$C169-SUM($J170:R170)),0)),0)","v":0},{"$f":"ROUND(IF(OR(AND($C168=LataProjekcji,$E168>0),AND($C168=LataProjekcji,$E168=0,$D169<=3.5)),$E169,IF($C168<LataProjekcji,IF((SUM($J170:S170)+$C170)<$C169,$C170,$C169-SUM($J170:S170)),0)),0)","v":0},{"$f":"ROUND(IF(OR(AND($C168=LataProjekcji,$E168>0),AND($C168=LataProjekcji,$E168=0,$D169<=3.5)),$E169,IF($C168<LataProjekcji,IF((SUM($J170:T170)+$C170)<$C169,$C170,$C169-SUM($J170:T170)),0)),0)","v":0},{"$f":"ROUND(IF(OR(AND($C168=LataProjekcji,$E168>0),AND($C168=LataProjekcji,$E168=0,$D169<=3.5)),$E169,IF($C168<LataProjekcji,IF((SUM($J170:U170)+$C170)<$C169,$C170,$C169-SUM($J170:U170)),0)),0)","v":0},{"$f":"ROUND(IF(OR(AND($C168=LataProjekcji,$E168>0),AND($C168=LataProjekcji,$E168=0,$D169<=3.5)),$E169,IF($C168<LataProjekcji,IF((SUM($J170:V170)+$C170)<$C169,$C170,$C169-SUM($J170:V170)),0)),0)","v":0}]
[null,"umorzenie",null,null,null,null,null,null,null,{"$f":"ROUND(J170,0)","v":0},{"$f":"ROUND(J171+K170,0)","v":0},{"$f":"ROUND(K171+L170,0)","v":0},{"$f":"ROUND(L171+M170,0)","v":0},{"$f":"ROUND(M171+N170,0)","v":0},{"$f":"ROUND(N171+O170,0)","v":0},{"$f":"ROUND(O171+P170,0)","v":0},{"$f":"ROUND(P171+Q170,0)","v":0},{"$f":"ROUND(Q171+R170,0)","v":0},{"$f":"ROUND(R171+S170,0)","v":0},{"$f":"ROUND(S171+T170,0)","v":0},{"$f":"ROUND(T171+U170,0)","v":0},{"$f":"ROUND(U171+V170,0)","v":0},{"$f":"ROUND(V171+W170,0)","v":0}]
[null,"wartość netto",null,null,null,null,null,null,null,{"$f":"IF($C168=LataProjekcji,ROUND($C169-J171,0),ROUND(IF(J170=0,0,$C169-J171),0))","v":0},{"$f":"IF($C168=LataProjekcji,ROUND($C169-K171,0),ROUND(IF(AND(K170=0,J172>0),$C169-K171,IF(K170=0,0,$C169-K171)),0))","v":0},{"$f":"IF($C168=LataProjekcji,ROUND($C169-L171,0),ROUND(IF(AND(L170=0,K172>0),$C169-L171,IF(L170=0,0,$C169-L171)),0))","v":0},{"$f":"IF($C168=LataProjekcji,ROUND($C169-M171,0),ROUND(IF(AND(M170=0,L172>0),$C169-M171,IF(M170=0,0,$C169-M171)),0))","v":0},{"$f":"IF($C168=LataProjekcji,ROUND($C169-N171,0),ROUND(IF(AND(N170=0,M172>0),$C169-N171,IF(N170=0,0,$C169-N171)),0))","v":0},{"$f":"IF($C168=LataProjekcji,ROUND($C169-O171,0),ROUND(IF(AND(O170=0,N172>0),$C169-O171,IF(O170=0,0,$C169-O171)),0))","v":0},{"$f":"IF($C168=LataProjekcji,ROUND($C169-P171,0),ROUND(IF(AND(P170=0,O172>0),$C169-P171,IF(P170=0,0,$C169-P171)),0))","v":0},{"$f":"IF($C168=LataProjekcji,ROUND($C169-Q171,0),ROUND(IF(AND(Q170=0,P172>0),$C169-Q171,IF(Q170=0,0,$C169-Q171)),0))","v":0},{"$f":"IF($C168=LataProjekcji,ROUND($C169-R171,0),ROUND(IF(AND(R170=0,Q172>0),$C169-R171,IF(R170=0,0,$C169-R171)),0))","v":0},{"$f":"IF($C168=LataProjekcji,ROUND($C169-S171,0),ROUND(IF(AND(S170=0,R172>0),$C169-S171,IF(S170=0,0,$C169-S171)),0))","v":0},{"$f":"IF($C168=LataProjekcji,ROUND($C169-T171,0),ROUND(IF(AND(T170=0,S172>0),$C169-T171,IF(T170=0,0,$C169-T171)),0))","v":0},{"$f":"IF($C168=LataProjekcji,ROUND($C169-U171,0),ROUND(IF(AND(U170=0,T172>0),$C169-U171,IF(U170=0,0,$C169-U171)),0))","v":0},{"$f":"IF($C168=LataProjekcji,ROUND($C169-V171,0),ROUND(IF(AND(V170=0,U172>0),$C169-V171,IF(V170=0,0,$C169-V171)),0))","v":0},{"$f":"IF($C168=LataProjekcji,ROUND($C169-W171,0),ROUND(IF(AND(W170=0,V172>0),$C169-W171,IF(W170=0,0,$C169-W171)),0))","v":0}]
[]
[null,"A&D5",{"$f":"C167+1","v":4}]
[null,"rok zakupu i miesiąc zakupu",{"$f":"YEAR(OFFSET($D$136,C174,0))","v":1900},{"$f":"MONTH(OFFSET($D$136,C174,0))","v":1},{"$f":"12-$D175","v":11}]
[null,"wartość netto",{"$f":"IF(D176<0,0,ROUND(D176,0))","v":0},{"$f":"OFFSET($C$136,C174,0)","v":0},{"$f":"IF(D176>3.5,ROUND(($C177/12)*$E175,0),$C176)","v":0}]
[null,"amortyzacja roczna",{"$f":"IF(ISBLANK(OFFSET($D$136,C174,0)),0,IF(D176>3.5,ROUND(C176*am_wnip,0),IF(C176<0,0,C176)))","v":0},null,null,null,null,null,null,{"$f":"ROUND(IF($C175=LataProjekcji,$E176,IF($C175=LataProjekcji,$C177,0)),0)","v":0},{"$f":"ROUND(IF(OR(AND($C175=LataProjekcji,$E175>0),AND($C175=LataProjekcji,$E175=0,$D176<=3.5)),$E176,IF($C175<LataProjekcji,IF((SUM($J177:J177)+$C177)<$C176,$C177,$C176-SUM($J177:J177)),0)),0)","v":0},{"$f":"ROUND(IF(OR(AND($C175=LataProjekcji,$E175>0),AND($C175=LataProjekcji,$E175=0,$D176<=3.5)),$E176,IF($C175<LataProjekcji,IF((SUM($J177:K177)+$C177)<$C176,$C177,$C176-SUM($J177:K177)),0)),0)","v":0},{"$f":"ROUND(IF(OR(AND($C175=LataProjekcji,$E175>0),AND($C175=LataProjekcji,$E175=0,$D176<=3.5)),$E176,IF($C175<LataProjekcji,IF((SUM($J177:L177)+$C177)<$C176,$C177,$C176-SUM($J177:L177)),0)),0)","v":0},{"$f":"ROUND(IF(OR(AND($C175=LataProjekcji,$E175>0),AND($C175=LataProjekcji,$E175=0,$D176<=3.5)),$E176,IF($C175<LataProjekcji,IF((SUM($J177:M177)+$C177)<$C176,$C177,$C176-SUM($J177:M177)),0)),0)","v":0},{"$f":"ROUND(IF(OR(AND($C175=LataProjekcji,$E175>0),AND($C175=LataProjekcji,$E175=0,$D176<=3.5)),$E176,IF($C175<LataProjekcji,IF((SUM($J177:N177)+$C177)<$C176,$C177,$C176-SUM($J177:N177)),0)),0)","v":0},{"$f":"ROUND(IF(OR(AND($C175=LataProjekcji,$E175>0),AND($C175=LataProjekcji,$E175=0,$D176<=3.5)),$E176,IF($C175<LataProjekcji,IF((SUM($J177:O177)+$C177)<$C176,$C177,$C176-SUM($J177:O177)),0)),0)","v":0},{"$f":"ROUND(IF(OR(AND($C175=LataProjekcji,$E175>0),AND($C175=LataProjekcji,$E175=0,$D176<=3.5)),$E176,IF($C175<LataProjekcji,IF((SUM($J177:P177)+$C177)<$C176,$C177,$C176-SUM($J177:P177)),0)),0)","v":0},{"$f":"ROUND(IF(OR(AND($C175=LataProjekcji,$E175>0),AND($C175=LataProjekcji,$E175=0,$D176<=3.5)),$E176,IF($C175<LataProjekcji,IF((SUM($J177:Q177)+$C177)<$C176,$C177,$C176-SUM($J177:Q177)),0)),0)","v":0},{"$f":"ROUND(IF(OR(AND($C175=LataProjekcji,$E175>0),AND($C175=LataProjekcji,$E175=0,$D176<=3.5)),$E176,IF($C175<LataProjekcji,IF((SUM($J177:R177)+$C177)<$C176,$C177,$C176-SUM($J177:R177)),0)),0)","v":0},{"$f":"ROUND(IF(OR(AND($C175=LataProjekcji,$E175>0),AND($C175=LataProjekcji,$E175=0,$D176<=3.5)),$E176,IF($C175<LataProjekcji,IF((SUM($J177:S177)+$C177)<$C176,$C177,$C176-SUM($J177:S177)),0)),0)","v":0},{"$f":"ROUND(IF(OR(AND($C175=LataProjekcji,$E175>0),AND($C175=LataProjekcji,$E175=0,$D176<=3.5)),$E176,IF($C175<LataProjekcji,IF((SUM($J177:T177)+$C177)<$C176,$C177,$C176-SUM($J177:T177)),0)),0)","v":0},{"$f":"ROUND(IF(OR(AND($C175=LataProjekcji,$E175>0),AND($C175=LataProjekcji,$E175=0,$D176<=3.5)),$E176,IF($C175<LataProjekcji,IF((SUM($J177:U177)+$C177)<$C176,$C177,$C176-SUM($J177:U177)),0)),0)","v":0},{"$f":"ROUND(IF(OR(AND($C175=LataProjekcji,$E175>0),AND($C175=LataProjekcji,$E175=0,$D176<=3.5)),$E176,IF($C175<LataProjekcji,IF((SUM($J177:V177)+$C177)<$C176,$C177,$C176-SUM($J177:V177)),0)),0)","v":0}]
[null,"umorzenie",null,null,null,null,null,null,null,{"$f":"ROUND(J177,0)","v":0},{"$f":"ROUND(J178+K177,0)","v":0},{"$f":"ROUND(K178+L177,0)","v":0},{"$f":"ROUND(L178+M177,0)","v":0},{"$f":"ROUND(M178+N177,0)","v":0},{"$f":"ROUND(N178+O177,0)","v":0},{"$f":"ROUND(O178+P177,0)","v":0},{"$f":"ROUND(P178+Q177,0)","v":0},{"$f":"ROUND(Q178+R177,0)","v":0},{"$f":"ROUND(R178+S177,0)","v":0},{"$f":"ROUND(S178+T177,0)","v":0},{"$f":"ROUND(T178+U177,0)","v":0},{"$f":"ROUND(U178+V177,0)","v":0},{"$f":"ROUND(V178+W177,0)","v":0}]
[null,"wartość netto",null,null,null,null,null,null,null,{"$f":"IF($C175=LataProjekcji,ROUND($C176-J178,0),ROUND(IF(J177=0,0,$C176-J178),0))","v":0},{"$f":"IF($C175=LataProjekcji,ROUND($C176-K178,0),ROUND(IF(AND(K177=0,J179>0),$C176-K178,IF(K177=0,0,$C176-K178)),0))","v":0},{"$f":"IF($C175=LataProjekcji,ROUND($C176-L178,0),ROUND(IF(AND(L177=0,K179>0),$C176-L178,IF(L177=0,0,$C176-L178)),0))","v":0},{"$f":"IF($C175=LataProjekcji,ROUND($C176-M178,0),ROUND(IF(AND(M177=0,L179>0),$C176-M178,IF(M177=0,0,$C176-M178)),0))","v":0},{"$f":"IF($C175=LataProjekcji,ROUND($C176-N178,0),ROUND(IF(AND(N177=0,M179>0),$C176-N178,IF(N177=0,0,$C176-N178)),0))","v":0},{"$f":"IF($C175=LataProjekcji,ROUND($C176-O178,0),ROUND(IF(AND(O177=0,N179>0),$C176-O178,IF(O177=0,0,$C176-O178)),0))","v":0},{"$f":"IF($C175=LataProjekcji,ROUND($C176-P178,0),ROUND(IF(AND(P177=0,O179>0),$C176-P178,IF(P177=0,0,$C176-P178)),0))","v":0},{"$f":"IF($C175=LataProjekcji,ROUND($C176-Q178,0),ROUND(IF(AND(Q177=0,P179>0),$C176-Q178,IF(Q177=0,0,$C176-Q178)),0))","v":0},{"$f":"IF($C175=LataProjekcji,ROUND($C176-R178,0),ROUND(IF(AND(R177=0,Q179>0),$C176-R178,IF(R177=0,0,$C176-R178)),0))","v":0},{"$f":"IF($C175=LataProjekcji,ROUND($C176-S178,0),ROUND(IF(AND(S177=0,R179>0),$C176-S178,IF(S177=0,0,$C176-S178)),0))","v":0},{"$f":"IF($C175=LataProjekcji,ROUND($C176-T178,0),ROUND(IF(AND(T177=0,S179>0),$C176-T178,IF(T177=0,0,$C176-T178)),0))","v":0},{"$f":"IF($C175=LataProjekcji,ROUND($C176-U178,0),ROUND(IF(AND(U177=0,T179>0),$C176-U178,IF(U177=0,0,$C176-U178)),0))","v":0},{"$f":"IF($C175=LataProjekcji,ROUND($C176-V178,0),ROUND(IF(AND(V177=0,U179>0),$C176-V178,IF(V177=0,0,$C176-V178)),0))","v":0},{"$f":"IF($C175=LataProjekcji,ROUND($C176-W178,0),ROUND(IF(AND(W177=0,V179>0),$C176-W178,IF(W177=0,0,$C176-W178)),0))","v":0}]
[]
[]
[]
[null,"grunty","wartość netto","rok i miesiąc zakupu","dofinansowanie %","dofinansowanie PLN",null,null,null,{"$f":"LataProjekcji","v":"Uzupełnij dane"},"","","","","","","","","","","","",""]
[null,null,null,null,null,{"$f":"IF(E184=0,0,ROUND(E184*C184,0))","v":0},null,null,{"$f":"IF(OR(AND(ISNUMBER(C184),ISBLANK(D184)),AND(ISNUMBER(D184),ISBLANK(C184))),\"uzupełnij dane\",\"\")","v":""},{"$f":"ROUND(IF(AND(YEAR($D184)=LataProjekcji,$C184>0),$C184,0),0)","v":0},0,0,0,0,0,0,0,0,0,0,0,0,0]
[null,null,null,null,null,{"$f":"IF(E185=0,0,ROUND(E185*C185,0))","v":0},null,null,"",0,0,0,0,0,0,0,0,0,0,0,0,0,0]
[null,null,null,null,null,{"$f":"IF(E186=0,0,ROUND(E186*C186,0))","v":0},null,null,"",0,0,0,0,0,0,0,0,0,0,0,0,0,0]
[null,null,null,null,null,{"$f":"IF(E187=0,0,ROUND(E187*C187,0))","v":0},null,null,"",0,0,0,0,0,0,0,0,0,0,0,0,0,0]
[null,null,null,null,null,{"$f":"IF(E188=0,0,ROUND(E188*C188,0))","v":0},null,null,"",0,0,0,0,0,0,0,0,0,0,0,0,0,0]
[null,"Razem",{"$f":"SUM(C184:C188)","v":0},null,null,{"$f":"SUM(F184:F188)","v":0},null,null,null,{"$f":"SUM(J184:J188)","v":0},{"$f":"SUM(K184:K188)","v":0},0,0,0,0,0,0,0,0,0,0,0,0]
[null,"     - amortyzacja",null,null,null,null,null,null,null,{"$f":"J197+J204+J211+J218+J225","v":0},{"$f":"K197+K204+K211+K218+K225","v":0},0,0,0,0,0,0,0,0,0,0,0,0]
[null,"     - umorzenie",null,null,null,null,null,null,null,{"$f":"J198+J205+J212+J219+J226","v":0},{"$f":"K198+K205+K212+K219+K226","v":0},0,0,0,0,0,0,0,0,0,0,0,0]
[null,"     - wartość księgowa netto",null,null,null,null,null,null,null,{"$f":"J199+J206+J213+J220+J227","v":0},{"$f":"K199+K206+K213+K220+K227","v":0},0,0,0,0,0,0,0,0,0,0,0,0]
[]
[null,"A&D1",48,null,"ile miesiący do końca roku",null,"niekwalifikowalne","spr"]
[null,"rok zakupu",{"$f":"YEAR(OFFSET($D$136,C194,0))","v":1900},{"$f":"MONTH(OFFSET($D$136,C194,0))","v":1},{"$f":"12-$D195","v":11},null,{"$f":"C189-F195","v":0},{"$f":"C189-F195-G195","v":0}]
[null,"wartość netto",{"$f":"IF(D196<0,0,ROUND(D196,0))","v":0},{"$f":"OFFSET($C$136,C194,0)","v":0},{"$f":"IF(D196>3.5,ROUND(($C197/12)*$E195,0),$C196)","v":0},"<- am. Do końca roku"]
[null,"amortyzacja roczna",{"$f":"IF(ISBLANK(OFFSET($D$136,C194,0)),0,IF(D196>3.5,ROUND(C196*am_grunty,0),IF(C196<0,0,C196)))","v":0},null,null,null,null,null,null,{"$f":"ROUND(IF($C195=LataProjekcji,$E196,IF($C195=LataProjekcji,$C197,0)),0)","v":0},{"$f":"ROUND(IF(OR(AND($C195=LataProjekcji,$E195>0),AND($C195=LataProjekcji,$E195=0,$D196<=3.5)),$E196,IF($C195<LataProjekcji,IF((SUM($J197:J197)+$C197)<$C196,$C197,$C196-SUM($J197:J197)),0)),0)","v":0},{"$f":"ROUND(IF(OR(AND($C195=LataProjekcji,$E195>0),AND($C195=LataProjekcji,$E195=0,$D196<=3.5)),$E196,IF($C195<LataProjekcji,IF((SUM($J197:K197)+$C197)<$C196,$C197,$C196-SUM($J197:K197)),0)),0)","v":0},{"$f":"ROUND(IF(OR(AND($C195=LataProjekcji,$E195>0),AND($C195=LataProjekcji,$E195=0,$D196<=3.5)),$E196,IF($C195<LataProjekcji,IF((SUM($J197:L197)+$C197)<$C196,$C197,$C196-SUM($J197:L197)),0)),0)","v":0},{"$f":"ROUND(IF(OR(AND($C195=LataProjekcji,$E195>0),AND($C195=LataProjekcji,$E195=0,$D196<=3.5)),$E196,IF($C195<LataProjekcji,IF((SUM($J197:M197)+$C197)<$C196,$C197,$C196-SUM($J197:M197)),0)),0)","v":0},{"$f":"ROUND(IF(OR(AND($C195=LataProjekcji,$E195>0),AND($C195=LataProjekcji,$E195=0,$D196<=3.5)),$E196,IF($C195<LataProjekcji,IF((SUM($J197:N197)+$C197)<$C196,$C197,$C196-SUM($J197:N197)),0)),0)","v":0},{"$f":"ROUND(IF(OR(AND($C195=LataProjekcji,$E195>0),AND($C195=LataProjekcji,$E195=0,$D196<=3.5)),$E196,IF($C195<LataProjekcji,IF((SUM($J197:O197)+$C197)<$C196,$C197,$C196-SUM($J197:O197)),0)),0)","v":0},{"$f":"ROUND(IF(OR(AND($C195=LataProjekcji,$E195>0),AND($C195=LataProjekcji,$E195=0,$D196<=3.5)),$E196,IF($C195<LataProjekcji,IF((SUM($J197:P197)+$C197)<$C196,$C197,$C196-SUM($J197:P197)),0)),0)","v":0},{"$f":"ROUND(IF(OR(AND($C195=LataProjekcji,$E195>0),AND($C195=LataProjekcji,$E195=0,$D196<=3.5)),$E196,IF($C195<LataProjekcji,IF((SUM($J197:Q197)+$C197)<$C196,$C197,$C196-SUM($J197:Q197)),0)),0)","v":0},{"$f":"ROUND(IF(OR(AND($C195=LataProjekcji,$E195>0),AND($C195=LataProjekcji,$E195=0,$D196<=3.5)),$E196,IF($C195<LataProjekcji,IF((SUM($J197:R197)+$C197)<$C196,$C197,$C196-SUM($J197:R197)),0)),0)","v":0},{"$f":"ROUND(IF(OR(AND($C195=LataProjekcji,$E195>0),AND($C195=LataProjekcji,$E195=0,$D196<=3.5)),$E196,IF($C195<LataProjekcji,IF((SUM($J197:S197)+$C197)<$C196,$C197,$C196-SUM($J197:S197)),0)),0)","v":0},{"$f":"ROUND(IF(OR(AND($C195=LataProjekcji,$E195>0),AND($C195=LataProjekcji,$E195=0,$D196<=3.5)),$E196,IF($C195<LataProjekcji,IF((SUM($J197:T197)+$C197)<$C196,$C197,$C196-SUM($J197:T197)),0)),0)","v":0},{"$f":"ROUND(IF(OR(AND($C195=LataProjekcji,$E195>0),AND($C195=LataProjekcji,$E195=0,$D196<=3.5)),$E196,IF($C195<LataProjekcji,IF((SUM($J197:U197)+$C197)<$C196,$C197,$C196-SUM($J197:U197)),0)),0)","v":0},{"$f":"ROUND(IF(OR(AND($C195=LataProjekcji,$E195>0),AND($C195=LataProjekcji,$E195=0,$D196<=3.5)),$E196,IF($C195<LataProjekcji,IF((SUM($J197:V197)+$C197)<$C196,$C197,$C196-SUM($J197:V197)),0)),0)","v":0}]
[null,"umorzenie",null,null,null,null,null,null,null,{"$f":"ROUND(J197,0)","v":0},{"$f":"ROUND(J198+K197,0)","v":0},{"$f":"ROUND(K198+L197,0)","v":0},{"$f":"ROUND(L198+M197,0)","v":0},{"$f":"ROUND(M198+N197,0)","v":0},{"$f":"ROUND(N198+O197,0)","v":0},{"$f":"ROUND(O198+P197,0)","v":0},{"$f":"ROUND(P198+Q197,0)","v":0},{"$f":"ROUND(Q198+R197,0)","v":0},{"$f":"ROUND(R198+S197,0)","v":0},{"$f":"ROUND(S198+T197,0)","v":0},{"$f":"ROUND(T198+U197,0)","v":0},{"$f":"ROUND(U198+V197,0)","v":0},{"$f":"ROUND(V198+W197,0)","v":0}]
[null,"wartość netto",null,null,null,null,null,null,null,{"$f":"IF($C195=LataProjekcji,ROUND($C196-J198,0),ROUND(IF(J197=0,0,$C196-J198),0))","v":0},{"$f":"IF($C195=LataProjekcji,ROUND($C196-K198,0),ROUND(IF(AND(K197=0,J199>0),$C196-K198,IF(K197=0,0,$C196-K198)),0))","v":0},0,0,0,0,0,0,0,0,0,0,0,0]
[]
[null,"A&D2",{"$f":"C194+1","v":49}]
[null,"rok zakupu",{"$f":"YEAR(OFFSET($D$136,C201,0))","v":1900},{"$f":"MONTH(OFFSET($D$136,C201,0))","v":1},{"$f":"12-$D202","v":11}]
[null,"wartość netto",{"$f":"IF(D203<0,0,ROUND(D203,0))","v":0},{"$f":"OFFSET($C$136,C201,0)","v":0},{"$f":"IF(D203>3.5,ROUND(($C204/12)*$E202,0),$C203)","v":0}]
[null,"amortyzacja roczna",{"$f":"IF(ISBLANK(OFFSET($D$136,C201,0)),0,IF(D203>3.5,ROUND(C203*am_grunty,0),IF(C203<0,0,C203)))","v":0},null,null,null,null,null,null,{"$f":"ROUND(IF($C202=LataProjekcji,$E203,IF($C202=LataProjekcji,$C204,0)),0)","v":0},{"$f":"ROUND(IF(OR(AND($C202=LataProjekcji,$E202>0),AND($C202=LataProjekcji,$E202=0,$D203<=3.5)),$E203,IF($C202<LataProjekcji,IF((SUM($J204:J204)+$C204)<$C203,$C204,$C203-SUM($J204:J204)),0)),0)","v":0},{"$f":"ROUND(IF(OR(AND($C202=LataProjekcji,$E202>0),AND($C202=LataProjekcji,$E202=0,$D203<=3.5)),$E203,IF($C202<LataProjekcji,IF((SUM($J204:K204)+$C204)<$C203,$C204,$C203-SUM($J204:K204)),0)),0)","v":0},{"$f":"ROUND(IF(OR(AND($C202=LataProjekcji,$E202>0),AND($C202=LataProjekcji,$E202=0,$D203<=3.5)),$E203,IF($C202<LataProjekcji,IF((SUM($J204:L204)+$C204)<$C203,$C204,$C203-SUM($J204:L204)),0)),0)","v":0},{"$f":"ROUND(IF(OR(AND($C202=LataProjekcji,$E202>0),AND($C202=LataProjekcji,$E202=0,$D203<=3.5)),$E203,IF($C202<LataProjekcji,IF((SUM($J204:M204)+$C204)<$C203,$C204,$C203-SUM($J204:M204)),0)),0)","v":0},{"$f":"ROUND(IF(OR(AND($C202=LataProjekcji,$E202>0),AND($C202=LataProjekcji,$E202=0,$D203<=3.5)),$E203,IF($C202<LataProjekcji,IF((SUM($J204:N204)+$C204)<$C203,$C204,$C203-SUM($J204:N204)),0)),0)","v":0},{"$f":"ROUND(IF(OR(AND($C202=LataProjekcji,$E202>0),AND($C202=LataProjekcji,$E202=0,$D203<=3.5)),$E203,IF($C202<LataProjekcji,IF((SUM($J204:O204)+$C204)<$C203,$C204,$C203-SUM($J204:O204)),0)),0)","v":0},{"$f":"ROUND(IF(OR(AND($C202=LataProjekcji,$E202>0),AND($C202=LataProjekcji,$E202=0,$D203<=3.5)),$E203,IF($C202<LataProjekcji,IF((SUM($J204:P204)+$C204)<$C203,$C204,$C203-SUM($J204:P204)),0)),0)","v":0},{"$f":"ROUND(IF(OR(AND($C202=LataProjekcji,$E202>0),AND($C202=LataProjekcji,$E202=0,$D203<=3.5)),$E203,IF($C202<LataProjekcji,IF((SUM($J204:Q204)+$C204)<$C203,$C204,$C203-SUM($J204:Q204)),0)),0)","v":0},{"$f":"ROUND(IF(OR(AND($C202=LataProjekcji,$E202>0),AND($C202=LataProjekcji,$E202=0,$D203<=3.5)),$E203,IF($C202<LataProjekcji,IF((SUM($J204:R204)+$C204)<$C203,$C204,$C203-SUM($J204:R204)),0)),0)","v":0},{"$f":"ROUND(IF(OR(AND($C202=LataProjekcji,$E202>0),AND($C202=LataProjekcji,$E202=0,$D203<=3.5)),$E203,IF($C202<LataProjekcji,IF((SUM($J204:S204)+$C204)<$C203,$C204,$C203-SUM($J204:S204)),0)),0)","v":0},{"$f":"ROUND(IF(OR(AND($C202=LataProjekcji,$E202>0),AND($C202=LataProjekcji,$E202=0,$D203<=3.5)),$E203,IF($C202<LataProjekcji,IF((SUM($J204:T204)+$C204)<$C203,$C204,$C203-SUM($J204:T204)),0)),0)","v":0},{"$f":"ROUND(IF(OR(AND($C202=LataProjekcji,$E202>0),AND($C202=LataProjekcji,$E202=0,$D203<=3.5)),$E203,IF($C202<LataProjekcji,IF((SUM($J204:U204)+$C204)<$C203,$C204,$C203-SUM($J204:U204)),0)),0)","v":0},{"$f":"ROUND(IF(OR(AND($C202=LataProjekcji,$E202>0),AND($C202=LataProjekcji,$E202=0,$D203<=3.5)),$E203,IF($C202<LataProjekcji,IF((SUM($J204:V204)+$C204)<$C203,$C204,$C203-SUM($J204:V204)),0)),0)","v":0}]
[null,"umorzenie",null,null,null,null,null,null,null,{"$f":"ROUND(J204,0)","v":0},{"$f":"ROUND(J205+K204,0)","v":0},{"$f":"ROUND(K205+L204,0)","v":0},{"$f":"ROUND(L205+M204,0)","v":0},{"$f":"ROUND(M205+N204,0)","v":0},{"$f":"ROUND(N205+O204,0)","v":0},{"$f":"ROUND(O205+P204,0)","v":0},{"$f":"ROUND(P205+Q204,0)","v":0},{"$f":"ROUND(Q205+R204,0)","v":0},{"$f":"ROUND(R205+S204,0)","v":0},{"$f":"ROUND(S205+T204,0)","v":0},{"$f":"ROUND(T205+U204,0)","v":0},{"$f":"ROUND(U205+V204,0)","v":0},{"$f":"ROUND(V205+W204,0)","v":0}]
[null,"wartość netto",null,null,null,null,null,null,null,{"$f":"IF($C202=LataProjekcji,ROUND($C203-J205,0),ROUND(IF(J204=0,0,$C203-J205),0))","v":0},{"$f":"IF($C202=LataProjekcji,ROUND($C203-K205,0),ROUND(IF(AND(K204=0,J206>0),$C203-K205,IF(K204=0,0,$C203-K205)),0))","v":0},{"$f":"IF($C202=LataProjekcji,ROUND($C203-L205,0),ROUND(IF(AND(L204=0,K206>0),$C203-L205,IF(L204=0,0,$C203-L205)),0))","v":0},{"$f":"IF($C202=LataProjekcji,ROUND($C203-M205,0),ROUND(IF(AND(M204=0,L206>0),$C203-M205,IF(M204=0,0,$C203-M205)),0))","v":0},{"$f":"IF($C202=LataProjekcji,ROUND($C203-N205,0),ROUND(IF(AND(N204=0,M206>0),$C203-N205,IF(N204=0,0,$C203-N205)),0))","v":0},{"$f":"IF($C202=LataProjekcji,ROUND($C203-O205,0),ROUND(IF(AND(O204=0,N206>0),$C203-O205,IF(O204=0,0,$C203-O205)),0))","v":0},{"$f":"IF($C202=LataProjekcji,ROUND($C203-P205,0),ROUND(IF(AND(P204=0,O206>0),$C203-P205,IF(P204=0,0,$C203-P205)),0))","v":0},{"$f":"IF($C202=LataProjekcji,ROUND($C203-Q205,0),ROUND(IF(AND(Q204=0,P206>0),$C203-Q205,IF(Q204=0,0,$C203-Q205)),0))","v":0},{"$f":"IF($C202=LataProjekcji,ROUND($C203-R205,0),ROUND(IF(AND(R204=0,Q206>0),$C203-R205,IF(R204=0,0,$C203-R205)),0))","v":0},{"$f":"IF($C202=LataProjekcji,ROUND($C203-S205,0),ROUND(IF(AND(S204=0,R206>0),$C203-S205,IF(S204=0,0,$C203-S205)),0))","v":0},{"$f":"IF($C202=LataProjekcji,ROUND($C203-T205,0),ROUND(IF(AND(T204=0,S206>0),$C203-T205,IF(T204=0,0,$C203-T205)),0))","v":0},{"$f":"IF($C202=LataProjekcji,ROUND($C203-U205,0),ROUND(IF(AND(U204=0,T206>0),$C203-U205,IF(U204=0,0,$C203-U205)),0))","v":0},{"$f":"IF($C202=LataProjekcji,ROUND($C203-V205,0),ROUND(IF(AND(V204=0,U206>0),$C203-V205,IF(V204=0,0,$C203-V205)),0))","v":0},{"$f":"IF($C202=LataProjekcji,ROUND($C203-W205,0),ROUND(IF(AND(W204=0,V206>0),$C203-W205,IF(W204=0,0,$C203-W205)),0))","v":0}]
[]
[null,"A&3",{"$f":"C201+1","v":50}]
[null,"rok zakupu",{"$f":"YEAR(OFFSET($D$136,C208,0))","v":1900},{"$f":"MONTH(OFFSET($D$136,C208,0))","v":1},{"$f":"12-$D209","v":11}]
[null,"wartość netto",{"$f":"IF(D210<0,0,ROUND(D210,0))","v":0},{"$f":"OFFSET($C$136,C208,0)","v":0},{"$f":"IF(D210>3.5,ROUND(($C211/12)*$E209,0),$C210)","v":0}]
[null,"amortyzacja roczna",{"$f":"IF(ISBLANK(OFFSET($D$136,C208,0)),0,IF(D210>3.5,ROUND(C210*am_grunty,0),IF(C210<0,0,C210)))","v":0},null,null,null,null,null,null,{"$f":"ROUND(IF($C209=LataProjekcji,$E210,IF($C209=LataProjekcji,$C211,0)),0)","v":0},{"$f":"ROUND(IF(OR(AND($C209=LataProjekcji,$E209>0),AND($C209=LataProjekcji,$E209=0,$D210<=3.5)),$E210,IF($C209<LataProjekcji,IF((SUM($J211:J211)+$C211)<$C210,$C211,$C210-SUM($J211:J211)),0)),0)","v":0},{"$f":"ROUND(IF(OR(AND($C209=LataProjekcji,$E209>0),AND($C209=LataProjekcji,$E209=0,$D210<=3.5)),$E210,IF($C209<LataProjekcji,IF((SUM($J211:K211)+$C211)<$C210,$C211,$C210-SUM($J211:K211)),0)),0)","v":0},{"$f":"ROUND(IF(OR(AND($C209=LataProjekcji,$E209>0),AND($C209=LataProjekcji,$E209=0,$D210<=3.5)),$E210,IF($C209<LataProjekcji,IF((SUM($J211:L211)+$C211)<$C210,$C211,$C210-SUM($J211:L211)),0)),0)","v":0},{"$f":"ROUND(IF(OR(AND($C209=LataProjekcji,$E209>0),AND($C209=LataProjekcji,$E209=0,$D210<=3.5)),$E210,IF($C209<LataProjekcji,IF((SUM($J211:M211)+$C211)<$C210,$C211,$C210-SUM($J211:M211)),0)),0)","v":0},{"$f":"ROUND(IF(OR(AND($C209=LataProjekcji,$E209>0),AND($C209=LataProjekcji,$E209=0,$D210<=3.5)),$E210,IF($C209<LataProjekcji,IF((SUM($J211:N211)+$C211)<$C210,$C211,$C210-SUM($J211:N211)),0)),0)","v":0},{"$f":"ROUND(IF(OR(AND($C209=LataProjekcji,$E209>0),AND($C209=LataProjekcji,$E209=0,$D210<=3.5)),$E210,IF($C209<LataProjekcji,IF((SUM($J211:O211)+$C211)<$C210,$C211,$C210-SUM($J211:O211)),0)),0)","v":0},{"$f":"ROUND(IF(OR(AND($C209=LataProjekcji,$E209>0),AND($C209=LataProjekcji,$E209=0,$D210<=3.5)),$E210,IF($C209<LataProjekcji,IF((SUM($J211:P211)+$C211)<$C210,$C211,$C210-SUM($J211:P211)),0)),0)","v":0},{"$f":"ROUND(IF(OR(AND($C209=LataProjekcji,$E209>0),AND($C209=LataProjekcji,$E209=0,$D210<=3.5)),$E210,IF($C209<LataProjekcji,IF((SUM($J211:Q211)+$C211)<$C210,$C211,$C210-SUM($J211:Q211)),0)),0)","v":0},{"$f":"ROUND(IF(OR(AND($C209=LataProjekcji,$E209>0),AND($C209=LataProjekcji,$E209=0,$D210<=3.5)),$E210,IF($C209<LataProjekcji,IF((SUM($J211:R211)+$C211)<$C210,$C211,$C210-SUM($J211:R211)),0)),0)","v":0},{"$f":"ROUND(IF(OR(AND($C209=LataProjekcji,$E209>0),AND($C209=LataProjekcji,$E209=0,$D210<=3.5)),$E210,IF($C209<LataProjekcji,IF((SUM($J211:S211)+$C211)<$C210,$C211,$C210-SUM($J211:S211)),0)),0)","v":0},{"$f":"ROUND(IF(OR(AND($C209=LataProjekcji,$E209>0),AND($C209=LataProjekcji,$E209=0,$D210<=3.5)),$E210,IF($C209<LataProjekcji,IF((SUM($J211:T211)+$C211)<$C210,$C211,$C210-SUM($J211:T211)),0)),0)","v":0},{"$f":"ROUND(IF(OR(AND($C209=LataProjekcji,$E209>0),AND($C209=LataProjekcji,$E209=0,$D210<=3.5)),$E210,IF($C209<LataProjekcji,IF((SUM($J211:U211)+$C211)<$C210,$C211,$C210-SUM($J211:U211)),0)),0)","v":0},{"$f":"ROUND(IF(OR(AND($C209=LataProjekcji,$E209>0),AND($C209=LataProjekcji,$E209=0,$D210<=3.5)),$E210,IF($C209<LataProjekcji,IF((SUM($J211:V211)+$C211)<$C210,$C211,$C210-SUM($J211:V211)),0)),0)","v":0}]
[null,"umorzenie",null,null,null,null,null,null,null,{"$f":"ROUND(J211,0)","v":0},{"$f":"ROUND(J212+K211,0)","v":0},{"$f":"ROUND(K212+L211,0)","v":0},{"$f":"ROUND(L212+M211,0)","v":0},{"$f":"ROUND(M212+N211,0)","v":0},{"$f":"ROUND(N212+O211,0)","v":0},{"$f":"ROUND(O212+P211,0)","v":0},{"$f":"ROUND(P212+Q211,0)","v":0},{"$f":"ROUND(Q212+R211,0)","v":0},{"$f":"ROUND(R212+S211,0)","v":0},{"$f":"ROUND(S212+T211,0)","v":0},{"$f":"ROUND(T212+U211,0)","v":0},{"$f":"ROUND(U212+V211,0)","v":0},{"$f":"ROUND(V212+W211,0)","v":0}]
[null,"wartość netto",null,null,null,null,null,null,null,{"$f":"IF($C209=LataProjekcji,ROUND($C210-J212,0),ROUND(IF(J211=0,0,$C210-J212),0))","v":0},{"$f":"IF($C209=LataProjekcji,ROUND($C210-K212,0),ROUND(IF(AND(K211=0,J213>0),$C210-K212,IF(K211=0,0,$C210-K212)),0))","v":0},{"$f":"IF($C209=LataProjekcji,ROUND($C210-L212,0),ROUND(IF(AND(L211=0,K213>0),$C210-L212,IF(L211=0,0,$C210-L212)),0))","v":0},{"$f":"IF($C209=LataProjekcji,ROUND($C210-M212,0),ROUND(IF(AND(M211=0,L213>0),$C210-M212,IF(M211=0,0,$C210-M212)),0))","v":0},{"$f":"IF($C209=LataProjekcji,ROUND($C210-N212,0),ROUND(IF(AND(N211=0,M213>0),$C210-N212,IF(N211=0,0,$C210-N212)),0))","v":0},{"$f":"IF($C209=LataProjekcji,ROUND($C210-O212,0),ROUND(IF(AND(O211=0,N213>0),$C210-O212,IF(O211=0,0,$C210-O212)),0))","v":0},{"$f":"IF($C209=LataProjekcji,ROUND($C210-P212,0),ROUND(IF(AND(P211=0,O213>0),$C210-P212,IF(P211=0,0,$C210-P212)),0))","v":0},{"$f":"IF($C209=LataProjekcji,ROUND($C210-Q212,0),ROUND(IF(AND(Q211=0,P213>0),$C210-Q212,IF(Q211=0,0,$C210-Q212)),0))","v":0},{"$f":"IF($C209=LataProjekcji,ROUND($C210-R212,0),ROUND(IF(AND(R211=0,Q213>0),$C210-R212,IF(R211=0,0,$C210-R212)),0))","v":0},{"$f":"IF($C209=LataProjekcji,ROUND($C210-S212,0),ROUND(IF(AND(S211=0,R213>0),$C210-S212,IF(S211=0,0,$C210-S212)),0))","v":0},{"$f":"IF($C209=LataProjekcji,ROUND($C210-T212,0),ROUND(IF(AND(T211=0,S213>0),$C210-T212,IF(T211=0,0,$C210-T212)),0))","v":0},{"$f":"IF($C209=LataProjekcji,ROUND($C210-U212,0),ROUND(IF(AND(U211=0,T213>0),$C210-U212,IF(U211=0,0,$C210-U212)),0))","v":0},{"$f":"IF($C209=LataProjekcji,ROUND($C210-V212,0),ROUND(IF(AND(V211=0,U213>0),$C210-V212,IF(V211=0,0,$C210-V212)),0))","v":0},{"$f":"IF($C209=LataProjekcji,ROUND($C210-W212,0),ROUND(IF(AND(W211=0,V213>0),$C210-W212,IF(W211=0,0,$C210-W212)),0))","v":0}]
[]
[null,"A&D4",{"$f":"C208+1","v":51}]
[null,"rok zakupu",{"$f":"YEAR(OFFSET($D$136,C215,0))","v":1900},{"$f":"MONTH(OFFSET($D$136,C215,0))","v":1},{"$f":"12-$D216","v":11}]
[null,"wartość netto",{"$f":"IF(D217<0,0,ROUND(D217,0))","v":0},{"$f":"OFFSET($C$136,C215,0)","v":0},{"$f":"IF(D217>3.5,ROUND(($C218/12)*$E216,0),$C217)","v":0}]
[null,"amortyzacja roczna",{"$f":"IF(ISBLANK(OFFSET($D$136,C215,0)),0,IF(D217>3.5,ROUND(C217*am_grunty,0),IF(C217<0,0,C217)))","v":0},null,null,null,null,null,null,{"$f":"ROUND(IF($C216=LataProjekcji,$E217,IF($C216=LataProjekcji,$C218,0)),0)","v":0},{"$f":"ROUND(IF(OR(AND($C216=LataProjekcji,$E216>0),AND($C216=LataProjekcji,$E216=0,$D217<=3.5)),$E217,IF($C216<LataProjekcji,IF((SUM($J218:J218)+$C218)<$C217,$C218,$C217-SUM($J218:J218)),0)),0)","v":0},{"$f":"ROUND(IF(OR(AND($C216=LataProjekcji,$E216>0),AND($C216=LataProjekcji,$E216=0,$D217<=3.5)),$E217,IF($C216<LataProjekcji,IF((SUM($J218:K218)+$C218)<$C217,$C218,$C217-SUM($J218:K218)),0)),0)","v":0},{"$f":"ROUND(IF(OR(AND($C216=LataProjekcji,$E216>0),AND($C216=LataProjekcji,$E216=0,$D217<=3.5)),$E217,IF($C216<LataProjekcji,IF((SUM($J218:L218)+$C218)<$C217,$C218,$C217-SUM($J218:L218)),0)),0)","v":0},{"$f":"ROUND(IF(OR(AND($C216=LataProjekcji,$E216>0),AND($C216=LataProjekcji,$E216=0,$D217<=3.5)),$E217,IF($C216<LataProjekcji,IF((SUM($J218:M218)+$C218)<$C217,$C218,$C217-SUM($J218:M218)),0)),0)","v":0},{"$f":"ROUND(IF(OR(AND($C216=LataProjekcji,$E216>0),AND($C216=LataProjekcji,$E216=0,$D217<=3.5)),$E217,IF($C216<LataProjekcji,IF((SUM($J218:N218)+$C218)<$C217,$C218,$C217-SUM($J218:N218)),0)),0)","v":0},{"$f":"ROUND(IF(OR(AND($C216=LataProjekcji,$E216>0),AND($C216=LataProjekcji,$E216=0,$D217<=3.5)),$E217,IF($C216<LataProjekcji,IF((SUM($J218:O218)+$C218)<$C217,$C218,$C217-SUM($J218:O218)),0)),0)","v":0},{"$f":"ROUND(IF(OR(AND($C216=LataProjekcji,$E216>0),AND($C216=LataProjekcji,$E216=0,$D217<=3.5)),$E217,IF($C216<LataProjekcji,IF((SUM($J218:P218)+$C218)<$C217,$C218,$C217-SUM($J218:P218)),0)),0)","v":0},{"$f":"ROUND(IF(OR(AND($C216=LataProjekcji,$E216>0),AND($C216=LataProjekcji,$E216=0,$D217<=3.5)),$E217,IF($C216<LataProjekcji,IF((SUM($J218:Q218)+$C218)<$C217,$C218,$C217-SUM($J218:Q218)),0)),0)","v":0},{"$f":"ROUND(IF(OR(AND($C216=LataProjekcji,$E216>0),AND($C216=LataProjekcji,$E216=0,$D217<=3.5)),$E217,IF($C216<LataProjekcji,IF((SUM($J218:R218)+$C218)<$C217,$C218,$C217-SUM($J218:R218)),0)),0)","v":0},{"$f":"ROUND(IF(OR(AND($C216=LataProjekcji,$E216>0),AND($C216=LataProjekcji,$E216=0,$D217<=3.5)),$E217,IF($C216<LataProjekcji,IF((SUM($J218:S218)+$C218)<$C217,$C218,$C217-SUM($J218:S218)),0)),0)","v":0},{"$f":"ROUND(IF(OR(AND($C216=LataProjekcji,$E216>0),AND($C216=LataProjekcji,$E216=0,$D217<=3.5)),$E217,IF($C216<LataProjekcji,IF((SUM($J218:T218)+$C218)<$C217,$C218,$C217-SUM($J218:T218)),0)),0)","v":0},{"$f":"ROUND(IF(OR(AND($C216=LataProjekcji,$E216>0),AND($C216=LataProjekcji,$E216=0,$D217<=3.5)),$E217,IF($C216<LataProjekcji,IF((SUM($J218:U218)+$C218)<$C217,$C218,$C217-SUM($J218:U218)),0)),0)","v":0},{"$f":"ROUND(IF(OR(AND($C216=LataProjekcji,$E216>0),AND($C216=LataProjekcji,$E216=0,$D217<=3.5)),$E217,IF($C216<LataProjekcji,IF((SUM($J218:V218)+$C218)<$C217,$C218,$C217-SUM($J218:V218)),0)),0)","v":0}]
[null,"umorzenie",null,null,null,null,null,null,null,{"$f":"ROUND(J218,0)","v":0},{"$f":"ROUND(J219+K218,0)","v":0},{"$f":"ROUND(K219+L218,0)","v":0},{"$f":"ROUND(L219+M218,0)","v":0},{"$f":"ROUND(M219+N218,0)","v":0},{"$f":"ROUND(N219+O218,0)","v":0},{"$f":"ROUND(O219+P218,0)","v":0},{"$f":"ROUND(P219+Q218,0)","v":0},{"$f":"ROUND(Q219+R218,0)","v":0},{"$f":"ROUND(R219+S218,0)","v":0},{"$f":"ROUND(S219+T218,0)","v":0},{"$f":"ROUND(T219+U218,0)","v":0},{"$f":"ROUND(U219+V218,0)","v":0},{"$f":"ROUND(V219+W218,0)","v":0}]
[null,"wartość netto",null,null,null,null,null,null,null,{"$f":"IF($C216=LataProjekcji,ROUND($C217-J219,0),ROUND(IF(J218=0,0,$C217-J219),0))","v":0},{"$f":"IF($C216=LataProjekcji,ROUND($C217-K219,0),ROUND(IF(AND(K218=0,J220>0),$C217-K219,IF(K218=0,0,$C217-K219)),0))","v":0},{"$f":"IF($C216=LataProjekcji,ROUND($C217-L219,0),ROUND(IF(AND(L218=0,K220>0),$C217-L219,IF(L218=0,0,$C217-L219)),0))","v":0},{"$f":"IF($C216=LataProjekcji,ROUND($C217-M219,0),ROUND(IF(AND(M218=0,L220>0),$C217-M219,IF(M218=0,0,$C217-M219)),0))","v":0},{"$f":"IF($C216=LataProjekcji,ROUND($C217-N219,0),ROUND(IF(AND(N218=0,M220>0),$C217-N219,IF(N218=0,0,$C217-N219)),0))","v":0},{"$f":"IF($C216=LataProjekcji,ROUND($C217-O219,0),ROUND(IF(AND(O218=0,N220>0),$C217-O219,IF(O218=0,0,$C217-O219)),0))","v":0},{"$f":"IF($C216=LataProjekcji,ROUND($C217-P219,0),ROUND(IF(AND(P218=0,O220>0),$C217-P219,IF(P218=0,0,$C217-P219)),0))","v":0},{"$f":"IF($C216=LataProjekcji,ROUND($C217-Q219,0),ROUND(IF(AND(Q218=0,P220>0),$C217-Q219,IF(Q218=0,0,$C217-Q219)),0))","v":0},{"$f":"IF($C216=LataProjekcji,ROUND($C217-R219,0),ROUND(IF(AND(R218=0,Q220>0),$C217-R219,IF(R218=0,0,$C217-R219)),0))","v":0},{"$f":"IF($C216=LataProjekcji,ROUND($C217-S219,0),ROUND(IF(AND(S218=0,R220>0),$C217-S219,IF(S218=0,0,$C217-S219)),0))","v":0},{"$f":"IF($C216=LataProjekcji,ROUND($C217-T219,0),ROUND(IF(AND(T218=0,S220>0),$C217-T219,IF(T218=0,0,$C217-T219)),0))","v":0},{"$f":"IF($C216=LataProjekcji,ROUND($C217-U219,0),ROUND(IF(AND(U218=0,T220>0),$C217-U219,IF(U218=0,0,$C217-U219)),0))","v":0},{"$f":"IF($C216=LataProjekcji,ROUND($C217-V219,0),ROUND(IF(AND(V218=0,U220>0),$C217-V219,IF(V218=0,0,$C217-V219)),0))","v":0},{"$f":"IF($C216=LataProjekcji,ROUND($C217-W219,0),ROUND(IF(AND(W218=0,V220>0),$C217-W219,IF(W218=0,0,$C217-W219)),0))","v":0}]
[]
[null,"A&D5",{"$f":"C215+1","v":52}]
[null,"rok zakupu",{"$f":"YEAR(OFFSET($D$136,C222,0))","v":1900},{"$f":"MONTH(OFFSET($D$136,C222,0))","v":1},{"$f":"12-$D223","v":11}]
[null,"wartość netto",{"$f":"IF(D224<0,0,ROUND(D224,0))","v":0},{"$f":"OFFSET($C$136,C222,0)","v":0},{"$f":"IF(D224>3.5,ROUND(($C225/12)*$E223,0),$C224)","v":0}]
[null,"amortyzacja roczna",{"$f":"IF(ISBLANK(OFFSET($D$136,C222,0)),0,IF(D224>3.5,ROUND(C224*am_grunty,0),IF(C224<0,0,C224)))","v":0},null,null,null,null,null,null,{"$f":"ROUND(IF($C223=LataProjekcji,$E224,IF($C223=LataProjekcji,$C225,0)),0)","v":0},{"$f":"ROUND(IF(OR(AND($C223=LataProjekcji,$E223>0),AND($C223=LataProjekcji,$E223=0,$D224<=3.5)),$E224,IF($C223<LataProjekcji,IF((SUM($J225:J225)+$C225)<$C224,$C225,$C224-SUM($J225:J225)),0)),0)","v":0},{"$f":"ROUND(IF(OR(AND($C223=LataProjekcji,$E223>0),AND($C223=LataProjekcji,$E223=0,$D224<=3.5)),$E224,IF($C223<LataProjekcji,IF((SUM($J225:K225)+$C225)<$C224,$C225,$C224-SUM($J225:K225)),0)),0)","v":0},{"$f":"ROUND(IF(OR(AND($C223=LataProjekcji,$E223>0),AND($C223=LataProjekcji,$E223=0,$D224<=3.5)),$E224,IF($C223<LataProjekcji,IF((SUM($J225:L225)+$C225)<$C224,$C225,$C224-SUM($J225:L225)),0)),0)","v":0},{"$f":"ROUND(IF(OR(AND($C223=LataProjekcji,$E223>0),AND($C223=LataProjekcji,$E223=0,$D224<=3.5)),$E224,IF($C223<LataProjekcji,IF((SUM($J225:M225)+$C225)<$C224,$C225,$C224-SUM($J225:M225)),0)),0)","v":0},{"$f":"ROUND(IF(OR(AND($C223=LataProjekcji,$E223>0),AND($C223=LataProjekcji,$E223=0,$D224<=3.5)),$E224,IF($C223<LataProjekcji,IF((SUM($J225:N225)+$C225)<$C224,$C225,$C224-SUM($J225:N225)),0)),0)","v":0},{"$f":"ROUND(IF(OR(AND($C223=LataProjekcji,$E223>0),AND($C223=LataProjekcji,$E223=0,$D224<=3.5)),$E224,IF($C223<LataProjekcji,IF((SUM($J225:O225)+$C225)<$C224,$C225,$C224-SUM($J225:O225)),0)),0)","v":0},{"$f":"ROUND(IF(OR(AND($C223=LataProjekcji,$E223>0),AND($C223=LataProjekcji,$E223=0,$D224<=3.5)),$E224,IF($C223<LataProjekcji,IF((SUM($J225:P225)+$C225)<$C224,$C225,$C224-SUM($J225:P225)),0)),0)","v":0},{"$f":"ROUND(IF(OR(AND($C223=LataProjekcji,$E223>0),AND($C223=LataProjekcji,$E223=0,$D224<=3.5)),$E224,IF($C223<LataProjekcji,IF((SUM($J225:Q225)+$C225)<$C224,$C225,$C224-SUM($J225:Q225)),0)),0)","v":0},{"$f":"ROUND(IF(OR(AND($C223=LataProjekcji,$E223>0),AND($C223=LataProjekcji,$E223=0,$D224<=3.5)),$E224,IF($C223<LataProjekcji,IF((SUM($J225:R225)+$C225)<$C224,$C225,$C224-SUM($J225:R225)),0)),0)","v":0},{"$f":"ROUND(IF(OR(AND($C223=LataProjekcji,$E223>0),AND($C223=LataProjekcji,$E223=0,$D224<=3.5)),$E224,IF($C223<LataProjekcji,IF((SUM($J225:S225)+$C225)<$C224,$C225,$C224-SUM($J225:S225)),0)),0)","v":0},{"$f":"ROUND(IF(OR(AND($C223=LataProjekcji,$E223>0),AND($C223=LataProjekcji,$E223=0,$D224<=3.5)),$E224,IF($C223<LataProjekcji,IF((SUM($J225:T225)+$C225)<$C224,$C225,$C224-SUM($J225:T225)),0)),0)","v":0},{"$f":"ROUND(IF(OR(AND($C223=LataProjekcji,$E223>0),AND($C223=LataProjekcji,$E223=0,$D224<=3.5)),$E224,IF($C223<LataProjekcji,IF((SUM($J225:U225)+$C225)<$C224,$C225,$C224-SUM($J225:U225)),0)),0)","v":0},{"$f":"ROUND(IF(OR(AND($C223=LataProjekcji,$E223>0),AND($C223=LataProjekcji,$E223=0,$D224<=3.5)),$E224,IF($C223<LataProjekcji,IF((SUM($J225:V225)+$C225)<$C224,$C225,$C224-SUM($J225:V225)),0)),0)","v":0}]
[null,"umorzenie",null,null,null,null,null,null,null,{"$f":"ROUND(J225,0)","v":0},{"$f":"ROUND(J226+K225,0)","v":0},{"$f":"ROUND(K226+L225,0)","v":0},{"$f":"ROUND(L226+M225,0)","v":0},{"$f":"ROUND(M226+N225,0)","v":0},{"$f":"ROUND(N226+O225,0)","v":0},{"$f":"ROUND(O226+P225,0)","v":0},{"$f":"ROUND(P226+Q225,0)","v":0},{"$f":"ROUND(Q226+R225,0)","v":0},{"$f":"ROUND(R226+S225,0)","v":0},{"$f":"ROUND(S226+T225,0)","v":0},{"$f":"ROUND(T226+U225,0)","v":0},{"$f":"ROUND(U226+V225,0)","v":0},{"$f":"ROUND(V226+W225,0)","v":0}]
[null,"wartość netto",null,null,null,null,null,null,null,{"$f":"IF($C223=LataProjekcji,ROUND($C224-J226,0),ROUND(IF(J225=0,0,$C224-J226),0))","v":0},{"$f":"IF($C223=LataProjekcji,ROUND($C224-K226,0),ROUND(IF(AND(K225=0,J227>0),$C224-K226,IF(K225=0,0,$C224-K226)),0))","v":0},{"$f":"IF($C223=LataProjekcji,ROUND($C224-L226,0),ROUND(IF(AND(L225=0,K227>0),$C224-L226,IF(L225=0,0,$C224-L226)),0))","v":0},{"$f":"IF($C223=LataProjekcji,ROUND($C224-M226,0),ROUND(IF(AND(M225=0,L227>0),$C224-M226,IF(M225=0,0,$C224-M226)),0))","v":0},{"$f":"IF($C223=LataProjekcji,ROUND($C224-N226,0),ROUND(IF(AND(N225=0,M227>0),$C224-N226,IF(N225=0,0,$C224-N226)),0))","v":0},{"$f":"IF($C223=LataProjekcji,ROUND($C224-O226,0),ROUND(IF(AND(O225=0,N227>0),$C224-O226,IF(O225=0,0,$C224-O226)),0))","v":0},{"$f":"IF($C223=LataProjekcji,ROUND($C224-P226,0),ROUND(IF(AND(P225=0,O227>0),$C224-P226,IF(P225=0,0,$C224-P226)),0))","v":0},{"$f":"IF($C223=LataProjekcji,ROUND($C224-Q226,0),ROUND(IF(AND(Q225=0,P227>0),$C224-Q226,IF(Q225=0,0,$C224-Q226)),0))","v":0},{"$f":"IF($C223=LataProjekcji,ROUND($C224-R226,0),ROUND(IF(AND(R225=0,Q227>0),$C224-R226,IF(R225=0,0,$C224-R226)),0))","v":0},{"$f":"IF($C223=LataProjekcji,ROUND($C224-S226,0),ROUND(IF(AND(S225=0,R227>0),$C224-S226,IF(S225=0,0,$C224-S226)),0))","v":0},{"$f":"IF($C223=LataProjekcji,ROUND($C224-T226,0),ROUND(IF(AND(T225=0,S227>0),$C224-T226,IF(T225=0,0,$C224-T226)),0))","v":0},{"$f":"IF($C223=LataProjekcji,ROUND($C224-U226,0),ROUND(IF(AND(U225=0,T227>0),$C224-U226,IF(U225=0,0,$C224-U226)),0))","v":0},{"$f":"IF($C223=LataProjekcji,ROUND($C224-V226,0),ROUND(IF(AND(V225=0,U227>0),$C224-V226,IF(V225=0,0,$C224-V226)),0))","v":0},{"$f":"IF($C223=LataProjekcji,ROUND($C224-W226,0),ROUND(IF(AND(W225=0,V227>0),$C224-W226,IF(W225=0,0,$C224-W226)),0))","v":0}]
[]
[]
[null,"budynki i budowle ","wartość netto","rok i miesiąc zakupu","dofinansowanie %","dofinansowanie PLN",null,null,null,{"$f":"LataProjekcji","v":"Uzupełnij dane"},"","","","","","","","","","","","",""]
[null,null,null,null,null,{"$f":"IF(E231=0,0,ROUND(E231*C231,0))","v":0},null,null,{"$f":"IF(OR(AND(ISNUMBER(C231),ISBLANK(D231)),AND(ISNUMBER(D231),ISBLANK(C231))),\"uzupełnij dane\",\"\")","v":""},{"$f":"ROUND(IF(AND(YEAR($D231)=LataProjekcji,$C231>0),$C231,0),0)","v":0},0,0,0,0,0,0,0,0,0,0,0,0,0]
[null,null,null,null,null,{"$f":"IF(E232=0,0,ROUND(E232*C232,0))","v":0},null,null,"",0,0,0,0,0,0,0,0,0,0,0,0,0,0]
[null,null,null,null,null,{"$f":"IF(E233=0,0,ROUND(E233*C233,0))","v":0},null,null,"",0,0,0,0,0,0,0,0,0,0,0,0,0,0]
[null,null,null,null,null,{"$f":"IF(E234=0,0,ROUND(E234*C234,0))","v":0},null,null,"",0,0,0,0,0,0,0,0,0,0,0,0,0,0]
[null,null,null,null,null,{"$f":"IF(E235=0,0,ROUND(E235*C235,0))","v":0},null,null,"",0,0,0,0,0,0,0,0,0,0,0,0,0,0]
[null,{"$f":"B292","v":"zrealizowane środki trwałe w budowie"},0,"",0,0,null,null,null,{"$f":"J292","v":0},0,0,0,0,0,0,0,0,0,0,0,0,0]
[null,"zrealizowane środki trwałe w budowie",0,"",0,0,null,null,null,{"$f":"J293","v":0},0,0,0,0,0,0,0,0,0,0,0,0,0]
[null,"zrealizowane środki trwałe w budowie",0,"",0,0,null,null,null,{"$f":"J294","v":0},0,0,0,0,0,0,0,0,0,0,0,0,0]
[null,"zrealizowane środki trwałe w budowie",0,"",0,0,null,null,null,{"$f":"J295","v":0},0,0,0,0,0,0,0,0,0,0,0,0,0]
[null,"zrealizowane środki trwałe w budowie",0,"",0,0,null,null,null,{"$f":"J296","v":0},0,0,0,0,0,0,0,0,0,0,0,0,0]
[null,"Razem",{"$f":"SUM(C231:C240)","v":0},null,null,{"$f":"SUM(F231:F240)","v":0},null,null,null,{"$f":"SUM(J231:J240)","v":0},0,0,0,0,0,0,0,0,0,0,0,0,0]
[null,"     - amortyzacja",null,null,null,null,null,null,null,{"$f":"J258+J265+J272+J279+J286+J298","v":0},0,0,0,0,0,0,0,0,0,0,0,0,0]
[null,"     - umorzenie",null,null,null,null,null,null,null,{"$f":"J259+J266+J273+J280+J287+J299","v":0},0,0,0,0,0,0,0,0,0,0,0,0,0]
[null,"     - wartość księgowa netto",null,null,null,null,null,null,null,{"$f":"J260+J267+J274+J281+J288+J300","v":0},0,0,0,0,0,0,0,0,0,0,0,0,0]
[]
[null,"środki trwałe w budowie \n(prace budowlane > 1 rok)","rok rozpoczęcia prac budowlanych","rok i miesiąc zakończenia prac budowlanych","dofinansowanie %","dofinansowanie PLN",null,null,"razem prace budowlane",{"$f":"LataProjekcji","v":"Uzupełnij dane"},"","","","","","","","","","","","",""]
[null,null,null,null,null,{"$f":"IF(E247=0,0,ROUND(E247*C292,0))","v":0},null,null,{"$f":"IF(AND(ISBLANK(C247),ISBLANK(D247)),\"\",IF(OR(ISBLANK(C247),ISBLANK(D247)),\"Uzupełnij dane\",C236))","v":""}]
[null,null,null,null,null,{"$f":"IF(E248=0,0,ROUND(E248*C293,0))","v":0},null,null,{"$f":"IF(AND(ISBLANK(C248),ISBLANK(D248)),\"\",IF(OR(ISBLANK(C248),ISBLANK(D248)),\"Uzupełnij dane\",C237))","v":""}]
[null,null,null,null,null,{"$f":"IF(E249=0,0,ROUND(E249*C294,0))","v":0},null,null,""]
[null,null,null,null,null,{"$f":"IF(E250=0,0,ROUND(E250*C295,0))","v":0},null,null,""]
[null,null,null,null,null,{"$f":"IF(E251=0,0,ROUND(E251*C296,0))","v":0},null,null,""]
[null,"Razem",null,null,null,{"$f":"SUM(F247:F251)","v":0},null,null,{"$f":"SUM(I247:I251)","v":0},{"$f":"SUM(J247:J251)","v":0},0,0,0,0,0,0,0,0,0,0,0,0,0]
[]
[]
[null,"budynki i budowle 1",95,null,"ile miesiący do końca roku",null,"niekwalifikowalne","spr"]
[null,"rok zakupu",{"$f":"YEAR(OFFSET($D$136,C255,0))","v":1900},{"$f":"MONTH(OFFSET($D$136,C255,0))","v":1},{"$f":"12-$D256","v":11},null,{"$f":"C250-F256","v":0},{"$f":"C250-F256-G256","v":0}]
[null,"wartość netto",{"$f":"IF(D257<0,0,ROUND(D257,0))","v":0},{"$f":"OFFSET($C$136,C255,0)","v":0},{"$f":"IF(D257>3.5,ROUND(($C258/12)*$E256,0),$C257)","v":0},"<- am. Do końca roku"]
[null,"amortyzacja roczna",{"$f":"IF(ISBLANK(OFFSET($D$136,C255,0)),0,IF(D257>3.5,ROUND(C257*am_budynki,0),IF(C257<0,0,C257)))","v":0},null,null,null,null,null,null,{"$f":"ROUND(IF($C256=LataProjekcji,$E257,IF($C256=LataProjekcji,$C258,0)),0)","v":0},{"$f":"ROUND(IF(OR(AND($C256=LataProjekcji,$E256>0),AND($C256=LataProjekcji,$E256=0,$D257<=3.5)),$E257,IF($C256<LataProjekcji,IF((SUM($J258:J258)+$C258)<$C257,$C258,$C257-SUM($J258:J258)),0)),0)","v":0},{"$f":"ROUND(IF(OR(AND($C256=LataProjekcji,$E256>0),AND($C256=LataProjekcji,$E256=0,$D257<=3.5)),$E257,IF($C256<LataProjekcji,IF((SUM($J258:K258)+$C258)<$C257,$C258,$C257-SUM($J258:K258)),0)),0)","v":0},{"$f":"ROUND(IF(OR(AND($C256=LataProjekcji,$E256>0),AND($C256=LataProjekcji,$E256=0,$D257<=3.5)),$E257,IF($C256<LataProjekcji,IF((SUM($J258:L258)+$C258)<$C257,$C258,$C257-SUM($J258:L258)),0)),0)","v":0},{"$f":"ROUND(IF(OR(AND($C256=LataProjekcji,$E256>0),AND($C256=LataProjekcji,$E256=0,$D257<=3.5)),$E257,IF($C256<LataProjekcji,IF((SUM($J258:M258)+$C258)<$C257,$C258,$C257-SUM($J258:M258)),0)),0)","v":0},{"$f":"ROUND(IF(OR(AND($C256=LataProjekcji,$E256>0),AND($C256=LataProjekcji,$E256=0,$D257<=3.5)),$E257,IF($C256<LataProjekcji,IF((SUM($J258:N258)+$C258)<$C257,$C258,$C257-SUM($J258:N258)),0)),0)","v":0},{"$f":"ROUND(IF(OR(AND($C256=LataProjekcji,$E256>0),AND($C256=LataProjekcji,$E256=0,$D257<=3.5)),$E257,IF($C256<LataProjekcji,IF((SUM($J258:O258)+$C258)<$C257,$C258,$C257-SUM($J258:O258)),0)),0)","v":0},{"$f":"ROUND(IF(OR(AND($C256=LataProjekcji,$E256>0),AND($C256=LataProjekcji,$E256=0,$D257<=3.5)),$E257,IF($C256<LataProjekcji,IF((SUM($J258:P258)+$C258)<$C257,$C258,$C257-SUM($J258:P258)),0)),0)","v":0},{"$f":"ROUND(IF(OR(AND($C256=LataProjekcji,$E256>0),AND($C256=LataProjekcji,$E256=0,$D257<=3.5)),$E257,IF($C256<LataProjekcji,IF((SUM($J258:Q258)+$C258)<$C257,$C258,$C257-SUM($J258:Q258)),0)),0)","v":0},{"$f":"ROUND(IF(OR(AND($C256=LataProjekcji,$E256>0),AND($C256=LataProjekcji,$E256=0,$D257<=3.5)),$E257,IF($C256<LataProjekcji,IF((SUM($J258:R258)+$C258)<$C257,$C258,$C257-SUM($J258:R258)),0)),0)","v":0},{"$f":"ROUND(IF(OR(AND($C256=LataProjekcji,$E256>0),AND($C256=LataProjekcji,$E256=0,$D257<=3.5)),$E257,IF($C256<LataProjekcji,IF((SUM($J258:S258)+$C258)<$C257,$C258,$C257-SUM($J258:S258)),0)),0)","v":0},{"$f":"ROUND(IF(OR(AND($C256=LataProjekcji,$E256>0),AND($C256=LataProjekcji,$E256=0,$D257<=3.5)),$E257,IF($C256<LataProjekcji,IF((SUM($J258:T258)+$C258)<$C257,$C258,$C257-SUM($J258:T258)),0)),0)","v":0},{"$f":"ROUND(IF(OR(AND($C256=LataProjekcji,$E256>0),AND($C256=LataProjekcji,$E256=0,$D257<=3.5)),$E257,IF($C256<LataProjekcji,IF((SUM($J258:U258)+$C258)<$C257,$C258,$C257-SUM($J258:U258)),0)),0)","v":0},{"$f":"ROUND(IF(OR(AND($C256=LataProjekcji,$E256>0),AND($C256=LataProjekcji,$E256=0,$D257<=3.5)),$E257,IF($C256<LataProjekcji,IF((SUM($J258:V258)+$C258)<$C257,$C258,$C257-SUM($J258:V258)),0)),0)","v":0}]
[null,"umorzenie",null,null,null,null,null,null,null,{"$f":"ROUND(J258,0)","v":0},{"$f":"ROUND(J259+K258,0)","v":0},{"$f":"ROUND(K259+L258,0)","v":0},{"$f":"ROUND(L259+M258,0)","v":0},{"$f":"ROUND(M259+N258,0)","v":0},{"$f":"ROUND(N259+O258,0)","v":0},{"$f":"ROUND(O259+P258,0)","v":0},{"$f":"ROUND(P259+Q258,0)","v":0},{"$f":"ROUND(Q259+R258,0)","v":0},{"$f":"ROUND(R259+S258,0)","v":0},{"$f":"ROUND(S259+T258,0)","v":0},{"$f":"ROUND(T259+U258,0)","v":0},{"$f":"ROUND(U259+V258,0)","v":0},{"$f":"ROUND(V259+W258,0)","v":0}]
[null,"wartość netto",null,null,null,null,null,null,null,{"$f":"IF($C256=LataProjekcji,ROUND($C257-J259,0),ROUND(IF(J258=0,0,$C257-J259),0))","v":0},{"$f":"IF($C256=LataProjekcji,ROUND($C257-K259,0),ROUND(IF(AND(K258=0,J260>0),$C257-K259,IF(K258=0,0,$C257-K259)),0))","v":0},{"$f":"IF($C256=LataProjekcji,ROUND($C257-L259,0),ROUND(IF(AND(L258=0,K260>0),$C257-L259,IF(L258=0,0,$C257-L259)),0))","v":0},{"$f":"IF($C256=LataProjekcji,ROUND($C257-M259,0),ROUND(IF(AND(M258=0,L260>0),$C257-M259,IF(M258=0,0,$C257-M259)),0))","v":0},{"$f":"IF($C256=LataProjekcji,ROUND($C257-N259,0),ROUND(IF(AND(N258=0,M260>0),$C257-N259,IF(N258=0,0,$C257-N259)),0))","v":0},{"$f":"IF($C256=LataProjekcji,ROUND($C257-O259,0),ROUND(IF(AND(O258=0,N260>0),$C257-O259,IF(O258=0,0,$C257-O259)),0))","v":0},{"$f":"IF($C256=LataProjekcji,ROUND($C257-P259,0),ROUND(IF(AND(P258=0,O260>0),$C257-P259,IF(P258=0,0,$C257-P259)),0))","v":0},{"$f":"IF($C256=LataProjekcji,ROUND($C257-Q259,0),ROUND(IF(AND(Q258=0,P260>0),$C257-Q259,IF(Q258=0,0,$C257-Q259)),0))","v":0},{"$f":"IF($C256=LataProjekcji,ROUND($C257-R259,0),ROUND(IF(AND(R258=0,Q260>0),$C257-R259,IF(R258=0,0,$C257-R259)),0))","v":0},{"$f":"IF($C256=LataProjekcji,ROUND($C257-S259,0),ROUND(IF(AND(S258=0,R260>0),$C257-S259,IF(S258=0,0,$C257-S259)),0))","v":0},{"$f":"IF($C256=LataProjekcji,ROUND($C257-T259,0),ROUND(IF(AND(T258=0,S260>0),$C257-T259,IF(T258=0,0,$C257-T259)),0))","v":0},{"$f":"IF($C256=LataProjekcji,ROUND($C257-U259,0),ROUND(IF(AND(U258=0,T260>0),$C257-U259,IF(U258=0,0,$C257-U259)),0))","v":0},{"$f":"IF($C256=LataProjekcji,ROUND($C257-V259,0),ROUND(IF(AND(V258=0,U260>0),$C257-V259,IF(V258=0,0,$C257-V259)),0))","v":0},{"$f":"IF($C256=LataProjekcji,ROUND($C257-W259,0),ROUND(IF(AND(W258=0,V260>0),$C257-W259,IF(W258=0,0,$C257-W259)),0))","v":0}]
[]
[null,"budynki i budowle 2",{"$f":"C255+1","v":96}]
[null,"rok zakupu",{"$f":"YEAR(OFFSET($D$136,C262,0))","v":1900},{"$f":"MONTH(OFFSET($D$136,C262,0))","v":1},{"$f":"12-$D263","v":11}]
[null,"wartość netto",{"$f":"IF(D264<0,0,ROUND(D264,0))","v":0},{"$f":"OFFSET($C$136,C262,0)","v":0},{"$f":"IF(D264>3.5,ROUND(($C265/12)*$E263,0),$C264)","v":0}]
[null,"amortyzacja roczna",{"$f":"IF(ISBLANK(OFFSET($D$136,C262,0)),0,IF(D264>3.5,ROUND(C264*am_budynki,0),IF(C264<0,0,C264)))","v":0},null,null,null,null,null,null,{"$f":"ROUND(IF($C263=LataProjekcji,$E264,IF($C263=LataProjekcji,$C265,0)),0)","v":0},{"$f":"ROUND(IF(OR(AND($C263=LataProjekcji,$E263>0),AND($C263=LataProjekcji,$E263=0,$D264<=3.5)),$E264,IF($C263<LataProjekcji,IF((SUM($J265:J265)+$C265)<$C264,$C265,$C264-SUM($J265:J265)),0)),0)","v":0},{"$f":"ROUND(IF(OR(AND($C263=LataProjekcji,$E263>0),AND($C263=LataProjekcji,$E263=0,$D264<=3.5)),$E264,IF($C263<LataProjekcji,IF((SUM($J265:K265)+$C265)<$C264,$C265,$C264-SUM($J265:K265)),0)),0)","v":0},{"$f":"ROUND(IF(OR(AND($C263=LataProjekcji,$E263>0),AND($C263=LataProjekcji,$E263=0,$D264<=3.5)),$E264,IF($C263<LataProjekcji,IF((SUM($J265:L265)+$C265)<$C264,$C265,$C264-SUM($J265:L265)),0)),0)","v":0},{"$f":"ROUND(IF(OR(AND($C263=LataProjekcji,$E263>0),AND($C263=LataProjekcji,$E263=0,$D264<=3.5)),$E264,IF($C263<LataProjekcji,IF((SUM($J265:M265)+$C265)<$C264,$C265,$C264-SUM($J265:M265)),0)),0)","v":0},{"$f":"ROUND(IF(OR(AND($C263=LataProjekcji,$E263>0),AND($C263=LataProjekcji,$E263=0,$D264<=3.5)),$E264,IF($C263<LataProjekcji,IF((SUM($J265:N265)+$C265)<$C264,$C265,$C264-SUM($J265:N265)),0)),0)","v":0},{"$f":"ROUND(IF(OR(AND($C263=LataProjekcji,$E263>0),AND($C263=LataProjekcji,$E263=0,$D264<=3.5)),$E264,IF($C263<LataProjekcji,IF((SUM($J265:O265)+$C265)<$C264,$C265,$C264-SUM($J265:O265)),0)),0)","v":0},{"$f":"ROUND(IF(OR(AND($C263=LataProjekcji,$E263>0),AND($C263=LataProjekcji,$E263=0,$D264<=3.5)),$E264,IF($C263<LataProjekcji,IF((SUM($J265:P265)+$C265)<$C264,$C265,$C264-SUM($J265:P265)),0)),0)","v":0},{"$f":"ROUND(IF(OR(AND($C263=LataProjekcji,$E263>0),AND($C263=LataProjekcji,$E263=0,$D264<=3.5)),$E264,IF($C263<LataProjekcji,IF((SUM($J265:Q265)+$C265)<$C264,$C265,$C264-SUM($J265:Q265)),0)),0)","v":0},{"$f":"ROUND(IF(OR(AND($C263=LataProjekcji,$E263>0),AND($C263=LataProjekcji,$E263=0,$D264<=3.5)),$E264,IF($C263<LataProjekcji,IF((SUM($J265:R265)+$C265)<$C264,$C265,$C264-SUM($J265:R265)),0)),0)","v":0},{"$f":"ROUND(IF(OR(AND($C263=LataProjekcji,$E263>0),AND($C263=LataProjekcji,$E263=0,$D264<=3.5)),$E264,IF($C263<LataProjekcji,IF((SUM($J265:S265)+$C265)<$C264,$C265,$C264-SUM($J265:S265)),0)),0)","v":0},{"$f":"ROUND(IF(OR(AND($C263=LataProjekcji,$E263>0),AND($C263=LataProjekcji,$E263=0,$D264<=3.5)),$E264,IF($C263<LataProjekcji,IF((SUM($J265:T265)+$C265)<$C264,$C265,$C264-SUM($J265:T265)),0)),0)","v":0},{"$f":"ROUND(IF(OR(AND($C263=LataProjekcji,$E263>0),AND($C263=LataProjekcji,$E263=0,$D264<=3.5)),$E264,IF($C263<LataProjekcji,IF((SUM($J265:U265)+$C265)<$C264,$C265,$C264-SUM($J265:U265)),0)),0)","v":0},{"$f":"ROUND(IF(OR(AND($C263=LataProjekcji,$E263>0),AND($C263=LataProjekcji,$E263=0,$D264<=3.5)),$E264,IF($C263<LataProjekcji,IF((SUM($J265:V265)+$C265)<$C264,$C265,$C264-SUM($J265:V265)),0)),0)","v":0}]
[null,"umorzenie",null,null,null,null,null,null,null,{"$f":"ROUND(J265,0)","v":0},{"$f":"ROUND(J266+K265,0)","v":0},{"$f":"ROUND(K266+L265,0)","v":0},{"$f":"ROUND(L266+M265,0)","v":0},{"$f":"ROUND(M266+N265,0)","v":0},{"$f":"ROUND(N266+O265,0)","v":0},{"$f":"ROUND(O266+P265,0)","v":0},{"$f":"ROUND(P266+Q265,0)","v":0},{"$f":"ROUND(Q266+R265,0)","v":0},{"$f":"ROUND(R266+S265,0)","v":0},{"$f":"ROUND(S266+T265,0)","v":0},{"$f":"ROUND(T266+U265,0)","v":0},{"$f":"ROUND(U266+V265,0)","v":0},{"$f":"ROUND(V266+W265,0)","v":0}]
[null,"wartość netto",null,null,null,null,null,null,null,{"$f":"IF($C263=LataProjekcji,ROUND($C264-J266,0),ROUND(IF(J265=0,0,$C264-J266),0))","v":0},{"$f":"IF($C263=LataProjekcji,ROUND($C264-K266,0),ROUND(IF(AND(K265=0,J267>0),$C264-K266,IF(K265=0,0,$C264-K266)),0))","v":0},{"$f":"IF($C263=LataProjekcji,ROUND($C264-L266,0),ROUND(IF(AND(L265=0,K267>0),$C264-L266,IF(L265=0,0,$C264-L266)),0))","v":0},{"$f":"IF($C263=LataProjekcji,ROUND($C264-M266,0),ROUND(IF(AND(M265=0,L267>0),$C264-M266,IF(M265=0,0,$C264-M266)),0))","v":0},{"$f":"IF($C263=LataProjekcji,ROUND($C264-N266,0),ROUND(IF(AND(N265=0,M267>0),$C264-N266,IF(N265=0,0,$C264-N266)),0))","v":0},{"$f":"IF($C263=LataProjekcji,ROUND($C264-O266,0),ROUND(IF(AND(O265=0,N267>0),$C264-O266,IF(O265=0,0,$C264-O266)),0))","v":0},{"$f":"IF($C263=LataProjekcji,ROUND($C264-P266,0),ROUND(IF(AND(P265=0,O267>0),$C264-P266,IF(P265=0,0,$C264-P266)),0))","v":0},{"$f":"IF($C263=LataProjekcji,ROUND($C264-Q266,0),ROUND(IF(AND(Q265=0,P267>0),$C264-Q266,IF(Q265=0,0,$C264-Q266)),0))","v":0},{"$f":"IF($C263=LataProjekcji,ROUND($C264-R266,0),ROUND(IF(AND(R265=0,Q267>0),$C264-R266,IF(R265=0,0,$C264-R266)),0))","v":0},{"$f":"IF($C263=LataProjekcji,ROUND($C264-S266,0),ROUND(IF(AND(S265=0,R267>0),$C264-S266,IF(S265=0,0,$C264-S266)),0))","v":0},{"$f":"IF($C263=LataProjekcji,ROUND($C264-T266,0),ROUND(IF(AND(T265=0,S267>0),$C264-T266,IF(T265=0,0,$C264-T266)),0))","v":0},{"$f":"IF($C263=LataProjekcji,ROUND($C264-U266,0),ROUND(IF(AND(U265=0,T267>0),$C264-U266,IF(U265=0,0,$C264-U266)),0))","v":0},{"$f":"IF($C263=LataProjekcji,ROUND($C264-V266,0),ROUND(IF(AND(V265=0,U267>0),$C264-V266,IF(V265=0,0,$C264-V266)),0))","v":0},{"$f":"IF($C263=LataProjekcji,ROUND($C264-W266,0),ROUND(IF(AND(W265=0,V267>0),$C264-W266,IF(W265=0,0,$C264-W266)),0))","v":0}]
[]
[null,"budynki i budowle 3",{"$f":"C262+1","v":97}]
[null,"rok zakupu",{"$f":"YEAR(OFFSET($D$136,C269,0))","v":1900},{"$f":"MONTH(OFFSET($D$136,C269,0))","v":1},{"$f":"12-$D270","v":11}]
[null,"wartość netto",{"$f":"IF(D271<0,0,ROUND(D271,0))","v":0},{"$f":"OFFSET($C$136,C269,0)","v":0},{"$f":"IF(D271>3.5,ROUND(($C272/12)*$E270,0),$C271)","v":0}]
[null,"amortyzacja roczna",{"$f":"IF(ISBLANK(OFFSET($D$136,C269,0)),0,IF(D271>3.5,ROUND(C271*am_budynki,0),IF(C271<0,0,C271)))","v":0},null,null,null,null,null,null,{"$f":"ROUND(IF($C270=LataProjekcji,$E271,IF($C270=LataProjekcji,$C272,0)),0)","v":0},{"$f":"ROUND(IF(OR(AND($C270=LataProjekcji,$E270>0),AND($C270=LataProjekcji,$E270=0,$D271<=3.5)),$E271,IF($C270<LataProjekcji,IF((SUM($J272:J272)+$C272)<$C271,$C272,$C271-SUM($J272:J272)),0)),0)","v":0},{"$f":"ROUND(IF(OR(AND($C270=LataProjekcji,$E270>0),AND($C270=LataProjekcji,$E270=0,$D271<=3.5)),$E271,IF($C270<LataProjekcji,IF((SUM($J272:K272)+$C272)<$C271,$C272,$C271-SUM($J272:K272)),0)),0)","v":0},{"$f":"ROUND(IF(OR(AND($C270=LataProjekcji,$E270>0),AND($C270=LataProjekcji,$E270=0,$D271<=3.5)),$E271,IF($C270<LataProjekcji,IF((SUM($J272:L272)+$C272)<$C271,$C272,$C271-SUM($J272:L272)),0)),0)","v":0},{"$f":"ROUND(IF(OR(AND($C270=LataProjekcji,$E270>0),AND($C270=LataProjekcji,$E270=0,$D271<=3.5)),$E271,IF($C270<LataProjekcji,IF((SUM($J272:M272)+$C272)<$C271,$C272,$C271-SUM($J272:M272)),0)),0)","v":0},{"$f":"ROUND(IF(OR(AND($C270=LataProjekcji,$E270>0),AND($C270=LataProjekcji,$E270=0,$D271<=3.5)),$E271,IF($C270<LataProjekcji,IF((SUM($J272:N272)+$C272)<$C271,$C272,$C271-SUM($J272:N272)),0)),0)","v":0},{"$f":"ROUND(IF(OR(AND($C270=LataProjekcji,$E270>0),AND($C270=LataProjekcji,$E270=0,$D271<=3.5)),$E271,IF($C270<LataProjekcji,IF((SUM($J272:O272)+$C272)<$C271,$C272,$C271-SUM($J272:O272)),0)),0)","v":0},{"$f":"ROUND(IF(OR(AND($C270=LataProjekcji,$E270>0),AND($C270=LataProjekcji,$E270=0,$D271<=3.5)),$E271,IF($C270<LataProjekcji,IF((SUM($J272:P272)+$C272)<$C271,$C272,$C271-SUM($J272:P272)),0)),0)","v":0},{"$f":"ROUND(IF(OR(AND($C270=LataProjekcji,$E270>0),AND($C270=LataProjekcji,$E270=0,$D271<=3.5)),$E271,IF($C270<LataProjekcji,IF((SUM($J272:Q272)+$C272)<$C271,$C272,$C271-SUM($J272:Q272)),0)),0)","v":0},{"$f":"ROUND(IF(OR(AND($C270=LataProjekcji,$E270>0),AND($C270=LataProjekcji,$E270=0,$D271<=3.5)),$E271,IF($C270<LataProjekcji,IF((SUM($J272:R272)+$C272)<$C271,$C272,$C271-SUM($J272:R272)),0)),0)","v":0},{"$f":"ROUND(IF(OR(AND($C270=LataProjekcji,$E270>0),AND($C270=LataProjekcji,$E270=0,$D271<=3.5)),$E271,IF($C270<LataProjekcji,IF((SUM($J272:S272)+$C272)<$C271,$C272,$C271-SUM($J272:S272)),0)),0)","v":0},{"$f":"ROUND(IF(OR(AND($C270=LataProjekcji,$E270>0),AND($C270=LataProjekcji,$E270=0,$D271<=3.5)),$E271,IF($C270<LataProjekcji,IF((SUM($J272:T272)+$C272)<$C271,$C272,$C271-SUM($J272:T272)),0)),0)","v":0},{"$f":"ROUND(IF(OR(AND($C270=LataProjekcji,$E270>0),AND($C270=LataProjekcji,$E270=0,$D271<=3.5)),$E271,IF($C270<LataProjekcji,IF((SUM($J272:U272)+$C272)<$C271,$C272,$C271-SUM($J272:U272)),0)),0)","v":0},{"$f":"ROUND(IF(OR(AND($C270=LataProjekcji,$E270>0),AND($C270=LataProjekcji,$E270=0,$D271<=3.5)),$E271,IF($C270<LataProjekcji,IF((SUM($J272:V272)+$C272)<$C271,$C272,$C271-SUM($J272:V272)),0)),0)","v":0}]
[null,"umorzenie",null,null,null,null,null,null,null,{"$f":"ROUND(J272,0)","v":0},{"$f":"ROUND(J273+K272,0)","v":0},{"$f":"ROUND(K273+L272,0)","v":0},{"$f":"ROUND(L273+M272,0)","v":0},{"$f":"ROUND(M273+N272,0)","v":0},{"$f":"ROUND(N273+O272,0)","v":0},{"$f":"ROUND(O273+P272,0)","v":0},{"$f":"ROUND(P273+Q272,0)","v":0},{"$f":"ROUND(Q273+R272,0)","v":0},{"$f":"ROUND(R273+S272,0)","v":0},{"$f":"ROUND(S273+T272,0)","v":0},{"$f":"ROUND(T273+U272,0)","v":0},{"$f":"ROUND(U273+V272,0)","v":0},{"$f":"ROUND(V273+W272,0)","v":0}]
[null,"wartość netto",null,null,null,null,null,null,null,{"$f":"IF($C270=LataProjekcji,ROUND($C271-J273,0),ROUND(IF(J272=0,0,$C271-J273),0))","v":0},{"$f":"IF($C270=LataProjekcji,ROUND($C271-K273,0),ROUND(IF(AND(K272=0,J274>0),$C271-K273,IF(K272=0,0,$C271-K273)),0))","v":0},{"$f":"IF($C270=LataProjekcji,ROUND($C271-L273,0),ROUND(IF(AND(L272=0,K274>0),$C271-L273,IF(L272=0,0,$C271-L273)),0))","v":0},{"$f":"IF($C270=LataProjekcji,ROUND($C271-M273,0),ROUND(IF(AND(M272=0,L274>0),$C271-M273,IF(M272=0,0,$C271-M273)),0))","v":0},{"$f":"IF($C270=LataProjekcji,ROUND($C271-N273,0),ROUND(IF(AND(N272=0,M274>0),$C271-N273,IF(N272=0,0,$C271-N273)),0))","v":0},{"$f":"IF($C270=LataProjekcji,ROUND($C271-O273,0),ROUND(IF(AND(O272=0,N274>0),$C271-O273,IF(O272=0,0,$C271-O273)),0))","v":0},{"$f":"IF($C270=LataProjekcji,ROUND($C271-P273,0),ROUND(IF(AND(P272=0,O274>0),$C271-P273,IF(P272=0,0,$C271-P273)),0))","v":0},{"$f":"IF($C270=LataProjekcji,ROUND($C271-Q273,0),ROUND(IF(AND(Q272=0,P274>0),$C271-Q273,IF(Q272=0,0,$C271-Q273)),0))","v":0},{"$f":"IF($C270=LataProjekcji,ROUND($C271-R273,0),ROUND(IF(AND(R272=0,Q274>0),$C271-R273,IF(R272=0,0,$C271-R273)),0))","v":0},{"$f":"IF($C270=LataProjekcji,ROUND($C271-S273,0),ROUND(IF(AND(S272=0,R274>0),$C271-S273,IF(S272=0,0,$C271-S273)),0))","v":0},{"$f":"IF($C270=LataProjekcji,ROUND($C271-T273,0),ROUND(IF(AND(T272=0,S274>0),$C271-T273,IF(T272=0,0,$C271-T273)),0))","v":0},{"$f":"IF($C270=LataProjekcji,ROUND($C271-U273,0),ROUND(IF(AND(U272=0,T274>0),$C271-U273,IF(U272=0,0,$C271-U273)),0))","v":0},{"$f":"IF($C270=LataProjekcji,ROUND($C271-V273,0),ROUND(IF(AND(V272=0,U274>0),$C271-V273,IF(V272=0,0,$C271-V273)),0))","v":0},{"$f":"IF($C270=LataProjekcji,ROUND($C271-W273,0),ROUND(IF(AND(W272=0,V274>0),$C271-W273,IF(W272=0,0,$C271-W273)),0))","v":0}]
[]
[null,"budynki i budowle 4",{"$f":"C269+1","v":98}]
[null,"rok zakupu",{"$f":"YEAR(OFFSET($D$136,C276,0))","v":1900},{"$f":"MONTH(OFFSET($D$136,C276,0))","v":1},{"$f":"12-$D277","v":11}]
[null,"wartość netto",{"$f":"IF(D278<0,0,ROUND(D278,0))","v":0},{"$f":"OFFSET($C$136,C276,0)","v":0},{"$f":"IF(D278>3.5,ROUND(($C279/12)*$E277,0),$C278)","v":0}]
[null,"amortyzacja roczna",{"$f":"IF(ISBLANK(OFFSET($D$136,C276,0)),0,IF(D278>3.5,ROUND(C278*am_budynki,0),IF(C278<0,0,C278)))","v":0},null,null,null,null,null,null,{"$f":"ROUND(IF($C277=LataProjekcji,$E278,IF($C277=LataProjekcji,$C279,0)),0)","v":0},{"$f":"ROUND(IF(OR(AND($C277=LataProjekcji,$E277>0),AND($C277=LataProjekcji,$E277=0,$D278<=3.5)),$E278,IF($C277<LataProjekcji,IF((SUM($J279:J279)+$C279)<$C278,$C279,$C278-SUM($J279:J279)),0)),0)","v":0},{"$f":"ROUND(IF(OR(AND($C277=LataProjekcji,$E277>0),AND($C277=LataProjekcji,$E277=0,$D278<=3.5)),$E278,IF($C277<LataProjekcji,IF((SUM($J279:K279)+$C279)<$C278,$C279,$C278-SUM($J279:K279)),0)),0)","v":0},{"$f":"ROUND(IF(OR(AND($C277=LataProjekcji,$E277>0),AND($C277=LataProjekcji,$E277=0,$D278<=3.5)),$E278,IF($C277<LataProjekcji,IF((SUM($J279:L279)+$C279)<$C278,$C279,$C278-SUM($J279:L279)),0)),0)","v":0},{"$f":"ROUND(IF(OR(AND($C277=LataProjekcji,$E277>0),AND($C277=LataProjekcji,$E277=0,$D278<=3.5)),$E278,IF($C277<LataProjekcji,IF((SUM($J279:M279)+$C279)<$C278,$C279,$C278-SUM($J279:M279)),0)),0)","v":0},{"$f":"ROUND(IF(OR(AND($C277=LataProjekcji,$E277>0),AND($C277=LataProjekcji,$E277=0,$D278<=3.5)),$E278,IF($C277<LataProjekcji,IF((SUM($J279:N279)+$C279)<$C278,$C279,$C278-SUM($J279:N279)),0)),0)","v":0},{"$f":"ROUND(IF(OR(AND($C277=LataProjekcji,$E277>0),AND($C277=LataProjekcji,$E277=0,$D278<=3.5)),$E278,IF($C277<LataProjekcji,IF((SUM($J279:O279)+$C279)<$C278,$C279,$C278-SUM($J279:O279)),0)),0)","v":0},{"$f":"ROUND(IF(OR(AND($C277=LataProjekcji,$E277>0),AND($C277=LataProjekcji,$E277=0,$D278<=3.5)),$E278,IF($C277<LataProjekcji,IF((SUM($J279:P279)+$C279)<$C278,$C279,$C278-SUM($J279:P279)),0)),0)","v":0},{"$f":"ROUND(IF(OR(AND($C277=LataProjekcji,$E277>0),AND($C277=LataProjekcji,$E277=0,$D278<=3.5)),$E278,IF($C277<LataProjekcji,IF((SUM($J279:Q279)+$C279)<$C278,$C279,$C278-SUM($J279:Q279)),0)),0)","v":0},{"$f":"ROUND(IF(OR(AND($C277=LataProjekcji,$E277>0),AND($C277=LataProjekcji,$E277=0,$D278<=3.5)),$E278,IF($C277<LataProjekcji,IF((SUM($J279:R279)+$C279)<$C278,$C279,$C278-SUM($J279:R279)),0)),0)","v":0},{"$f":"ROUND(IF(OR(AND($C277=LataProjekcji,$E277>0),AND($C277=LataProjekcji,$E277=0,$D278<=3.5)),$E278,IF($C277<LataProjekcji,IF((SUM($J279:S279)+$C279)<$C278,$C279,$C278-SUM($J279:S279)),0)),0)","v":0},{"$f":"ROUND(IF(OR(AND($C277=LataProjekcji,$E277>0),AND($C277=LataProjekcji,$E277=0,$D278<=3.5)),$E278,IF($C277<LataProjekcji,IF((SUM($J279:T279)+$C279)<$C278,$C279,$C278-SUM($J279:T279)),0)),0)","v":0},{"$f":"ROUND(IF(OR(AND($C277=LataProjekcji,$E277>0),AND($C277=LataProjekcji,$E277=0,$D278<=3.5)),$E278,IF($C277<LataProjekcji,IF((SUM($J279:U279)+$C279)<$C278,$C279,$C278-SUM($J279:U279)),0)),0)","v":0},{"$f":"ROUND(IF(OR(AND($C277=LataProjekcji,$E277>0),AND($C277=LataProjekcji,$E277=0,$D278<=3.5)),$E278,IF($C277<LataProjekcji,IF((SUM($J279:V279)+$C279)<$C278,$C279,$C278-SUM($J279:V279)),0)),0)","v":0}]
[null,"umorzenie",null,null,null,null,null,null,null,{"$f":"ROUND(J279,0)","v":0},{"$f":"ROUND(J280+K279,0)","v":0},{"$f":"ROUND(K280+L279,0)","v":0},{"$f":"ROUND(L280+M279,0)","v":0},{"$f":"ROUND(M280+N279,0)","v":0},{"$f":"ROUND(N280+O279,0)","v":0},{"$f":"ROUND(O280+P279,0)","v":0},{"$f":"ROUND(P280+Q279,0)","v":0},{"$f":"ROUND(Q280+R279,0)","v":0},{"$f":"ROUND(R280+S279,0)","v":0},{"$f":"ROUND(S280+T279,0)","v":0},{"$f":"ROUND(T280+U279,0)","v":0},{"$f":"ROUND(U280+V279,0)","v":0},{"$f":"ROUND(V280+W279,0)","v":0}]
[null,"wartość netto",null,null,null,null,null,null,null,{"$f":"IF($C277=LataProjekcji,ROUND($C278-J280,0),ROUND(IF(J279=0,0,$C278-J280),0))","v":0},{"$f":"IF($C277=LataProjekcji,ROUND($C278-K280,0),ROUND(IF(AND(K279=0,J281>0),$C278-K280,IF(K279=0,0,$C278-K280)),0))","v":0},{"$f":"IF($C277=LataProjekcji,ROUND($C278-L280,0),ROUND(IF(AND(L279=0,K281>0),$C278-L280,IF(L279=0,0,$C278-L280)),0))","v":0},{"$f":"IF($C277=LataProjekcji,ROUND($C278-M280,0),ROUND(IF(AND(M279=0,L281>0),$C278-M280,IF(M279=0,0,$C278-M280)),0))","v":0},{"$f":"IF($C277=LataProjekcji,ROUND($C278-N280,0),ROUND(IF(AND(N279=0,M281>0),$C278-N280,IF(N279=0,0,$C278-N280)),0))","v":0},{"$f":"IF($C277=LataProjekcji,ROUND($C278-O280,0),ROUND(IF(AND(O279=0,N281>0),$C278-O280,IF(O279=0,0,$C278-O280)),0))","v":0},{"$f":"IF($C277=LataProjekcji,ROUND($C278-P280,0),ROUND(IF(AND(P279=0,O281>0),$C278-P280,IF(P279=0,0,$C278-P280)),0))","v":0},{"$f":"IF($C277=LataProjekcji,ROUND($C278-Q280,0),ROUND(IF(AND(Q279=0,P281>0),$C278-Q280,IF(Q279=0,0,$C278-Q280)),0))","v":0},{"$f":"IF($C277=LataProjekcji,ROUND($C278-R280,0),ROUND(IF(AND(R279=0,Q281>0),$C278-R280,IF(R279=0,0,$C278-R280)),0))","v":0},{"$f":"IF($C277=LataProjekcji,ROUND($C278-S280,0),ROUND(IF(AND(S279=0,R281>0),$C278-S280,IF(S279=0,0,$C278-S280)),0))","v":0},{"$f":"IF($C277=LataProjekcji,ROUND($C278-T280,0),ROUND(IF(AND(T279=0,S281>0),$C278-T280,IF(T279=0,0,$C278-T280)),0))","v":0},{"$f":"IF($C277=LataProjekcji,ROUND($C278-U280,0),ROUND(IF(AND(U279=0,T281>0),$C278-U280,IF(U279=0,0,$C278-U280)),0))","v":0},{"$f":"IF($C277=LataProjekcji,ROUND($C278-V280,0),ROUND(IF(AND(V279=0,U281>0),$C278-V280,IF(V279=0,0,$C278-V280)),0))","v":0},{"$f":"IF($C277=LataProjekcji,ROUND($C278-W280,0),ROUND(IF(AND(W279=0,V281>0),$C278-W280,IF(W279=0,0,$C278-W280)),0))","v":0}]
[]
[null,{"$f":"IF(ISBLANK(B235),\"budynki i budowle 5\",B235)","v":"budynki i budowle 5"},{"$f":"C276+1","v":99}]
[null,"rok zakupu",{"$f":"YEAR(OFFSET($D$136,C283,0))","v":1900},{"$f":"MONTH(OFFSET($D$136,C283,0))","v":1},{"$f":"12-$D284","v":11}]
[null,"wartość netto",{"$f":"IF(D285<0,0,ROUND(D285,0))","v":0},{"$f":"OFFSET($C$136,C283,0)","v":0},{"$f":"IF(D285>3.5,ROUND(($C286/12)*$E284,0),$C285)","v":0}]
[null,"amortyzacja roczna",{"$f":"IF(ISBLANK(OFFSET($D$136,C283,0)),0,IF(D285>3.5,ROUND(C285*am_budynki,0),IF(C285<0,0,C285)))","v":0},null,null,null,null,null,null,{"$f":"ROUND(IF($C284=LataProjekcji,$E285,IF($C284=LataProjekcji,$C286,0)),0)","v":0},{"$f":"ROUND(IF(OR(AND($C284=LataProjekcji,$E284>0),AND($C284=LataProjekcji,$E284=0,$D285<=3.5)),$E285,IF($C284<LataProjekcji,IF((SUM($J286:J286)+$C286)<$C285,$C286,$C285-SUM($J286:J286)),0)),0)","v":0},{"$f":"ROUND(IF(OR(AND($C284=LataProjekcji,$E284>0),AND($C284=LataProjekcji,$E284=0,$D285<=3.5)),$E285,IF($C284<LataProjekcji,IF((SUM($J286:K286)+$C286)<$C285,$C286,$C285-SUM($J286:K286)),0)),0)","v":0},{"$f":"ROUND(IF(OR(AND($C284=LataProjekcji,$E284>0),AND($C284=LataProjekcji,$E284=0,$D285<=3.5)),$E285,IF($C284<LataProjekcji,IF((SUM($J286:L286)+$C286)<$C285,$C286,$C285-SUM($J286:L286)),0)),0)","v":0},{"$f":"ROUND(IF(OR(AND($C284=LataProjekcji,$E284>0),AND($C284=LataProjekcji,$E284=0,$D285<=3.5)),$E285,IF($C284<LataProjekcji,IF((SUM($J286:M286)+$C286)<$C285,$C286,$C285-SUM($J286:M286)),0)),0)","v":0},{"$f":"ROUND(IF(OR(AND($C284=LataProjekcji,$E284>0),AND($C284=LataProjekcji,$E284=0,$D285<=3.5)),$E285,IF($C284<LataProjekcji,IF((SUM($J286:N286)+$C286)<$C285,$C286,$C285-SUM($J286:N286)),0)),0)","v":0},{"$f":"ROUND(IF(OR(AND($C284=LataProjekcji,$E284>0),AND($C284=LataProjekcji,$E284=0,$D285<=3.5)),$E285,IF($C284<LataProjekcji,IF((SUM($J286:O286)+$C286)<$C285,$C286,$C285-SUM($J286:O286)),0)),0)","v":0},{"$f":"ROUND(IF(OR(AND($C284=LataProjekcji,$E284>0),AND($C284=LataProjekcji,$E284=0,$D285<=3.5)),$E285,IF($C284<LataProjekcji,IF((SUM($J286:P286)+$C286)<$C285,$C286,$C285-SUM($J286:P286)),0)),0)","v":0},{"$f":"ROUND(IF(OR(AND($C284=LataProjekcji,$E284>0),AND($C284=LataProjekcji,$E284=0,$D285<=3.5)),$E285,IF($C284<LataProjekcji,IF((SUM($J286:Q286)+$C286)<$C285,$C286,$C285-SUM($J286:Q286)),0)),0)","v":0},{"$f":"ROUND(IF(OR(AND($C284=LataProjekcji,$E284>0),AND($C284=LataProjekcji,$E284=0,$D285<=3.5)),$E285,IF($C284<LataProjekcji,IF((SUM($J286:R286)+$C286)<$C285,$C286,$C285-SUM($J286:R286)),0)),0)","v":0},{"$f":"ROUND(IF(OR(AND($C284=LataProjekcji,$E284>0),AND($C284=LataProjekcji,$E284=0,$D285<=3.5)),$E285,IF($C284<LataProjekcji,IF((SUM($J286:S286)+$C286)<$C285,$C286,$C285-SUM($J286:S286)),0)),0)","v":0},{"$f":"ROUND(IF(OR(AND($C284=LataProjekcji,$E284>0),AND($C284=LataProjekcji,$E284=0,$D285<=3.5)),$E285,IF($C284<LataProjekcji,IF((SUM($J286:T286)+$C286)<$C285,$C286,$C285-SUM($J286:T286)),0)),0)","v":0},{"$f":"ROUND(IF(OR(AND($C284=LataProjekcji,$E284>0),AND($C284=LataProjekcji,$E284=0,$D285<=3.5)),$E285,IF($C284<LataProjekcji,IF((SUM($J286:U286)+$C286)<$C285,$C286,$C285-SUM($J286:U286)),0)),0)","v":0},{"$f":"ROUND(IF(OR(AND($C284=LataProjekcji,$E284>0),AND($C284=LataProjekcji,$E284=0,$D285<=3.5)),$E285,IF($C284<LataProjekcji,IF((SUM($J286:V286)+$C286)<$C285,$C286,$C285-SUM($J286:V286)),0)),0)","v":0}]
[null,"umorzenie",null,null,null,null,null,null,null,{"$f":"ROUND(J286,0)","v":0},{"$f":"ROUND(J287+K286,0)","v":0},{"$f":"ROUND(K287+L286,0)","v":0},{"$f":"ROUND(L287+M286,0)","v":0},{"$f":"ROUND(M287+N286,0)","v":0},{"$f":"ROUND(N287+O286,0)","v":0},{"$f":"ROUND(O287+P286,0)","v":0},{"$f":"ROUND(P287+Q286,0)","v":0},{"$f":"ROUND(Q287+R286,0)","v":0},{"$f":"ROUND(R287+S286,0)","v":0},{"$f":"ROUND(S287+T286,0)","v":0},{"$f":"ROUND(T287+U286,0)","v":0},{"$f":"ROUND(U287+V286,0)","v":0},{"$f":"ROUND(V287+W286,0)","v":0}]
[null,"wartość netto",null,null,null,null,null,null,null,{"$f":"IF($C284=LataProjekcji,ROUND($C285-J287,0),ROUND(IF(J286=0,0,$C285-J287),0))","v":0},{"$f":"IF($C284=LataProjekcji,ROUND($C285-K287,0),ROUND(IF(AND(K286=0,J288>0),$C285-K287,IF(K286=0,0,$C285-K287)),0))","v":0},{"$f":"IF($C284=LataProjekcji,ROUND($C285-L287,0),ROUND(IF(AND(L286=0,K288>0),$C285-L287,IF(L286=0,0,$C285-L287)),0))","v":0},{"$f":"IF($C284=LataProjekcji,ROUND($C285-M287,0),ROUND(IF(AND(M286=0,L288>0),$C285-M287,IF(M286=0,0,$C285-M287)),0))","v":0},{"$f":"IF($C284=LataProjekcji,ROUND($C285-N287,0),ROUND(IF(AND(N286=0,M288>0),$C285-N287,IF(N286=0,0,$C285-N287)),0))","v":0},{"$f":"IF($C284=LataProjekcji,ROUND($C285-O287,0),ROUND(IF(AND(O286=0,N288>0),$C285-O287,IF(O286=0,0,$C285-O287)),0))","v":0},{"$f":"IF($C284=LataProjekcji,ROUND($C285-P287,0),ROUND(IF(AND(P286=0,O288>0),$C285-P287,IF(P286=0,0,$C285-P287)),0))","v":0},{"$f":"IF($C284=LataProjekcji,ROUND($C285-Q287,0),ROUND(IF(AND(Q286=0,P288>0),$C285-Q287,IF(Q286=0,0,$C285-Q287)),0))","v":0},{"$f":"IF($C284=LataProjekcji,ROUND($C285-R287,0),ROUND(IF(AND(R286=0,Q288>0),$C285-R287,IF(R286=0,0,$C285-R287)),0))","v":0},{"$f":"IF($C284=LataProjekcji,ROUND($C285-S287,0),ROUND(IF(AND(S286=0,R288>0),$C285-S287,IF(S286=0,0,$C285-S287)),0))","v":0},{"$f":"IF($C284=LataProjekcji,ROUND($C285-T287,0),ROUND(IF(AND(T286=0,S288>0),$C285-T287,IF(T286=0,0,$C285-T287)),0))","v":0},{"$f":"IF($C284=LataProjekcji,ROUND($C285-U287,0),ROUND(IF(AND(U286=0,T288>0),$C285-U287,IF(U286=0,0,$C285-U287)),0))","v":0},{"$f":"IF($C284=LataProjekcji,ROUND($C285-V287,0),ROUND(IF(AND(V286=0,U288>0),$C285-V287,IF(V286=0,0,$C285-V287)),0))","v":0},{"$f":"IF($C284=LataProjekcji,ROUND($C285-W287,0),ROUND(IF(AND(W286=0,V288>0),$C285-W287,IF(W286=0,0,$C285-W287)),0))","v":0}]
[]
[null,"OBLICZENIA DOTYCZĄCE ŚRODKÓW TRWAŁYCH W BUDOWIE"]
[null,"środki trwałe w budowie (prace budowlane > 1 rok)","wartość netto","rok i miesiąc zakupu","% dofinansowania","dofinansowanie"]
[null,{"$f":"IF(ISBLANK(B247),\"zrealizowane środki trwałe w budowie\",B247)","v":"zrealizowane środki trwałe w budowie"},{"$f":"IFERROR(SUM(INDIRECT(ADDRESS(ROW(J247),MATCH(C247,LataProjekcji,0))):INDIRECT(ADDRESS(ROW(J247),MATCH(YEAR(D247),LataProjekcji,0)))),0)","v":0},{"$f":"IF(ISBLANK(D247),\"\",D247)","v":""},{"$f":"E247","v":0},{"$f":"IFERROR(IF(E292=0,0,ROUND(E292*C292,0)),0)","v":0},null,null,null,{"$f":"IFERROR(ROUND(IF(YEAR($D292)=LataProjekcji,$C292,0),0),0)","v":0},0,0,0,0,0,0,0,0,0,0,0,0,0]
[null,{"$f":"IF(ISBLANK(B248),\"zrealizowane środki trwałe w budowie\",B248)","v":"zrealizowane środki trwałe w budowie"},{"$f":"IFERROR(SUM(INDIRECT(ADDRESS(ROW(J248),MATCH(C248,LataProjekcji,0))):INDIRECT(ADDRESS(ROW(J248),MATCH(YEAR(D248),LataProjekcji,0)))),0)","v":0},{"$f":"IF(ISBLANK(D248),\"\",D248)","v":""},{"$f":"E248","v":0},{"$f":"IFERROR(IF(E293=0,0,ROUND(E293*C293,0)),0)","v":0},null,null,null,0,0,0,0,0,0,0,0,0,0,0,0,0,0]
[null,{"$f":"IF(ISBLANK(B249),\"zrealizowane środki trwałe w budowie\",B249)","v":"zrealizowane środki trwałe w budowie"},{"$f":"IFERROR(SUM(INDIRECT(ADDRESS(ROW(J249),MATCH(C249,LataProjekcji,0))):INDIRECT(ADDRESS(ROW(J249),MATCH(YEAR(D249),LataProjekcji,0)))),0)","v":0},{"$f":"IF(ISBLANK(D249),\"\",D249)","v":""},{"$f":"E249","v":0},{"$f":"IFERROR(IF(E294=0,0,ROUND(E294*C294,0)),0)","v":0},null,null,null,0,0,0,0,0,0,0,0,0,0,0,0,0,0]
[null,{"$f":"IF(ISBLANK(B250),\"zrealizowane środki trwałe w budowie\",B250)","v":"zrealizowane środki trwałe w budowie"},{"$f":"IFERROR(SUM(INDIRECT(ADDRESS(ROW(J250),MATCH(C250,LataProjekcji,0))):INDIRECT(ADDRESS(ROW(J250),MATCH(YEAR(D250),LataProjekcji,0)))),0)","v":0},{"$f":"IF(ISBLANK(D250),\"\",D250)","v":""},{"$f":"E250","v":0},{"$f":"IFERROR(IF(E295=0,0,ROUND(E295*C295,0)),0)","v":0},null,null,null,0,0,0,0,0,0,0,0,0,0,0,0,0,0]
[null,{"$f":"IF(ISBLANK(B251),\"zrealizowane środki trwałe w budowie\",B251)","v":"zrealizowane środki trwałe w budowie"},{"$f":"IFERROR(SUM(INDIRECT(ADDRESS(ROW(J251),MATCH(C251,LataProjekcji,0))):INDIRECT(ADDRESS(ROW(J251),MATCH(YEAR(D251),LataProjekcji,0)))),0)","v":0},{"$f":"IF(ISBLANK(D251),\"\",D251)","v":""},{"$f":"E251","v":0},{"$f":"IFERROR(IF(E296=0,0,ROUND(E296*C296,0)),0)","v":0},null,null,null,0,0,0,0,0,0,0,0,0,0,0,0,0,0]
[null,"Razem",{"$f":"SUM(C292:C296)","v":0},null,null,{"$f":"SUM(F292:F296)","v":0},null,null,null,{"$f":"SUM(J292:J296)","v":0},0,0,0,0,0,0,0,0,0,0,0,0,0]
[null,"     - amortyzacja",null,null,null,null,null,null,null,{"$f":"J305+J312+J319+J326+J333","v":0},{"$f":"K305+K312+K319+K326+K333","v":0},0,0,0,0,0,0,0,0,0,0,0,0]
[null,"     - umorzenie",null,null,null,null,null,null,null,{"$f":"J306+J313+J320+J327+J334","v":0},{"$f":"K306+K313+K320+K327+K334","v":0},0,0,0,0,0,0,0,0,0,0,0,0]
[null,"     - wartość księgowa netto",null,null,null,null,null,null,null,{"$f":"J307+J314+J321+J328+J335","v":0},{"$f":"K307+K314+K321+K328+K335","v":0},0,0,0,0,0,0,0,0,0,0,0,0]
[]
[null,{"$f":"IF(B292=\"\",\"Środki trwałe w budowie 1\",B292)","v":"zrealizowane środki trwałe w budowie"},156,null,"ile miesiący do końca roku",null,"niekwalifikowalne","spr"]
[null,"rok zakupu",{"$f":"IFERROR(YEAR(OFFSET($D$136,C302,0)),0)","v":0},{"$f":"IFERROR(MONTH(OFFSET($D$136,C302,0)),0)","v":0},{"$f":"12-$D303","v":12},null,{"$f":"C297-F303","v":0},{"$f":"C297-F303-G303","v":0}]
[null,"wartość netto",{"$f":"IF(D304<0,0,ROUND(D304,0))","v":0},{"$f":"OFFSET($C$136,C302,0)","v":0},{"$f":"IF(D304>3.5,ROUND(($C305/12)*$E303,0),$C304)","v":0},"<- am. Do końca roku"]
[null,"amortyzacja roczna",{"$f":"IF(ISBLANK(OFFSET($D$136,C302,0)),0,IF(D304>3.5,ROUND(C304*am_budynki,0),IF(C304<0,0,C304)))","v":0},null,null,null,null,null,null,{"$f":"ROUND(IF($C303=LataProjekcji,$E304,IF($C303=LataProjekcji,$C305,0)),0)","v":0},{"$f":"ROUND(IF(OR(AND($C303=LataProjekcji,$E303>0),AND($C303=LataProjekcji,$E303=0,$D304<=3.5)),$E304,IF($C303<LataProjekcji,IF((SUM($J305:J305)+$C305)<$C304,$C305,$C304-SUM($J305:J305)),0)),0)","v":0},{"$f":"ROUND(IF(OR(AND($C303=LataProjekcji,$E303>0),AND($C303=LataProjekcji,$E303=0,$D304<=3.5)),$E304,IF($C303<LataProjekcji,IF((SUM($J305:K305)+$C305)<$C304,$C305,$C304-SUM($J305:K305)),0)),0)","v":0},{"$f":"ROUND(IF(OR(AND($C303=LataProjekcji,$E303>0),AND($C303=LataProjekcji,$E303=0,$D304<=3.5)),$E304,IF($C303<LataProjekcji,IF((SUM($J305:L305)+$C305)<$C304,$C305,$C304-SUM($J305:L305)),0)),0)","v":0},{"$f":"ROUND(IF(OR(AND($C303=LataProjekcji,$E303>0),AND($C303=LataProjekcji,$E303=0,$D304<=3.5)),$E304,IF($C303<LataProjekcji,IF((SUM($J305:M305)+$C305)<$C304,$C305,$C304-SUM($J305:M305)),0)),0)","v":0},{"$f":"ROUND(IF(OR(AND($C303=LataProjekcji,$E303>0),AND($C303=LataProjekcji,$E303=0,$D304<=3.5)),$E304,IF($C303<LataProjekcji,IF((SUM($J305:N305)+$C305)<$C304,$C305,$C304-SUM($J305:N305)),0)),0)","v":0},{"$f":"ROUND(IF(OR(AND($C303=LataProjekcji,$E303>0),AND($C303=LataProjekcji,$E303=0,$D304<=3.5)),$E304,IF($C303<LataProjekcji,IF((SUM($J305:O305)+$C305)<$C304,$C305,$C304-SUM($J305:O305)),0)),0)","v":0},{"$f":"ROUND(IF(OR(AND($C303=LataProjekcji,$E303>0),AND($C303=LataProjekcji,$E303=0,$D304<=3.5)),$E304,IF($C303<LataProjekcji,IF((SUM($J305:P305)+$C305)<$C304,$C305,$C304-SUM($J305:P305)),0)),0)","v":0},{"$f":"ROUND(IF(OR(AND($C303=LataProjekcji,$E303>0),AND($C303=LataProjekcji,$E303=0,$D304<=3.5)),$E304,IF($C303<LataProjekcji,IF((SUM($J305:Q305)+$C305)<$C304,$C305,$C304-SUM($J305:Q305)),0)),0)","v":0},{"$f":"ROUND(IF(OR(AND($C303=LataProjekcji,$E303>0),AND($C303=LataProjekcji,$E303=0,$D304<=3.5)),$E304,IF($C303<LataProjekcji,IF((SUM($J305:R305)+$C305)<$C304,$C305,$C304-SUM($J305:R305)),0)),0)","v":0},{"$f":"ROUND(IF(OR(AND($C303=LataProjekcji,$E303>0),AND($C303=LataProjekcji,$E303=0,$D304<=3.5)),$E304,IF($C303<LataProjekcji,IF((SUM($J305:S305)+$C305)<$C304,$C305,$C304-SUM($J305:S305)),0)),0)","v":0},{"$f":"ROUND(IF(OR(AND($C303=LataProjekcji,$E303>0),AND($C303=LataProjekcji,$E303=0,$D304<=3.5)),$E304,IF($C303<LataProjekcji,IF((SUM($J305:T305)+$C305)<$C304,$C305,$C304-SUM($J305:T305)),0)),0)","v":0},{"$f":"ROUND(IF(OR(AND($C303=LataProjekcji,$E303>0),AND($C303=LataProjekcji,$E303=0,$D304<=3.5)),$E304,IF($C303<LataProjekcji,IF((SUM($J305:U305)+$C305)<$C304,$C305,$C304-SUM($J305:U305)),0)),0)","v":0},{"$f":"ROUND(IF(OR(AND($C303=LataProjekcji,$E303>0),AND($C303=LataProjekcji,$E303=0,$D304<=3.5)),$E304,IF($C303<LataProjekcji,IF((SUM($J305:V305)+$C305)<$C304,$C305,$C304-SUM($J305:V305)),0)),0)","v":0}]
[null,"umorzenie",null,null,null,null,null,null,null,{"$f":"ROUND(J305,0)","v":0},{"$f":"ROUND(J306+K305,0)","v":0},{"$f":"ROUND(K306+L305,0)","v":0},{"$f":"ROUND(L306+M305,0)","v":0},{"$f":"ROUND(M306+N305,0)","v":0},{"$f":"ROUND(N306+O305,0)","v":0},{"$f":"ROUND(O306+P305,0)","v":0},{"$f":"ROUND(P306+Q305,0)","v":0},{"$f":"ROUND(Q306+R305,0)","v":0},{"$f":"ROUND(R306+S305,0)","v":0},{"$f":"ROUND(S306+T305,0)","v":0},{"$f":"ROUND(T306+U305,0)","v":0},{"$f":"ROUND(U306+V305,0)","v":0},{"$f":"ROUND(V306+W305,0)","v":0}]
[null,"wartość netto",null,null,null,{"$f":"10*2.5%","v":0.25},null,null,null,{"$f":"IF($C303=LataProjekcji,ROUND($C304-J306,0),ROUND(IF(J305=0,0,$C304-J306),0))","v":0},{"$f":"IF($C303=LataProjekcji,ROUND($C304-K306,0),ROUND(IF(AND(K305=0,J307>0),$C304-K306,IF(K305=0,0,$C304-K306)),0))","v":0},{"$f":"IF($C303=LataProjekcji,ROUND($C304-L306,0),ROUND(IF(AND(L305=0,K307>0),$C304-L306,IF(L305=0,0,$C304-L306)),0))","v":0},{"$f":"IF($C303=LataProjekcji,ROUND($C304-M306,0),ROUND(IF(AND(M305=0,L307>0),$C304-M306,IF(M305=0,0,$C304-M306)),0))","v":0},{"$f":"IF($C303=LataProjekcji,ROUND($C304-N306,0),ROUND(IF(AND(N305=0,M307>0),$C304-N306,IF(N305=0,0,$C304-N306)),0))","v":0},{"$f":"IF($C303=LataProjekcji,ROUND($C304-O306,0),ROUND(IF(AND(O305=0,N307>0),$C304-O306,IF(O305=0,0,$C304-O306)),0))","v":0},{"$f":"IF($C303=LataProjekcji,ROUND($C304-P306,0),ROUND(IF(AND(P305=0,O307>0),$C304-P306,IF(P305=0,0,$C304-P306)),0))","v":0},{"$f":"IF($C303=LataProjekcji,ROUND($C304-Q306,0),ROUND(IF(AND(Q305=0,P307>0),$C304-Q306,IF(Q305=0,0,$C304-Q306)),0))","v":0},{"$f":"IF($C303=LataProjekcji,ROUND($C304-R306,0),ROUND(IF(AND(R305=0,Q307>0),$C304-R306,IF(R305=0,0,$C304-R306)),0))","v":0},{"$f":"IF($C303=LataProjekcji,ROUND($C304-S306,0),ROUND(IF(AND(S305=0,R307>0),$C304-S306,IF(S305=0,0,$C304-S306)),0))","v":0},{"$f":"IF($C303=LataProjekcji,ROUND($C304-T306,0),ROUND(IF(AND(T305=0,S307>0),$C304-T306,IF(T305=0,0,$C304-T306)),0))","v":0},{"$f":"IF($C303=LataProjekcji,ROUND($C304-U306,0),ROUND(IF(AND(U305=0,T307>0),$C304-U306,IF(U305=0,0,$C304-U306)),0))","v":0},{"$f":"IF($C303=LataProjekcji,ROUND($C304-V306,0),ROUND(IF(AND(V305=0,U307>0),$C304-V306,IF(V305=0,0,$C304-V306)),0))","v":0},{"$f":"IF($C303=LataProjekcji,ROUND($C304-W306,0),ROUND(IF(AND(W305=0,V307>0),$C304-W306,IF(W305=0,0,$C304-W306)),0))","v":0}]
[null,null,null,null,null,{"$f":"ROUND(F307,0)","v":0}]
[null,{"$f":"IF(B293=\"\",\"Środki transportu 2\",B293)","v":"zrealizowane środki trwałe w budowie"},{"$f":"C302+1","v":157}]
[null,"rok zakupu",{"$f":"IFERROR(YEAR(OFFSET($D$136,C309,0)),0)","v":0},{"$f":"IFERROR(MONTH(OFFSET($D$136,C309,0)),0)","v":0},{"$f":"12-$D310","v":12}]
[null,"wartość netto",{"$f":"IF(D311<0,0,ROUND(D311,0))","v":0},{"$f":"OFFSET($C$136,C309,0)","v":0},{"$f":"IF(D311>3.5,ROUND(($C312/12)*$E310,0),$C311)","v":0}]
[null,"amortyzacja roczna",{"$f":"IF(ISBLANK(OFFSET($D$136,C309,0)),0,IF(D311>3.5,ROUND(C311*am_budynki,0),IF(C311<0,0,C311)))","v":0},null,null,null,null,null,null,{"$f":"ROUND(IF($C310=LataProjekcji,$E311,IF($C310=LataProjekcji,$C312,0)),0)","v":0},{"$f":"ROUND(IF(OR(AND($C310=LataProjekcji,$E310>0),AND($C310=LataProjekcji,$E310=0,$D311<=3.5)),$E311,IF($C310<LataProjekcji,IF((SUM($J312:J312)+$C312)<$C311,$C312,$C311-SUM($J312:J312)),0)),0)","v":0},{"$f":"ROUND(IF(OR(AND($C310=LataProjekcji,$E310>0),AND($C310=LataProjekcji,$E310=0,$D311<=3.5)),$E311,IF($C310<LataProjekcji,IF((SUM($J312:K312)+$C312)<$C311,$C312,$C311-SUM($J312:K312)),0)),0)","v":0},{"$f":"ROUND(IF(OR(AND($C310=LataProjekcji,$E310>0),AND($C310=LataProjekcji,$E310=0,$D311<=3.5)),$E311,IF($C310<LataProjekcji,IF((SUM($J312:L312)+$C312)<$C311,$C312,$C311-SUM($J312:L312)),0)),0)","v":0},{"$f":"ROUND(IF(OR(AND($C310=LataProjekcji,$E310>0),AND($C310=LataProjekcji,$E310=0,$D311<=3.5)),$E311,IF($C310<LataProjekcji,IF((SUM($J312:M312)+$C312)<$C311,$C312,$C311-SUM($J312:M312)),0)),0)","v":0},{"$f":"ROUND(IF(OR(AND($C310=LataProjekcji,$E310>0),AND($C310=LataProjekcji,$E310=0,$D311<=3.5)),$E311,IF($C310<LataProjekcji,IF((SUM($J312:N312)+$C312)<$C311,$C312,$C311-SUM($J312:N312)),0)),0)","v":0},{"$f":"ROUND(IF(OR(AND($C310=LataProjekcji,$E310>0),AND($C310=LataProjekcji,$E310=0,$D311<=3.5)),$E311,IF($C310<LataProjekcji,IF((SUM($J312:O312)+$C312)<$C311,$C312,$C311-SUM($J312:O312)),0)),0)","v":0},{"$f":"ROUND(IF(OR(AND($C310=LataProjekcji,$E310>0),AND($C310=LataProjekcji,$E310=0,$D311<=3.5)),$E311,IF($C310<LataProjekcji,IF((SUM($J312:P312)+$C312)<$C311,$C312,$C311-SUM($J312:P312)),0)),0)","v":0},{"$f":"ROUND(IF(OR(AND($C310=LataProjekcji,$E310>0),AND($C310=LataProjekcji,$E310=0,$D311<=3.5)),$E311,IF($C310<LataProjekcji,IF((SUM($J312:Q312)+$C312)<$C311,$C312,$C311-SUM($J312:Q312)),0)),0)","v":0},{"$f":"ROUND(IF(OR(AND($C310=LataProjekcji,$E310>0),AND($C310=LataProjekcji,$E310=0,$D311<=3.5)),$E311,IF($C310<LataProjekcji,IF((SUM($J312:R312)+$C312)<$C311,$C312,$C311-SUM($J312:R312)),0)),0)","v":0},{"$f":"ROUND(IF(OR(AND($C310=LataProjekcji,$E310>0),AND($C310=LataProjekcji,$E310=0,$D311<=3.5)),$E311,IF($C310<LataProjekcji,IF((SUM($J312:S312)+$C312)<$C311,$C312,$C311-SUM($J312:S312)),0)),0)","v":0},{"$f":"ROUND(IF(OR(AND($C310=LataProjekcji,$E310>0),AND($C310=LataProjekcji,$E310=0,$D311<=3.5)),$E311,IF($C310<LataProjekcji,IF((SUM($J312:T312)+$C312)<$C311,$C312,$C311-SUM($J312:T312)),0)),0)","v":0},{"$f":"ROUND(IF(OR(AND($C310=LataProjekcji,$E310>0),AND($C310=LataProjekcji,$E310=0,$D311<=3.5)),$E311,IF($C310<LataProjekcji,IF((SUM($J312:U312)+$C312)<$C311,$C312,$C311-SUM($J312:U312)),0)),0)","v":0},{"$f":"ROUND(IF(OR(AND($C310=LataProjekcji,$E310>0),AND($C310=LataProjekcji,$E310=0,$D311<=3.5)),$E311,IF($C310<LataProjekcji,IF((SUM($J312:V312)+$C312)<$C311,$C312,$C311-SUM($J312:V312)),0)),0)","v":0}]
[null,"umorzenie",null,null,null,null,null,null,null,{"$f":"ROUND(J312,0)","v":0},{"$f":"ROUND(J313+K312,0)","v":0},{"$f":"ROUND(K313+L312,0)","v":0},{"$f":"ROUND(L313+M312,0)","v":0},{"$f":"ROUND(M313+N312,0)","v":0},{"$f":"ROUND(N313+O312,0)","v":0},{"$f":"ROUND(O313+P312,0)","v":0},{"$f":"ROUND(P313+Q312,0)","v":0},{"$f":"ROUND(Q313+R312,0)","v":0},{"$f":"ROUND(R313+S312,0)","v":0},{"$f":"ROUND(S313+T312,0)","v":0},{"$f":"ROUND(T313+U312,0)","v":0},{"$f":"ROUND(U313+V312,0)","v":0},{"$f":"ROUND(V313+W312,0)","v":0}]
[null,"wartość netto",null,null,null,null,null,null,null,{"$f":"IF($C310=LataProjekcji,ROUND($C311-J313,0),ROUND(IF(J312=0,0,$C311-J313),0))","v":0},{"$f":"IF($C310=LataProjekcji,ROUND($C311-K313,0),ROUND(IF(AND(K312=0,J314>0),$C311-K313,IF(K312=0,0,$C311-K313)),0))","v":0},{"$f":"IF($C310=LataProjekcji,ROUND($C311-L313,0),ROUND(IF(AND(L312=0,K314>0),$C311-L313,IF(L312=0,0,$C311-L313)),0))","v":0},{"$f":"IF($C310=LataProjekcji,ROUND($C311-M313,0),ROUND(IF(AND(M312=0,L314>0),$C311-M313,IF(M312=0,0,$C311-M313)),0))","v":0},{"$f":"IF($C310=LataProjekcji,ROUND($C311-N313,0),ROUND(IF(AND(N312=0,M314>0),$C311-N313,IF(N312=0,0,$C311-N313)),0))","v":0},{"$f":"IF($C310=LataProjekcji,ROUND($C311-O313,0),ROUND(IF(AND(O312=0,N314>0),$C311-O313,IF(O312=0,0,$C311-O313)),0))","v":0},{"$f":"IF($C310=LataProjekcji,ROUND($C311-P313,0),ROUND(IF(AND(P312=0,O314>0),$C311-P313,IF(P312=0,0,$C311-P313)),0))","v":0},{"$f":"IF($C310=LataProjekcji,ROUND($C311-Q313,0),ROUND(IF(AND(Q312=0,P314>0),$C311-Q313,IF(Q312=0,0,$C311-Q313)),0))","v":0},{"$f":"IF($C310=LataProjekcji,ROUND($C311-R313,0),ROUND(IF(AND(R312=0,Q314>0),$C311-R313,IF(R312=0,0,$C311-R313)),0))","v":0},{"$f":"IF($C310=LataProjekcji,ROUND($C311-S313,0),ROUND(IF(AND(S312=0,R314>0),$C311-S313,IF(S312=0,0,$C311-S313)),0))","v":0},{"$f":"IF($C310=LataProjekcji,ROUND($C311-T313,0),ROUND(IF(AND(T312=0,S314>0),$C311-T313,IF(T312=0,0,$C311-T313)),0))","v":0},{"$f":"IF($C310=LataProjekcji,ROUND($C311-U313,0),ROUND(IF(AND(U312=0,T314>0),$C311-U313,IF(U312=0,0,$C311-U313)),0))","v":0},{"$f":"IF($C310=LataProjekcji,ROUND($C311-V313,0),ROUND(IF(AND(V312=0,U314>0),$C311-V313,IF(V312=0,0,$C311-V313)),0))","v":0},{"$f":"IF($C310=LataProjekcji,ROUND($C311-W313,0),ROUND(IF(AND(W312=0,V314>0),$C311-W313,IF(W312=0,0,$C311-W313)),0))","v":0}]
[]
[null,{"$f":"IF(B294=\"\",\"Środki transportu 3\",B294)","v":"zrealizowane środki trwałe w budowie"},{"$f":"C309+1","v":158}]
[null,"rok zakupu",{"$f":"IFERROR(YEAR(OFFSET($D$136,C316,0)),0)","v":0},{"$f":"IFERROR(MONTH(OFFSET($D$136,C316,0)),0)","v":0},{"$f":"12-$D317","v":12}]
[null,"wartość netto",{"$f":"IF(D318<0,0,ROUND(D318,0))","v":0},{"$f":"OFFSET($C$136,C316,0)","v":0},{"$f":"IF(D318>3.5,ROUND(($C319/12)*$E317,0),$C318)","v":0}]
[null,"amortyzacja roczna",{"$f":"IF(ISBLANK(OFFSET($D$136,C316,0)),0,IF(D318>3.5,ROUND(C318*am_budynki,0),IF(C318<0,0,C318)))","v":0},null,null,null,null,null,null,{"$f":"ROUND(IF($C317=LataProjekcji,$E318,IF($C317=LataProjekcji,$C319,0)),0)","v":0},{"$f":"ROUND(IF(OR(AND($C317=LataProjekcji,$E317>0),AND($C317=LataProjekcji,$E317=0,$D318<=3.5)),$E318,IF($C317<LataProjekcji,IF((SUM($J319:J319)+$C319)<$C318,$C319,$C318-SUM($J319:J319)),0)),0)","v":0},{"$f":"ROUND(IF(OR(AND($C317=LataProjekcji,$E317>0),AND($C317=LataProjekcji,$E317=0,$D318<=3.5)),$E318,IF($C317<LataProjekcji,IF((SUM($J319:K319)+$C319)<$C318,$C319,$C318-SUM($J319:K319)),0)),0)","v":0},{"$f":"ROUND(IF(OR(AND($C317=LataProjekcji,$E317>0),AND($C317=LataProjekcji,$E317=0,$D318<=3.5)),$E318,IF($C317<LataProjekcji,IF((SUM($J319:L319)+$C319)<$C318,$C319,$C318-SUM($J319:L319)),0)),0)","v":0},{"$f":"ROUND(IF(OR(AND($C317=LataProjekcji,$E317>0),AND($C317=LataProjekcji,$E317=0,$D318<=3.5)),$E318,IF($C317<LataProjekcji,IF((SUM($J319:M319)+$C319)<$C318,$C319,$C318-SUM($J319:M319)),0)),0)","v":0},{"$f":"ROUND(IF(OR(AND($C317=LataProjekcji,$E317>0),AND($C317=LataProjekcji,$E317=0,$D318<=3.5)),$E318,IF($C317<LataProjekcji,IF((SUM($J319:N319)+$C319)<$C318,$C319,$C318-SUM($J319:N319)),0)),0)","v":0},{"$f":"ROUND(IF(OR(AND($C317=LataProjekcji,$E317>0),AND($C317=LataProjekcji,$E317=0,$D318<=3.5)),$E318,IF($C317<LataProjekcji,IF((SUM($J319:O319)+$C319)<$C318,$C319,$C318-SUM($J319:O319)),0)),0)","v":0},{"$f":"ROUND(IF(OR(AND($C317=LataProjekcji,$E317>0),AND($C317=LataProjekcji,$E317=0,$D318<=3.5)),$E318,IF($C317<LataProjekcji,IF((SUM($J319:P319)+$C319)<$C318,$C319,$C318-SUM($J319:P319)),0)),0)","v":0},{"$f":"ROUND(IF(OR(AND($C317=LataProjekcji,$E317>0),AND($C317=LataProjekcji,$E317=0,$D318<=3.5)),$E318,IF($C317<LataProjekcji,IF((SUM($J319:Q319)+$C319)<$C318,$C319,$C318-SUM($J319:Q319)),0)),0)","v":0},{"$f":"ROUND(IF(OR(AND($C317=LataProjekcji,$E317>0),AND($C317=LataProjekcji,$E317=0,$D318<=3.5)),$E318,IF($C317<LataProjekcji,IF((SUM($J319:R319)+$C319)<$C318,$C319,$C318-SUM($J319:R319)),0)),0)","v":0},{"$f":"ROUND(IF(OR(AND($C317=LataProjekcji,$E317>0),AND($C317=LataProjekcji,$E317=0,$D318<=3.5)),$E318,IF($C317<LataProjekcji,IF((SUM($J319:S319)+$C319)<$C318,$C319,$C318-SUM($J319:S319)),0)),0)","v":0},{"$f":"ROUND(IF(OR(AND($C317=LataProjekcji,$E317>0),AND($C317=LataProjekcji,$E317=0,$D318<=3.5)),$E318,IF($C317<LataProjekcji,IF((SUM($J319:T319)+$C319)<$C318,$C319,$C318-SUM($J319:T319)),0)),0)","v":0},{"$f":"ROUND(IF(OR(AND($C317=LataProjekcji,$E317>0),AND($C317=LataProjekcji,$E317=0,$D318<=3.5)),$E318,IF($C317<LataProjekcji,IF((SUM($J319:U319)+$C319)<$C318,$C319,$C318-SUM($J319:U319)),0)),0)","v":0},{"$f":"ROUND(IF(OR(AND($C317=LataProjekcji,$E317>0),AND($C317=LataProjekcji,$E317=0,$D318<=3.5)),$E318,IF($C317<LataProjekcji,IF((SUM($J319:V319)+$C319)<$C318,$C319,$C318-SUM($J319:V319)),0)),0)","v":0}]
[null,"umorzenie",null,null,null,null,null,null,null,{"$f":"ROUND(J319,0)","v":0},{"$f":"ROUND(J320+K319,0)","v":0},{"$f":"ROUND(K320+L319,0)","v":0},{"$f":"ROUND(L320+M319,0)","v":0},{"$f":"ROUND(M320+N319,0)","v":0},{"$f":"ROUND(N320+O319,0)","v":0},{"$f":"ROUND(O320+P319,0)","v":0},{"$f":"ROUND(P320+Q319,0)","v":0},{"$f":"ROUND(Q320+R319,0)","v":0},{"$f":"ROUND(R320+S319,0)","v":0},{"$f":"ROUND(S320+T319,0)","v":0},{"$f":"ROUND(T320+U319,0)","v":0},{"$f":"ROUND(U320+V319,0)","v":0},{"$f":"ROUND(V320+W319,0)","v":0}]
[null,"wartość netto",null,null,null,null,null,null,null,{"$f":"IF($C317=LataProjekcji,ROUND($C318-J320,0),ROUND(IF(J319=0,0,$C318-J320),0))","v":0},{"$f":"IF($C317=LataProjekcji,ROUND($C318-K320,0),ROUND(IF(AND(K319=0,J321>0),$C318-K320,IF(K319=0,0,$C318-K320)),0))","v":0},{"$f":"IF($C317=LataProjekcji,ROUND($C318-L320,0),ROUND(IF(AND(L319=0,K321>0),$C318-L320,IF(L319=0,0,$C318-L320)),0))","v":0},{"$f":"IF($C317=LataProjekcji,ROUND($C318-M320,0),ROUND(IF(AND(M319=0,L321>0),$C318-M320,IF(M319=0,0,$C318-M320)),0))","v":0},{"$f":"IF($C317=LataProjekcji,ROUND($C318-N320,0),ROUND(IF(AND(N319=0,M321>0),$C318-N320,IF(N319=0,0,$C318-N320)),0))","v":0},{"$f":"IF($C317=LataProjekcji,ROUND($C318-O320,0),ROUND(IF(AND(O319=0,N321>0),$C318-O320,IF(O319=0,0,$C318-O320)),0))","v":0},{"$f":"IF($C317=LataProjekcji,ROUND($C318-P320,0),ROUND(IF(AND(P319=0,O321>0),$C318-P320,IF(P319=0,0,$C318-P320)),0))","v":0},{"$f":"IF($C317=LataProjekcji,ROUND($C318-Q320,0),ROUND(IF(AND(Q319=0,P321>0),$C318-Q320,IF(Q319=0,0,$C318-Q320)),0))","v":0},{"$f":"IF($C317=LataProjekcji,ROUND($C318-R320,0),ROUND(IF(AND(R319=0,Q321>0),$C318-R320,IF(R319=0,0,$C318-R320)),0))","v":0},{"$f":"IF($C317=LataProjekcji,ROUND($C318-S320,0),ROUND(IF(AND(S319=0,R321>0),$C318-S320,IF(S319=0,0,$C318-S320)),0))","v":0},{"$f":"IF($C317=LataProjekcji,ROUND($C318-T320,0),ROUND(IF(AND(T319=0,S321>0),$C318-T320,IF(T319=0,0,$C318-T320)),0))","v":0},{"$f":"IF($C317=LataProjekcji,ROUND($C318-U320,0),ROUND(IF(AND(U319=0,T321>0),$C318-U320,IF(U319=0,0,$C318-U320)),0))","v":0},{"$f":"IF($C317=LataProjekcji,ROUND($C318-V320,0),ROUND(IF(AND(V319=0,U321>0),$C318-V320,IF(V319=0,0,$C318-V320)),0))","v":0},{"$f":"IF($C317=LataProjekcji,ROUND($C318-W320,0),ROUND(IF(AND(W319=0,V321>0),$C318-W320,IF(W319=0,0,$C318-W320)),0))","v":0}]
[]
[null,{"$f":"IF(B295=\"\",\"Środki transportu 4\",B295)","v":"zrealizowane środki trwałe w budowie"},{"$f":"C316+1","v":159}]
[null,"rok zakupu",{"$f":"IFERROR(YEAR(OFFSET($D$136,C323,0)),0)","v":0},{"$f":"IFERROR(MONTH(OFFSET($D$136,C323,0)),0)","v":0},{"$f":"12-$D324","v":12}]
[null,"wartość netto",{"$f":"IF(D325<0,0,ROUND(D325,0))","v":0},{"$f":"OFFSET($C$136,C323,0)","v":0},{"$f":"IF(D325>3.5,ROUND(($C326/12)*$E324,0),$C325)","v":0}]
[null,"amortyzacja roczna",{"$f":"IF(ISBLANK(OFFSET($D$136,C323,0)),0,IF(D325>3.5,ROUND(C325*am_budynki,0),IF(C325<0,0,C325)))","v":0},null,null,null,null,null,null,{"$f":"ROUND(IF($C324=LataProjekcji,$E325,IF($C324=LataProjekcji,$C326,0)),0)","v":0},{"$f":"ROUND(IF(OR(AND($C324=LataProjekcji,$E324>0),AND($C324=LataProjekcji,$E324=0,$D325<=3.5)),$E325,IF($C324<LataProjekcji,IF((SUM($J326:J326)+$C326)<$C325,$C326,$C325-SUM($J326:J326)),0)),0)","v":0},{"$f":"ROUND(IF(OR(AND($C324=LataProjekcji,$E324>0),AND($C324=LataProjekcji,$E324=0,$D325<=3.5)),$E325,IF($C324<LataProjekcji,IF((SUM($J326:K326)+$C326)<$C325,$C326,$C325-SUM($J326:K326)),0)),0)","v":0},{"$f":"ROUND(IF(OR(AND($C324=LataProjekcji,$E324>0),AND($C324=LataProjekcji,$E324=0,$D325<=3.5)),$E325,IF($C324<LataProjekcji,IF((SUM($J326:L326)+$C326)<$C325,$C326,$C325-SUM($J326:L326)),0)),0)","v":0},{"$f":"ROUND(IF(OR(AND($C324=LataProjekcji,$E324>0),AND($C324=LataProjekcji,$E324=0,$D325<=3.5)),$E325,IF($C324<LataProjekcji,IF((SUM($J326:M326)+$C326)<$C325,$C326,$C325-SUM($J326:M326)),0)),0)","v":0},{"$f":"ROUND(IF(OR(AND($C324=LataProjekcji,$E324>0),AND($C324=LataProjekcji,$E324=0,$D325<=3.5)),$E325,IF($C324<LataProjekcji,IF((SUM($J326:N326)+$C326)<$C325,$C326,$C325-SUM($J326:N326)),0)),0)","v":0},{"$f":"ROUND(IF(OR(AND($C324=LataProjekcji,$E324>0),AND($C324=LataProjekcji,$E324=0,$D325<=3.5)),$E325,IF($C324<LataProjekcji,IF((SUM($J326:O326)+$C326)<$C325,$C326,$C325-SUM($J326:O326)),0)),0)","v":0},{"$f":"ROUND(IF(OR(AND($C324=LataProjekcji,$E324>0),AND($C324=LataProjekcji,$E324=0,$D325<=3.5)),$E325,IF($C324<LataProjekcji,IF((SUM($J326:P326)+$C326)<$C325,$C326,$C325-SUM($J326:P326)),0)),0)","v":0},{"$f":"ROUND(IF(OR(AND($C324=LataProjekcji,$E324>0),AND($C324=LataProjekcji,$E324=0,$D325<=3.5)),$E325,IF($C324<LataProjekcji,IF((SUM($J326:Q326)+$C326)<$C325,$C326,$C325-SUM($J326:Q326)),0)),0)","v":0},{"$f":"ROUND(IF(OR(AND($C324=LataProjekcji,$E324>0),AND($C324=LataProjekcji,$E324=0,$D325<=3.5)),$E325,IF($C324<LataProjekcji,IF((SUM($J326:R326)+$C326)<$C325,$C326,$C325-SUM($J326:R326)),0)),0)","v":0},{"$f":"ROUND(IF(OR(AND($C324=LataProjekcji,$E324>0),AND($C324=LataProjekcji,$E324=0,$D325<=3.5)),$E325,IF($C324<LataProjekcji,IF((SUM($J326:S326)+$C326)<$C325,$C326,$C325-SUM($J326:S326)),0)),0)","v":0},{"$f":"ROUND(IF(OR(AND($C324=LataProjekcji,$E324>0),AND($C324=LataProjekcji,$E324=0,$D325<=3.5)),$E325,IF($C324<LataProjekcji,IF((SUM($J326:T326)+$C326)<$C325,$C326,$C325-SUM($J326:T326)),0)),0)","v":0},{"$f":"ROUND(IF(OR(AND($C324=LataProjekcji,$E324>0),AND($C324=LataProjekcji,$E324=0,$D325<=3.5)),$E325,IF($C324<LataProjekcji,IF((SUM($J326:U326)+$C326)<$C325,$C326,$C325-SUM($J326:U326)),0)),0)","v":0},{"$f":"ROUND(IF(OR(AND($C324=LataProjekcji,$E324>0),AND($C324=LataProjekcji,$E324=0,$D325<=3.5)),$E325,IF($C324<LataProjekcji,IF((SUM($J326:V326)+$C326)<$C325,$C326,$C325-SUM($J326:V326)),0)),0)","v":0}]
[null,"umorzenie",null,null,null,null,null,null,null,{"$f":"ROUND(J326,0)","v":0},{"$f":"ROUND(J327+K326,0)","v":0},{"$f":"ROUND(K327+L326,0)","v":0},{"$f":"ROUND(L327+M326,0)","v":0},{"$f":"ROUND(M327+N326,0)","v":0},{"$f":"ROUND(N327+O326,0)","v":0},{"$f":"ROUND(O327+P326,0)","v":0},{"$f":"ROUND(P327+Q326,0)","v":0},{"$f":"ROUND(Q327+R326,0)","v":0},{"$f":"ROUND(R327+S326,0)","v":0},{"$f":"ROUND(S327+T326,0)","v":0},{"$f":"ROUND(T327+U326,0)","v":0},{"$f":"ROUND(U327+V326,0)","v":0},{"$f":"ROUND(V327+W326,0)","v":0}]
[null,"wartość netto",null,null,null,null,null,null,null,{"$f":"IF($C324=LataProjekcji,ROUND($C325-J327,0),ROUND(IF(J326=0,0,$C325-J327),0))","v":0},{"$f":"IF($C324=LataProjekcji,ROUND($C325-K327,0),ROUND(IF(AND(K326=0,J328>0),$C325-K327,IF(K326=0,0,$C325-K327)),0))","v":0},{"$f":"IF($C324=LataProjekcji,ROUND($C325-L327,0),ROUND(IF(AND(L326=0,K328>0),$C325-L327,IF(L326=0,0,$C325-L327)),0))","v":0},{"$f":"IF($C324=LataProjekcji,ROUND($C325-M327,0),ROUND(IF(AND(M326=0,L328>0),$C325-M327,IF(M326=0,0,$C325-M327)),0))","v":0},{"$f":"IF($C324=LataProjekcji,ROUND($C325-N327,0),ROUND(IF(AND(N326=0,M328>0),$C325-N327,IF(N326=0,0,$C325-N327)),0))","v":0},{"$f":"IF($C324=LataProjekcji,ROUND($C325-O327,0),ROUND(IF(AND(O326=0,N328>0),$C325-O327,IF(O326=0,0,$C325-O327)),0))","v":0},{"$f":"IF($C324=LataProjekcji,ROUND($C325-P327,0),ROUND(IF(AND(P326=0,O328>0),$C325-P327,IF(P326=0,0,$C325-P327)),0))","v":0},{"$f":"IF($C324=LataProjekcji,ROUND($C325-Q327,0),ROUND(IF(AND(Q326=0,P328>0),$C325-Q327,IF(Q326=0,0,$C325-Q327)),0))","v":0},{"$f":"IF($C324=LataProjekcji,ROUND($C325-R327,0),ROUND(IF(AND(R326=0,Q328>0),$C325-R327,IF(R326=0,0,$C325-R327)),0))","v":0},{"$f":"IF($C324=LataProjekcji,ROUND($C325-S327,0),ROUND(IF(AND(S326=0,R328>0),$C325-S327,IF(S326=0,0,$C325-S327)),0))","v":0},{"$f":"IF($C324=LataProjekcji,ROUND($C325-T327,0),ROUND(IF(AND(T326=0,S328>0),$C325-T327,IF(T326=0,0,$C325-T327)),0))","v":0},{"$f":"IF($C324=LataProjekcji,ROUND($C325-U327,0),ROUND(IF(AND(U326=0,T328>0),$C325-U327,IF(U326=0,0,$C325-U327)),0))","v":0},{"$f":"IF($C324=LataProjekcji,ROUND($C325-V327,0),ROUND(IF(AND(V326=0,U328>0),$C325-V327,IF(V326=0,0,$C325-V327)),0))","v":0},{"$f":"IF($C324=LataProjekcji,ROUND($C325-W327,0),ROUND(IF(AND(W326=0,V328>0),$C325-W327,IF(W326=0,0,$C325-W327)),0))","v":0}]
[]
[null,{"$f":"IF(B296=\"\",\"Środki transportu 5\",B296)","v":"zrealizowane środki trwałe w budowie"},{"$f":"C323+1","v":160}]
[null,"rok zakupu",{"$f":"IFERROR(YEAR(OFFSET($D$136,C330,0)),0)","v":0},{"$f":"IFERROR(MONTH(OFFSET($D$136,C330,0)),0)","v":0},{"$f":"12-$D331","v":12}]
[null,"wartość netto",{"$f":"IF(D332<0,0,ROUND(D332,0))","v":0},{"$f":"OFFSET($C$136,C330,0)","v":0},{"$f":"IF(D332>3.5,ROUND(($C333/12)*$E331,0),$C332)","v":0}]
[null,"amortyzacja roczna",{"$f":"IF(ISBLANK(OFFSET($D$136,C330,0)),0,IF(D332>3.5,ROUND(C332*am_budynki,0),IF(C332<0,0,C332)))","v":0},null,null,null,null,null,null,{"$f":"ROUND(IF($C331=LataProjekcji,$E332,IF($C331=LataProjekcji,$C333,0)),0)","v":0},{"$f":"ROUND(IF(OR(AND($C331=LataProjekcji,$E331>0),AND($C331=LataProjekcji,$E331=0,$D332<=3.5)),$E332,IF($C331<LataProjekcji,IF((SUM($J333:J333)+$C333)<$C332,$C333,$C332-SUM($J333:J333)),0)),0)","v":0},{"$f":"ROUND(IF(OR(AND($C331=LataProjekcji,$E331>0),AND($C331=LataProjekcji,$E331=0,$D332<=3.5)),$E332,IF($C331<LataProjekcji,IF((SUM($J333:K333)+$C333)<$C332,$C333,$C332-SUM($J333:K333)),0)),0)","v":0},{"$f":"ROUND(IF(OR(AND($C331=LataProjekcji,$E331>0),AND($C331=LataProjekcji,$E331=0,$D332<=3.5)),$E332,IF($C331<LataProjekcji,IF((SUM($J333:L333)+$C333)<$C332,$C333,$C332-SUM($J333:L333)),0)),0)","v":0},{"$f":"ROUND(IF(OR(AND($C331=LataProjekcji,$E331>0),AND($C331=LataProjekcji,$E331=0,$D332<=3.5)),$E332,IF($C331<LataProjekcji,IF((SUM($J333:M333)+$C333)<$C332,$C333,$C332-SUM($J333:M333)),0)),0)","v":0},{"$f":"ROUND(IF(OR(AND($C331=LataProjekcji,$E331>0),AND($C331=LataProjekcji,$E331=0,$D332<=3.5)),$E332,IF($C331<LataProjekcji,IF((SUM($J333:N333)+$C333)<$C332,$C333,$C332-SUM($J333:N333)),0)),0)","v":0},{"$f":"ROUND(IF(OR(AND($C331=LataProjekcji,$E331>0),AND($C331=LataProjekcji,$E331=0,$D332<=3.5)),$E332,IF($C331<LataProjekcji,IF((SUM($J333:O333)+$C333)<$C332,$C333,$C332-SUM($J333:O333)),0)),0)","v":0},{"$f":"ROUND(IF(OR(AND($C331=LataProjekcji,$E331>0),AND($C331=LataProjekcji,$E331=0,$D332<=3.5)),$E332,IF($C331<LataProjekcji,IF((SUM($J333:P333)+$C333)<$C332,$C333,$C332-SUM($J333:P333)),0)),0)","v":0},{"$f":"ROUND(IF(OR(AND($C331=LataProjekcji,$E331>0),AND($C331=LataProjekcji,$E331=0,$D332<=3.5)),$E332,IF($C331<LataProjekcji,IF((SUM($J333:Q333)+$C333)<$C332,$C333,$C332-SUM($J333:Q333)),0)),0)","v":0},{"$f":"ROUND(IF(OR(AND($C331=LataProjekcji,$E331>0),AND($C331=LataProjekcji,$E331=0,$D332<=3.5)),$E332,IF($C331<LataProjekcji,IF((SUM($J333:R333)+$C333)<$C332,$C333,$C332-SUM($J333:R333)),0)),0)","v":0},{"$f":"ROUND(IF(OR(AND($C331=LataProjekcji,$E331>0),AND($C331=LataProjekcji,$E331=0,$D332<=3.5)),$E332,IF($C331<LataProjekcji,IF((SUM($J333:S333)+$C333)<$C332,$C333,$C332-SUM($J333:S333)),0)),0)","v":0},{"$f":"ROUND(IF(OR(AND($C331=LataProjekcji,$E331>0),AND($C331=LataProjekcji,$E331=0,$D332<=3.5)),$E332,IF($C331<LataProjekcji,IF((SUM($J333:T333)+$C333)<$C332,$C333,$C332-SUM($J333:T333)),0)),0)","v":0},{"$f":"ROUND(IF(OR(AND($C331=LataProjekcji,$E331>0),AND($C331=LataProjekcji,$E331=0,$D332<=3.5)),$E332,IF($C331<LataProjekcji,IF((SUM($J333:U333)+$C333)<$C332,$C333,$C332-SUM($J333:U333)),0)),0)","v":0},{"$f":"ROUND(IF(OR(AND($C331=LataProjekcji,$E331>0),AND($C331=LataProjekcji,$E331=0,$D332<=3.5)),$E332,IF($C331<LataProjekcji,IF((SUM($J333:V333)+$C333)<$C332,$C333,$C332-SUM($J333:V333)),0)),0)","v":0}]
[null,"umorzenie",null,null,null,null,null,null,null,{"$f":"ROUND(J333,0)","v":0},{"$f":"ROUND(J334+K333,0)","v":0},{"$f":"ROUND(K334+L333,0)","v":0},{"$f":"ROUND(L334+M333,0)","v":0},{"$f":"ROUND(M334+N333,0)","v":0},{"$f":"ROUND(N334+O333,0)","v":0},{"$f":"ROUND(O334+P333,0)","v":0},{"$f":"ROUND(P334+Q333,0)","v":0},{"$f":"ROUND(Q334+R333,0)","v":0},{"$f":"ROUND(R334+S333,0)","v":0},{"$f":"ROUND(S334+T333,0)","v":0},{"$f":"ROUND(T334+U333,0)","v":0},{"$f":"ROUND(U334+V333,0)","v":0},{"$f":"ROUND(V334+W333,0)","v":0}]
[null,"wartość netto",null,null,null,null,null,null,null,{"$f":"IF($C331=LataProjekcji,ROUND($C332-J334,0),ROUND(IF(J333=0,0,$C332-J334),0))","v":0},{"$f":"IF($C331=LataProjekcji,ROUND($C332-K334,0),ROUND(IF(AND(K333=0,J335>0),$C332-K334,IF(K333=0,0,$C332-K334)),0))","v":0},{"$f":"IF($C331=LataProjekcji,ROUND($C332-L334,0),ROUND(IF(AND(L333=0,K335>0),$C332-L334,IF(L333=0,0,$C332-L334)),0))","v":0},{"$f":"IF($C331=LataProjekcji,ROUND($C332-M334,0),ROUND(IF(AND(M333=0,L335>0),$C332-M334,IF(M333=0,0,$C332-M334)),0))","v":0},{"$f":"IF($C331=LataProjekcji,ROUND($C332-N334,0),ROUND(IF(AND(N333=0,M335>0),$C332-N334,IF(N333=0,0,$C332-N334)),0))","v":0},{"$f":"IF($C331=LataProjekcji,ROUND($C332-O334,0),ROUND(IF(AND(O333=0,N335>0),$C332-O334,IF(O333=0,0,$C332-O334)),0))","v":0},{"$f":"IF($C331=LataProjekcji,ROUND($C332-P334,0),ROUND(IF(AND(P333=0,O335>0),$C332-P334,IF(P333=0,0,$C332-P334)),0))","v":0},{"$f":"IF($C331=LataProjekcji,ROUND($C332-Q334,0),ROUND(IF(AND(Q333=0,P335>0),$C332-Q334,IF(Q333=0,0,$C332-Q334)),0))","v":0},{"$f":"IF($C331=LataProjekcji,ROUND($C332-R334,0),ROUND(IF(AND(R333=0,Q335>0),$C332-R334,IF(R333=0,0,$C332-R334)),0))","v":0},{"$f":"IF($C331=LataProjekcji,ROUND($C332-S334,0),ROUND(IF(AND(S333=0,R335>0),$C332-S334,IF(S333=0,0,$C332-S334)),0))","v":0},{"$f":"IF($C331=LataProjekcji,ROUND($C332-T334,0),ROUND(IF(AND(T333=0,S335>0),$C332-T334,IF(T333=0,0,$C332-T334)),0))","v":0},{"$f":"IF($C331=LataProjekcji,ROUND($C332-U334,0),ROUND(IF(AND(U333=0,T335>0),$C332-U334,IF(U333=0,0,$C332-U334)),0))","v":0},{"$f":"IF($C331=LataProjekcji,ROUND($C332-V334,0),ROUND(IF(AND(V333=0,U335>0),$C332-V334,IF(V333=0,0,$C332-V334)),0))","v":0},{"$f":"IF($C331=LataProjekcji,ROUND($C332-W334,0),ROUND(IF(AND(W333=0,V335>0),$C332-W334,IF(W333=0,0,$C332-W334)),0))","v":0}]
[]
[]
[]
[null,"urządzenia techniczne i maszyny ","wartość netto","rok i miesiąc zakupu","dofinansowanie %","dofinansowanie PLN",null,null,null,{"$f":"LataProjekcji","v":"Uzupełnij dane"},"","","","","","","","","","","","",""]
[null,null,null,null,null,{"$f":"IF(E340=0,0,ROUND(E340*C340,0))","v":0},null,null,{"$f":"IF(OR(AND(ISNUMBER(C340),ISBLANK(D340)),AND(ISNUMBER(D340),ISBLANK(C340))),\"uzupełnij dane\",\"\")","v":""},{"$f":"ROUND(IF(AND(YEAR($D340)=LataProjekcji,$C340>0),$C340,0),0)","v":0},0,0,0,0,0,0,0,0,0,0,0,0,0]
[null,null,null,null,null,0,null,null,"",0,0,0,0,0,0,0,0,0,0,0,0,0,0]
[null,null,null,null,null,0,null,null,"",0,0,0,0,0,0,0,0,0,0,0,0,0,0]
[null,null,null,null,null,0,null,null,"",0,0,0,0,0,0,0,0,0,0,0,0,0,0]
[null,null,null,null,null,0,null,null,{"$f":"IF(OR(AND(ISNUMBER(C344),ISBLANK(D344)),AND(ISNUMBER(D344),ISBLANK(C344))),\"uzupełnij dane\",\"\")","v":""},0,0,0,0,0,0,0,0,0,0,0,0,0,0]
[null,{"$f":"B401","v":"zrealizowane środki trwałe w budowie"},{"$f":"C401","v":0},{"$f":"D401","v":""},{"$f":"E401","v":0},0,null,null,"",{"$f":"J401","v":0},{"$f":"K401","v":0},0,0,0,0,0,0,0,0,0,0,0,0]
[null,{"$f":"B402","v":"zrealizowane środki trwałe w budowie"},0,"",0,0,null,null,"",{"$f":"J402","v":0},0,0,0,0,0,0,0,0,0,0,0,0,0]
[null,"zrealizowane środki trwałe w budowie",0,"",0,0,null,null,"",0,0,0,0,0,0,0,0,0,0,0,0,0,0]
[null,"zrealizowane środki trwałe w budowie",0,"",0,0,null,null,"",0,0,0,0,0,0,0,0,0,0,0,0,0,0]
[null,"zrealizowane środki trwałe w budowie",0,"",null,0,null,null,"",0,0,0,0,0,0,0,0,0,0,0,0,0,0]
[null,"Razem",{"$f":"SUM(C340:C349)","v":0},null,null,{"$f":"SUM(F340:F349)","v":0},null,null,null,{"$f":"SUM(J340:J349)","v":0},{"$f":"SUM(K340:K349)","v":0},0,0,0,0,0,0,0,0,0,0,0,0]
[null,"     - amortyzacja",null,null,null,null,null,null,null,{"$f":"J367+J374+J381+J388+J395+J407","v":0},{"$f":"K367+K374+K381+K388+K395+K407","v":0},0,0,0,0,0,0,0,0,0,0,0,0]
[null,"     - umorzenie",null,null,null,null,null,null,null,{"$f":"J368+J375+J382+J389+J396+J408","v":0},0,0,0,0,0,0,0,0,0,0,0,0,0]
[null,"     - wartość księgowa netto",null,null,null,null,null,null,null,{"$f":"J369+J376+J383+J390+J397+J409","v":0},0,0,0,0,0,0,0,0,0,0,0,0,0]
[]
[null,"środki trwałe w budowie \n(urządzenia i maszyny > 1 rok)","rok rozpoczęcia prac budowlanych","rok i miesiąc zakończenia prac budowlanych","dofinansowanie %","dofinansowanie PLN",null,null,"razem prace budowlane",{"$f":"LataProjekcji","v":"Uzupełnij dane"},"","","","","","","","","","","","",""]
[null,null,null,null,null,{"$f":"IF(E356=0,0,ROUND(E356*C401,0))","v":0},null,null,{"$f":"IF(AND(ISBLANK(C356),ISBLANK(D356)),\"\",IF(OR(ISBLANK(C356),ISBLANK(D356)),\"Uzupełnij dane\",C345))","v":""}]
[null,null,null,null,null,{"$f":"IF(E357=0,0,ROUND(E357*C402,0))","v":0},null,null,{"$f":"IF(AND(ISBLANK(C357),ISBLANK(D357)),\"\",IF(OR(ISBLANK(C357),ISBLANK(D357)),\"Uzupełnij dane\",C346))","v":""}]
[null,null,null,null,null,{"$f":"IF(E358=0,0,ROUND(E358*C403,0))","v":0},null,null,""]
[null,null,null,null,null,{"$f":"IF(E359=0,0,ROUND(E359*C404,0))","v":0},null,null,""]
[null,null,null,null,null,{"$f":"IF(E360=0,0,ROUND(E360*C405,0))","v":0},null,null,""]
[null,"Razem",null,null,null,{"$f":"SUM(F356:F360)","v":0},null,null,{"$f":"SUM(I356:I360)","v":0},{"$f":"SUM(J356:J360)","v":0},0,0,0,0,0,0,0,0,0,0,0,0,0]
[]
[]
[null,{"$f":"\"maszyna i urządzenie 1 \"&B340","v":"maszyna i urządzenie 1 "},204,null,"ile miesiący do końca roku",null,"niekwalifikowalne","spr"]
[null,"rok zakupu",{"$f":"YEAR(OFFSET($D$136,C364,0))","v":1900},{"$f":"MONTH(OFFSET($D$136,C364,0))","v":1},{"$f":"12-$D365","v":11},null,{"$f":"C359-F365","v":0},{"$f":"C359-F365-G365","v":0}]
[null,"wartość netto",{"$f":"IF(D366<0,0,ROUND(D366,0))","v":0},{"$f":"OFFSET($C$136,C364,0)","v":0},{"$f":"IF(D366>3.5,ROUND(($C367/12)*$E365,0),$C366)","v":0},"<- am. Do końca roku"]
[null,"amortyzacja roczna",{"$f":"IF(ISBLANK(OFFSET($D$136,C364,0)),0,IF(D366>3.5,ROUND(C366*am_maszyny,0),IF(C366<0,0,C366)))","v":0},null,null,null,null,null,null,{"$f":"ROUND(IF($C365=LataProjekcji,$E366,IF($C365=LataProjekcji,$C367,0)),0)","v":0},{"$f":"ROUND(IF(OR(AND($C365=LataProjekcji,$E365>0),AND($C365=LataProjekcji,$E365=0,$D366<=3.5)),$E366,IF($C365<LataProjekcji,IF((SUM($J367:J367)+$C367)<$C366,$C367,$C366-SUM($J367:J367)),0)),0)","v":0},{"$f":"ROUND(IF(OR(AND($C365=LataProjekcji,$E365>0),AND($C365=LataProjekcji,$E365=0,$D366<=3.5)),$E366,IF($C365<LataProjekcji,IF((SUM($J367:K367)+$C367)<$C366,$C367,$C366-SUM($J367:K367)),0)),0)","v":0},{"$f":"ROUND(IF(OR(AND($C365=LataProjekcji,$E365>0),AND($C365=LataProjekcji,$E365=0,$D366<=3.5)),$E366,IF($C365<LataProjekcji,IF((SUM($J367:L367)+$C367)<$C366,$C367,$C366-SUM($J367:L367)),0)),0)","v":0},{"$f":"ROUND(IF(OR(AND($C365=LataProjekcji,$E365>0),AND($C365=LataProjekcji,$E365=0,$D366<=3.5)),$E366,IF($C365<LataProjekcji,IF((SUM($J367:M367)+$C367)<$C366,$C367,$C366-SUM($J367:M367)),0)),0)","v":0},{"$f":"ROUND(IF(OR(AND($C365=LataProjekcji,$E365>0),AND($C365=LataProjekcji,$E365=0,$D366<=3.5)),$E366,IF($C365<LataProjekcji,IF((SUM($J367:N367)+$C367)<$C366,$C367,$C366-SUM($J367:N367)),0)),0)","v":0},{"$f":"ROUND(IF(OR(AND($C365=LataProjekcji,$E365>0),AND($C365=LataProjekcji,$E365=0,$D366<=3.5)),$E366,IF($C365<LataProjekcji,IF((SUM($J367:O367)+$C367)<$C366,$C367,$C366-SUM($J367:O367)),0)),0)","v":0},{"$f":"ROUND(IF(OR(AND($C365=LataProjekcji,$E365>0),AND($C365=LataProjekcji,$E365=0,$D366<=3.5)),$E366,IF($C365<LataProjekcji,IF((SUM($J367:P367)+$C367)<$C366,$C367,$C366-SUM($J367:P367)),0)),0)","v":0},{"$f":"ROUND(IF(OR(AND($C365=LataProjekcji,$E365>0),AND($C365=LataProjekcji,$E365=0,$D366<=3.5)),$E366,IF($C365<LataProjekcji,IF((SUM($J367:Q367)+$C367)<$C366,$C367,$C366-SUM($J367:Q367)),0)),0)","v":0},{"$f":"ROUND(IF(OR(AND($C365=LataProjekcji,$E365>0),AND($C365=LataProjekcji,$E365=0,$D366<=3.5)),$E366,IF($C365<LataProjekcji,IF((SUM($J367:R367)+$C367)<$C366,$C367,$C366-SUM($J367:R367)),0)),0)","v":0},{"$f":"ROUND(IF(OR(AND($C365=LataProjekcji,$E365>0),AND($C365=LataProjekcji,$E365=0,$D366<=3.5)),$E366,IF($C365<LataProjekcji,IF((SUM($J367:S367)+$C367)<$C366,$C367,$C366-SUM($J367:S367)),0)),0)","v":0},{"$f":"ROUND(IF(OR(AND($C365=LataProjekcji,$E365>0),AND($C365=LataProjekcji,$E365=0,$D366<=3.5)),$E366,IF($C365<LataProjekcji,IF((SUM($J367:T367)+$C367)<$C366,$C367,$C366-SUM($J367:T367)),0)),0)","v":0},{"$f":"ROUND(IF(OR(AND($C365=LataProjekcji,$E365>0),AND($C365=LataProjekcji,$E365=0,$D366<=3.5)),$E366,IF($C365<LataProjekcji,IF((SUM($J367:U367)+$C367)<$C366,$C367,$C366-SUM($J367:U367)),0)),0)","v":0},{"$f":"ROUND(IF(OR(AND($C365=LataProjekcji,$E365>0),AND($C365=LataProjekcji,$E365=0,$D366<=3.5)),$E366,IF($C365<LataProjekcji,IF((SUM($J367:V367)+$C367)<$C366,$C367,$C366-SUM($J367:V367)),0)),0)","v":0}]
[null,"umorzenie",null,null,null,null,null,null,null,{"$f":"ROUND(J367,0)","v":0},{"$f":"ROUND(J368+K367,0)","v":0},{"$f":"ROUND(K368+L367,0)","v":0},{"$f":"ROUND(L368+M367,0)","v":0},{"$f":"ROUND(M368+N367,0)","v":0},{"$f":"ROUND(N368+O367,0)","v":0},{"$f":"ROUND(O368+P367,0)","v":0},{"$f":"ROUND(P368+Q367,0)","v":0},{"$f":"ROUND(Q368+R367,0)","v":0},{"$f":"ROUND(R368+S367,0)","v":0},{"$f":"ROUND(S368+T367,0)","v":0},{"$f":"ROUND(T368+U367,0)","v":0},{"$f":"ROUND(U368+V367,0)","v":0},{"$f":"ROUND(V368+W367,0)","v":0}]
[null,"wartość netto",null,null,null,null,null,null,null,{"$f":"IF($C365=LataProjekcji,ROUND($C366-J368,0),ROUND(IF(J367=0,0,$C366-J368),0))","v":0},{"$f":"IF($C365=LataProjekcji,ROUND($C366-K368,0),ROUND(IF(AND(K367=0,J369>0),$C366-K368,IF(K367=0,0,$C366-K368)),0))","v":0},{"$f":"IF($C365=LataProjekcji,ROUND($C366-L368,0),ROUND(IF(AND(L367=0,K369>0),$C366-L368,IF(L367=0,0,$C366-L368)),0))","v":0},{"$f":"IF($C365=LataProjekcji,ROUND($C366-M368,0),ROUND(IF(AND(M367=0,L369>0),$C366-M368,IF(M367=0,0,$C366-M368)),0))","v":0},{"$f":"IF($C365=LataProjekcji,ROUND($C366-N368,0),ROUND(IF(AND(N367=0,M369>0),$C366-N368,IF(N367=0,0,$C366-N368)),0))","v":0},{"$f":"IF($C365=LataProjekcji,ROUND($C366-O368,0),ROUND(IF(AND(O367=0,N369>0),$C366-O368,IF(O367=0,0,$C366-O368)),0))","v":0},{"$f":"IF($C365=LataProjekcji,ROUND($C366-P368,0),ROUND(IF(AND(P367=0,O369>0),$C366-P368,IF(P367=0,0,$C366-P368)),0))","v":0},{"$f":"IF($C365=LataProjekcji,ROUND($C366-Q368,0),ROUND(IF(AND(Q367=0,P369>0),$C366-Q368,IF(Q367=0,0,$C366-Q368)),0))","v":0},{"$f":"IF($C365=LataProjekcji,ROUND($C366-R368,0),ROUND(IF(AND(R367=0,Q369>0),$C366-R368,IF(R367=0,0,$C366-R368)),0))","v":0},{"$f":"IF($C365=LataProjekcji,ROUND($C366-S368,0),ROUND(IF(AND(S367=0,R369>0),$C366-S368,IF(S367=0,0,$C366-S368)),0))","v":0},{"$f":"IF($C365=LataProjekcji,ROUND($C366-T368,0),ROUND(IF(AND(T367=0,S369>0),$C366-T368,IF(T367=0,0,$C366-T368)),0))","v":0},{"$f":"IF($C365=LataProjekcji,ROUND($C366-U368,0),ROUND(IF(AND(U367=0,T369>0),$C366-U368,IF(U367=0,0,$C366-U368)),0))","v":0},{"$f":"IF($C365=LataProjekcji,ROUND($C366-V368,0),ROUND(IF(AND(V367=0,U369>0),$C366-V368,IF(V367=0,0,$C366-V368)),0))","v":0},{"$f":"IF($C365=LataProjekcji,ROUND($C366-W368,0),ROUND(IF(AND(W367=0,V369>0),$C366-W368,IF(W367=0,0,$C366-W368)),0))","v":0}]
[]
[null,{"$f":"\"maszyna i urządzenie 2 \"&B341","v":"maszyna i urządzenie 2 "},{"$f":"C364+1","v":205}]
[null,"rok zakupu",{"$f":"YEAR(OFFSET($D$136,C371,0))","v":1900},{"$f":"MONTH(OFFSET($D$136,C371,0))","v":1},{"$f":"12-$D372","v":11}]
[null,"wartość netto",{"$f":"IF(D373<0,0,ROUND(D373,0))","v":0},{"$f":"OFFSET($C$136,C371,0)","v":0},{"$f":"IF(D373>3.5,ROUND(($C374/12)*$E372,0),$C373)","v":0}]
[null,"amortyzacja roczna",{"$f":"IF(ISBLANK(OFFSET($D$136,C371,0)),0,IF(D373>3.5,ROUND(C373*am_maszyny,0),IF(C373<0,0,C373)))","v":0},null,null,null,null,null,null,{"$f":"ROUND(IF($C372=LataProjekcji,$E373,IF($C372=LataProjekcji,$C374,0)),0)","v":0},{"$f":"ROUND(IF(OR(AND($C372=LataProjekcji,$E372>0),AND($C372=LataProjekcji,$E372=0,$D373<=3.5)),$E373,IF($C372<LataProjekcji,IF((SUM($J374:J374)+$C374)<$C373,$C374,$C373-SUM($J374:J374)),0)),0)","v":0},{"$f":"ROUND(IF(OR(AND($C372=LataProjekcji,$E372>0),AND($C372=LataProjekcji,$E372=0,$D373<=3.5)),$E373,IF($C372<LataProjekcji,IF((SUM($J374:K374)+$C374)<$C373,$C374,$C373-SUM($J374:K374)),0)),0)","v":0},{"$f":"ROUND(IF(OR(AND($C372=LataProjekcji,$E372>0),AND($C372=LataProjekcji,$E372=0,$D373<=3.5)),$E373,IF($C372<LataProjekcji,IF((SUM($J374:L374)+$C374)<$C373,$C374,$C373-SUM($J374:L374)),0)),0)","v":0},{"$f":"ROUND(IF(OR(AND($C372=LataProjekcji,$E372>0),AND($C372=LataProjekcji,$E372=0,$D373<=3.5)),$E373,IF($C372<LataProjekcji,IF((SUM($J374:M374)+$C374)<$C373,$C374,$C373-SUM($J374:M374)),0)),0)","v":0},{"$f":"ROUND(IF(OR(AND($C372=LataProjekcji,$E372>0),AND($C372=LataProjekcji,$E372=0,$D373<=3.5)),$E373,IF($C372<LataProjekcji,IF((SUM($J374:N374)+$C374)<$C373,$C374,$C373-SUM($J374:N374)),0)),0)","v":0},{"$f":"ROUND(IF(OR(AND($C372=LataProjekcji,$E372>0),AND($C372=LataProjekcji,$E372=0,$D373<=3.5)),$E373,IF($C372<LataProjekcji,IF((SUM($J374:O374)+$C374)<$C373,$C374,$C373-SUM($J374:O374)),0)),0)","v":0},{"$f":"ROUND(IF(OR(AND($C372=LataProjekcji,$E372>0),AND($C372=LataProjekcji,$E372=0,$D373<=3.5)),$E373,IF($C372<LataProjekcji,IF((SUM($J374:P374)+$C374)<$C373,$C374,$C373-SUM($J374:P374)),0)),0)","v":0},{"$f":"ROUND(IF(OR(AND($C372=LataProjekcji,$E372>0),AND($C372=LataProjekcji,$E372=0,$D373<=3.5)),$E373,IF($C372<LataProjekcji,IF((SUM($J374:Q374)+$C374)<$C373,$C374,$C373-SUM($J374:Q374)),0)),0)","v":0},{"$f":"ROUND(IF(OR(AND($C372=LataProjekcji,$E372>0),AND($C372=LataProjekcji,$E372=0,$D373<=3.5)),$E373,IF($C372<LataProjekcji,IF((SUM($J374:R374)+$C374)<$C373,$C374,$C373-SUM($J374:R374)),0)),0)","v":0},{"$f":"ROUND(IF(OR(AND($C372=LataProjekcji,$E372>0),AND($C372=LataProjekcji,$E372=0,$D373<=3.5)),$E373,IF($C372<LataProjekcji,IF((SUM($J374:S374)+$C374)<$C373,$C374,$C373-SUM($J374:S374)),0)),0)","v":0},{"$f":"ROUND(IF(OR(AND($C372=LataProjekcji,$E372>0),AND($C372=LataProjekcji,$E372=0,$D373<=3.5)),$E373,IF($C372<LataProjekcji,IF((SUM($J374:T374)+$C374)<$C373,$C374,$C373-SUM($J374:T374)),0)),0)","v":0},{"$f":"ROUND(IF(OR(AND($C372=LataProjekcji,$E372>0),AND($C372=LataProjekcji,$E372=0,$D373<=3.5)),$E373,IF($C372<LataProjekcji,IF((SUM($J374:U374)+$C374)<$C373,$C374,$C373-SUM($J374:U374)),0)),0)","v":0},{"$f":"ROUND(IF(OR(AND($C372=LataProjekcji,$E372>0),AND($C372=LataProjekcji,$E372=0,$D373<=3.5)),$E373,IF($C372<LataProjekcji,IF((SUM($J374:V374)+$C374)<$C373,$C374,$C373-SUM($J374:V374)),0)),0)","v":0}]
[null,"umorzenie",null,null,null,null,null,null,null,{"$f":"ROUND(J374,0)","v":0},{"$f":"ROUND(J375+K374,0)","v":0},{"$f":"ROUND(K375+L374,0)","v":0},{"$f":"ROUND(L375+M374,0)","v":0},{"$f":"ROUND(M375+N374,0)","v":0},{"$f":"ROUND(N375+O374,0)","v":0},{"$f":"ROUND(O375+P374,0)","v":0},{"$f":"ROUND(P375+Q374,0)","v":0},{"$f":"ROUND(Q375+R374,0)","v":0},{"$f":"ROUND(R375+S374,0)","v":0},{"$f":"ROUND(S375+T374,0)","v":0},{"$f":"ROUND(T375+U374,0)","v":0},{"$f":"ROUND(U375+V374,0)","v":0},{"$f":"ROUND(V375+W374,0)","v":0}]
[null,"wartość netto",null,null,null,null,null,null,null,{"$f":"IF($C372=LataProjekcji,ROUND($C373-J375,0),ROUND(IF(J374=0,0,$C373-J375),0))","v":0},{"$f":"IF($C372=LataProjekcji,ROUND($C373-K375,0),ROUND(IF(AND(K374=0,J376>0),$C373-K375,IF(K374=0,0,$C373-K375)),0))","v":0},{"$f":"IF($C372=LataProjekcji,ROUND($C373-L375,0),ROUND(IF(AND(L374=0,K376>0),$C373-L375,IF(L374=0,0,$C373-L375)),0))","v":0},{"$f":"IF($C372=LataProjekcji,ROUND($C373-M375,0),ROUND(IF(AND(M374=0,L376>0),$C373-M375,IF(M374=0,0,$C373-M375)),0))","v":0},{"$f":"IF($C372=LataProjekcji,ROUND($C373-N375,0),ROUND(IF(AND(N374=0,M376>0),$C373-N375,IF(N374=0,0,$C373-N375)),0))","v":0},{"$f":"IF($C372=LataProjekcji,ROUND($C373-O375,0),ROUND(IF(AND(O374=0,N376>0),$C373-O375,IF(O374=0,0,$C373-O375)),0))","v":0},{"$f":"IF($C372=LataProjekcji,ROUND($C373-P375,0),ROUND(IF(AND(P374=0,O376>0),$C373-P375,IF(P374=0,0,$C373-P375)),0))","v":0},{"$f":"IF($C372=LataProjekcji,ROUND($C373-Q375,0),ROUND(IF(AND(Q374=0,P376>0),$C373-Q375,IF(Q374=0,0,$C373-Q375)),0))","v":0},{"$f":"IF($C372=LataProjekcji,ROUND($C373-R375,0),ROUND(IF(AND(R374=0,Q376>0),$C373-R375,IF(R374=0,0,$C373-R375)),0))","v":0},{"$f":"IF($C372=LataProjekcji,ROUND($C373-S375,0),ROUND(IF(AND(S374=0,R376>0),$C373-S375,IF(S374=0,0,$C373-S375)),0))","v":0},{"$f":"IF($C372=LataProjekcji,ROUND($C373-T375,0),ROUND(IF(AND(T374=0,S376>0),$C373-T375,IF(T374=0,0,$C373-T375)),0))","v":0},{"$f":"IF($C372=LataProjekcji,ROUND($C373-U375,0),ROUND(IF(AND(U374=0,T376>0),$C373-U375,IF(U374=0,0,$C373-U375)),0))","v":0},{"$f":"IF($C372=LataProjekcji,ROUND($C373-V375,0),ROUND(IF(AND(V374=0,U376>0),$C373-V375,IF(V374=0,0,$C373-V375)),0))","v":0},{"$f":"IF($C372=LataProjekcji,ROUND($C373-W375,0),ROUND(IF(AND(W374=0,V376>0),$C373-W375,IF(W374=0,0,$C373-W375)),0))","v":0}]
[]
[null,{"$f":"\"maszyna i urządzenie 3 \"&B342","v":"maszyna i urządzenie 3 "},{"$f":"C371+1","v":206}]
[null,"rok zakupu",{"$f":"YEAR(OFFSET($D$136,C378,0))","v":1900},{"$f":"MONTH(OFFSET($D$136,C378,0))","v":1},{"$f":"12-$D379","v":11}]
[null,"wartość netto",{"$f":"IF(D380<0,0,ROUND(D380,0))","v":0},{"$f":"OFFSET($C$136,C378,0)","v":0},{"$f":"IF(D380>3.5,ROUND(($C381/12)*$E379,0),$C380)","v":0}]
[null,"amortyzacja roczna",{"$f":"IF(ISBLANK(OFFSET($D$136,C378,0)),0,IF(D380>3.5,ROUND(C380*am_maszyny,0),IF(C380<0,0,C380)))","v":0},null,null,null,null,null,null,{"$f":"ROUND(IF($C379=LataProjekcji,$E380,IF($C379=LataProjekcji,$C381,0)),0)","v":0},{"$f":"ROUND(IF(OR(AND($C379=LataProjekcji,$E379>0),AND($C379=LataProjekcji,$E379=0,$D380<=3.5)),$E380,IF($C379<LataProjekcji,IF((SUM($J381:J381)+$C381)<$C380,$C381,$C380-SUM($J381:J381)),0)),0)","v":0},{"$f":"ROUND(IF(OR(AND($C379=LataProjekcji,$E379>0),AND($C379=LataProjekcji,$E379=0,$D380<=3.5)),$E380,IF($C379<LataProjekcji,IF((SUM($J381:K381)+$C381)<$C380,$C381,$C380-SUM($J381:K381)),0)),0)","v":0},{"$f":"ROUND(IF(OR(AND($C379=LataProjekcji,$E379>0),AND($C379=LataProjekcji,$E379=0,$D380<=3.5)),$E380,IF($C379<LataProjekcji,IF((SUM($J381:L381)+$C381)<$C380,$C381,$C380-SUM($J381:L381)),0)),0)","v":0},{"$f":"ROUND(IF(OR(AND($C379=LataProjekcji,$E379>0),AND($C379=LataProjekcji,$E379=0,$D380<=3.5)),$E380,IF($C379<LataProjekcji,IF((SUM($J381:M381)+$C381)<$C380,$C381,$C380-SUM($J381:M381)),0)),0)","v":0},{"$f":"ROUND(IF(OR(AND($C379=LataProjekcji,$E379>0),AND($C379=LataProjekcji,$E379=0,$D380<=3.5)),$E380,IF($C379<LataProjekcji,IF((SUM($J381:N381)+$C381)<$C380,$C381,$C380-SUM($J381:N381)),0)),0)","v":0},{"$f":"ROUND(IF(OR(AND($C379=LataProjekcji,$E379>0),AND($C379=LataProjekcji,$E379=0,$D380<=3.5)),$E380,IF($C379<LataProjekcji,IF((SUM($J381:O381)+$C381)<$C380,$C381,$C380-SUM($J381:O381)),0)),0)","v":0},{"$f":"ROUND(IF(OR(AND($C379=LataProjekcji,$E379>0),AND($C379=LataProjekcji,$E379=0,$D380<=3.5)),$E380,IF($C379<LataProjekcji,IF((SUM($J381:P381)+$C381)<$C380,$C381,$C380-SUM($J381:P381)),0)),0)","v":0},{"$f":"ROUND(IF(OR(AND($C379=LataProjekcji,$E379>0),AND($C379=LataProjekcji,$E379=0,$D380<=3.5)),$E380,IF($C379<LataProjekcji,IF((SUM($J381:Q381)+$C381)<$C380,$C381,$C380-SUM($J381:Q381)),0)),0)","v":0},{"$f":"ROUND(IF(OR(AND($C379=LataProjekcji,$E379>0),AND($C379=LataProjekcji,$E379=0,$D380<=3.5)),$E380,IF($C379<LataProjekcji,IF((SUM($J381:R381)+$C381)<$C380,$C381,$C380-SUM($J381:R381)),0)),0)","v":0},{"$f":"ROUND(IF(OR(AND($C379=LataProjekcji,$E379>0),AND($C379=LataProjekcji,$E379=0,$D380<=3.5)),$E380,IF($C379<LataProjekcji,IF((SUM($J381:S381)+$C381)<$C380,$C381,$C380-SUM($J381:S381)),0)),0)","v":0},{"$f":"ROUND(IF(OR(AND($C379=LataProjekcji,$E379>0),AND($C379=LataProjekcji,$E379=0,$D380<=3.5)),$E380,IF($C379<LataProjekcji,IF((SUM($J381:T381)+$C381)<$C380,$C381,$C380-SUM($J381:T381)),0)),0)","v":0},{"$f":"ROUND(IF(OR(AND($C379=LataProjekcji,$E379>0),AND($C379=LataProjekcji,$E379=0,$D380<=3.5)),$E380,IF($C379<LataProjekcji,IF((SUM($J381:U381)+$C381)<$C380,$C381,$C380-SUM($J381:U381)),0)),0)","v":0},{"$f":"ROUND(IF(OR(AND($C379=LataProjekcji,$E379>0),AND($C379=LataProjekcji,$E379=0,$D380<=3.5)),$E380,IF($C379<LataProjekcji,IF((SUM($J381:V381)+$C381)<$C380,$C381,$C380-SUM($J381:V381)),0)),0)","v":0}]
[null,"umorzenie",null,null,null,null,null,null,null,{"$f":"ROUND(J381,0)","v":0},{"$f":"ROUND(J382+K381,0)","v":0},{"$f":"ROUND(K382+L381,0)","v":0},{"$f":"ROUND(L382+M381,0)","v":0},{"$f":"ROUND(M382+N381,0)","v":0},{"$f":"ROUND(N382+O381,0)","v":0},{"$f":"ROUND(O382+P381,0)","v":0},{"$f":"ROUND(P382+Q381,0)","v":0},{"$f":"ROUND(Q382+R381,0)","v":0},{"$f":"ROUND(R382+S381,0)","v":0},{"$f":"ROUND(S382+T381,0)","v":0},{"$f":"ROUND(T382+U381,0)","v":0},{"$f":"ROUND(U382+V381,0)","v":0},{"$f":"ROUND(V382+W381,0)","v":0}]
[null,"wartość netto",null,null,null,null,null,null,null,{"$f":"IF($C379=LataProjekcji,ROUND($C380-J382,0),ROUND(IF(J381=0,0,$C380-J382),0))","v":0},{"$f":"IF($C379=LataProjekcji,ROUND($C380-K382,0),ROUND(IF(AND(K381=0,J383>0),$C380-K382,IF(K381=0,0,$C380-K382)),0))","v":0},{"$f":"IF($C379=LataProjekcji,ROUND($C380-L382,0),ROUND(IF(AND(L381=0,K383>0),$C380-L382,IF(L381=0,0,$C380-L382)),0))","v":0},{"$f":"IF($C379=LataProjekcji,ROUND($C380-M382,0),ROUND(IF(AND(M381=0,L383>0),$C380-M382,IF(M381=0,0,$C380-M382)),0))","v":0},{"$f":"IF($C379=LataProjekcji,ROUND($C380-N382,0),ROUND(IF(AND(N381=0,M383>0),$C380-N382,IF(N381=0,0,$C380-N382)),0))","v":0},{"$f":"IF($C379=LataProjekcji,ROUND($C380-O382,0),ROUND(IF(AND(O381=0,N383>0),$C380-O382,IF(O381=0,0,$C380-O382)),0))","v":0},{"$f":"IF($C379=LataProjekcji,ROUND($C380-P382,0),ROUND(IF(AND(P381=0,O383>0),$C380-P382,IF(P381=0,0,$C380-P382)),0))","v":0},{"$f":"IF($C379=LataProjekcji,ROUND($C380-Q382,0),ROUND(IF(AND(Q381=0,P383>0),$C380-Q382,IF(Q381=0,0,$C380-Q382)),0))","v":0},{"$f":"IF($C379=LataProjekcji,ROUND($C380-R382,0),ROUND(IF(AND(R381=0,Q383>0),$C380-R382,IF(R381=0,0,$C380-R382)),0))","v":0},{"$f":"IF($C379=LataProjekcji,ROUND($C380-S382,0),ROUND(IF(AND(S381=0,R383>0),$C380-S382,IF(S381=0,0,$C380-S382)),0))","v":0},{"$f":"IF($C379=LataProjekcji,ROUND($C380-T382,0),ROUND(IF(AND(T381=0,S383>0),$C380-T382,IF(T381=0,0,$C380-T382)),0))","v":0},{"$f":"IF($C379=LataProjekcji,ROUND($C380-U382,0),ROUND(IF(AND(U381=0,T383>0),$C380-U382,IF(U381=0,0,$C380-U382)),0))","v":0},{"$f":"IF($C379=LataProjekcji,ROUND($C380-V382,0),ROUND(IF(AND(V381=0,U383>0),$C380-V382,IF(V381=0,0,$C380-V382)),0))","v":0},{"$f":"IF($C379=LataProjekcji,ROUND($C380-W382,0),ROUND(IF(AND(W381=0,V383>0),$C380-W382,IF(W381=0,0,$C380-W382)),0))","v":0}]
[]
[null,{"$f":"\"maszyna i urządzenie 4 \"&B343","v":"maszyna i urządzenie 4 "},{"$f":"C378+1","v":207}]
[null,"rok zakupu",{"$f":"YEAR(OFFSET($D$136,C385,0))","v":1900},{"$f":"MONTH(OFFSET($D$136,C385,0))","v":1},{"$f":"12-$D386","v":11}]
[null,"wartość netto",{"$f":"IF(D387<0,0,ROUND(D387,0))","v":0},{"$f":"OFFSET($C$136,C385,0)","v":0},{"$f":"IF(D387>3.5,ROUND(($C388/12)*$E386,0),$C387)","v":0}]
[null,"amortyzacja roczna",{"$f":"IF(ISBLANK(OFFSET($D$136,C385,0)),0,IF(D387>3.5,ROUND(C387*am_maszyny,0),IF(C387<0,0,C387)))","v":0},null,null,null,null,null,null,{"$f":"ROUND(IF($C386=LataProjekcji,$E387,IF($C386=LataProjekcji,$C388,0)),0)","v":0},{"$f":"ROUND(IF(OR(AND($C386=LataProjekcji,$E386>0),AND($C386=LataProjekcji,$E386=0,$D387<=3.5)),$E387,IF($C386<LataProjekcji,IF((SUM($J388:J388)+$C388)<$C387,$C388,$C387-SUM($J388:J388)),0)),0)","v":0},{"$f":"ROUND(IF(OR(AND($C386=LataProjekcji,$E386>0),AND($C386=LataProjekcji,$E386=0,$D387<=3.5)),$E387,IF($C386<LataProjekcji,IF((SUM($J388:K388)+$C388)<$C387,$C388,$C387-SUM($J388:K388)),0)),0)","v":0},{"$f":"ROUND(IF(OR(AND($C386=LataProjekcji,$E386>0),AND($C386=LataProjekcji,$E386=0,$D387<=3.5)),$E387,IF($C386<LataProjekcji,IF((SUM($J388:L388)+$C388)<$C387,$C388,$C387-SUM($J388:L388)),0)),0)","v":0},{"$f":"ROUND(IF(OR(AND($C386=LataProjekcji,$E386>0),AND($C386=LataProjekcji,$E386=0,$D387<=3.5)),$E387,IF($C386<LataProjekcji,IF((SUM($J388:M388)+$C388)<$C387,$C388,$C387-SUM($J388:M388)),0)),0)","v":0},{"$f":"ROUND(IF(OR(AND($C386=LataProjekcji,$E386>0),AND($C386=LataProjekcji,$E386=0,$D387<=3.5)),$E387,IF($C386<LataProjekcji,IF((SUM($J388:N388)+$C388)<$C387,$C388,$C387-SUM($J388:N388)),0)),0)","v":0},{"$f":"ROUND(IF(OR(AND($C386=LataProjekcji,$E386>0),AND($C386=LataProjekcji,$E386=0,$D387<=3.5)),$E387,IF($C386<LataProjekcji,IF((SUM($J388:O388)+$C388)<$C387,$C388,$C387-SUM($J388:O388)),0)),0)","v":0},{"$f":"ROUND(IF(OR(AND($C386=LataProjekcji,$E386>0),AND($C386=LataProjekcji,$E386=0,$D387<=3.5)),$E387,IF($C386<LataProjekcji,IF((SUM($J388:P388)+$C388)<$C387,$C388,$C387-SUM($J388:P388)),0)),0)","v":0},{"$f":"ROUND(IF(OR(AND($C386=LataProjekcji,$E386>0),AND($C386=LataProjekcji,$E386=0,$D387<=3.5)),$E387,IF($C386<LataProjekcji,IF((SUM($J388:Q388)+$C388)<$C387,$C388,$C387-SUM($J388:Q388)),0)),0)","v":0},{"$f":"ROUND(IF(OR(AND($C386=LataProjekcji,$E386>0),AND($C386=LataProjekcji,$E386=0,$D387<=3.5)),$E387,IF($C386<LataProjekcji,IF((SUM($J388:R388)+$C388)<$C387,$C388,$C387-SUM($J388:R388)),0)),0)","v":0},{"$f":"ROUND(IF(OR(AND($C386=LataProjekcji,$E386>0),AND($C386=LataProjekcji,$E386=0,$D387<=3.5)),$E387,IF($C386<LataProjekcji,IF((SUM($J388:S388)+$C388)<$C387,$C388,$C387-SUM($J388:S388)),0)),0)","v":0},{"$f":"ROUND(IF(OR(AND($C386=LataProjekcji,$E386>0),AND($C386=LataProjekcji,$E386=0,$D387<=3.5)),$E387,IF($C386<LataProjekcji,IF((SUM($J388:T388)+$C388)<$C387,$C388,$C387-SUM($J388:T388)),0)),0)","v":0},{"$f":"ROUND(IF(OR(AND($C386=LataProjekcji,$E386>0),AND($C386=LataProjekcji,$E386=0,$D387<=3.5)),$E387,IF($C386<LataProjekcji,IF((SUM($J388:U388)+$C388)<$C387,$C388,$C387-SUM($J388:U388)),0)),0)","v":0},{"$f":"ROUND(IF(OR(AND($C386=LataProjekcji,$E386>0),AND($C386=LataProjekcji,$E386=0,$D387<=3.5)),$E387,IF($C386<LataProjekcji,IF((SUM($J388:V388)+$C388)<$C387,$C388,$C387-SUM($J388:V388)),0)),0)","v":0}]
[null,"umorzenie",null,null,null,null,null,null,null,{"$f":"ROUND(J388,0)","v":0},{"$f":"ROUND(J389+K388,0)","v":0},{"$f":"ROUND(K389+L388,0)","v":0},{"$f":"ROUND(L389+M388,0)","v":0},{"$f":"ROUND(M389+N388,0)","v":0},{"$f":"ROUND(N389+O388,0)","v":0},{"$f":"ROUND(O389+P388,0)","v":0},{"$f":"ROUND(P389+Q388,0)","v":0},{"$f":"ROUND(Q389+R388,0)","v":0},{"$f":"ROUND(R389+S388,0)","v":0},{"$f":"ROUND(S389+T388,0)","v":0},{"$f":"ROUND(T389+U388,0)","v":0},{"$f":"ROUND(U389+V388,0)","v":0},{"$f":"ROUND(V389+W388,0)","v":0}]
[null,"wartość netto",null,null,null,null,null,null,null,{"$f":"IF($C386=LataProjekcji,ROUND($C387-J389,0),ROUND(IF(J388=0,0,$C387-J389),0))","v":0},{"$f":"IF($C386=LataProjekcji,ROUND($C387-K389,0),ROUND(IF(AND(K388=0,J390>0),$C387-K389,IF(K388=0,0,$C387-K389)),0))","v":0},{"$f":"IF($C386=LataProjekcji,ROUND($C387-L389,0),ROUND(IF(AND(L388=0,K390>0),$C387-L389,IF(L388=0,0,$C387-L389)),0))","v":0},{"$f":"IF($C386=LataProjekcji,ROUND($C387-M389,0),ROUND(IF(AND(M388=0,L390>0),$C387-M389,IF(M388=0,0,$C387-M389)),0))","v":0},{"$f":"IF($C386=LataProjekcji,ROUND($C387-N389,0),ROUND(IF(AND(N388=0,M390>0),$C387-N389,IF(N388=0,0,$C387-N389)),0))","v":0},{"$f":"IF($C386=LataProjekcji,ROUND($C387-O389,0),ROUND(IF(AND(O388=0,N390>0),$C387-O389,IF(O388=0,0,$C387-O389)),0))","v":0},{"$f":"IF($C386=LataProjekcji,ROUND($C387-P389,0),ROUND(IF(AND(P388=0,O390>0),$C387-P389,IF(P388=0,0,$C387-P389)),0))","v":0},{"$f":"IF($C386=LataProjekcji,ROUND($C387-Q389,0),ROUND(IF(AND(Q388=0,P390>0),$C387-Q389,IF(Q388=0,0,$C387-Q389)),0))","v":0},{"$f":"IF($C386=LataProjekcji,ROUND($C387-R389,0),ROUND(IF(AND(R388=0,Q390>0),$C387-R389,IF(R388=0,0,$C387-R389)),0))","v":0},{"$f":"IF($C386=LataProjekcji,ROUND($C387-S389,0),ROUND(IF(AND(S388=0,R390>0),$C387-S389,IF(S388=0,0,$C387-S389)),0))","v":0},{"$f":"IF($C386=LataProjekcji,ROUND($C387-T389,0),ROUND(IF(AND(T388=0,S390>0),$C387-T389,IF(T388=0,0,$C387-T389)),0))","v":0},{"$f":"IF($C386=LataProjekcji,ROUND($C387-U389,0),ROUND(IF(AND(U388=0,T390>0),$C387-U389,IF(U388=0,0,$C387-U389)),0))","v":0},{"$f":"IF($C386=LataProjekcji,ROUND($C387-V389,0),ROUND(IF(AND(V388=0,U390>0),$C387-V389,IF(V388=0,0,$C387-V389)),0))","v":0},{"$f":"IF($C386=LataProjekcji,ROUND($C387-W389,0),ROUND(IF(AND(W388=0,V390>0),$C387-W389,IF(W388=0,0,$C387-W389)),0))","v":0}]
[]
[null,{"$f":"\"maszyna i urządzenie 5 \"&B344","v":"maszyna i urządzenie 5 "},{"$f":"C385+1","v":208}]
[null,"rok zakupu",{"$f":"YEAR(OFFSET($D$136,C392,0))","v":1900},{"$f":"MONTH(OFFSET($D$136,C392,0))","v":1},{"$f":"12-$D393","v":11}]
[null,"wartość netto",{"$f":"IF(D394<0,0,ROUND(D394,0))","v":0},{"$f":"OFFSET($C$136,C392,0)","v":0},{"$f":"IF(D394>3.5,ROUND(($C395/12)*$E393,0),$C394)","v":0}]
[null,"amortyzacja roczna",{"$f":"IF(ISBLANK(OFFSET($D$136,C392,0)),0,IF(D394>3.5,ROUND(C394*am_maszyny,0),IF(C394<0,0,C394)))","v":0},null,null,null,null,null,null,{"$f":"ROUND(IF($C393=LataProjekcji,$E394,IF($C393=LataProjekcji,$C395,0)),0)","v":0},{"$f":"ROUND(IF(OR(AND($C393=LataProjekcji,$E393>0),AND($C393=LataProjekcji,$E393=0,$D394<=3.5)),$E394,IF($C393<LataProjekcji,IF((SUM($J395:J395)+$C395)<$C394,$C395,$C394-SUM($J395:J395)),0)),0)","v":0},{"$f":"ROUND(IF(OR(AND($C393=LataProjekcji,$E393>0),AND($C393=LataProjekcji,$E393=0,$D394<=3.5)),$E394,IF($C393<LataProjekcji,IF((SUM($J395:K395)+$C395)<$C394,$C395,$C394-SUM($J395:K395)),0)),0)","v":0},{"$f":"ROUND(IF(OR(AND($C393=LataProjekcji,$E393>0),AND($C393=LataProjekcji,$E393=0,$D394<=3.5)),$E394,IF($C393<LataProjekcji,IF((SUM($J395:L395)+$C395)<$C394,$C395,$C394-SUM($J395:L395)),0)),0)","v":0},{"$f":"ROUND(IF(OR(AND($C393=LataProjekcji,$E393>0),AND($C393=LataProjekcji,$E393=0,$D394<=3.5)),$E394,IF($C393<LataProjekcji,IF((SUM($J395:M395)+$C395)<$C394,$C395,$C394-SUM($J395:M395)),0)),0)","v":0},{"$f":"ROUND(IF(OR(AND($C393=LataProjekcji,$E393>0),AND($C393=LataProjekcji,$E393=0,$D394<=3.5)),$E394,IF($C393<LataProjekcji,IF((SUM($J395:N395)+$C395)<$C394,$C395,$C394-SUM($J395:N395)),0)),0)","v":0},{"$f":"ROUND(IF(OR(AND($C393=LataProjekcji,$E393>0),AND($C393=LataProjekcji,$E393=0,$D394<=3.5)),$E394,IF($C393<LataProjekcji,IF((SUM($J395:O395)+$C395)<$C394,$C395,$C394-SUM($J395:O395)),0)),0)","v":0},{"$f":"ROUND(IF(OR(AND($C393=LataProjekcji,$E393>0),AND($C393=LataProjekcji,$E393=0,$D394<=3.5)),$E394,IF($C393<LataProjekcji,IF((SUM($J395:P395)+$C395)<$C394,$C395,$C394-SUM($J395:P395)),0)),0)","v":0},{"$f":"ROUND(IF(OR(AND($C393=LataProjekcji,$E393>0),AND($C393=LataProjekcji,$E393=0,$D394<=3.5)),$E394,IF($C393<LataProjekcji,IF((SUM($J395:Q395)+$C395)<$C394,$C395,$C394-SUM($J395:Q395)),0)),0)","v":0},{"$f":"ROUND(IF(OR(AND($C393=LataProjekcji,$E393>0),AND($C393=LataProjekcji,$E393=0,$D394<=3.5)),$E394,IF($C393<LataProjekcji,IF((SUM($J395:R395)+$C395)<$C394,$C395,$C394-SUM($J395:R395)),0)),0)","v":0},{"$f":"ROUND(IF(OR(AND($C393=LataProjekcji,$E393>0),AND($C393=LataProjekcji,$E393=0,$D394<=3.5)),$E394,IF($C393<LataProjekcji,IF((SUM($J395:S395)+$C395)<$C394,$C395,$C394-SUM($J395:S395)),0)),0)","v":0},{"$f":"ROUND(IF(OR(AND($C393=LataProjekcji,$E393>0),AND($C393=LataProjekcji,$E393=0,$D394<=3.5)),$E394,IF($C393<LataProjekcji,IF((SUM($J395:T395)+$C395)<$C394,$C395,$C394-SUM($J395:T395)),0)),0)","v":0},{"$f":"ROUND(IF(OR(AND($C393=LataProjekcji,$E393>0),AND($C393=LataProjekcji,$E393=0,$D394<=3.5)),$E394,IF($C393<LataProjekcji,IF((SUM($J395:U395)+$C395)<$C394,$C395,$C394-SUM($J395:U395)),0)),0)","v":0},{"$f":"ROUND(IF(OR(AND($C393=LataProjekcji,$E393>0),AND($C393=LataProjekcji,$E393=0,$D394<=3.5)),$E394,IF($C393<LataProjekcji,IF((SUM($J395:V395)+$C395)<$C394,$C395,$C394-SUM($J395:V395)),0)),0)","v":0}]
[null,"umorzenie",null,null,null,null,null,null,null,{"$f":"ROUND(J395,0)","v":0},{"$f":"ROUND(J396+K395,0)","v":0},{"$f":"ROUND(K396+L395,0)","v":0},{"$f":"ROUND(L396+M395,0)","v":0},{"$f":"ROUND(M396+N395,0)","v":0},{"$f":"ROUND(N396+O395,0)","v":0},{"$f":"ROUND(O396+P395,0)","v":0},{"$f":"ROUND(P396+Q395,0)","v":0},{"$f":"ROUND(Q396+R395,0)","v":0},{"$f":"ROUND(R396+S395,0)","v":0},{"$f":"ROUND(S396+T395,0)","v":0},{"$f":"ROUND(T396+U395,0)","v":0},{"$f":"ROUND(U396+V395,0)","v":0},{"$f":"ROUND(V396+W395,0)","v":0}]
[null,"wartość netto",null,null,null,null,null,null,null,{"$f":"IF($C393=LataProjekcji,ROUND($C394-J396,0),ROUND(IF(J395=0,0,$C394-J396),0))","v":0},{"$f":"IF($C393=LataProjekcji,ROUND($C394-K396,0),ROUND(IF(AND(K395=0,J397>0),$C394-K396,IF(K395=0,0,$C394-K396)),0))","v":0},{"$f":"IF($C393=LataProjekcji,ROUND($C394-L396,0),ROUND(IF(AND(L395=0,K397>0),$C394-L396,IF(L395=0,0,$C394-L396)),0))","v":0},{"$f":"IF($C393=LataProjekcji,ROUND($C394-M396,0),ROUND(IF(AND(M395=0,L397>0),$C394-M396,IF(M395=0,0,$C394-M396)),0))","v":0},{"$f":"IF($C393=LataProjekcji,ROUND($C394-N396,0),ROUND(IF(AND(N395=0,M397>0),$C394-N396,IF(N395=0,0,$C394-N396)),0))","v":0},{"$f":"IF($C393=LataProjekcji,ROUND($C394-O396,0),ROUND(IF(AND(O395=0,N397>0),$C394-O396,IF(O395=0,0,$C394-O396)),0))","v":0},{"$f":"IF($C393=LataProjekcji,ROUND($C394-P396,0),ROUND(IF(AND(P395=0,O397>0),$C394-P396,IF(P395=0,0,$C394-P396)),0))","v":0},{"$f":"IF($C393=LataProjekcji,ROUND($C394-Q396,0),ROUND(IF(AND(Q395=0,P397>0),$C394-Q396,IF(Q395=0,0,$C394-Q396)),0))","v":0},{"$f":"IF($C393=LataProjekcji,ROUND($C394-R396,0),ROUND(IF(AND(R395=0,Q397>0),$C394-R396,IF(R395=0,0,$C394-R396)),0))","v":0},{"$f":"IF($C393=LataProjekcji,ROUND($C394-S396,0),ROUND(IF(AND(S395=0,R397>0),$C394-S396,IF(S395=0,0,$C394-S396)),0))","v":0},{"$f":"IF($C393=LataProjekcji,ROUND($C394-T396,0),ROUND(IF(AND(T395=0,S397>0),$C394-T396,IF(T395=0,0,$C394-T396)),0))","v":0},{"$f":"IF($C393=LataProjekcji,ROUND($C394-U396,0),ROUND(IF(AND(U395=0,T397>0),$C394-U396,IF(U395=0,0,$C394-U396)),0))","v":0},{"$f":"IF($C393=LataProjekcji,ROUND($C394-V396,0),ROUND(IF(AND(V395=0,U397>0),$C394-V396,IF(V395=0,0,$C394-V396)),0))","v":0},{"$f":"IF($C393=LataProjekcji,ROUND($C394-W396,0),ROUND(IF(AND(W395=0,V397>0),$C394-W396,IF(W395=0,0,$C394-W396)),0))","v":0}]
[]
[null,"OBLICZENIA DOTYCZĄCE ŚRODKÓW TRWAŁYCH W BUDOWIE"]
[null,"środki trwałe w budowie (prace budowlane > 1 rok)","wartość netto","rok i miesiąc zakupu","% dofinansowania","dofinansowanie"]
[null,{"$f":"IF(ISBLANK(B356),\"zrealizowane środki trwałe w budowie\",B356)","v":"zrealizowane środki trwałe w budowie"},{"$f":"IFERROR(SUM(INDIRECT(ADDRESS(ROW(J356),MATCH(C356,LataProjekcji,0))):INDIRECT(ADDRESS(ROW(J356),MATCH(YEAR(D356),LataProjekcji,0)))),0)","v":0},{"$f":"IF(ISBLANK(D356),\"\",D356)","v":""},{"$f":"E356","v":0},{"$f":"IFERROR(IF(E401=0,0,ROUND(E401*C401,0)),0)","v":0},null,null,null,{"$f":"IFERROR(ROUND(IF(YEAR($D401)=LataProjekcji,$C401,0),0),0)","v":0},0,0,0,0,0,0,0,0,0,0,0,0,0]
[null,{"$f":"IF(ISBLANK(B357),\"zrealizowane środki trwałe w budowie\",B357)","v":"zrealizowane środki trwałe w budowie"},{"$f":"IFERROR(SUM(INDIRECT(ADDRESS(ROW(J357),MATCH(C357,LataProjekcji,0))):INDIRECT(ADDRESS(ROW(J357),MATCH(YEAR(D357),LataProjekcji,0)))),0)","v":0},{"$f":"IF(ISBLANK(D357),\"\",D357)","v":""},{"$f":"E357","v":0},{"$f":"IFERROR(IF(E402=0,0,ROUND(E402*C402,0)),0)","v":0},null,null,null,0,0,0,0,0,0,0,0,0,0,0,0,0,0]
[null,{"$f":"IF(ISBLANK(B358),\"zrealizowane środki trwałe w budowie\",B358)","v":"zrealizowane środki trwałe w budowie"},{"$f":"IFERROR(SUM(INDIRECT(ADDRESS(ROW(J358),MATCH(C358,LataProjekcji,0))):INDIRECT(ADDRESS(ROW(J358),MATCH(YEAR(D358),LataProjekcji,0)))),0)","v":0},{"$f":"IF(ISBLANK(D358),\"\",D358)","v":""},{"$f":"E358","v":0},{"$f":"IFERROR(IF(E403=0,0,ROUND(E403*C403,0)),0)","v":0},null,null,null,0,0,0,0,0,0,0,0,0,0,0,0,0,0]
[null,{"$f":"IF(ISBLANK(B359),\"zrealizowane środki trwałe w budowie\",B359)","v":"zrealizowane środki trwałe w budowie"},{"$f":"IFERROR(SUM(INDIRECT(ADDRESS(ROW(J359),MATCH(C359,LataProjekcji,0))):INDIRECT(ADDRESS(ROW(J359),MATCH(YEAR(D359),LataProjekcji,0)))),0)","v":0},{"$f":"IF(ISBLANK(D359),\"\",D359)","v":""},{"$f":"E359","v":0},{"$f":"IFERROR(IF(E404=0,0,ROUND(E404*C404,0)),0)","v":0},null,null,null,0,0,0,0,0,0,0,0,0,0,0,0,0,0]
[null,{"$f":"IF(ISBLANK(B360),\"zrealizowane środki trwałe w budowie\",B360)","v":"zrealizowane środki trwałe w budowie"},{"$f":"IFERROR(SUM(INDIRECT(ADDRESS(ROW(J360),MATCH(C360,LataProjekcji,0))):INDIRECT(ADDRESS(ROW(J360),MATCH(YEAR(D360),LataProjekcji,0)))),0)","v":0},{"$f":"IF(ISBLANK(D360),\"\",D360)","v":""},{"$f":"E360","v":0},{"$f":"IFERROR(IF(E405=0,0,ROUND(E405*C405,0)),0)","v":0},null,null,null,0,0,0,0,0,0,0,0,0,0,0,0,0,0]
[null,"Razem",{"$f":"SUM(C401:C405)","v":0},null,null,{"$f":"SUM(F401:F405)","v":0},null,null,null,{"$f":"SUM(J401:J405)","v":0},0,0,0,0,0,0,0,0,0,0,0,0,0]
[null,"     - amortyzacja",null,null,null,null,null,null,null,{"$f":"J414+J421+J428+J435+J442","v":0},{"$f":"K414+K421+K428+K435+K442","v":0},0,0,0,0,0,0,0,0,0,0,0,0]
[null,"     - umorzenie",null,null,null,null,null,null,null,{"$f":"J415+J422+J429+J436+J443","v":0},{"$f":"K415+K422+K429+K436+K443","v":0},0,0,0,0,0,0,0,0,0,0,0,0]
[null,"     - wartość księgowa netto",null,null,null,null,null,null,null,{"$f":"J416+J423+J430+J437+J444","v":0},{"$f":"K416+K423+K430+K437+K444","v":0},0,0,0,0,0,0,0,0,0,0,0,0]
[]
[null,{"$f":"IF(B401=\"\",\"Środki trwałe w budowie 1\",B401)","v":"zrealizowane środki trwałe w budowie"},265,null,"ile miesiący do końca roku",null,"niekwalifikowalne","spr"]
[null,"rok zakupu",{"$f":"IFERROR(YEAR(OFFSET($D$136,C411,0)),0)","v":0},{"$f":"IFERROR(MONTH(OFFSET($D$136,C411,0)),0)","v":0},{"$f":"12-$D412","v":12},null,{"$f":"C406-F412","v":0},{"$f":"C406-F412-G412","v":0}]
[null,"wartość netto",{"$f":"IF(D413<0,0,ROUND(D413,0))","v":0},{"$f":"OFFSET($C$136,C411,0)","v":0},{"$f":"IF(D413>3.5,ROUND(($C414/12)*$E412,0),$C413)","v":0},"<- am. Do końca roku"]
[null,"amortyzacja roczna",{"$f":"IF(ISBLANK(OFFSET($D$136,C411,0)),0,IF(D413>3.5,ROUND(C413*am_maszyny,0),IF(C413<0,0,C413)))","v":0},null,null,null,null,null,null,{"$f":"ROUND(IF($C412=LataProjekcji,$E413,IF($C412=LataProjekcji,$C414,0)),0)","v":0},{"$f":"ROUND(IF(OR(AND($C412=LataProjekcji,$E412>0),AND($C412=LataProjekcji,$E412=0,$D413<=3.5)),$E413,IF($C412<LataProjekcji,IF((SUM($J414:J414)+$C414)<$C413,$C414,$C413-SUM($J414:J414)),0)),0)","v":0},{"$f":"ROUND(IF(OR(AND($C412=LataProjekcji,$E412>0),AND($C412=LataProjekcji,$E412=0,$D413<=3.5)),$E413,IF($C412<LataProjekcji,IF((SUM($J414:K414)+$C414)<$C413,$C414,$C413-SUM($J414:K414)),0)),0)","v":0},{"$f":"ROUND(IF(OR(AND($C412=LataProjekcji,$E412>0),AND($C412=LataProjekcji,$E412=0,$D413<=3.5)),$E413,IF($C412<LataProjekcji,IF((SUM($J414:L414)+$C414)<$C413,$C414,$C413-SUM($J414:L414)),0)),0)","v":0},{"$f":"ROUND(IF(OR(AND($C412=LataProjekcji,$E412>0),AND($C412=LataProjekcji,$E412=0,$D413<=3.5)),$E413,IF($C412<LataProjekcji,IF((SUM($J414:M414)+$C414)<$C413,$C414,$C413-SUM($J414:M414)),0)),0)","v":0},{"$f":"ROUND(IF(OR(AND($C412=LataProjekcji,$E412>0),AND($C412=LataProjekcji,$E412=0,$D413<=3.5)),$E413,IF($C412<LataProjekcji,IF((SUM($J414:N414)+$C414)<$C413,$C414,$C413-SUM($J414:N414)),0)),0)","v":0},{"$f":"ROUND(IF(OR(AND($C412=LataProjekcji,$E412>0),AND($C412=LataProjekcji,$E412=0,$D413<=3.5)),$E413,IF($C412<LataProjekcji,IF((SUM($J414:O414)+$C414)<$C413,$C414,$C413-SUM($J414:O414)),0)),0)","v":0},{"$f":"ROUND(IF(OR(AND($C412=LataProjekcji,$E412>0),AND($C412=LataProjekcji,$E412=0,$D413<=3.5)),$E413,IF($C412<LataProjekcji,IF((SUM($J414:P414)+$C414)<$C413,$C414,$C413-SUM($J414:P414)),0)),0)","v":0},{"$f":"ROUND(IF(OR(AND($C412=LataProjekcji,$E412>0),AND($C412=LataProjekcji,$E412=0,$D413<=3.5)),$E413,IF($C412<LataProjekcji,IF((SUM($J414:Q414)+$C414)<$C413,$C414,$C413-SUM($J414:Q414)),0)),0)","v":0},{"$f":"ROUND(IF(OR(AND($C412=LataProjekcji,$E412>0),AND($C412=LataProjekcji,$E412=0,$D413<=3.5)),$E413,IF($C412<LataProjekcji,IF((SUM($J414:R414)+$C414)<$C413,$C414,$C413-SUM($J414:R414)),0)),0)","v":0},{"$f":"ROUND(IF(OR(AND($C412=LataProjekcji,$E412>0),AND($C412=LataProjekcji,$E412=0,$D413<=3.5)),$E413,IF($C412<LataProjekcji,IF((SUM($J414:S414)+$C414)<$C413,$C414,$C413-SUM($J414:S414)),0)),0)","v":0},{"$f":"ROUND(IF(OR(AND($C412=LataProjekcji,$E412>0),AND($C412=LataProjekcji,$E412=0,$D413<=3.5)),$E413,IF($C412<LataProjekcji,IF((SUM($J414:T414)+$C414)<$C413,$C414,$C413-SUM($J414:T414)),0)),0)","v":0},{"$f":"ROUND(IF(OR(AND($C412=LataProjekcji,$E412>0),AND($C412=LataProjekcji,$E412=0,$D413<=3.5)),$E413,IF($C412<LataProjekcji,IF((SUM($J414:U414)+$C414)<$C413,$C414,$C413-SUM($J414:U414)),0)),0)","v":0},{"$f":"ROUND(IF(OR(AND($C412=LataProjekcji,$E412>0),AND($C412=LataProjekcji,$E412=0,$D413<=3.5)),$E413,IF($C412<LataProjekcji,IF((SUM($J414:V414)+$C414)<$C413,$C414,$C413-SUM($J414:V414)),0)),0)","v":0}]
[null,"umorzenie",null,null,null,null,null,null,null,{"$f":"ROUND(J414,0)","v":0},{"$f":"ROUND(J415+K414,0)","v":0},{"$f":"ROUND(K415+L414,0)","v":0},{"$f":"ROUND(L415+M414,0)","v":0},{"$f":"ROUND(M415+N414,0)","v":0},{"$f":"ROUND(N415+O414,0)","v":0},{"$f":"ROUND(O415+P414,0)","v":0},{"$f":"ROUND(P415+Q414,0)","v":0},{"$f":"ROUND(Q415+R414,0)","v":0},{"$f":"ROUND(R415+S414,0)","v":0},{"$f":"ROUND(S415+T414,0)","v":0},{"$f":"ROUND(T415+U414,0)","v":0},{"$f":"ROUND(U415+V414,0)","v":0},{"$f":"ROUND(V415+W414,0)","v":0}]
[null,"wartość netto",null,null,null,null,null,null,null,{"$f":"IF($C412=LataProjekcji,ROUND($C413-J415,0),ROUND(IF(J414=0,0,$C413-J415),0))","v":0},{"$f":"IF($C412=LataProjekcji,ROUND($C413-K415,0),ROUND(IF(AND(K414=0,J416>0),$C413-K415,IF(K414=0,0,$C413-K415)),0))","v":0},{"$f":"IF($C412=LataProjekcji,ROUND($C413-L415,0),ROUND(IF(AND(L414=0,K416>0),$C413-L415,IF(L414=0,0,$C413-L415)),0))","v":0},{"$f":"IF($C412=LataProjekcji,ROUND($C413-M415,0),ROUND(IF(AND(M414=0,L416>0),$C413-M415,IF(M414=0,0,$C413-M415)),0))","v":0},{"$f":"IF($C412=LataProjekcji,ROUND($C413-N415,0),ROUND(IF(AND(N414=0,M416>0),$C413-N415,IF(N414=0,0,$C413-N415)),0))","v":0},{"$f":"IF($C412=LataProjekcji,ROUND($C413-O415,0),ROUND(IF(AND(O414=0,N416>0),$C413-O415,IF(O414=0,0,$C413-O415)),0))","v":0},{"$f":"IF($C412=LataProjekcji,ROUND($C413-P415,0),ROUND(IF(AND(P414=0,O416>0),$C413-P415,IF(P414=0,0,$C413-P415)),0))","v":0},{"$f":"IF($C412=LataProjekcji,ROUND($C413-Q415,0),ROUND(IF(AND(Q414=0,P416>0),$C413-Q415,IF(Q414=0,0,$C413-Q415)),0))","v":0},{"$f":"IF($C412=LataProjekcji,ROUND($C413-R415,0),ROUND(IF(AND(R414=0,Q416>0),$C413-R415,IF(R414=0,0,$C413-R415)),0))","v":0},{"$f":"IF($C412=LataProjekcji,ROUND($C413-S415,0),ROUND(IF(AND(S414=0,R416>0),$C413-S415,IF(S414=0,0,$C413-S415)),0))","v":0},{"$f":"IF($C412=LataProjekcji,ROUND($C413-T415,0),ROUND(IF(AND(T414=0,S416>0),$C413-T415,IF(T414=0,0,$C413-T415)),0))","v":0},{"$f":"IF($C412=LataProjekcji,ROUND($C413-U415,0),ROUND(IF(AND(U414=0,T416>0),$C413-U415,IF(U414=0,0,$C413-U415)),0))","v":0},{"$f":"IF($C412=LataProjekcji,ROUND($C413-V415,0),ROUND(IF(AND(V414=0,U416>0),$C413-V415,IF(V414=0,0,$C413-V415)),0))","v":0},{"$f":"IF($C412=LataProjekcji,ROUND($C413-W415,0),ROUND(IF(AND(W414=0,V416>0),$C413-W415,IF(W414=0,0,$C413-W415)),0))","v":0}]
[]
[null,{"$f":"IF(B402=\"\",\"Środki transportu 2\",B402)","v":"zrealizowane środki trwałe w budowie"},{"$f":"C411+1","v":266}]
[null,"rok zakupu",{"$f":"IFERROR(YEAR(OFFSET($D$136,C418,0)),0)","v":0},{"$f":"IFERROR(MONTH(OFFSET($D$136,C418,0)),0)","v":0},{"$f":"12-$D419","v":12}]
[null,"wartość netto",{"$f":"IF(D420<0,0,ROUND(D420,0))","v":0},{"$f":"OFFSET($C$136,C418,0)","v":0},{"$f":"IF(D420>3.5,ROUND(($C421/12)*$E419,0),$C420)","v":0}]
[null,"amortyzacja roczna",{"$f":"IF(ISBLANK(OFFSET($D$136,C418,0)),0,IF(D420>3.5,ROUND(C420*am_maszyny,0),IF(C420<0,0,C420)))","v":0},null,null,null,null,null,null,{"$f":"ROUND(IF($C419=LataProjekcji,$E420,IF($C419=LataProjekcji,$C421,0)),0)","v":0},{"$f":"ROUND(IF(OR(AND($C419=LataProjekcji,$E419>0),AND($C419=LataProjekcji,$E419=0,$D420<=3.5)),$E420,IF($C419<LataProjekcji,IF((SUM($J421:J421)+$C421)<$C420,$C421,$C420-SUM($J421:J421)),0)),0)","v":0},{"$f":"ROUND(IF(OR(AND($C419=LataProjekcji,$E419>0),AND($C419=LataProjekcji,$E419=0,$D420<=3.5)),$E420,IF($C419<LataProjekcji,IF((SUM($J421:K421)+$C421)<$C420,$C421,$C420-SUM($J421:K421)),0)),0)","v":0},{"$f":"ROUND(IF(OR(AND($C419=LataProjekcji,$E419>0),AND($C419=LataProjekcji,$E419=0,$D420<=3.5)),$E420,IF($C419<LataProjekcji,IF((SUM($J421:L421)+$C421)<$C420,$C421,$C420-SUM($J421:L421)),0)),0)","v":0},{"$f":"ROUND(IF(OR(AND($C419=LataProjekcji,$E419>0),AND($C419=LataProjekcji,$E419=0,$D420<=3.5)),$E420,IF($C419<LataProjekcji,IF((SUM($J421:M421)+$C421)<$C420,$C421,$C420-SUM($J421:M421)),0)),0)","v":0},{"$f":"ROUND(IF(OR(AND($C419=LataProjekcji,$E419>0),AND($C419=LataProjekcji,$E419=0,$D420<=3.5)),$E420,IF($C419<LataProjekcji,IF((SUM($J421:N421)+$C421)<$C420,$C421,$C420-SUM($J421:N421)),0)),0)","v":0},{"$f":"ROUND(IF(OR(AND($C419=LataProjekcji,$E419>0),AND($C419=LataProjekcji,$E419=0,$D420<=3.5)),$E420,IF($C419<LataProjekcji,IF((SUM($J421:O421)+$C421)<$C420,$C421,$C420-SUM($J421:O421)),0)),0)","v":0},{"$f":"ROUND(IF(OR(AND($C419=LataProjekcji,$E419>0),AND($C419=LataProjekcji,$E419=0,$D420<=3.5)),$E420,IF($C419<LataProjekcji,IF((SUM($J421:P421)+$C421)<$C420,$C421,$C420-SUM($J421:P421)),0)),0)","v":0},{"$f":"ROUND(IF(OR(AND($C419=LataProjekcji,$E419>0),AND($C419=LataProjekcji,$E419=0,$D420<=3.5)),$E420,IF($C419<LataProjekcji,IF((SUM($J421:Q421)+$C421)<$C420,$C421,$C420-SUM($J421:Q421)),0)),0)","v":0},{"$f":"ROUND(IF(OR(AND($C419=LataProjekcji,$E419>0),AND($C419=LataProjekcji,$E419=0,$D420<=3.5)),$E420,IF($C419<LataProjekcji,IF((SUM($J421:R421)+$C421)<$C420,$C421,$C420-SUM($J421:R421)),0)),0)","v":0},{"$f":"ROUND(IF(OR(AND($C419=LataProjekcji,$E419>0),AND($C419=LataProjekcji,$E419=0,$D420<=3.5)),$E420,IF($C419<LataProjekcji,IF((SUM($J421:S421)+$C421)<$C420,$C421,$C420-SUM($J421:S421)),0)),0)","v":0},{"$f":"ROUND(IF(OR(AND($C419=LataProjekcji,$E419>0),AND($C419=LataProjekcji,$E419=0,$D420<=3.5)),$E420,IF($C419<LataProjekcji,IF((SUM($J421:T421)+$C421)<$C420,$C421,$C420-SUM($J421:T421)),0)),0)","v":0},{"$f":"ROUND(IF(OR(AND($C419=LataProjekcji,$E419>0),AND($C419=LataProjekcji,$E419=0,$D420<=3.5)),$E420,IF($C419<LataProjekcji,IF((SUM($J421:U421)+$C421)<$C420,$C421,$C420-SUM($J421:U421)),0)),0)","v":0},{"$f":"ROUND(IF(OR(AND($C419=LataProjekcji,$E419>0),AND($C419=LataProjekcji,$E419=0,$D420<=3.5)),$E420,IF($C419<LataProjekcji,IF((SUM($J421:V421)+$C421)<$C420,$C421,$C420-SUM($J421:V421)),0)),0)","v":0}]
[null,"umorzenie",null,null,null,null,null,null,null,{"$f":"ROUND(J421,0)","v":0},{"$f":"ROUND(J422+K421,0)","v":0},{"$f":"ROUND(K422+L421,0)","v":0},{"$f":"ROUND(L422+M421,0)","v":0},{"$f":"ROUND(M422+N421,0)","v":0},{"$f":"ROUND(N422+O421,0)","v":0},{"$f":"ROUND(O422+P421,0)","v":0},{"$f":"ROUND(P422+Q421,0)","v":0},{"$f":"ROUND(Q422+R421,0)","v":0},{"$f":"ROUND(R422+S421,0)","v":0},{"$f":"ROUND(S422+T421,0)","v":0},{"$f":"ROUND(T422+U421,0)","v":0},{"$f":"ROUND(U422+V421,0)","v":0},{"$f":"ROUND(V422+W421,0)","v":0}]
[null,"wartość netto",null,null,null,null,null,null,null,{"$f":"IF($C419=LataProjekcji,ROUND($C420-J422,0),ROUND(IF(J421=0,0,$C420-J422),0))","v":0},{"$f":"IF($C419=LataProjekcji,ROUND($C420-K422,0),ROUND(IF(AND(K421=0,J423>0),$C420-K422,IF(K421=0,0,$C420-K422)),0))","v":0},{"$f":"IF($C419=LataProjekcji,ROUND($C420-L422,0),ROUND(IF(AND(L421=0,K423>0),$C420-L422,IF(L421=0,0,$C420-L422)),0))","v":0},{"$f":"IF($C419=LataProjekcji,ROUND($C420-M422,0),ROUND(IF(AND(M421=0,L423>0),$C420-M422,IF(M421=0,0,$C420-M422)),0))","v":0},{"$f":"IF($C419=LataProjekcji,ROUND($C420-N422,0),ROUND(IF(AND(N421=0,M423>0),$C420-N422,IF(N421=0,0,$C420-N422)),0))","v":0},{"$f":"IF($C419=LataProjekcji,ROUND($C420-O422,0),ROUND(IF(AND(O421=0,N423>0),$C420-O422,IF(O421=0,0,$C420-O422)),0))","v":0},{"$f":"IF($C419=LataProjekcji,ROUND($C420-P422,0),ROUND(IF(AND(P421=0,O423>0),$C420-P422,IF(P421=0,0,$C420-P422)),0))","v":0},{"$f":"IF($C419=LataProjekcji,ROUND($C420-Q422,0),ROUND(IF(AND(Q421=0,P423>0),$C420-Q422,IF(Q421=0,0,$C420-Q422)),0))","v":0},{"$f":"IF($C419=LataProjekcji,ROUND($C420-R422,0),ROUND(IF(AND(R421=0,Q423>0),$C420-R422,IF(R421=0,0,$C420-R422)),0))","v":0},{"$f":"IF($C419=LataProjekcji,ROUND($C420-S422,0),ROUND(IF(AND(S421=0,R423>0),$C420-S422,IF(S421=0,0,$C420-S422)),0))","v":0},{"$f":"IF($C419=LataProjekcji,ROUND($C420-T422,0),ROUND(IF(AND(T421=0,S423>0),$C420-T422,IF(T421=0,0,$C420-T422)),0))","v":0},{"$f":"IF($C419=LataProjekcji,ROUND($C420-U422,0),ROUND(IF(AND(U421=0,T423>0),$C420-U422,IF(U421=0,0,$C420-U422)),0))","v":0},{"$f":"IF($C419=LataProjekcji,ROUND($C420-V422,0),ROUND(IF(AND(V421=0,U423>0),$C420-V422,IF(V421=0,0,$C420-V422)),0))","v":0},{"$f":"IF($C419=LataProjekcji,ROUND($C420-W422,0),ROUND(IF(AND(W421=0,V423>0),$C420-W422,IF(W421=0,0,$C420-W422)),0))","v":0}]
[]
[null,{"$f":"IF(B403=\"\",\"Środki transportu 3\",B403)","v":"zrealizowane środki trwałe w budowie"},{"$f":"C418+1","v":267}]
[null,"rok zakupu",{"$f":"IFERROR(YEAR(OFFSET($D$136,C425,0)),0)","v":0},{"$f":"IFERROR(MONTH(OFFSET($D$136,C425,0)),0)","v":0},{"$f":"12-$D426","v":12}]
[null,"wartość netto",{"$f":"IF(D427<0,0,ROUND(D427,0))","v":0},{"$f":"OFFSET($C$136,C425,0)","v":0},{"$f":"IF(D427>3.5,ROUND(($C428/12)*$E426,0),$C427)","v":0}]
[null,"amortyzacja roczna",{"$f":"IF(ISBLANK(OFFSET($D$136,C425,0)),0,IF(D427>3.5,ROUND(C427*am_maszyny,0),IF(C427<0,0,C427)))","v":0},null,null,null,null,null,null,{"$f":"ROUND(IF($C426=LataProjekcji,$E427,IF($C426=LataProjekcji,$C428,0)),0)","v":0},{"$f":"ROUND(IF(OR(AND($C426=LataProjekcji,$E426>0),AND($C426=LataProjekcji,$E426=0,$D427<=3.5)),$E427,IF($C426<LataProjekcji,IF((SUM($J428:J428)+$C428)<$C427,$C428,$C427-SUM($J428:J428)),0)),0)","v":0},{"$f":"ROUND(IF(OR(AND($C426=LataProjekcji,$E426>0),AND($C426=LataProjekcji,$E426=0,$D427<=3.5)),$E427,IF($C426<LataProjekcji,IF((SUM($J428:K428)+$C428)<$C427,$C428,$C427-SUM($J428:K428)),0)),0)","v":0},{"$f":"ROUND(IF(OR(AND($C426=LataProjekcji,$E426>0),AND($C426=LataProjekcji,$E426=0,$D427<=3.5)),$E427,IF($C426<LataProjekcji,IF((SUM($J428:L428)+$C428)<$C427,$C428,$C427-SUM($J428:L428)),0)),0)","v":0},{"$f":"ROUND(IF(OR(AND($C426=LataProjekcji,$E426>0),AND($C426=LataProjekcji,$E426=0,$D427<=3.5)),$E427,IF($C426<LataProjekcji,IF((SUM($J428:M428)+$C428)<$C427,$C428,$C427-SUM($J428:M428)),0)),0)","v":0},{"$f":"ROUND(IF(OR(AND($C426=LataProjekcji,$E426>0),AND($C426=LataProjekcji,$E426=0,$D427<=3.5)),$E427,IF($C426<LataProjekcji,IF((SUM($J428:N428)+$C428)<$C427,$C428,$C427-SUM($J428:N428)),0)),0)","v":0},{"$f":"ROUND(IF(OR(AND($C426=LataProjekcji,$E426>0),AND($C426=LataProjekcji,$E426=0,$D427<=3.5)),$E427,IF($C426<LataProjekcji,IF((SUM($J428:O428)+$C428)<$C427,$C428,$C427-SUM($J428:O428)),0)),0)","v":0},{"$f":"ROUND(IF(OR(AND($C426=LataProjekcji,$E426>0),AND($C426=LataProjekcji,$E426=0,$D427<=3.5)),$E427,IF($C426<LataProjekcji,IF((SUM($J428:P428)+$C428)<$C427,$C428,$C427-SUM($J428:P428)),0)),0)","v":0},{"$f":"ROUND(IF(OR(AND($C426=LataProjekcji,$E426>0),AND($C426=LataProjekcji,$E426=0,$D427<=3.5)),$E427,IF($C426<LataProjekcji,IF((SUM($J428:Q428)+$C428)<$C427,$C428,$C427-SUM($J428:Q428)),0)),0)","v":0},{"$f":"ROUND(IF(OR(AND($C426=LataProjekcji,$E426>0),AND($C426=LataProjekcji,$E426=0,$D427<=3.5)),$E427,IF($C426<LataProjekcji,IF((SUM($J428:R428)+$C428)<$C427,$C428,$C427-SUM($J428:R428)),0)),0)","v":0},{"$f":"ROUND(IF(OR(AND($C426=LataProjekcji,$E426>0),AND($C426=LataProjekcji,$E426=0,$D427<=3.5)),$E427,IF($C426<LataProjekcji,IF((SUM($J428:S428)+$C428)<$C427,$C428,$C427-SUM($J428:S428)),0)),0)","v":0},{"$f":"ROUND(IF(OR(AND($C426=LataProjekcji,$E426>0),AND($C426=LataProjekcji,$E426=0,$D427<=3.5)),$E427,IF($C426<LataProjekcji,IF((SUM($J428:T428)+$C428)<$C427,$C428,$C427-SUM($J428:T428)),0)),0)","v":0},{"$f":"ROUND(IF(OR(AND($C426=LataProjekcji,$E426>0),AND($C426=LataProjekcji,$E426=0,$D427<=3.5)),$E427,IF($C426<LataProjekcji,IF((SUM($J428:U428)+$C428)<$C427,$C428,$C427-SUM($J428:U428)),0)),0)","v":0},{"$f":"ROUND(IF(OR(AND($C426=LataProjekcji,$E426>0),AND($C426=LataProjekcji,$E426=0,$D427<=3.5)),$E427,IF($C426<LataProjekcji,IF((SUM($J428:V428)+$C428)<$C427,$C428,$C427-SUM($J428:V428)),0)),0)","v":0}]
[null,"umorzenie",null,null,null,null,null,null,null,{"$f":"ROUND(J428,0)","v":0},{"$f":"ROUND(J429+K428,0)","v":0},{"$f":"ROUND(K429+L428,0)","v":0},{"$f":"ROUND(L429+M428,0)","v":0},{"$f":"ROUND(M429+N428,0)","v":0},{"$f":"ROUND(N429+O428,0)","v":0},{"$f":"ROUND(O429+P428,0)","v":0},{"$f":"ROUND(P429+Q428,0)","v":0},{"$f":"ROUND(Q429+R428,0)","v":0},{"$f":"ROUND(R429+S428,0)","v":0},{"$f":"ROUND(S429+T428,0)","v":0},{"$f":"ROUND(T429+U428,0)","v":0},{"$f":"ROUND(U429+V428,0)","v":0},{"$f":"ROUND(V429+W428,0)","v":0}]
[null,"wartość netto",null,null,null,null,null,null,null,{"$f":"IF($C426=LataProjekcji,ROUND($C427-J429,0),ROUND(IF(J428=0,0,$C427-J429),0))","v":0},{"$f":"IF($C426=LataProjekcji,ROUND($C427-K429,0),ROUND(IF(AND(K428=0,J430>0),$C427-K429,IF(K428=0,0,$C427-K429)),0))","v":0},{"$f":"IF($C426=LataProjekcji,ROUND($C427-L429,0),ROUND(IF(AND(L428=0,K430>0),$C427-L429,IF(L428=0,0,$C427-L429)),0))","v":0},{"$f":"IF($C426=LataProjekcji,ROUND($C427-M429,0),ROUND(IF(AND(M428=0,L430>0),$C427-M429,IF(M428=0,0,$C427-M429)),0))","v":0},{"$f":"IF($C426=LataProjekcji,ROUND($C427-N429,0),ROUND(IF(AND(N428=0,M430>0),$C427-N429,IF(N428=0,0,$C427-N429)),0))","v":0},{"$f":"IF($C426=LataProjekcji,ROUND($C427-O429,0),ROUND(IF(AND(O428=0,N430>0),$C427-O429,IF(O428=0,0,$C427-O429)),0))","v":0},{"$f":"IF($C426=LataProjekcji,ROUND($C427-P429,0),ROUND(IF(AND(P428=0,O430>0),$C427-P429,IF(P428=0,0,$C427-P429)),0))","v":0},{"$f":"IF($C426=LataProjekcji,ROUND($C427-Q429,0),ROUND(IF(AND(Q428=0,P430>0),$C427-Q429,IF(Q428=0,0,$C427-Q429)),0))","v":0},{"$f":"IF($C426=LataProjekcji,ROUND($C427-R429,0),ROUND(IF(AND(R428=0,Q430>0),$C427-R429,IF(R428=0,0,$C427-R429)),0))","v":0},{"$f":"IF($C426=LataProjekcji,ROUND($C427-S429,0),ROUND(IF(AND(S428=0,R430>0),$C427-S429,IF(S428=0,0,$C427-S429)),0))","v":0},{"$f":"IF($C426=LataProjekcji,ROUND($C427-T429,0),ROUND(IF(AND(T428=0,S430>0),$C427-T429,IF(T428=0,0,$C427-T429)),0))","v":0},{"$f":"IF($C426=LataProjekcji,ROUND($C427-U429,0),ROUND(IF(AND(U428=0,T430>0),$C427-U429,IF(U428=0,0,$C427-U429)),0))","v":0},{"$f":"IF($C426=LataProjekcji,ROUND($C427-V429,0),ROUND(IF(AND(V428=0,U430>0),$C427-V429,IF(V428=0,0,$C427-V429)),0))","v":0},{"$f":"IF($C426=LataProjekcji,ROUND($C427-W429,0),ROUND(IF(AND(W428=0,V430>0),$C427-W429,IF(W428=0,0,$C427-W429)),0))","v":0}]
[]
[null,{"$f":"IF(B404=\"\",\"Środki transportu 4\",B404)","v":"zrealizowane środki trwałe w budowie"},{"$f":"C425+1","v":268}]
[null,"rok zakupu",{"$f":"IFERROR(YEAR(OFFSET($D$136,C432,0)),0)","v":0},{"$f":"IFERROR(MONTH(OFFSET($D$136,C432,0)),0)","v":0},{"$f":"12-$D433","v":12}]
[null,"wartość netto",{"$f":"IF(D434<0,0,ROUND(D434,0))","v":0},{"$f":"OFFSET($C$136,C432,0)","v":0},{"$f":"IF(D434>3.5,ROUND(($C435/12)*$E433,0),$C434)","v":0}]
[null,"amortyzacja roczna",{"$f":"IF(ISBLANK(OFFSET($D$136,C432,0)),0,IF(D434>3.5,ROUND(C434*am_maszyny,0),IF(C434<0,0,C434)))","v":0},null,null,null,null,null,null,{"$f":"ROUND(IF($C433=LataProjekcji,$E434,IF($C433=LataProjekcji,$C435,0)),0)","v":0},{"$f":"ROUND(IF(OR(AND($C433=LataProjekcji,$E433>0),AND($C433=LataProjekcji,$E433=0,$D434<=3.5)),$E434,IF($C433<LataProjekcji,IF((SUM($J435:J435)+$C435)<$C434,$C435,$C434-SUM($J435:J435)),0)),0)","v":0},{"$f":"ROUND(IF(OR(AND($C433=LataProjekcji,$E433>0),AND($C433=LataProjekcji,$E433=0,$D434<=3.5)),$E434,IF($C433<LataProjekcji,IF((SUM($J435:K435)+$C435)<$C434,$C435,$C434-SUM($J435:K435)),0)),0)","v":0},{"$f":"ROUND(IF(OR(AND($C433=LataProjekcji,$E433>0),AND($C433=LataProjekcji,$E433=0,$D434<=3.5)),$E434,IF($C433<LataProjekcji,IF((SUM($J435:L435)+$C435)<$C434,$C435,$C434-SUM($J435:L435)),0)),0)","v":0},{"$f":"ROUND(IF(OR(AND($C433=LataProjekcji,$E433>0),AND($C433=LataProjekcji,$E433=0,$D434<=3.5)),$E434,IF($C433<LataProjekcji,IF((SUM($J435:M435)+$C435)<$C434,$C435,$C434-SUM($J435:M435)),0)),0)","v":0},{"$f":"ROUND(IF(OR(AND($C433=LataProjekcji,$E433>0),AND($C433=LataProjekcji,$E433=0,$D434<=3.5)),$E434,IF($C433<LataProjekcji,IF((SUM($J435:N435)+$C435)<$C434,$C435,$C434-SUM($J435:N435)),0)),0)","v":0},{"$f":"ROUND(IF(OR(AND($C433=LataProjekcji,$E433>0),AND($C433=LataProjekcji,$E433=0,$D434<=3.5)),$E434,IF($C433<LataProjekcji,IF((SUM($J435:O435)+$C435)<$C434,$C435,$C434-SUM($J435:O435)),0)),0)","v":0},{"$f":"ROUND(IF(OR(AND($C433=LataProjekcji,$E433>0),AND($C433=LataProjekcji,$E433=0,$D434<=3.5)),$E434,IF($C433<LataProjekcji,IF((SUM($J435:P435)+$C435)<$C434,$C435,$C434-SUM($J435:P435)),0)),0)","v":0},{"$f":"ROUND(IF(OR(AND($C433=LataProjekcji,$E433>0),AND($C433=LataProjekcji,$E433=0,$D434<=3.5)),$E434,IF($C433<LataProjekcji,IF((SUM($J435:Q435)+$C435)<$C434,$C435,$C434-SUM($J435:Q435)),0)),0)","v":0},{"$f":"ROUND(IF(OR(AND($C433=LataProjekcji,$E433>0),AND($C433=LataProjekcji,$E433=0,$D434<=3.5)),$E434,IF($C433<LataProjekcji,IF((SUM($J435:R435)+$C435)<$C434,$C435,$C434-SUM($J435:R435)),0)),0)","v":0},{"$f":"ROUND(IF(OR(AND($C433=LataProjekcji,$E433>0),AND($C433=LataProjekcji,$E433=0,$D434<=3.5)),$E434,IF($C433<LataProjekcji,IF((SUM($J435:S435)+$C435)<$C434,$C435,$C434-SUM($J435:S435)),0)),0)","v":0},{"$f":"ROUND(IF(OR(AND($C433=LataProjekcji,$E433>0),AND($C433=LataProjekcji,$E433=0,$D434<=3.5)),$E434,IF($C433<LataProjekcji,IF((SUM($J435:T435)+$C435)<$C434,$C435,$C434-SUM($J435:T435)),0)),0)","v":0},{"$f":"ROUND(IF(OR(AND($C433=LataProjekcji,$E433>0),AND($C433=LataProjekcji,$E433=0,$D434<=3.5)),$E434,IF($C433<LataProjekcji,IF((SUM($J435:U435)+$C435)<$C434,$C435,$C434-SUM($J435:U435)),0)),0)","v":0},{"$f":"ROUND(IF(OR(AND($C433=LataProjekcji,$E433>0),AND($C433=LataProjekcji,$E433=0,$D434<=3.5)),$E434,IF($C433<LataProjekcji,IF((SUM($J435:V435)+$C435)<$C434,$C435,$C434-SUM($J435:V435)),0)),0)","v":0}]
[null,"umorzenie",null,null,null,null,null,null,null,{"$f":"ROUND(J435,0)","v":0},{"$f":"ROUND(J436+K435,0)","v":0},{"$f":"ROUND(K436+L435,0)","v":0},{"$f":"ROUND(L436+M435,0)","v":0},{"$f":"ROUND(M436+N435,0)","v":0},{"$f":"ROUND(N436+O435,0)","v":0},{"$f":"ROUND(O436+P435,0)","v":0},{"$f":"ROUND(P436+Q435,0)","v":0},{"$f":"ROUND(Q436+R435,0)","v":0},{"$f":"ROUND(R436+S435,0)","v":0},{"$f":"ROUND(S436+T435,0)","v":0},{"$f":"ROUND(T436+U435,0)","v":0},{"$f":"ROUND(U436+V435,0)","v":0},{"$f":"ROUND(V436+W435,0)","v":0}]
[null,"wartość netto",null,null,null,null,null,null,null,{"$f":"IF($C433=LataProjekcji,ROUND($C434-J436,0),ROUND(IF(J435=0,0,$C434-J436),0))","v":0},{"$f":"IF($C433=LataProjekcji,ROUND($C434-K436,0),ROUND(IF(AND(K435=0,J437>0),$C434-K436,IF(K435=0,0,$C434-K436)),0))","v":0},{"$f":"IF($C433=LataProjekcji,ROUND($C434-L436,0),ROUND(IF(AND(L435=0,K437>0),$C434-L436,IF(L435=0,0,$C434-L436)),0))","v":0},{"$f":"IF($C433=LataProjekcji,ROUND($C434-M436,0),ROUND(IF(AND(M435=0,L437>0),$C434-M436,IF(M435=0,0,$C434-M436)),0))","v":0},{"$f":"IF($C433=LataProjekcji,ROUND($C434-N436,0),ROUND(IF(AND(N435=0,M437>0),$C434-N436,IF(N435=0,0,$C434-N436)),0))","v":0},{"$f":"IF($C433=LataProjekcji,ROUND($C434-O436,0),ROUND(IF(AND(O435=0,N437>0),$C434-O436,IF(O435=0,0,$C434-O436)),0))","v":0},{"$f":"IF($C433=LataProjekcji,ROUND($C434-P436,0),ROUND(IF(AND(P435=0,O437>0),$C434-P436,IF(P435=0,0,$C434-P436)),0))","v":0},{"$f":"IF($C433=LataProjekcji,ROUND($C434-Q436,0),ROUND(IF(AND(Q435=0,P437>0),$C434-Q436,IF(Q435=0,0,$C434-Q436)),0))","v":0},{"$f":"IF($C433=LataProjekcji,ROUND($C434-R436,0),ROUND(IF(AND(R435=0,Q437>0),$C434-R436,IF(R435=0,0,$C434-R436)),0))","v":0},{"$f":"IF($C433=LataProjekcji,ROUND($C434-S436,0),ROUND(IF(AND(S435=0,R437>0),$C434-S436,IF(S435=0,0,$C434-S436)),0))","v":0},{"$f":"IF($C433=LataProjekcji,ROUND($C434-T436,0),ROUND(IF(AND(T435=0,S437>0),$C434-T436,IF(T435=0,0,$C434-T436)),0))","v":0},{"$f":"IF($C433=LataProjekcji,ROUND($C434-U436,0),ROUND(IF(AND(U435=0,T437>0),$C434-U436,IF(U435=0,0,$C434-U436)),0))","v":0},{"$f":"IF($C433=LataProjekcji,ROUND($C434-V436,0),ROUND(IF(AND(V435=0,U437>0),$C434-V436,IF(V435=0,0,$C434-V436)),0))","v":0},{"$f":"IF($C433=LataProjekcji,ROUND($C434-W436,0),ROUND(IF(AND(W435=0,V437>0),$C434-W436,IF(W435=0,0,$C434-W436)),0))","v":0}]
[]
[null,{"$f":"IF(B405=\"\",\"Środki transportu 5\",B405)","v":"zrealizowane środki trwałe w budowie"},{"$f":"C432+1","v":269}]
[null,"rok zakupu",{"$f":"IFERROR(YEAR(OFFSET($D$136,C439,0)),0)","v":0},{"$f":"IFERROR(MONTH(OFFSET($D$136,C439,0)),0)","v":0},{"$f":"12-$D440","v":12}]
[null,"wartość netto",{"$f":"IF(D441<0,0,ROUND(D441,0))","v":0},{"$f":"OFFSET($C$136,C439,0)","v":0},{"$f":"IF(D441>3.5,ROUND(($C442/12)*$E440,0),$C441)","v":0}]
[null,"amortyzacja roczna",{"$f":"IF(ISBLANK(OFFSET($D$136,C439,0)),0,IF(D441>3.5,ROUND(C441*am_maszyny,0),IF(C441<0,0,C441)))","v":0},null,null,null,null,null,null,{"$f":"ROUND(IF($C440=LataProjekcji,$E441,IF($C440=LataProjekcji,$C442,0)),0)","v":0},{"$f":"ROUND(IF(OR(AND($C440=LataProjekcji,$E440>0),AND($C440=LataProjekcji,$E440=0,$D441<=3.5)),$E441,IF($C440<LataProjekcji,IF((SUM($J442:J442)+$C442)<$C441,$C442,$C441-SUM($J442:J442)),0)),0)","v":0},{"$f":"ROUND(IF(OR(AND($C440=LataProjekcji,$E440>0),AND($C440=LataProjekcji,$E440=0,$D441<=3.5)),$E441,IF($C440<LataProjekcji,IF((SUM($J442:K442)+$C442)<$C441,$C442,$C441-SUM($J442:K442)),0)),0)","v":0},{"$f":"ROUND(IF(OR(AND($C440=LataProjekcji,$E440>0),AND($C440=LataProjekcji,$E440=0,$D441<=3.5)),$E441,IF($C440<LataProjekcji,IF((SUM($J442:L442)+$C442)<$C441,$C442,$C441-SUM($J442:L442)),0)),0)","v":0},{"$f":"ROUND(IF(OR(AND($C440=LataProjekcji,$E440>0),AND($C440=LataProjekcji,$E440=0,$D441<=3.5)),$E441,IF($C440<LataProjekcji,IF((SUM($J442:M442)+$C442)<$C441,$C442,$C441-SUM($J442:M442)),0)),0)","v":0},{"$f":"ROUND(IF(OR(AND($C440=LataProjekcji,$E440>0),AND($C440=LataProjekcji,$E440=0,$D441<=3.5)),$E441,IF($C440<LataProjekcji,IF((SUM($J442:N442)+$C442)<$C441,$C442,$C441-SUM($J442:N442)),0)),0)","v":0},{"$f":"ROUND(IF(OR(AND($C440=LataProjekcji,$E440>0),AND($C440=LataProjekcji,$E440=0,$D441<=3.5)),$E441,IF($C440<LataProjekcji,IF((SUM($J442:O442)+$C442)<$C441,$C442,$C441-SUM($J442:O442)),0)),0)","v":0},{"$f":"ROUND(IF(OR(AND($C440=LataProjekcji,$E440>0),AND($C440=LataProjekcji,$E440=0,$D441<=3.5)),$E441,IF($C440<LataProjekcji,IF((SUM($J442:P442)+$C442)<$C441,$C442,$C441-SUM($J442:P442)),0)),0)","v":0},{"$f":"ROUND(IF(OR(AND($C440=LataProjekcji,$E440>0),AND($C440=LataProjekcji,$E440=0,$D441<=3.5)),$E441,IF($C440<LataProjekcji,IF((SUM($J442:Q442)+$C442)<$C441,$C442,$C441-SUM($J442:Q442)),0)),0)","v":0},{"$f":"ROUND(IF(OR(AND($C440=LataProjekcji,$E440>0),AND($C440=LataProjekcji,$E440=0,$D441<=3.5)),$E441,IF($C440<LataProjekcji,IF((SUM($J442:R442)+$C442)<$C441,$C442,$C441-SUM($J442:R442)),0)),0)","v":0},{"$f":"ROUND(IF(OR(AND($C440=LataProjekcji,$E440>0),AND($C440=LataProjekcji,$E440=0,$D441<=3.5)),$E441,IF($C440<LataProjekcji,IF((SUM($J442:S442)+$C442)<$C441,$C442,$C441-SUM($J442:S442)),0)),0)","v":0},{"$f":"ROUND(IF(OR(AND($C440=LataProjekcji,$E440>0),AND($C440=LataProjekcji,$E440=0,$D441<=3.5)),$E441,IF($C440<LataProjekcji,IF((SUM($J442:T442)+$C442)<$C441,$C442,$C441-SUM($J442:T442)),0)),0)","v":0},{"$f":"ROUND(IF(OR(AND($C440=LataProjekcji,$E440>0),AND($C440=LataProjekcji,$E440=0,$D441<=3.5)),$E441,IF($C440<LataProjekcji,IF((SUM($J442:U442)+$C442)<$C441,$C442,$C441-SUM($J442:U442)),0)),0)","v":0},{"$f":"ROUND(IF(OR(AND($C440=LataProjekcji,$E440>0),AND($C440=LataProjekcji,$E440=0,$D441<=3.5)),$E441,IF($C440<LataProjekcji,IF((SUM($J442:V442)+$C442)<$C441,$C442,$C441-SUM($J442:V442)),0)),0)","v":0}]
[null,"umorzenie",null,null,null,null,null,null,null,{"$f":"ROUND(J442,0)","v":0},{"$f":"ROUND(J443+K442,0)","v":0},{"$f":"ROUND(K443+L442,0)","v":0},{"$f":"ROUND(L443+M442,0)","v":0},{"$f":"ROUND(M443+N442,0)","v":0},{"$f":"ROUND(N443+O442,0)","v":0},{"$f":"ROUND(O443+P442,0)","v":0},{"$f":"ROUND(P443+Q442,0)","v":0},{"$f":"ROUND(Q443+R442,0)","v":0},{"$f":"ROUND(R443+S442,0)","v":0},{"$f":"ROUND(S443+T442,0)","v":0},{"$f":"ROUND(T443+U442,0)","v":0},{"$f":"ROUND(U443+V442,0)","v":0},{"$f":"ROUND(V443+W442,0)","v":0}]
[null,"wartość netto",null,null,null,null,null,null,null,{"$f":"IF($C440=LataProjekcji,ROUND($C441-J443,0),ROUND(IF(J442=0,0,$C441-J443),0))","v":0},{"$f":"IF($C440=LataProjekcji,ROUND($C441-K443,0),ROUND(IF(AND(K442=0,J444>0),$C441-K443,IF(K442=0,0,$C441-K443)),0))","v":0},{"$f":"IF($C440=LataProjekcji,ROUND($C441-L443,0),ROUND(IF(AND(L442=0,K444>0),$C441-L443,IF(L442=0,0,$C441-L443)),0))","v":0},{"$f":"IF($C440=LataProjekcji,ROUND($C441-M443,0),ROUND(IF(AND(M442=0,L444>0),$C441-M443,IF(M442=0,0,$C441-M443)),0))","v":0},{"$f":"IF($C440=LataProjekcji,ROUND($C441-N443,0),ROUND(IF(AND(N442=0,M444>0),$C441-N443,IF(N442=0,0,$C441-N443)),0))","v":0},{"$f":"IF($C440=LataProjekcji,ROUND($C441-O443,0),ROUND(IF(AND(O442=0,N444>0),$C441-O443,IF(O442=0,0,$C441-O443)),0))","v":0},{"$f":"IF($C440=LataProjekcji,ROUND($C441-P443,0),ROUND(IF(AND(P442=0,O444>0),$C441-P443,IF(P442=0,0,$C441-P443)),0))","v":0},{"$f":"IF($C440=LataProjekcji,ROUND($C441-Q443,0),ROUND(IF(AND(Q442=0,P444>0),$C441-Q443,IF(Q442=0,0,$C441-Q443)),0))","v":0},{"$f":"IF($C440=LataProjekcji,ROUND($C441-R443,0),ROUND(IF(AND(R442=0,Q444>0),$C441-R443,IF(R442=0,0,$C441-R443)),0))","v":0},{"$f":"IF($C440=LataProjekcji,ROUND($C441-S443,0),ROUND(IF(AND(S442=0,R444>0),$C441-S443,IF(S442=0,0,$C441-S443)),0))","v":0},{"$f":"IF($C440=LataProjekcji,ROUND($C441-T443,0),ROUND(IF(AND(T442=0,S444>0),$C441-T443,IF(T442=0,0,$C441-T443)),0))","v":0},{"$f":"IF($C440=LataProjekcji,ROUND($C441-U443,0),ROUND(IF(AND(U442=0,T444>0),$C441-U443,IF(U442=0,0,$C441-U443)),0))","v":0},{"$f":"IF($C440=LataProjekcji,ROUND($C441-V443,0),ROUND(IF(AND(V442=0,U444>0),$C441-V443,IF(V442=0,0,$C441-V443)),0))","v":0},{"$f":"IF($C440=LataProjekcji,ROUND($C441-W443,0),ROUND(IF(AND(W442=0,V444>0),$C441-W443,IF(W442=0,0,$C441-W443)),0))","v":0}]
[]
[]
[null,"środki transportu ","wartość netto","rok i miesiąc zakupu","dofinansowanie %","dofinansowanie PLN",null,null,null,{"$f":"LataProjekcji","v":"Uzupełnij dane"},"","","","","","","","","","","","",""]
[null,null,null,null,null,{"$f":"IF(E448=0,0,ROUND(E448*C448,0))","v":0},null,null,{"$f":"IF(OR(AND(ISNUMBER(C448),ISBLANK(D448)),AND(ISNUMBER(D448),ISBLANK(C448))),\"uzupełnij dane\",\"\")","v":""},{"$f":"ROUND(IF(AND(YEAR($D448)=LataProjekcji,$C448>0),$C448,0),0)","v":0},0,0,0,0,0,0,0,0,0,0,0,0,0]
[null,null,null,null,null,{"$f":"IF(E449=0,0,ROUND(E449*C449,0))","v":0},null,null,"",0,0,0,0,0,0,0,0,0,0,0,0,0,0]
[null,null,null,null,null,{"$f":"IF(E450=0,0,ROUND(E450*C450,0))","v":0},null,null,"",0,0,0,0,0,0,0,0,0,0,0,0,0,0]
[null,null,null,null,null,{"$f":"IF(E451=0,0,ROUND(E451*C451,0))","v":0},null,null,"",0,0,0,0,0,0,0,0,0,0,0,0,0,0]
[null,null,null,null,null,{"$f":"IF(E452=0,0,ROUND(E452*C452,0))","v":0},null,null,"",0,0,0,0,0,0,0,0,0,0,0,0,0,0]
[null,"Razem",{"$f":"SUM(C448:C452)","v":0},null,null,{"$f":"SUM(F448:F452)","v":0},null,null,null,{"$f":"SUM(J448:J452)","v":0},0,0,0,0,0,0,0,0,0,0,0,0,0]
[null,"     - amortyzacja",null,null,null,null,null,null,null,{"$f":"J461+J468+J475+J482+J489","v":0},{"$f":"K461+K468+K475+K482+K489","v":0},0,0,0,0,0,0,0,0,0,0,0,0]
[null,"     - umorzenie",null,null,null,null,null,null,null,{"$f":"J462+J469+J476+J483+J490","v":0},{"$f":"K462+K469+K476+K483+K490","v":0},0,0,0,0,0,0,0,0,0,0,0,0]
[null,"     - wartość księgowa netto",null,null,null,null,null,null,null,{"$f":"J463+J470+J477+J484+J491","v":0},{"$f":"K463+K470+K477+K484+K491","v":0},0,0,0,0,0,0,0,0,0,0,0,0]
[]
[null,{"$f":"IF(ISBLANK(B448),\"Środki transportu 1\",B448)","v":"Środki transportu 1"},312,null,"ile miesiący do końca roku",null,"niekwalifikowalne","spr"]
[null,"rok zakupu",{"$f":"YEAR(OFFSET($D$136,C458,0))","v":1900},{"$f":"MONTH(OFFSET($D$136,C458,0))","v":1},{"$f":"12-$D459","v":11},null,{"$f":"C453-F459","v":0},{"$f":"C453-F459-G459","v":0}]
[null,"wartość netto",{"$f":"IF(D460<0,0,ROUND(D460,0))","v":0},{"$f":"OFFSET($C$136,C458,0)","v":0},{"$f":"IF(D460>3.5,ROUND(($C461/12)*$E459,0),$C460)","v":0},"<- am. Do końca roku"]
[null,"amortyzacja roczna",{"$f":"IF(ISBLANK(OFFSET($D$136,C458,0)),0,IF(D460>3.5,ROUND(C460*am_transport,0),IF(C460<0,0,C460)))","v":0},null,null,null,null,null,null,{"$f":"ROUND(IF($C459=LataProjekcji,$E460,IF($C459=LataProjekcji,$C461,0)),0)","v":0},{"$f":"ROUND(IF(OR(AND($C459=LataProjekcji,$E459>0),AND($C459=LataProjekcji,$E459=0,$D460<=3.5)),$E460,IF($C459<LataProjekcji,IF((SUM($J461:J461)+$C461)<$C460,$C461,$C460-SUM($J461:J461)),0)),0)","v":0},{"$f":"ROUND(IF(OR(AND($C459=LataProjekcji,$E459>0),AND($C459=LataProjekcji,$E459=0,$D460<=3.5)),$E460,IF($C459<LataProjekcji,IF((SUM($J461:K461)+$C461)<$C460,$C461,$C460-SUM($J461:K461)),0)),0)","v":0},{"$f":"ROUND(IF(OR(AND($C459=LataProjekcji,$E459>0),AND($C459=LataProjekcji,$E459=0,$D460<=3.5)),$E460,IF($C459<LataProjekcji,IF((SUM($J461:L461)+$C461)<$C460,$C461,$C460-SUM($J461:L461)),0)),0)","v":0},{"$f":"ROUND(IF(OR(AND($C459=LataProjekcji,$E459>0),AND($C459=LataProjekcji,$E459=0,$D460<=3.5)),$E460,IF($C459<LataProjekcji,IF((SUM($J461:M461)+$C461)<$C460,$C461,$C460-SUM($J461:M461)),0)),0)","v":0},{"$f":"ROUND(IF(OR(AND($C459=LataProjekcji,$E459>0),AND($C459=LataProjekcji,$E459=0,$D460<=3.5)),$E460,IF($C459<LataProjekcji,IF((SUM($J461:N461)+$C461)<$C460,$C461,$C460-SUM($J461:N461)),0)),0)","v":0},{"$f":"ROUND(IF(OR(AND($C459=LataProjekcji,$E459>0),AND($C459=LataProjekcji,$E459=0,$D460<=3.5)),$E460,IF($C459<LataProjekcji,IF((SUM($J461:O461)+$C461)<$C460,$C461,$C460-SUM($J461:O461)),0)),0)","v":0},{"$f":"ROUND(IF(OR(AND($C459=LataProjekcji,$E459>0),AND($C459=LataProjekcji,$E459=0,$D460<=3.5)),$E460,IF($C459<LataProjekcji,IF((SUM($J461:P461)+$C461)<$C460,$C461,$C460-SUM($J461:P461)),0)),0)","v":0},{"$f":"ROUND(IF(OR(AND($C459=LataProjekcji,$E459>0),AND($C459=LataProjekcji,$E459=0,$D460<=3.5)),$E460,IF($C459<LataProjekcji,IF((SUM($J461:Q461)+$C461)<$C460,$C461,$C460-SUM($J461:Q461)),0)),0)","v":0},{"$f":"ROUND(IF(OR(AND($C459=LataProjekcji,$E459>0),AND($C459=LataProjekcji,$E459=0,$D460<=3.5)),$E460,IF($C459<LataProjekcji,IF((SUM($J461:R461)+$C461)<$C460,$C461,$C460-SUM($J461:R461)),0)),0)","v":0},{"$f":"ROUND(IF(OR(AND($C459=LataProjekcji,$E459>0),AND($C459=LataProjekcji,$E459=0,$D460<=3.5)),$E460,IF($C459<LataProjekcji,IF((SUM($J461:S461)+$C461)<$C460,$C461,$C460-SUM($J461:S461)),0)),0)","v":0},{"$f":"ROUND(IF(OR(AND($C459=LataProjekcji,$E459>0),AND($C459=LataProjekcji,$E459=0,$D460<=3.5)),$E460,IF($C459<LataProjekcji,IF((SUM($J461:T461)+$C461)<$C460,$C461,$C460-SUM($J461:T461)),0)),0)","v":0},{"$f":"ROUND(IF(OR(AND($C459=LataProjekcji,$E459>0),AND($C459=LataProjekcji,$E459=0,$D460<=3.5)),$E460,IF($C459<LataProjekcji,IF((SUM($J461:U461)+$C461)<$C460,$C461,$C460-SUM($J461:U461)),0)),0)","v":0},{"$f":"ROUND(IF(OR(AND($C459=LataProjekcji,$E459>0),AND($C459=LataProjekcji,$E459=0,$D460<=3.5)),$E460,IF($C459<LataProjekcji,IF((SUM($J461:V461)+$C461)<$C460,$C461,$C460-SUM($J461:V461)),0)),0)","v":0}]
[null,"umorzenie",null,null,null,null,null,null,null,{"$f":"ROUND(J461,0)","v":0},{"$f":"ROUND(J462+K461,0)","v":0},{"$f":"ROUND(K462+L461,0)","v":0},{"$f":"ROUND(L462+M461,0)","v":0},{"$f":"ROUND(M462+N461,0)","v":0},{"$f":"ROUND(N462+O461,0)","v":0},{"$f":"ROUND(O462+P461,0)","v":0},{"$f":"ROUND(P462+Q461,0)","v":0},{"$f":"ROUND(Q462+R461,0)","v":0},{"$f":"ROUND(R462+S461,0)","v":0},{"$f":"ROUND(S462+T461,0)","v":0},{"$f":"ROUND(T462+U461,0)","v":0},{"$f":"ROUND(U462+V461,0)","v":0},{"$f":"ROUND(V462+W461,0)","v":0}]
[null,"wartość netto",null,null,null,null,null,null,null,{"$f":"IF($C459=LataProjekcji,ROUND($C460-J462,0),ROUND(IF(J461=0,0,$C460-J462),0))","v":0},{"$f":"IF($C459=LataProjekcji,ROUND($C460-K462,0),ROUND(IF(AND(K461=0,J463>0),$C460-K462,IF(K461=0,0,$C460-K462)),0))","v":0},{"$f":"IF($C459=LataProjekcji,ROUND($C460-L462,0),ROUND(IF(AND(L461=0,K463>0),$C460-L462,IF(L461=0,0,$C460-L462)),0))","v":0},{"$f":"IF($C459=LataProjekcji,ROUND($C460-M462,0),ROUND(IF(AND(M461=0,L463>0),$C460-M462,IF(M461=0,0,$C460-M462)),0))","v":0},{"$f":"IF($C459=LataProjekcji,ROUND($C460-N462,0),ROUND(IF(AND(N461=0,M463>0),$C460-N462,IF(N461=0,0,$C460-N462)),0))","v":0},{"$f":"IF($C459=LataProjekcji,ROUND($C460-O462,0),ROUND(IF(AND(O461=0,N463>0),$C460-O462,IF(O461=0,0,$C460-O462)),0))","v":0},{"$f":"IF($C459=LataProjekcji,ROUND($C460-P462,0),ROUND(IF(AND(P461=0,O463>0),$C460-P462,IF(P461=0,0,$C460-P462)),0))","v":0},{"$f":"IF($C459=LataProjekcji,ROUND($C460-Q462,0),ROUND(IF(AND(Q461=0,P463>0),$C460-Q462,IF(Q461=0,0,$C460-Q462)),0))","v":0},{"$f":"IF($C459=LataProjekcji,ROUND($C460-R462,0),ROUND(IF(AND(R461=0,Q463>0),$C460-R462,IF(R461=0,0,$C460-R462)),0))","v":0},{"$f":"IF($C459=LataProjekcji,ROUND($C460-S462,0),ROUND(IF(AND(S461=0,R463>0),$C460-S462,IF(S461=0,0,$C460-S462)),0))","v":0},{"$f":"IF($C459=LataProjekcji,ROUND($C460-T462,0),ROUND(IF(AND(T461=0,S463>0),$C460-T462,IF(T461=0,0,$C460-T462)),0))","v":0},{"$f":"IF($C459=LataProjekcji,ROUND($C460-U462,0),ROUND(IF(AND(U461=0,T463>0),$C460-U462,IF(U461=0,0,$C460-U462)),0))","v":0},{"$f":"IF($C459=LataProjekcji,ROUND($C460-V462,0),ROUND(IF(AND(V461=0,U463>0),$C460-V462,IF(V461=0,0,$C460-V462)),0))","v":0},{"$f":"IF($C459=LataProjekcji,ROUND($C460-W462,0),ROUND(IF(AND(W461=0,V463>0),$C460-W462,IF(W461=0,0,$C460-W462)),0))","v":0}]
[]
[null,{"$f":"IF(ISBLANK(B449),\"Środki transportu 2\",B449)","v":"Środki transportu 2"},{"$f":"C458+1","v":313}]
[null,"rok zakupu",{"$f":"YEAR(OFFSET($D$136,C465,0))","v":1900},{"$f":"MONTH(OFFSET($D$136,C465,0))","v":1},{"$f":"12-$D466","v":11}]
[null,"wartość netto",{"$f":"IF(D467<0,0,ROUND(D467,0))","v":0},{"$f":"OFFSET($C$136,C465,0)","v":0},{"$f":"IF(D467>3.5,ROUND(($C468/12)*$E466,0),$C467)","v":0}]
[null,"amortyzacja roczna",{"$f":"IF(ISBLANK(OFFSET($D$136,C465,0)),0,IF(D467>3.5,ROUND(C467*am_transport,0),IF(C467<0,0,C467)))","v":0},null,null,null,null,null,null,{"$f":"ROUND(IF($C466=LataProjekcji,$E467,IF($C466=LataProjekcji,$C468,0)),0)","v":0},{"$f":"ROUND(IF(OR(AND($C466=LataProjekcji,$E466>0),AND($C466=LataProjekcji,$E466=0,$D467<=3.5)),$E467,IF($C466<LataProjekcji,IF((SUM($J468:J468)+$C468)<$C467,$C468,$C467-SUM($J468:J468)),0)),0)","v":0},{"$f":"ROUND(IF(OR(AND($C466=LataProjekcji,$E466>0),AND($C466=LataProjekcji,$E466=0,$D467<=3.5)),$E467,IF($C466<LataProjekcji,IF((SUM($J468:K468)+$C468)<$C467,$C468,$C467-SUM($J468:K468)),0)),0)","v":0},{"$f":"ROUND(IF(OR(AND($C466=LataProjekcji,$E466>0),AND($C466=LataProjekcji,$E466=0,$D467<=3.5)),$E467,IF($C466<LataProjekcji,IF((SUM($J468:L468)+$C468)<$C467,$C468,$C467-SUM($J468:L468)),0)),0)","v":0},{"$f":"ROUND(IF(OR(AND($C466=LataProjekcji,$E466>0),AND($C466=LataProjekcji,$E466=0,$D467<=3.5)),$E467,IF($C466<LataProjekcji,IF((SUM($J468:M468)+$C468)<$C467,$C468,$C467-SUM($J468:M468)),0)),0)","v":0},{"$f":"ROUND(IF(OR(AND($C466=LataProjekcji,$E466>0),AND($C466=LataProjekcji,$E466=0,$D467<=3.5)),$E467,IF($C466<LataProjekcji,IF((SUM($J468:N468)+$C468)<$C467,$C468,$C467-SUM($J468:N468)),0)),0)","v":0},{"$f":"ROUND(IF(OR(AND($C466=LataProjekcji,$E466>0),AND($C466=LataProjekcji,$E466=0,$D467<=3.5)),$E467,IF($C466<LataProjekcji,IF((SUM($J468:O468)+$C468)<$C467,$C468,$C467-SUM($J468:O468)),0)),0)","v":0},{"$f":"ROUND(IF(OR(AND($C466=LataProjekcji,$E466>0),AND($C466=LataProjekcji,$E466=0,$D467<=3.5)),$E467,IF($C466<LataProjekcji,IF((SUM($J468:P468)+$C468)<$C467,$C468,$C467-SUM($J468:P468)),0)),0)","v":0},{"$f":"ROUND(IF(OR(AND($C466=LataProjekcji,$E466>0),AND($C466=LataProjekcji,$E466=0,$D467<=3.5)),$E467,IF($C466<LataProjekcji,IF((SUM($J468:Q468)+$C468)<$C467,$C468,$C467-SUM($J468:Q468)),0)),0)","v":0},{"$f":"ROUND(IF(OR(AND($C466=LataProjekcji,$E466>0),AND($C466=LataProjekcji,$E466=0,$D467<=3.5)),$E467,IF($C466<LataProjekcji,IF((SUM($J468:R468)+$C468)<$C467,$C468,$C467-SUM($J468:R468)),0)),0)","v":0},{"$f":"ROUND(IF(OR(AND($C466=LataProjekcji,$E466>0),AND($C466=LataProjekcji,$E466=0,$D467<=3.5)),$E467,IF($C466<LataProjekcji,IF((SUM($J468:S468)+$C468)<$C467,$C468,$C467-SUM($J468:S468)),0)),0)","v":0},{"$f":"ROUND(IF(OR(AND($C466=LataProjekcji,$E466>0),AND($C466=LataProjekcji,$E466=0,$D467<=3.5)),$E467,IF($C466<LataProjekcji,IF((SUM($J468:T468)+$C468)<$C467,$C468,$C467-SUM($J468:T468)),0)),0)","v":0},{"$f":"ROUND(IF(OR(AND($C466=LataProjekcji,$E466>0),AND($C466=LataProjekcji,$E466=0,$D467<=3.5)),$E467,IF($C466<LataProjekcji,IF((SUM($J468:U468)+$C468)<$C467,$C468,$C467-SUM($J468:U468)),0)),0)","v":0},{"$f":"ROUND(IF(OR(AND($C466=LataProjekcji,$E466>0),AND($C466=LataProjekcji,$E466=0,$D467<=3.5)),$E467,IF($C466<LataProjekcji,IF((SUM($J468:V468)+$C468)<$C467,$C468,$C467-SUM($J468:V468)),0)),0)","v":0}]
[null,"umorzenie",null,null,null,null,null,null,null,{"$f":"ROUND(J468,0)","v":0},{"$f":"ROUND(J469+K468,0)","v":0},{"$f":"ROUND(K469+L468,0)","v":0},{"$f":"ROUND(L469+M468,0)","v":0},{"$f":"ROUND(M469+N468,0)","v":0},{"$f":"ROUND(N469+O468,0)","v":0},{"$f":"ROUND(O469+P468,0)","v":0},{"$f":"ROUND(P469+Q468,0)","v":0},{"$f":"ROUND(Q469+R468,0)","v":0},{"$f":"ROUND(R469+S468,0)","v":0},{"$f":"ROUND(S469+T468,0)","v":0},{"$f":"ROUND(T469+U468,0)","v":0},{"$f":"ROUND(U469+V468,0)","v":0},{"$f":"ROUND(V469+W468,0)","v":0}]
[null,"wartość netto",null,null,null,null,null,null,null,{"$f":"IF($C466=LataProjekcji,ROUND($C467-J469,0),ROUND(IF(J468=0,0,$C467-J469),0))","v":0},{"$f":"IF($C466=LataProjekcji,ROUND($C467-K469,0),ROUND(IF(AND(K468=0,J470>0),$C467-K469,IF(K468=0,0,$C467-K469)),0))","v":0},{"$f":"IF($C466=LataProjekcji,ROUND($C467-L469,0),ROUND(IF(AND(L468=0,K470>0),$C467-L469,IF(L468=0,0,$C467-L469)),0))","v":0},{"$f":"IF($C466=LataProjekcji,ROUND($C467-M469,0),ROUND(IF(AND(M468=0,L470>0),$C467-M469,IF(M468=0,0,$C467-M469)),0))","v":0},{"$f":"IF($C466=LataProjekcji,ROUND($C467-N469,0),ROUND(IF(AND(N468=0,M470>0),$C467-N469,IF(N468=0,0,$C467-N469)),0))","v":0},{"$f":"IF($C466=LataProjekcji,ROUND($C467-O469,0),ROUND(IF(AND(O468=0,N470>0),$C467-O469,IF(O468=0,0,$C467-O469)),0))","v":0},{"$f":"IF($C466=LataProjekcji,ROUND($C467-P469,0),ROUND(IF(AND(P468=0,O470>0),$C467-P469,IF(P468=0,0,$C467-P469)),0))","v":0},{"$f":"IF($C466=LataProjekcji,ROUND($C467-Q469,0),ROUND(IF(AND(Q468=0,P470>0),$C467-Q469,IF(Q468=0,0,$C467-Q469)),0))","v":0},{"$f":"IF($C466=LataProjekcji,ROUND($C467-R469,0),ROUND(IF(AND(R468=0,Q470>0),$C467-R469,IF(R468=0,0,$C467-R469)),0))","v":0},{"$f":"IF($C466=LataProjekcji,ROUND($C467-S469,0),ROUND(IF(AND(S468=0,R470>0),$C467-S469,IF(S468=0,0,$C467-S469)),0))","v":0},{"$f":"IF($C466=LataProjekcji,ROUND($C467-T469,0),ROUND(IF(AND(T468=0,S470>0),$C467-T469,IF(T468=0,0,$C467-T469)),0))","v":0},{"$f":"IF($C466=LataProjekcji,ROUND($C467-U469,0),ROUND(IF(AND(U468=0,T470>0),$C467-U469,IF(U468=0,0,$C467-U469)),0))","v":0},{"$f":"IF($C466=LataProjekcji,ROUND($C467-V469,0),ROUND(IF(AND(V468=0,U470>0),$C467-V469,IF(V468=0,0,$C467-V469)),0))","v":0},{"$f":"IF($C466=LataProjekcji,ROUND($C467-W469,0),ROUND(IF(AND(W468=0,V470>0),$C467-W469,IF(W468=0,0,$C467-W469)),0))","v":0}]
[]
[null,{"$f":"IF(ISBLANK(B450),\"Środki transportu 3\",B450)","v":"Środki transportu 3"},{"$f":"C465+1","v":314}]
[null,"rok zakupu",{"$f":"YEAR(OFFSET($D$136,C472,0))","v":1900},{"$f":"MONTH(OFFSET($D$136,C472,0))","v":1},{"$f":"12-$D473","v":11}]
[null,"wartość netto",{"$f":"IF(D474<0,0,ROUND(D474,0))","v":0},{"$f":"OFFSET($C$136,C472,0)","v":0},{"$f":"IF(D474>3.5,ROUND(($C475/12)*$E473,0),$C474)","v":0}]
[null,"amortyzacja roczna",{"$f":"IF(ISBLANK(OFFSET($D$136,C472,0)),0,IF(D474>3.5,ROUND(C474*am_transport,0),IF(C474<0,0,C474)))","v":0},null,null,null,null,null,null,{"$f":"ROUND(IF($C473=LataProjekcji,$E474,IF($C473=LataProjekcji,$C475,0)),0)","v":0},{"$f":"ROUND(IF(OR(AND($C473=LataProjekcji,$E473>0),AND($C473=LataProjekcji,$E473=0,$D474<=3.5)),$E474,IF($C473<LataProjekcji,IF((SUM($J475:J475)+$C475)<$C474,$C475,$C474-SUM($J475:J475)),0)),0)","v":0},{"$f":"ROUND(IF(OR(AND($C473=LataProjekcji,$E473>0),AND($C473=LataProjekcji,$E473=0,$D474<=3.5)),$E474,IF($C473<LataProjekcji,IF((SUM($J475:K475)+$C475)<$C474,$C475,$C474-SUM($J475:K475)),0)),0)","v":0},{"$f":"ROUND(IF(OR(AND($C473=LataProjekcji,$E473>0),AND($C473=LataProjekcji,$E473=0,$D474<=3.5)),$E474,IF($C473<LataProjekcji,IF((SUM($J475:L475)+$C475)<$C474,$C475,$C474-SUM($J475:L475)),0)),0)","v":0},{"$f":"ROUND(IF(OR(AND($C473=LataProjekcji,$E473>0),AND($C473=LataProjekcji,$E473=0,$D474<=3.5)),$E474,IF($C473<LataProjekcji,IF((SUM($J475:M475)+$C475)<$C474,$C475,$C474-SUM($J475:M475)),0)),0)","v":0},{"$f":"ROUND(IF(OR(AND($C473=LataProjekcji,$E473>0),AND($C473=LataProjekcji,$E473=0,$D474<=3.5)),$E474,IF($C473<LataProjekcji,IF((SUM($J475:N475)+$C475)<$C474,$C475,$C474-SUM($J475:N475)),0)),0)","v":0},{"$f":"ROUND(IF(OR(AND($C473=LataProjekcji,$E473>0),AND($C473=LataProjekcji,$E473=0,$D474<=3.5)),$E474,IF($C473<LataProjekcji,IF((SUM($J475:O475)+$C475)<$C474,$C475,$C474-SUM($J475:O475)),0)),0)","v":0},{"$f":"ROUND(IF(OR(AND($C473=LataProjekcji,$E473>0),AND($C473=LataProjekcji,$E473=0,$D474<=3.5)),$E474,IF($C473<LataProjekcji,IF((SUM($J475:P475)+$C475)<$C474,$C475,$C474-SUM($J475:P475)),0)),0)","v":0},{"$f":"ROUND(IF(OR(AND($C473=LataProjekcji,$E473>0),AND($C473=LataProjekcji,$E473=0,$D474<=3.5)),$E474,IF($C473<LataProjekcji,IF((SUM($J475:Q475)+$C475)<$C474,$C475,$C474-SUM($J475:Q475)),0)),0)","v":0},{"$f":"ROUND(IF(OR(AND($C473=LataProjekcji,$E473>0),AND($C473=LataProjekcji,$E473=0,$D474<=3.5)),$E474,IF($C473<LataProjekcji,IF((SUM($J475:R475)+$C475)<$C474,$C475,$C474-SUM($J475:R475)),0)),0)","v":0},{"$f":"ROUND(IF(OR(AND($C473=LataProjekcji,$E473>0),AND($C473=LataProjekcji,$E473=0,$D474<=3.5)),$E474,IF($C473<LataProjekcji,IF((SUM($J475:S475)+$C475)<$C474,$C475,$C474-SUM($J475:S475)),0)),0)","v":0},{"$f":"ROUND(IF(OR(AND($C473=LataProjekcji,$E473>0),AND($C473=LataProjekcji,$E473=0,$D474<=3.5)),$E474,IF($C473<LataProjekcji,IF((SUM($J475:T475)+$C475)<$C474,$C475,$C474-SUM($J475:T475)),0)),0)","v":0},{"$f":"ROUND(IF(OR(AND($C473=LataProjekcji,$E473>0),AND($C473=LataProjekcji,$E473=0,$D474<=3.5)),$E474,IF($C473<LataProjekcji,IF((SUM($J475:U475)+$C475)<$C474,$C475,$C474-SUM($J475:U475)),0)),0)","v":0},{"$f":"ROUND(IF(OR(AND($C473=LataProjekcji,$E473>0),AND($C473=LataProjekcji,$E473=0,$D474<=3.5)),$E474,IF($C473<LataProjekcji,IF((SUM($J475:V475)+$C475)<$C474,$C475,$C474-SUM($J475:V475)),0)),0)","v":0}]
[null,"umorzenie",null,null,null,null,null,null,null,{"$f":"ROUND(J475,0)","v":0},{"$f":"ROUND(J476+K475,0)","v":0},{"$f":"ROUND(K476+L475,0)","v":0},{"$f":"ROUND(L476+M475,0)","v":0},{"$f":"ROUND(M476+N475,0)","v":0},{"$f":"ROUND(N476+O475,0)","v":0},{"$f":"ROUND(O476+P475,0)","v":0},{"$f":"ROUND(P476+Q475,0)","v":0},{"$f":"ROUND(Q476+R475,0)","v":0},{"$f":"ROUND(R476+S475,0)","v":0},{"$f":"ROUND(S476+T475,0)","v":0},{"$f":"ROUND(T476+U475,0)","v":0},{"$f":"ROUND(U476+V475,0)","v":0},{"$f":"ROUND(V476+W475,0)","v":0}]
[null,"wartość netto",null,null,null,null,null,null,null,{"$f":"IF($C473=LataProjekcji,ROUND($C474-J476,0),ROUND(IF(J475=0,0,$C474-J476),0))","v":0},{"$f":"IF($C473=LataProjekcji,ROUND($C474-K476,0),ROUND(IF(AND(K475=0,J477>0),$C474-K476,IF(K475=0,0,$C474-K476)),0))","v":0},{"$f":"IF($C473=LataProjekcji,ROUND($C474-L476,0),ROUND(IF(AND(L475=0,K477>0),$C474-L476,IF(L475=0,0,$C474-L476)),0))","v":0},{"$f":"IF($C473=LataProjekcji,ROUND($C474-M476,0),ROUND(IF(AND(M475=0,L477>0),$C474-M476,IF(M475=0,0,$C474-M476)),0))","v":0},{"$f":"IF($C473=LataProjekcji,ROUND($C474-N476,0),ROUND(IF(AND(N475=0,M477>0),$C474-N476,IF(N475=0,0,$C474-N476)),0))","v":0},{"$f":"IF($C473=LataProjekcji,ROUND($C474-O476,0),ROUND(IF(AND(O475=0,N477>0),$C474-O476,IF(O475=0,0,$C474-O476)),0))","v":0},{"$f":"IF($C473=LataProjekcji,ROUND($C474-P476,0),ROUND(IF(AND(P475=0,O477>0),$C474-P476,IF(P475=0,0,$C474-P476)),0))","v":0},{"$f":"IF($C473=LataProjekcji,ROUND($C474-Q476,0),ROUND(IF(AND(Q475=0,P477>0),$C474-Q476,IF(Q475=0,0,$C474-Q476)),0))","v":0},{"$f":"IF($C473=LataProjekcji,ROUND($C474-R476,0),ROUND(IF(AND(R475=0,Q477>0),$C474-R476,IF(R475=0,0,$C474-R476)),0))","v":0},{"$f":"IF($C473=LataProjekcji,ROUND($C474-S476,0),ROUND(IF(AND(S475=0,R477>0),$C474-S476,IF(S475=0,0,$C474-S476)),0))","v":0},{"$f":"IF($C473=LataProjekcji,ROUND($C474-T476,0),ROUND(IF(AND(T475=0,S477>0),$C474-T476,IF(T475=0,0,$C474-T476)),0))","v":0},{"$f":"IF($C473=LataProjekcji,ROUND($C474-U476,0),ROUND(IF(AND(U475=0,T477>0),$C474-U476,IF(U475=0,0,$C474-U476)),0))","v":0},{"$f":"IF($C473=LataProjekcji,ROUND($C474-V476,0),ROUND(IF(AND(V475=0,U477>0),$C474-V476,IF(V475=0,0,$C474-V476)),0))","v":0},{"$f":"IF($C473=LataProjekcji,ROUND($C474-W476,0),ROUND(IF(AND(W475=0,V477>0),$C474-W476,IF(W475=0,0,$C474-W476)),0))","v":0}]
[]
[null,{"$f":"IF(ISBLANK(B451),\"Środki transportu 4\",B451)","v":"Środki transportu 4"},{"$f":"C472+1","v":315}]
[null,"rok zakupu",{"$f":"YEAR(OFFSET($D$136,C479,0))","v":1900},{"$f":"MONTH(OFFSET($D$136,C479,0))","v":1},{"$f":"12-$D480","v":11}]
[null,"wartość netto",{"$f":"IF(D481<0,0,ROUND(D481,0))","v":0},{"$f":"OFFSET($C$136,C479,0)","v":0},{"$f":"IF(D481>3.5,ROUND(($C482/12)*$E480,0),$C481)","v":0}]
[null,"amortyzacja roczna",{"$f":"IF(ISBLANK(OFFSET($D$136,C479,0)),0,IF(D481>3.5,ROUND(C481*am_transport,0),IF(C481<0,0,C481)))","v":0},null,null,null,null,null,null,{"$f":"ROUND(IF($C480=LataProjekcji,$E481,IF($C480=LataProjekcji,$C482,0)),0)","v":0},{"$f":"ROUND(IF(OR(AND($C480=LataProjekcji,$E480>0),AND($C480=LataProjekcji,$E480=0,$D481<=3.5)),$E481,IF($C480<LataProjekcji,IF((SUM($J482:J482)+$C482)<$C481,$C482,$C481-SUM($J482:J482)),0)),0)","v":0},{"$f":"ROUND(IF(OR(AND($C480=LataProjekcji,$E480>0),AND($C480=LataProjekcji,$E480=0,$D481<=3.5)),$E481,IF($C480<LataProjekcji,IF((SUM($J482:K482)+$C482)<$C481,$C482,$C481-SUM($J482:K482)),0)),0)","v":0},{"$f":"ROUND(IF(OR(AND($C480=LataProjekcji,$E480>0),AND($C480=LataProjekcji,$E480=0,$D481<=3.5)),$E481,IF($C480<LataProjekcji,IF((SUM($J482:L482)+$C482)<$C481,$C482,$C481-SUM($J482:L482)),0)),0)","v":0},{"$f":"ROUND(IF(OR(AND($C480=LataProjekcji,$E480>0),AND($C480=LataProjekcji,$E480=0,$D481<=3.5)),$E481,IF($C480<LataProjekcji,IF((SUM($J482:M482)+$C482)<$C481,$C482,$C481-SUM($J482:M482)),0)),0)","v":0},{"$f":"ROUND(IF(OR(AND($C480=LataProjekcji,$E480>0),AND($C480=LataProjekcji,$E480=0,$D481<=3.5)),$E481,IF($C480<LataProjekcji,IF((SUM($J482:N482)+$C482)<$C481,$C482,$C481-SUM($J482:N482)),0)),0)","v":0},{"$f":"ROUND(IF(OR(AND($C480=LataProjekcji,$E480>0),AND($C480=LataProjekcji,$E480=0,$D481<=3.5)),$E481,IF($C480<LataProjekcji,IF((SUM($J482:O482)+$C482)<$C481,$C482,$C481-SUM($J482:O482)),0)),0)","v":0},{"$f":"ROUND(IF(OR(AND($C480=LataProjekcji,$E480>0),AND($C480=LataProjekcji,$E480=0,$D481<=3.5)),$E481,IF($C480<LataProjekcji,IF((SUM($J482:P482)+$C482)<$C481,$C482,$C481-SUM($J482:P482)),0)),0)","v":0},{"$f":"ROUND(IF(OR(AND($C480=LataProjekcji,$E480>0),AND($C480=LataProjekcji,$E480=0,$D481<=3.5)),$E481,IF($C480<LataProjekcji,IF((SUM($J482:Q482)+$C482)<$C481,$C482,$C481-SUM($J482:Q482)),0)),0)","v":0},{"$f":"ROUND(IF(OR(AND($C480=LataProjekcji,$E480>0),AND($C480=LataProjekcji,$E480=0,$D481<=3.5)),$E481,IF($C480<LataProjekcji,IF((SUM($J482:R482)+$C482)<$C481,$C482,$C481-SUM($J482:R482)),0)),0)","v":0},{"$f":"ROUND(IF(OR(AND($C480=LataProjekcji,$E480>0),AND($C480=LataProjekcji,$E480=0,$D481<=3.5)),$E481,IF($C480<LataProjekcji,IF((SUM($J482:S482)+$C482)<$C481,$C482,$C481-SUM($J482:S482)),0)),0)","v":0},{"$f":"ROUND(IF(OR(AND($C480=LataProjekcji,$E480>0),AND($C480=LataProjekcji,$E480=0,$D481<=3.5)),$E481,IF($C480<LataProjekcji,IF((SUM($J482:T482)+$C482)<$C481,$C482,$C481-SUM($J482:T482)),0)),0)","v":0},{"$f":"ROUND(IF(OR(AND($C480=LataProjekcji,$E480>0),AND($C480=LataProjekcji,$E480=0,$D481<=3.5)),$E481,IF($C480<LataProjekcji,IF((SUM($J482:U482)+$C482)<$C481,$C482,$C481-SUM($J482:U482)),0)),0)","v":0},{"$f":"ROUND(IF(OR(AND($C480=LataProjekcji,$E480>0),AND($C480=LataProjekcji,$E480=0,$D481<=3.5)),$E481,IF($C480<LataProjekcji,IF((SUM($J482:V482)+$C482)<$C481,$C482,$C481-SUM($J482:V482)),0)),0)","v":0}]
[null,"umorzenie",null,null,null,null,null,null,null,{"$f":"ROUND(J482,0)","v":0},{"$f":"ROUND(J483+K482,0)","v":0},{"$f":"ROUND(K483+L482,0)","v":0},{"$f":"ROUND(L483+M482,0)","v":0},{"$f":"ROUND(M483+N482,0)","v":0},{"$f":"ROUND(N483+O482,0)","v":0},{"$f":"ROUND(O483+P482,0)","v":0},{"$f":"ROUND(P483+Q482,0)","v":0},{"$f":"ROUND(Q483+R482,0)","v":0},{"$f":"ROUND(R483+S482,0)","v":0},{"$f":"ROUND(S483+T482,0)","v":0},{"$f":"ROUND(T483+U482,0)","v":0},{"$f":"ROUND(U483+V482,0)","v":0},{"$f":"ROUND(V483+W482,0)","v":0}]
[null,"wartość netto",null,null,null,null,null,null,null,{"$f":"IF($C480=LataProjekcji,ROUND($C481-J483,0),ROUND(IF(J482=0,0,$C481-J483),0))","v":0},{"$f":"IF($C480=LataProjekcji,ROUND($C481-K483,0),ROUND(IF(AND(K482=0,J484>0),$C481-K483,IF(K482=0,0,$C481-K483)),0))","v":0},{"$f":"IF($C480=LataProjekcji,ROUND($C481-L483,0),ROUND(IF(AND(L482=0,K484>0),$C481-L483,IF(L482=0,0,$C481-L483)),0))","v":0},{"$f":"IF($C480=LataProjekcji,ROUND($C481-M483,0),ROUND(IF(AND(M482=0,L484>0),$C481-M483,IF(M482=0,0,$C481-M483)),0))","v":0},{"$f":"IF($C480=LataProjekcji,ROUND($C481-N483,0),ROUND(IF(AND(N482=0,M484>0),$C481-N483,IF(N482=0,0,$C481-N483)),0))","v":0},{"$f":"IF($C480=LataProjekcji,ROUND($C481-O483,0),ROUND(IF(AND(O482=0,N484>0),$C481-O483,IF(O482=0,0,$C481-O483)),0))","v":0},{"$f":"IF($C480=LataProjekcji,ROUND($C481-P483,0),ROUND(IF(AND(P482=0,O484>0),$C481-P483,IF(P482=0,0,$C481-P483)),0))","v":0},{"$f":"IF($C480=LataProjekcji,ROUND($C481-Q483,0),ROUND(IF(AND(Q482=0,P484>0),$C481-Q483,IF(Q482=0,0,$C481-Q483)),0))","v":0},{"$f":"IF($C480=LataProjekcji,ROUND($C481-R483,0),ROUND(IF(AND(R482=0,Q484>0),$C481-R483,IF(R482=0,0,$C481-R483)),0))","v":0},{"$f":"IF($C480=LataProjekcji,ROUND($C481-S483,0),ROUND(IF(AND(S482=0,R484>0),$C481-S483,IF(S482=0,0,$C481-S483)),0))","v":0},{"$f":"IF($C480=LataProjekcji,ROUND($C481-T483,0),ROUND(IF(AND(T482=0,S484>0),$C481-T483,IF(T482=0,0,$C481-T483)),0))","v":0},{"$f":"IF($C480=LataProjekcji,ROUND($C481-U483,0),ROUND(IF(AND(U482=0,T484>0),$C481-U483,IF(U482=0,0,$C481-U483)),0))","v":0},{"$f":"IF($C480=LataProjekcji,ROUND($C481-V483,0),ROUND(IF(AND(V482=0,U484>0),$C481-V483,IF(V482=0,0,$C481-V483)),0))","v":0},{"$f":"IF($C480=LataProjekcji,ROUND($C481-W483,0),ROUND(IF(AND(W482=0,V484>0),$C481-W483,IF(W482=0,0,$C481-W483)),0))","v":0}]
[]
[null,{"$f":"IF(ISBLANK(B452),\"Środki transportu 5\",B452)","v":"Środki transportu 5"},{"$f":"C479+1","v":316}]
[null,"rok zakupu",{"$f":"YEAR(OFFSET($D$136,C486,0))","v":1900},{"$f":"MONTH(OFFSET($D$136,C486,0))","v":1},{"$f":"12-$D487","v":11}]
[null,"wartość netto",{"$f":"IF(D488<0,0,ROUND(D488,0))","v":0},{"$f":"OFFSET($C$136,C486,0)","v":0},{"$f":"IF(D488>3.5,ROUND(($C489/12)*$E487,0),$C488)","v":0}]
[null,"amortyzacja roczna",{"$f":"IF(ISBLANK(OFFSET($D$136,C486,0)),0,IF(D488>3.5,ROUND(C488*am_transport,0),IF(C488<0,0,C488)))","v":0},null,null,null,null,null,null,{"$f":"ROUND(IF($C487=LataProjekcji,$E488,IF($C487=LataProjekcji,$C489,0)),0)","v":0},{"$f":"ROUND(IF(OR(AND($C487=LataProjekcji,$E487>0),AND($C487=LataProjekcji,$E487=0,$D488<=3.5)),$E488,IF($C487<LataProjekcji,IF((SUM($J489:J489)+$C489)<$C488,$C489,$C488-SUM($J489:J489)),0)),0)","v":0},{"$f":"ROUND(IF(OR(AND($C487=LataProjekcji,$E487>0),AND($C487=LataProjekcji,$E487=0,$D488<=3.5)),$E488,IF($C487<LataProjekcji,IF((SUM($J489:K489)+$C489)<$C488,$C489,$C488-SUM($J489:K489)),0)),0)","v":0},{"$f":"ROUND(IF(OR(AND($C487=LataProjekcji,$E487>0),AND($C487=LataProjekcji,$E487=0,$D488<=3.5)),$E488,IF($C487<LataProjekcji,IF((SUM($J489:L489)+$C489)<$C488,$C489,$C488-SUM($J489:L489)),0)),0)","v":0},{"$f":"ROUND(IF(OR(AND($C487=LataProjekcji,$E487>0),AND($C487=LataProjekcji,$E487=0,$D488<=3.5)),$E488,IF($C487<LataProjekcji,IF((SUM($J489:M489)+$C489)<$C488,$C489,$C488-SUM($J489:M489)),0)),0)","v":0},{"$f":"ROUND(IF(OR(AND($C487=LataProjekcji,$E487>0),AND($C487=LataProjekcji,$E487=0,$D488<=3.5)),$E488,IF($C487<LataProjekcji,IF((SUM($J489:N489)+$C489)<$C488,$C489,$C488-SUM($J489:N489)),0)),0)","v":0},{"$f":"ROUND(IF(OR(AND($C487=LataProjekcji,$E487>0),AND($C487=LataProjekcji,$E487=0,$D488<=3.5)),$E488,IF($C487<LataProjekcji,IF((SUM($J489:O489)+$C489)<$C488,$C489,$C488-SUM($J489:O489)),0)),0)","v":0},{"$f":"ROUND(IF(OR(AND($C487=LataProjekcji,$E487>0),AND($C487=LataProjekcji,$E487=0,$D488<=3.5)),$E488,IF($C487<LataProjekcji,IF((SUM($J489:P489)+$C489)<$C488,$C489,$C488-SUM($J489:P489)),0)),0)","v":0},{"$f":"ROUND(IF(OR(AND($C487=LataProjekcji,$E487>0),AND($C487=LataProjekcji,$E487=0,$D488<=3.5)),$E488,IF($C487<LataProjekcji,IF((SUM($J489:Q489)+$C489)<$C488,$C489,$C488-SUM($J489:Q489)),0)),0)","v":0},{"$f":"ROUND(IF(OR(AND($C487=LataProjekcji,$E487>0),AND($C487=LataProjekcji,$E487=0,$D488<=3.5)),$E488,IF($C487<LataProjekcji,IF((SUM($J489:R489)+$C489)<$C488,$C489,$C488-SUM($J489:R489)),0)),0)","v":0},{"$f":"ROUND(IF(OR(AND($C487=LataProjekcji,$E487>0),AND($C487=LataProjekcji,$E487=0,$D488<=3.5)),$E488,IF($C487<LataProjekcji,IF((SUM($J489:S489)+$C489)<$C488,$C489,$C488-SUM($J489:S489)),0)),0)","v":0},{"$f":"ROUND(IF(OR(AND($C487=LataProjekcji,$E487>0),AND($C487=LataProjekcji,$E487=0,$D488<=3.5)),$E488,IF($C487<LataProjekcji,IF((SUM($J489:T489)+$C489)<$C488,$C489,$C488-SUM($J489:T489)),0)),0)","v":0},{"$f":"ROUND(IF(OR(AND($C487=LataProjekcji,$E487>0),AND($C487=LataProjekcji,$E487=0,$D488<=3.5)),$E488,IF($C487<LataProjekcji,IF((SUM($J489:U489)+$C489)<$C488,$C489,$C488-SUM($J489:U489)),0)),0)","v":0},{"$f":"ROUND(IF(OR(AND($C487=LataProjekcji,$E487>0),AND($C487=LataProjekcji,$E487=0,$D488<=3.5)),$E488,IF($C487<LataProjekcji,IF((SUM($J489:V489)+$C489)<$C488,$C489,$C488-SUM($J489:V489)),0)),0)","v":0}]
[null,"umorzenie",null,null,null,null,null,null,null,{"$f":"ROUND(J489,0)","v":0},{"$f":"ROUND(J490+K489,0)","v":0},{"$f":"ROUND(K490+L489,0)","v":0},{"$f":"ROUND(L490+M489,0)","v":0},{"$f":"ROUND(M490+N489,0)","v":0},{"$f":"ROUND(N490+O489,0)","v":0},{"$f":"ROUND(O490+P489,0)","v":0},{"$f":"ROUND(P490+Q489,0)","v":0},{"$f":"ROUND(Q490+R489,0)","v":0},{"$f":"ROUND(R490+S489,0)","v":0},{"$f":"ROUND(S490+T489,0)","v":0},{"$f":"ROUND(T490+U489,0)","v":0},{"$f":"ROUND(U490+V489,0)","v":0},{"$f":"ROUND(V490+W489,0)","v":0}]
[null,"wartość netto",null,null,null,null,null,null,null,{"$f":"IF($C487=LataProjekcji,ROUND($C488-J490,0),ROUND(IF(J489=0,0,$C488-J490),0))","v":0},{"$f":"IF($C487=LataProjekcji,ROUND($C488-K490,0),ROUND(IF(AND(K489=0,J491>0),$C488-K490,IF(K489=0,0,$C488-K490)),0))","v":0},{"$f":"IF($C487=LataProjekcji,ROUND($C488-L490,0),ROUND(IF(AND(L489=0,K491>0),$C488-L490,IF(L489=0,0,$C488-L490)),0))","v":0},{"$f":"IF($C487=LataProjekcji,ROUND($C488-M490,0),ROUND(IF(AND(M489=0,L491>0),$C488-M490,IF(M489=0,0,$C488-M490)),0))","v":0},{"$f":"IF($C487=LataProjekcji,ROUND($C488-N490,0),ROUND(IF(AND(N489=0,M491>0),$C488-N490,IF(N489=0,0,$C488-N490)),0))","v":0},{"$f":"IF($C487=LataProjekcji,ROUND($C488-O490,0),ROUND(IF(AND(O489=0,N491>0),$C488-O490,IF(O489=0,0,$C488-O490)),0))","v":0},{"$f":"IF($C487=LataProjekcji,ROUND($C488-P490,0),ROUND(IF(AND(P489=0,O491>0),$C488-P490,IF(P489=0,0,$C488-P490)),0))","v":0},{"$f":"IF($C487=LataProjekcji,ROUND($C488-Q490,0),ROUND(IF(AND(Q489=0,P491>0),$C488-Q490,IF(Q489=0,0,$C488-Q490)),0))","v":0},{"$f":"IF($C487=LataProjekcji,ROUND($C488-R490,0),ROUND(IF(AND(R489=0,Q491>0),$C488-R490,IF(R489=0,0,$C488-R490)),0))","v":0},{"$f":"IF($C487=LataProjekcji,ROUND($C488-S490,0),ROUND(IF(AND(S489=0,R491>0),$C488-S490,IF(S489=0,0,$C488-S490)),0))","v":0},{"$f":"IF($C487=LataProjekcji,ROUND($C488-T490,0),ROUND(IF(AND(T489=0,S491>0),$C488-T490,IF(T489=0,0,$C488-T490)),0))","v":0},{"$f":"IF($C487=LataProjekcji,ROUND($C488-U490,0),ROUND(IF(AND(U489=0,T491>0),$C488-U490,IF(U489=0,0,$C488-U490)),0))","v":0},{"$f":"IF($C487=LataProjekcji,ROUND($C488-V490,0),ROUND(IF(AND(V489=0,U491>0),$C488-V490,IF(V489=0,0,$C488-V490)),0))","v":0},{"$f":"IF($C487=LataProjekcji,ROUND($C488-W490,0),ROUND(IF(AND(W489=0,V491>0),$C488-W490,IF(W489=0,0,$C488-W490)),0))","v":0}]
[]
[]
[null,"inne środki trwałe ","wartość netto","rok i miesiąc zakupu","dofinansowanie %","dofinansowanie PLN",null,null,null,{"$f":"LataProjekcji","v":"Uzupełnij dane"},"","","","","","","","","","","","",""]
[null,null,null,null,null,{"$f":"IF(E495=0,0,ROUND(E495*C495,0))","v":0},null,null,{"$f":"IF(OR(AND(ISNUMBER(C495),ISBLANK(D495)),AND(ISNUMBER(D495),ISBLANK(C495))),\"uzupełnij dane\",\"\")","v":""},{"$f":"ROUND(IF(AND(YEAR($D495)=LataProjekcji,$C495>0),$C495,0),0)","v":0},0,0,0,0,0,0,0,0,0,0,0,0,0]
[null,null,null,null,null,{"$f":"IF(E496=0,0,ROUND(E496*C496,0))","v":0},null,null,"",0,0,0,0,0,0,0,0,0,0,0,0,0,0]
[null,null,null,null,null,{"$f":"IF(E497=0,0,ROUND(E497*C497,0))","v":0},null,null,"",0,0,0,0,0,0,0,0,0,0,0,0,0,0]
[null,null,null,null,null,{"$f":"IF(E498=0,0,ROUND(E498*C498,0))","v":0},null,null,"",0,0,0,0,0,0,0,0,0,0,0,0,0,0]
[null,null,null,null,null,{"$f":"IF(E499=0,0,ROUND(E499*C499,0))","v":0},null,null,"",0,0,0,0,0,0,0,0,0,0,0,0,0,0]
[null,"Razem",{"$f":"SUM(C495:C499)","v":0},null,null,{"$f":"SUM(F495:F499)","v":0},null,null,null,{"$f":"SUM(J495:J499)","v":0},0,0,0,0,0,0,0,0,0,0,0,0,0]
[null,"     - amortyzacja",null,null,null,null,null,null,null,{"$f":"J508+J515+J522+J529+J536","v":0},{"$f":"K508+K515+K522+K529+K536","v":0},0,0,0,0,0,0,0,0,0,0,0,0]
[null,"     - umorzenie",null,null,null,null,null,null,null,{"$f":"J509+J516+J523+J530+J537","v":0},{"$f":"K509+K516+K523+K530+K537","v":0},0,0,0,0,0,0,0,0,0,0,0,0]
[null,"     - wartość księgowa netto",null,null,null,null,null,null,null,{"$f":"J510+J517+J524+J531+J538","v":0},{"$f":"K510+K517+K524+K531+K538","v":0},0,0,0,0,0,0,0,0,0,0,0,0]
[]
[null,"inne środki trwałe 1",359,null,"ile miesiący do końca roku",null,"niekwalifikowalne","spr"]
[null,"rok zakupu",{"$f":"YEAR(OFFSET($D$136,C505,0))","v":1900},{"$f":"MONTH(OFFSET($D$136,C505,0))","v":1},{"$f":"12-$D506","v":11},null,{"$f":"C500-F506","v":0},{"$f":"C500-F506-G506","v":0}]
[null,"wartość netto",{"$f":"IF(D507<0,0,ROUND(D507,0))","v":0},{"$f":"OFFSET($C$136,C505,0)","v":0},{"$f":"IF(D507>3.5,ROUND(($C508/12)*$E506,0),$C507)","v":0},"<- am. Do końca roku"]
[null,"amortyzacja roczna",{"$f":"IF(ISBLANK(OFFSET($D$136,C505,0)),0,IF(D507>3.5,ROUND(C507*am_inneST,0),IF(C507<0,0,C507)))","v":0},null,null,null,null,null,null,{"$f":"ROUND(IF($C506=LataProjekcji,$E507,IF($C506=LataProjekcji,$C508,0)),0)","v":0},{"$f":"ROUND(IF(OR(AND($C506=LataProjekcji,$E506>0),AND($C506=LataProjekcji,$E506=0,$D507<=3.5)),$E507,IF($C506<LataProjekcji,IF((SUM($J508:J508)+$C508)<$C507,$C508,$C507-SUM($J508:J508)),0)),0)","v":0},{"$f":"ROUND(IF(OR(AND($C506=LataProjekcji,$E506>0),AND($C506=LataProjekcji,$E506=0,$D507<=3.5)),$E507,IF($C506<LataProjekcji,IF((SUM($J508:K508)+$C508)<$C507,$C508,$C507-SUM($J508:K508)),0)),0)","v":0},{"$f":"ROUND(IF(OR(AND($C506=LataProjekcji,$E506>0),AND($C506=LataProjekcji,$E506=0,$D507<=3.5)),$E507,IF($C506<LataProjekcji,IF((SUM($J508:L508)+$C508)<$C507,$C508,$C507-SUM($J508:L508)),0)),0)","v":0},{"$f":"ROUND(IF(OR(AND($C506=LataProjekcji,$E506>0),AND($C506=LataProjekcji,$E506=0,$D507<=3.5)),$E507,IF($C506<LataProjekcji,IF((SUM($J508:M508)+$C508)<$C507,$C508,$C507-SUM($J508:M508)),0)),0)","v":0},{"$f":"ROUND(IF(OR(AND($C506=LataProjekcji,$E506>0),AND($C506=LataProjekcji,$E506=0,$D507<=3.5)),$E507,IF($C506<LataProjekcji,IF((SUM($J508:N508)+$C508)<$C507,$C508,$C507-SUM($J508:N508)),0)),0)","v":0},{"$f":"ROUND(IF(OR(AND($C506=LataProjekcji,$E506>0),AND($C506=LataProjekcji,$E506=0,$D507<=3.5)),$E507,IF($C506<LataProjekcji,IF((SUM($J508:O508)+$C508)<$C507,$C508,$C507-SUM($J508:O508)),0)),0)","v":0},{"$f":"ROUND(IF(OR(AND($C506=LataProjekcji,$E506>0),AND($C506=LataProjekcji,$E506=0,$D507<=3.5)),$E507,IF($C506<LataProjekcji,IF((SUM($J508:P508)+$C508)<$C507,$C508,$C507-SUM($J508:P508)),0)),0)","v":0},{"$f":"ROUND(IF(OR(AND($C506=LataProjekcji,$E506>0),AND($C506=LataProjekcji,$E506=0,$D507<=3.5)),$E507,IF($C506<LataProjekcji,IF((SUM($J508:Q508)+$C508)<$C507,$C508,$C507-SUM($J508:Q508)),0)),0)","v":0},{"$f":"ROUND(IF(OR(AND($C506=LataProjekcji,$E506>0),AND($C506=LataProjekcji,$E506=0,$D507<=3.5)),$E507,IF($C506<LataProjekcji,IF((SUM($J508:R508)+$C508)<$C507,$C508,$C507-SUM($J508:R508)),0)),0)","v":0},{"$f":"ROUND(IF(OR(AND($C506=LataProjekcji,$E506>0),AND($C506=LataProjekcji,$E506=0,$D507<=3.5)),$E507,IF($C506<LataProjekcji,IF((SUM($J508:S508)+$C508)<$C507,$C508,$C507-SUM($J508:S508)),0)),0)","v":0},{"$f":"ROUND(IF(OR(AND($C506=LataProjekcji,$E506>0),AND($C506=LataProjekcji,$E506=0,$D507<=3.5)),$E507,IF($C506<LataProjekcji,IF((SUM($J508:T508)+$C508)<$C507,$C508,$C507-SUM($J508:T508)),0)),0)","v":0},{"$f":"ROUND(IF(OR(AND($C506=LataProjekcji,$E506>0),AND($C506=LataProjekcji,$E506=0,$D507<=3.5)),$E507,IF($C506<LataProjekcji,IF((SUM($J508:U508)+$C508)<$C507,$C508,$C507-SUM($J508:U508)),0)),0)","v":0},{"$f":"ROUND(IF(OR(AND($C506=LataProjekcji,$E506>0),AND($C506=LataProjekcji,$E506=0,$D507<=3.5)),$E507,IF($C506<LataProjekcji,IF((SUM($J508:V508)+$C508)<$C507,$C508,$C507-SUM($J508:V508)),0)),0)","v":0}]
[null,"umorzenie",null,null,null,null,null,null,null,{"$f":"ROUND(J508,0)","v":0},{"$f":"ROUND(J509+K508,0)","v":0},{"$f":"ROUND(K509+L508,0)","v":0},{"$f":"ROUND(L509+M508,0)","v":0},{"$f":"ROUND(M509+N508,0)","v":0},{"$f":"ROUND(N509+O508,0)","v":0},{"$f":"ROUND(O509+P508,0)","v":0},{"$f":"ROUND(P509+Q508,0)","v":0},{"$f":"ROUND(Q509+R508,0)","v":0},{"$f":"ROUND(R509+S508,0)","v":0},{"$f":"ROUND(S509+T508,0)","v":0},{"$f":"ROUND(T509+U508,0)","v":0},{"$f":"ROUND(U509+V508,0)","v":0},{"$f":"ROUND(V509+W508,0)","v":0}]
[null,"wartość netto",null,null,null,null,null,null,null,{"$f":"IF($C506=LataProjekcji,ROUND($C507-J509,0),ROUND(IF(J508=0,0,$C507-J509),0))","v":0},{"$f":"IF($C506=LataProjekcji,ROUND($C507-K509,0),ROUND(IF(AND(K508=0,J510>0),$C507-K509,IF(K508=0,0,$C507-K509)),0))","v":0},{"$f":"IF($C506=LataProjekcji,ROUND($C507-L509,0),ROUND(IF(AND(L508=0,K510>0),$C507-L509,IF(L508=0,0,$C507-L509)),0))","v":0},{"$f":"IF($C506=LataProjekcji,ROUND($C507-M509,0),ROUND(IF(AND(M508=0,L510>0),$C507-M509,IF(M508=0,0,$C507-M509)),0))","v":0},{"$f":"IF($C506=LataProjekcji,ROUND($C507-N509,0),ROUND(IF(AND(N508=0,M510>0),$C507-N509,IF(N508=0,0,$C507-N509)),0))","v":0},{"$f":"IF($C506=LataProjekcji,ROUND($C507-O509,0),ROUND(IF(AND(O508=0,N510>0),$C507-O509,IF(O508=0,0,$C507-O509)),0))","v":0},{"$f":"IF($C506=LataProjekcji,ROUND($C507-P509,0),ROUND(IF(AND(P508=0,O510>0),$C507-P509,IF(P508=0,0,$C507-P509)),0))","v":0},{"$f":"IF($C506=LataProjekcji,ROUND($C507-Q509,0),ROUND(IF(AND(Q508=0,P510>0),$C507-Q509,IF(Q508=0,0,$C507-Q509)),0))","v":0},{"$f":"IF($C506=LataProjekcji,ROUND($C507-R509,0),ROUND(IF(AND(R508=0,Q510>0),$C507-R509,IF(R508=0,0,$C507-R509)),0))","v":0},{"$f":"IF($C506=LataProjekcji,ROUND($C507-S509,0),ROUND(IF(AND(S508=0,R510>0),$C507-S509,IF(S508=0,0,$C507-S509)),0))","v":0},{"$f":"IF($C506=LataProjekcji,ROUND($C507-T509,0),ROUND(IF(AND(T508=0,S510>0),$C507-T509,IF(T508=0,0,$C507-T509)),0))","v":0},{"$f":"IF($C506=LataProjekcji,ROUND($C507-U509,0),ROUND(IF(AND(U508=0,T510>0),$C507-U509,IF(U508=0,0,$C507-U509)),0))","v":0},{"$f":"IF($C506=LataProjekcji,ROUND($C507-V509,0),ROUND(IF(AND(V508=0,U510>0),$C507-V509,IF(V508=0,0,$C507-V509)),0))","v":0},{"$f":"IF($C506=LataProjekcji,ROUND($C507-W509,0),ROUND(IF(AND(W508=0,V510>0),$C507-W509,IF(W508=0,0,$C507-W509)),0))","v":0}]
[]
[null,"inne środki trwałe 2",{"$f":"C505+1","v":360}]
[null,"rok zakupu",{"$f":"YEAR(OFFSET($D$136,C512,0))","v":1900},{"$f":"MONTH(OFFSET($D$136,C512,0))","v":1},{"$f":"12-$D513","v":11}]
[null,"wartość netto",{"$f":"IF(D514<0,0,ROUND(D514,0))","v":0},{"$f":"OFFSET($C$136,C512,0)","v":0},{"$f":"IF(D514>3.5,ROUND(($C515/12)*$E513,0),$C514)","v":0}]
[null,"amortyzacja roczna",{"$f":"IF(ISBLANK(OFFSET($D$136,C512,0)),0,IF(D514>3.5,ROUND(C514*am_inneST,0),IF(C514<0,0,C514)))","v":0},null,null,null,null,null,null,{"$f":"ROUND(IF($C513=LataProjekcji,$E514,IF($C513=LataProjekcji,$C515,0)),0)","v":0},{"$f":"ROUND(IF(OR(AND($C513=LataProjekcji,$E513>0),AND($C513=LataProjekcji,$E513=0,$D514<=3.5)),$E514,IF($C513<LataProjekcji,IF((SUM($J515:J515)+$C515)<$C514,$C515,$C514-SUM($J515:J515)),0)),0)","v":0},{"$f":"ROUND(IF(OR(AND($C513=LataProjekcji,$E513>0),AND($C513=LataProjekcji,$E513=0,$D514<=3.5)),$E514,IF($C513<LataProjekcji,IF((SUM($J515:K515)+$C515)<$C514,$C515,$C514-SUM($J515:K515)),0)),0)","v":0},{"$f":"ROUND(IF(OR(AND($C513=LataProjekcji,$E513>0),AND($C513=LataProjekcji,$E513=0,$D514<=3.5)),$E514,IF($C513<LataProjekcji,IF((SUM($J515:L515)+$C515)<$C514,$C515,$C514-SUM($J515:L515)),0)),0)","v":0},{"$f":"ROUND(IF(OR(AND($C513=LataProjekcji,$E513>0),AND($C513=LataProjekcji,$E513=0,$D514<=3.5)),$E514,IF($C513<LataProjekcji,IF((SUM($J515:M515)+$C515)<$C514,$C515,$C514-SUM($J515:M515)),0)),0)","v":0},{"$f":"ROUND(IF(OR(AND($C513=LataProjekcji,$E513>0),AND($C513=LataProjekcji,$E513=0,$D514<=3.5)),$E514,IF($C513<LataProjekcji,IF((SUM($J515:N515)+$C515)<$C514,$C515,$C514-SUM($J515:N515)),0)),0)","v":0},{"$f":"ROUND(IF(OR(AND($C513=LataProjekcji,$E513>0),AND($C513=LataProjekcji,$E513=0,$D514<=3.5)),$E514,IF($C513<LataProjekcji,IF((SUM($J515:O515)+$C515)<$C514,$C515,$C514-SUM($J515:O515)),0)),0)","v":0},{"$f":"ROUND(IF(OR(AND($C513=LataProjekcji,$E513>0),AND($C513=LataProjekcji,$E513=0,$D514<=3.5)),$E514,IF($C513<LataProjekcji,IF((SUM($J515:P515)+$C515)<$C514,$C515,$C514-SUM($J515:P515)),0)),0)","v":0},{"$f":"ROUND(IF(OR(AND($C513=LataProjekcji,$E513>0),AND($C513=LataProjekcji,$E513=0,$D514<=3.5)),$E514,IF($C513<LataProjekcji,IF((SUM($J515:Q515)+$C515)<$C514,$C515,$C514-SUM($J515:Q515)),0)),0)","v":0},{"$f":"ROUND(IF(OR(AND($C513=LataProjekcji,$E513>0),AND($C513=LataProjekcji,$E513=0,$D514<=3.5)),$E514,IF($C513<LataProjekcji,IF((SUM($J515:R515)+$C515)<$C514,$C515,$C514-SUM($J515:R515)),0)),0)","v":0},{"$f":"ROUND(IF(OR(AND($C513=LataProjekcji,$E513>0),AND($C513=LataProjekcji,$E513=0,$D514<=3.5)),$E514,IF($C513<LataProjekcji,IF((SUM($J515:S515)+$C515)<$C514,$C515,$C514-SUM($J515:S515)),0)),0)","v":0},{"$f":"ROUND(IF(OR(AND($C513=LataProjekcji,$E513>0),AND($C513=LataProjekcji,$E513=0,$D514<=3.5)),$E514,IF($C513<LataProjekcji,IF((SUM($J515:T515)+$C515)<$C514,$C515,$C514-SUM($J515:T515)),0)),0)","v":0},{"$f":"ROUND(IF(OR(AND($C513=LataProjekcji,$E513>0),AND($C513=LataProjekcji,$E513=0,$D514<=3.5)),$E514,IF($C513<LataProjekcji,IF((SUM($J515:U515)+$C515)<$C514,$C515,$C514-SUM($J515:U515)),0)),0)","v":0},{"$f":"ROUND(IF(OR(AND($C513=LataProjekcji,$E513>0),AND($C513=LataProjekcji,$E513=0,$D514<=3.5)),$E514,IF($C513<LataProjekcji,IF((SUM($J515:V515)+$C515)<$C514,$C515,$C514-SUM($J515:V515)),0)),0)","v":0}]
[null,"umorzenie",null,null,null,null,null,null,null,{"$f":"ROUND(J515,0)","v":0},{"$f":"ROUND(J516+K515,0)","v":0},{"$f":"ROUND(K516+L515,0)","v":0},{"$f":"ROUND(L516+M515,0)","v":0},{"$f":"ROUND(M516+N515,0)","v":0},{"$f":"ROUND(N516+O515,0)","v":0},{"$f":"ROUND(O516+P515,0)","v":0},{"$f":"ROUND(P516+Q515,0)","v":0},{"$f":"ROUND(Q516+R515,0)","v":0},{"$f":"ROUND(R516+S515,0)","v":0},{"$f":"ROUND(S516+T515,0)","v":0},{"$f":"ROUND(T516+U515,0)","v":0},{"$f":"ROUND(U516+V515,0)","v":0},{"$f":"ROUND(V516+W515,0)","v":0}]
[null,"wartość netto",null,null,null,null,null,null,null,{"$f":"IF($C513=LataProjekcji,ROUND($C514-J516,0),ROUND(IF(J515=0,0,$C514-J516),0))","v":0},{"$f":"IF($C513=LataProjekcji,ROUND($C514-K516,0),ROUND(IF(AND(K515=0,J517>0),$C514-K516,IF(K515=0,0,$C514-K516)),0))","v":0},{"$f":"IF($C513=LataProjekcji,ROUND($C514-L516,0),ROUND(IF(AND(L515=0,K517>0),$C514-L516,IF(L515=0,0,$C514-L516)),0))","v":0},{"$f":"IF($C513=LataProjekcji,ROUND($C514-M516,0),ROUND(IF(AND(M515=0,L517>0),$C514-M516,IF(M515=0,0,$C514-M516)),0))","v":0},{"$f":"IF($C513=LataProjekcji,ROUND($C514-N516,0),ROUND(IF(AND(N515=0,M517>0),$C514-N516,IF(N515=0,0,$C514-N516)),0))","v":0},{"$f":"IF($C513=LataProjekcji,ROUND($C514-O516,0),ROUND(IF(AND(O515=0,N517>0),$C514-O516,IF(O515=0,0,$C514-O516)),0))","v":0},{"$f":"IF($C513=LataProjekcji,ROUND($C514-P516,0),ROUND(IF(AND(P515=0,O517>0),$C514-P516,IF(P515=0,0,$C514-P516)),0))","v":0},{"$f":"IF($C513=LataProjekcji,ROUND($C514-Q516,0),ROUND(IF(AND(Q515=0,P517>0),$C514-Q516,IF(Q515=0,0,$C514-Q516)),0))","v":0},{"$f":"IF($C513=LataProjekcji,ROUND($C514-R516,0),ROUND(IF(AND(R515=0,Q517>0),$C514-R516,IF(R515=0,0,$C514-R516)),0))","v":0},{"$f":"IF($C513=LataProjekcji,ROUND($C514-S516,0),ROUND(IF(AND(S515=0,R517>0),$C514-S516,IF(S515=0,0,$C514-S516)),0))","v":0},{"$f":"IF($C513=LataProjekcji,ROUND($C514-T516,0),ROUND(IF(AND(T515=0,S517>0),$C514-T516,IF(T515=0,0,$C514-T516)),0))","v":0},{"$f":"IF($C513=LataProjekcji,ROUND($C514-U516,0),ROUND(IF(AND(U515=0,T517>0),$C514-U516,IF(U515=0,0,$C514-U516)),0))","v":0},{"$f":"IF($C513=LataProjekcji,ROUND($C514-V516,0),ROUND(IF(AND(V515=0,U517>0),$C514-V516,IF(V515=0,0,$C514-V516)),0))","v":0},{"$f":"IF($C513=LataProjekcji,ROUND($C514-W516,0),ROUND(IF(AND(W515=0,V517>0),$C514-W516,IF(W515=0,0,$C514-W516)),0))","v":0}]
[]
[null,"inne środki trwałe 3",{"$f":"C512+1","v":361}]
[null,"rok zakupu",{"$f":"YEAR(OFFSET($D$136,C519,0))","v":1900},{"$f":"MONTH(OFFSET($D$136,C519,0))","v":1},{"$f":"12-$D520","v":11}]
[null,"wartość netto",{"$f":"IF(D521<0,0,ROUND(D521,0))","v":0},{"$f":"OFFSET($C$136,C519,0)","v":0},{"$f":"IF(D521>3.5,ROUND(($C522/12)*$E520,0),$C521)","v":0}]
[null,"amortyzacja roczna",{"$f":"IF(ISBLANK(OFFSET($D$136,C519,0)),0,IF(D521>3.5,ROUND(C521*am_inneST,0),IF(C521<0,0,C521)))","v":0},null,null,null,null,null,null,{"$f":"ROUND(IF($C520=LataProjekcji,$E521,IF($C520=LataProjekcji,$C522,0)),0)","v":0},{"$f":"ROUND(IF(OR(AND($C520=LataProjekcji,$E520>0),AND($C520=LataProjekcji,$E520=0,$D521<=3.5)),$E521,IF($C520<LataProjekcji,IF((SUM($J522:J522)+$C522)<$C521,$C522,$C521-SUM($J522:J522)),0)),0)","v":0},{"$f":"ROUND(IF(OR(AND($C520=LataProjekcji,$E520>0),AND($C520=LataProjekcji,$E520=0,$D521<=3.5)),$E521,IF($C520<LataProjekcji,IF((SUM($J522:K522)+$C522)<$C521,$C522,$C521-SUM($J522:K522)),0)),0)","v":0},{"$f":"ROUND(IF(OR(AND($C520=LataProjekcji,$E520>0),AND($C520=LataProjekcji,$E520=0,$D521<=3.5)),$E521,IF($C520<LataProjekcji,IF((SUM($J522:L522)+$C522)<$C521,$C522,$C521-SUM($J522:L522)),0)),0)","v":0},{"$f":"ROUND(IF(OR(AND($C520=LataProjekcji,$E520>0),AND($C520=LataProjekcji,$E520=0,$D521<=3.5)),$E521,IF($C520<LataProjekcji,IF((SUM($J522:M522)+$C522)<$C521,$C522,$C521-SUM($J522:M522)),0)),0)","v":0},{"$f":"ROUND(IF(OR(AND($C520=LataProjekcji,$E520>0),AND($C520=LataProjekcji,$E520=0,$D521<=3.5)),$E521,IF($C520<LataProjekcji,IF((SUM($J522:N522)+$C522)<$C521,$C522,$C521-SUM($J522:N522)),0)),0)","v":0},{"$f":"ROUND(IF(OR(AND($C520=LataProjekcji,$E520>0),AND($C520=LataProjekcji,$E520=0,$D521<=3.5)),$E521,IF($C520<LataProjekcji,IF((SUM($J522:O522)+$C522)<$C521,$C522,$C521-SUM($J522:O522)),0)),0)","v":0},{"$f":"ROUND(IF(OR(AND($C520=LataProjekcji,$E520>0),AND($C520=LataProjekcji,$E520=0,$D521<=3.5)),$E521,IF($C520<LataProjekcji,IF((SUM($J522:P522)+$C522)<$C521,$C522,$C521-SUM($J522:P522)),0)),0)","v":0},{"$f":"ROUND(IF(OR(AND($C520=LataProjekcji,$E520>0),AND($C520=LataProjekcji,$E520=0,$D521<=3.5)),$E521,IF($C520<LataProjekcji,IF((SUM($J522:Q522)+$C522)<$C521,$C522,$C521-SUM($J522:Q522)),0)),0)","v":0},{"$f":"ROUND(IF(OR(AND($C520=LataProjekcji,$E520>0),AND($C520=LataProjekcji,$E520=0,$D521<=3.5)),$E521,IF($C520<LataProjekcji,IF((SUM($J522:R522)+$C522)<$C521,$C522,$C521-SUM($J522:R522)),0)),0)","v":0},{"$f":"ROUND(IF(OR(AND($C520=LataProjekcji,$E520>0),AND($C520=LataProjekcji,$E520=0,$D521<=3.5)),$E521,IF($C520<LataProjekcji,IF((SUM($J522:S522)+$C522)<$C521,$C522,$C521-SUM($J522:S522)),0)),0)","v":0},{"$f":"ROUND(IF(OR(AND($C520=LataProjekcji,$E520>0),AND($C520=LataProjekcji,$E520=0,$D521<=3.5)),$E521,IF($C520<LataProjekcji,IF((SUM($J522:T522)+$C522)<$C521,$C522,$C521-SUM($J522:T522)),0)),0)","v":0},{"$f":"ROUND(IF(OR(AND($C520=LataProjekcji,$E520>0),AND($C520=LataProjekcji,$E520=0,$D521<=3.5)),$E521,IF($C520<LataProjekcji,IF((SUM($J522:U522)+$C522)<$C521,$C522,$C521-SUM($J522:U522)),0)),0)","v":0},{"$f":"ROUND(IF(OR(AND($C520=LataProjekcji,$E520>0),AND($C520=LataProjekcji,$E520=0,$D521<=3.5)),$E521,IF($C520<LataProjekcji,IF((SUM($J522:V522)+$C522)<$C521,$C522,$C521-SUM($J522:V522)),0)),0)","v":0}]
[null,"umorzenie",null,null,null,null,null,null,null,{"$f":"ROUND(J522,0)","v":0},{"$f":"ROUND(J523+K522,0)","v":0},{"$f":"ROUND(K523+L522,0)","v":0},{"$f":"ROUND(L523+M522,0)","v":0},{"$f":"ROUND(M523+N522,0)","v":0},{"$f":"ROUND(N523+O522,0)","v":0},{"$f":"ROUND(O523+P522,0)","v":0},{"$f":"ROUND(P523+Q522,0)","v":0},{"$f":"ROUND(Q523+R522,0)","v":0},{"$f":"ROUND(R523+S522,0)","v":0},{"$f":"ROUND(S523+T522,0)","v":0},{"$f":"ROUND(T523+U522,0)","v":0},{"$f":"ROUND(U523+V522,0)","v":0},{"$f":"ROUND(V523+W522,0)","v":0}]
[null,"wartość netto",null,null,null,null,null,null,null,{"$f":"IF($C520=LataProjekcji,ROUND($C521-J523,0),ROUND(IF(J522=0,0,$C521-J523),0))","v":0},{"$f":"IF($C520=LataProjekcji,ROUND($C521-K523,0),ROUND(IF(AND(K522=0,J524>0),$C521-K523,IF(K522=0,0,$C521-K523)),0))","v":0},{"$f":"IF($C520=LataProjekcji,ROUND($C521-L523,0),ROUND(IF(AND(L522=0,K524>0),$C521-L523,IF(L522=0,0,$C521-L523)),0))","v":0},{"$f":"IF($C520=LataProjekcji,ROUND($C521-M523,0),ROUND(IF(AND(M522=0,L524>0),$C521-M523,IF(M522=0,0,$C521-M523)),0))","v":0},{"$f":"IF($C520=LataProjekcji,ROUND($C521-N523,0),ROUND(IF(AND(N522=0,M524>0),$C521-N523,IF(N522=0,0,$C521-N523)),0))","v":0},{"$f":"IF($C520=LataProjekcji,ROUND($C521-O523,0),ROUND(IF(AND(O522=0,N524>0),$C521-O523,IF(O522=0,0,$C521-O523)),0))","v":0},{"$f":"IF($C520=LataProjekcji,ROUND($C521-P523,0),ROUND(IF(AND(P522=0,O524>0),$C521-P523,IF(P522=0,0,$C521-P523)),0))","v":0},{"$f":"IF($C520=LataProjekcji,ROUND($C521-Q523,0),ROUND(IF(AND(Q522=0,P524>0),$C521-Q523,IF(Q522=0,0,$C521-Q523)),0))","v":0},{"$f":"IF($C520=LataProjekcji,ROUND($C521-R523,0),ROUND(IF(AND(R522=0,Q524>0),$C521-R523,IF(R522=0,0,$C521-R523)),0))","v":0},{"$f":"IF($C520=LataProjekcji,ROUND($C521-S523,0),ROUND(IF(AND(S522=0,R524>0),$C521-S523,IF(S522=0,0,$C521-S523)),0))","v":0},{"$f":"IF($C520=LataProjekcji,ROUND($C521-T523,0),ROUND(IF(AND(T522=0,S524>0),$C521-T523,IF(T522=0,0,$C521-T523)),0))","v":0},{"$f":"IF($C520=LataProjekcji,ROUND($C521-U523,0),ROUND(IF(AND(U522=0,T524>0),$C521-U523,IF(U522=0,0,$C521-U523)),0))","v":0},{"$f":"IF($C520=LataProjekcji,ROUND($C521-V523,0),ROUND(IF(AND(V522=0,U524>0),$C521-V523,IF(V522=0,0,$C521-V523)),0))","v":0},{"$f":"IF($C520=LataProjekcji,ROUND($C521-W523,0),ROUND(IF(AND(W522=0,V524>0),$C521-W523,IF(W522=0,0,$C521-W523)),0))","v":0}]
[]
[null,"inne środki trwałe 4",{"$f":"C519+1","v":362}]
[null,"rok zakupu",{"$f":"YEAR(OFFSET($D$136,C526,0))","v":1900},{"$f":"MONTH(OFFSET($D$136,C526,0))","v":1},{"$f":"12-$D527","v":11}]
[null,"wartość netto",{"$f":"IF(D528<0,0,ROUND(D528,0))","v":0},{"$f":"OFFSET($C$136,C526,0)","v":0},{"$f":"IF(D528>3.5,ROUND(($C529/12)*$E527,0),$C528)","v":0}]
[null,"amortyzacja roczna",{"$f":"IF(ISBLANK(OFFSET($D$136,C526,0)),0,IF(D528>3.5,ROUND(C528*am_inneST,0),IF(C528<0,0,C528)))","v":0},null,null,null,null,null,null,{"$f":"ROUND(IF($C527=LataProjekcji,$E528,IF($C527=LataProjekcji,$C529,0)),0)","v":0},{"$f":"ROUND(IF(OR(AND($C527=LataProjekcji,$E527>0),AND($C527=LataProjekcji,$E527=0,$D528<=3.5)),$E528,IF($C527<LataProjekcji,IF((SUM($J529:J529)+$C529)<$C528,$C529,$C528-SUM($J529:J529)),0)),0)","v":0},{"$f":"ROUND(IF(OR(AND($C527=LataProjekcji,$E527>0),AND($C527=LataProjekcji,$E527=0,$D528<=3.5)),$E528,IF($C527<LataProjekcji,IF((SUM($J529:K529)+$C529)<$C528,$C529,$C528-SUM($J529:K529)),0)),0)","v":0},{"$f":"ROUND(IF(OR(AND($C527=LataProjekcji,$E527>0),AND($C527=LataProjekcji,$E527=0,$D528<=3.5)),$E528,IF($C527<LataProjekcji,IF((SUM($J529:L529)+$C529)<$C528,$C529,$C528-SUM($J529:L529)),0)),0)","v":0},{"$f":"ROUND(IF(OR(AND($C527=LataProjekcji,$E527>0),AND($C527=LataProjekcji,$E527=0,$D528<=3.5)),$E528,IF($C527<LataProjekcji,IF((SUM($J529:M529)+$C529)<$C528,$C529,$C528-SUM($J529:M529)),0)),0)","v":0},{"$f":"ROUND(IF(OR(AND($C527=LataProjekcji,$E527>0),AND($C527=LataProjekcji,$E527=0,$D528<=3.5)),$E528,IF($C527<LataProjekcji,IF((SUM($J529:N529)+$C529)<$C528,$C529,$C528-SUM($J529:N529)),0)),0)","v":0},{"$f":"ROUND(IF(OR(AND($C527=LataProjekcji,$E527>0),AND($C527=LataProjekcji,$E527=0,$D528<=3.5)),$E528,IF($C527<LataProjekcji,IF((SUM($J529:O529)+$C529)<$C528,$C529,$C528-SUM($J529:O529)),0)),0)","v":0},{"$f":"ROUND(IF(OR(AND($C527=LataProjekcji,$E527>0),AND($C527=LataProjekcji,$E527=0,$D528<=3.5)),$E528,IF($C527<LataProjekcji,IF((SUM($J529:P529)+$C529)<$C528,$C529,$C528-SUM($J529:P529)),0)),0)","v":0},{"$f":"ROUND(IF(OR(AND($C527=LataProjekcji,$E527>0),AND($C527=LataProjekcji,$E527=0,$D528<=3.5)),$E528,IF($C527<LataProjekcji,IF((SUM($J529:Q529)+$C529)<$C528,$C529,$C528-SUM($J529:Q529)),0)),0)","v":0},{"$f":"ROUND(IF(OR(AND($C527=LataProjekcji,$E527>0),AND($C527=LataProjekcji,$E527=0,$D528<=3.5)),$E528,IF($C527<LataProjekcji,IF((SUM($J529:R529)+$C529)<$C528,$C529,$C528-SUM($J529:R529)),0)),0)","v":0},{"$f":"ROUND(IF(OR(AND($C527=LataProjekcji,$E527>0),AND($C527=LataProjekcji,$E527=0,$D528<=3.5)),$E528,IF($C527<LataProjekcji,IF((SUM($J529:S529)+$C529)<$C528,$C529,$C528-SUM($J529:S529)),0)),0)","v":0},{"$f":"ROUND(IF(OR(AND($C527=LataProjekcji,$E527>0),AND($C527=LataProjekcji,$E527=0,$D528<=3.5)),$E528,IF($C527<LataProjekcji,IF((SUM($J529:T529)+$C529)<$C528,$C529,$C528-SUM($J529:T529)),0)),0)","v":0},{"$f":"ROUND(IF(OR(AND($C527=LataProjekcji,$E527>0),AND($C527=LataProjekcji,$E527=0,$D528<=3.5)),$E528,IF($C527<LataProjekcji,IF((SUM($J529:U529)+$C529)<$C528,$C529,$C528-SUM($J529:U529)),0)),0)","v":0},{"$f":"ROUND(IF(OR(AND($C527=LataProjekcji,$E527>0),AND($C527=LataProjekcji,$E527=0,$D528<=3.5)),$E528,IF($C527<LataProjekcji,IF((SUM($J529:V529)+$C529)<$C528,$C529,$C528-SUM($J529:V529)),0)),0)","v":0}]
[null,"umorzenie",null,null,null,null,null,null,null,{"$f":"ROUND(J529,0)","v":0},{"$f":"ROUND(J530+K529,0)","v":0},{"$f":"ROUND(K530+L529,0)","v":0},{"$f":"ROUND(L530+M529,0)","v":0},{"$f":"ROUND(M530+N529,0)","v":0},{"$f":"ROUND(N530+O529,0)","v":0},{"$f":"ROUND(O530+P529,0)","v":0},{"$f":"ROUND(P530+Q529,0)","v":0},{"$f":"ROUND(Q530+R529,0)","v":0},{"$f":"ROUND(R530+S529,0)","v":0},{"$f":"ROUND(S530+T529,0)","v":0},{"$f":"ROUND(T530+U529,0)","v":0},{"$f":"ROUND(U530+V529,0)","v":0},{"$f":"ROUND(V530+W529,0)","v":0}]
[null,"wartość netto",null,null,null,null,null,null,null,{"$f":"IF($C527=LataProjekcji,ROUND($C528-J530,0),ROUND(IF(J529=0,0,$C528-J530),0))","v":0},{"$f":"IF($C527=LataProjekcji,ROUND($C528-K530,0),ROUND(IF(AND(K529=0,J531>0),$C528-K530,IF(K529=0,0,$C528-K530)),0))","v":0},{"$f":"IF($C527=LataProjekcji,ROUND($C528-L530,0),ROUND(IF(AND(L529=0,K531>0),$C528-L530,IF(L529=0,0,$C528-L530)),0))","v":0},{"$f":"IF($C527=LataProjekcji,ROUND($C528-M530,0),ROUND(IF(AND(M529=0,L531>0),$C528-M530,IF(M529=0,0,$C528-M530)),0))","v":0},{"$f":"IF($C527=LataProjekcji,ROUND($C528-N530,0),ROUND(IF(AND(N529=0,M531>0),$C528-N530,IF(N529=0,0,$C528-N530)),0))","v":0},{"$f":"IF($C527=LataProjekcji,ROUND($C528-O530,0),ROUND(IF(AND(O529=0,N531>0),$C528-O530,IF(O529=0,0,$C528-O530)),0))","v":0},{"$f":"IF($C527=LataProjekcji,ROUND($C528-P530,0),ROUND(IF(AND(P529=0,O531>0),$C528-P530,IF(P529=0,0,$C528-P530)),0))","v":0},{"$f":"IF($C527=LataProjekcji,ROUND($C528-Q530,0),ROUND(IF(AND(Q529=0,P531>0),$C528-Q530,IF(Q529=0,0,$C528-Q530)),0))","v":0},{"$f":"IF($C527=LataProjekcji,ROUND($C528-R530,0),ROUND(IF(AND(R529=0,Q531>0),$C528-R530,IF(R529=0,0,$C528-R530)),0))","v":0},{"$f":"IF($C527=LataProjekcji,ROUND($C528-S530,0),ROUND(IF(AND(S529=0,R531>0),$C528-S530,IF(S529=0,0,$C528-S530)),0))","v":0},{"$f":"IF($C527=LataProjekcji,ROUND($C528-T530,0),ROUND(IF(AND(T529=0,S531>0),$C528-T530,IF(T529=0,0,$C528-T530)),0))","v":0},{"$f":"IF($C527=LataProjekcji,ROUND($C528-U530,0),ROUND(IF(AND(U529=0,T531>0),$C528-U530,IF(U529=0,0,$C528-U530)),0))","v":0},{"$f":"IF($C527=LataProjekcji,ROUND($C528-V530,0),ROUND(IF(AND(V529=0,U531>0),$C528-V530,IF(V529=0,0,$C528-V530)),0))","v":0},{"$f":"IF($C527=LataProjekcji,ROUND($C528-W530,0),ROUND(IF(AND(W529=0,V531>0),$C528-W530,IF(W529=0,0,$C528-W530)),0))","v":0}]
[]
[null,"inne środki trwałe 5",{"$f":"C526+1","v":363}]
[null,"rok zakupu",{"$f":"YEAR(OFFSET($D$136,C533,0))","v":1900},{"$f":"MONTH(OFFSET($D$136,C533,0))","v":1},{"$f":"12-$D534","v":11}]
[null,"wartość netto",{"$f":"IF(D535<0,0,ROUND(D535,0))","v":0},{"$f":"OFFSET($C$136,C533,0)","v":0},{"$f":"IF(D535>3.5,ROUND(($C536/12)*$E534,0),$C535)","v":0}]
[null,"amortyzacja roczna",{"$f":"IF(ISBLANK(OFFSET($D$136,C533,0)),0,IF(D535>3.5,ROUND(C535*am_inneST,0),IF(C535<0,0,C535)))","v":0},null,null,null,null,null,null,{"$f":"ROUND(IF($C534=LataProjekcji,$E535,IF($C534=LataProjekcji,$C536,0)),0)","v":0},{"$f":"ROUND(IF(OR(AND($C534=LataProjekcji,$E534>0),AND($C534=LataProjekcji,$E534=0,$D535<=3.5)),$E535,IF($C534<LataProjekcji,IF((SUM($J536:J536)+$C536)<$C535,$C536,$C535-SUM($J536:J536)),0)),0)","v":0},{"$f":"ROUND(IF(OR(AND($C534=LataProjekcji,$E534>0),AND($C534=LataProjekcji,$E534=0,$D535<=3.5)),$E535,IF($C534<LataProjekcji,IF((SUM($J536:K536)+$C536)<$C535,$C536,$C535-SUM($J536:K536)),0)),0)","v":0},{"$f":"ROUND(IF(OR(AND($C534=LataProjekcji,$E534>0),AND($C534=LataProjekcji,$E534=0,$D535<=3.5)),$E535,IF($C534<LataProjekcji,IF((SUM($J536:L536)+$C536)<$C535,$C536,$C535-SUM($J536:L536)),0)),0)","v":0},{"$f":"ROUND(IF(OR(AND($C534=LataProjekcji,$E534>0),AND($C534=LataProjekcji,$E534=0,$D535<=3.5)),$E535,IF($C534<LataProjekcji,IF((SUM($J536:M536)+$C536)<$C535,$C536,$C535-SUM($J536:M536)),0)),0)","v":0},{"$f":"ROUND(IF(OR(AND($C534=LataProjekcji,$E534>0),AND($C534=LataProjekcji,$E534=0,$D535<=3.5)),$E535,IF($C534<LataProjekcji,IF((SUM($J536:N536)+$C536)<$C535,$C536,$C535-SUM($J536:N536)),0)),0)","v":0},{"$f":"ROUND(IF(OR(AND($C534=LataProjekcji,$E534>0),AND($C534=LataProjekcji,$E534=0,$D535<=3.5)),$E535,IF($C534<LataProjekcji,IF((SUM($J536:O536)+$C536)<$C535,$C536,$C535-SUM($J536:O536)),0)),0)","v":0},{"$f":"ROUND(IF(OR(AND($C534=LataProjekcji,$E534>0),AND($C534=LataProjekcji,$E534=0,$D535<=3.5)),$E535,IF($C534<LataProjekcji,IF((SUM($J536:P536)+$C536)<$C535,$C536,$C535-SUM($J536:P536)),0)),0)","v":0},{"$f":"ROUND(IF(OR(AND($C534=LataProjekcji,$E534>0),AND($C534=LataProjekcji,$E534=0,$D535<=3.5)),$E535,IF($C534<LataProjekcji,IF((SUM($J536:Q536)+$C536)<$C535,$C536,$C535-SUM($J536:Q536)),0)),0)","v":0},{"$f":"ROUND(IF(OR(AND($C534=LataProjekcji,$E534>0),AND($C534=LataProjekcji,$E534=0,$D535<=3.5)),$E535,IF($C534<LataProjekcji,IF((SUM($J536:R536)+$C536)<$C535,$C536,$C535-SUM($J536:R536)),0)),0)","v":0},{"$f":"ROUND(IF(OR(AND($C534=LataProjekcji,$E534>0),AND($C534=LataProjekcji,$E534=0,$D535<=3.5)),$E535,IF($C534<LataProjekcji,IF((SUM($J536:S536)+$C536)<$C535,$C536,$C535-SUM($J536:S536)),0)),0)","v":0},{"$f":"ROUND(IF(OR(AND($C534=LataProjekcji,$E534>0),AND($C534=LataProjekcji,$E534=0,$D535<=3.5)),$E535,IF($C534<LataProjekcji,IF((SUM($J536:T536)+$C536)<$C535,$C536,$C535-SUM($J536:T536)),0)),0)","v":0},{"$f":"ROUND(IF(OR(AND($C534=LataProjekcji,$E534>0),AND($C534=LataProjekcji,$E534=0,$D535<=3.5)),$E535,IF($C534<LataProjekcji,IF((SUM($J536:U536)+$C536)<$C535,$C536,$C535-SUM($J536:U536)),0)),0)","v":0},{"$f":"ROUND(IF(OR(AND($C534=LataProjekcji,$E534>0),AND($C534=LataProjekcji,$E534=0,$D535<=3.5)),$E535,IF($C534<LataProjekcji,IF((SUM($J536:V536)+$C536)<$C535,$C536,$C535-SUM($J536:V536)),0)),0)","v":0}]
[null,"umorzenie",null,null,null,null,null,null,null,{"$f":"ROUND(J536,0)","v":0},{"$f":"ROUND(J537+K536,0)","v":0},{"$f":"ROUND(K537+L536,0)","v":0},{"$f":"ROUND(L537+M536,0)","v":0},{"$f":"ROUND(M537+N536,0)","v":0},{"$f":"ROUND(N537+O536,0)","v":0},{"$f":"ROUND(O537+P536,0)","v":0},{"$f":"ROUND(P537+Q536,0)","v":0},{"$f":"ROUND(Q537+R536,0)","v":0},{"$f":"ROUND(R537+S536,0)","v":0},{"$f":"ROUND(S537+T536,0)","v":0},{"$f":"ROUND(T537+U536,0)","v":0},{"$f":"ROUND(U537+V536,0)","v":0},{"$f":"ROUND(V537+W536,0)","v":0}]
[null,"wartość netto",null,null,null,null,null,null,null,{"$f":"IF($C534=LataProjekcji,ROUND($C535-J537,0),ROUND(IF(J536=0,0,$C535-J537),0))","v":0},{"$f":"IF($C534=LataProjekcji,ROUND($C535-K537,0),ROUND(IF(AND(K536=0,J538>0),$C535-K537,IF(K536=0,0,$C535-K537)),0))","v":0},{"$f":"IF($C534=LataProjekcji,ROUND($C535-L537,0),ROUND(IF(AND(L536=0,K538>0),$C535-L537,IF(L536=0,0,$C535-L537)),0))","v":0},{"$f":"IF($C534=LataProjekcji,ROUND($C535-M537,0),ROUND(IF(AND(M536=0,L538>0),$C535-M537,IF(M536=0,0,$C535-M537)),0))","v":0},{"$f":"IF($C534=LataProjekcji,ROUND($C535-N537,0),ROUND(IF(AND(N536=0,M538>0),$C535-N537,IF(N536=0,0,$C535-N537)),0))","v":0},{"$f":"IF($C534=LataProjekcji,ROUND($C535-O537,0),ROUND(IF(AND(O536=0,N538>0),$C535-O537,IF(O536=0,0,$C535-O537)),0))","v":0},{"$f":"IF($C534=LataProjekcji,ROUND($C535-P537,0),ROUND(IF(AND(P536=0,O538>0),$C535-P537,IF(P536=0,0,$C535-P537)),0))","v":0},{"$f":"IF($C534=LataProjekcji,ROUND($C535-Q537,0),ROUND(IF(AND(Q536=0,P538>0),$C535-Q537,IF(Q536=0,0,$C535-Q537)),0))","v":0},{"$f":"IF($C534=LataProjekcji,ROUND($C535-R537,0),ROUND(IF(AND(R536=0,Q538>0),$C535-R537,IF(R536=0,0,$C535-R537)),0))","v":0},{"$f":"IF($C534=LataProjekcji,ROUND($C535-S537,0),ROUND(IF(AND(S536=0,R538>0),$C535-S537,IF(S536=0,0,$C535-S537)),0))","v":0},{"$f":"IF($C534=LataProjekcji,ROUND($C535-T537,0),ROUND(IF(AND(T536=0,S538>0),$C535-T537,IF(T536=0,0,$C535-T537)),0))","v":0},{"$f":"IF($C534=LataProjekcji,ROUND($C535-U537,0),ROUND(IF(AND(U536=0,T538>0),$C535-U537,IF(U536=0,0,$C535-U537)),0))","v":0},{"$f":"IF($C534=LataProjekcji,ROUND($C535-V537,0),ROUND(IF(AND(V536=0,U538>0),$C535-V537,IF(V536=0,0,$C535-V537)),0))","v":0},{"$f":"IF($C534=LataProjekcji,ROUND($C535-W537,0),ROUND(IF(AND(W536=0,V538>0),$C535-W537,IF(W536=0,0,$C535-W537)),0))","v":0}]
[]
[]
[]
[null,"Wartość księgowa netto",null,null,null,null,null,null,null,{"$f":"LataProjekcji","v":"Uzupełnij dane"},"","","","","","","","","","","","",""]
[null,"Wartości niematerialne i prawne",null,null,null,null,null,null,null,{"$f":"SUM(J544:J545)","v":0},{"$f":"SUM(K544:K545)","v":0},0,0,0,0,0,0,0,0,0,0,0,0]
[null,"   a) koszty zakończonych prac rozwojowych",null,null,null,null,null,null,null,{"$f":"ROUND(J97,0)","v":0},0,0,0,0,0,0,0,0,0,0,0,0,0]
[null,"   c) inne wartości niematerialne i prawne",null,null,null,null,null,null,null,{"$f":"ROUND(J144,0)","v":0},0,0,0,0,0,0,0,0,0,0,0,0,0]
[null,"Środki trwałe",null,null,null,null,null,null,null,{"$f":"SUM(J547:J551)","v":0},{"$f":"SUM(K547:K551)","v":0},0,0,0,0,0,0,0,0,0,0,0,0]
[null,"   a) grunty",null,null,null,null,null,null,null,{"$f":"ROUND(J192,0)","v":0},0,0,0,0,0,0,0,0,0,0,0,0,0]
[null,"   b) budynki i budowle ",null,null,null,null,null,null,null,{"$f":"ROUND(J244,0)","v":0},0,0,0,0,0,0,0,0,0,0,0,0,0]
[null,"   c) urządzenia techniczne i maszyny ",null,null,null,null,null,null,null,{"$f":"ROUND(J353,0)","v":0},0,0,0,0,0,0,0,0,0,0,0,0,0]
[null,"   d) środki transportu ",null,null,null,null,null,null,null,{"$f":"ROUND(J456,0)","v":0},0,0,0,0,0,0,0,0,0,0,0,0,0]
[null,"   e) inne środki trwałe ",null,null,null,null,null,null,null,{"$f":"ROUND(J503,0)","v":0},0,0,0,0,0,0,0,0,0,0,0,0,0]
[null," 2) Środki trwałe w budowie",null,null,null,null,null,null,null,{"$f":"J745","v":0},{"$f":"K745","v":0},0,0,0,0,0,0,0,0,0,0,0,0]
[]
[null,"Amortyzacja razem (Rachunek zysków i strat)",null,null,null,null,null,null,null,{"$f":"IF(LataProjekcji<=Koniec,ROUND(J501+J454+J351+J242+J190+J142+J95,0),0)","v":0},0,0,0,0,0,0,0,0,0,0,0,0,0]
[]
[]
[null,"Nakłady inwestycyjne",null,null,null,null,null,null,null,{"$f":"LataProjekcji","v":"Uzupełnij dane"},"","","","","","","","","","","","",""]
[null,"Wartości niematerialne i prawne",null,null,null,null,null,null,null,{"$f":"ROUND(SUM(J559:J560),0)","v":0},{"$f":"ROUND(SUM(K559:K560),0)","v":0},0,0,0,0,0,0,0,0,0,0,0,0]
[null,"   a) koszty zakończonych prac rozwojowych",null,null,null,null,null,null,null,{"$f":"NPV!J95","v":0},{"$f":"NPV!K95","v":0},{"$f":"NPV!L95","v":0},{"$f":"NPV!M95","v":0},{"$f":"NPV!N95","v":0},{"$f":"NPV!O95","v":0},{"$f":"NPV!P95","v":0},{"$f":"NPV!Q95","v":0},{"$f":"NPV!R95","v":0},{"$f":"NPV!S95","v":0},{"$f":"NPV!T95","v":0},{"$f":"NPV!U95","v":0},{"$f":"NPV!V95","v":0},{"$f":"NPV!W95","v":0}]
[null,"   c) inne wartości niematerialne i prawne",null,null,null,null,null,null,null,{"$f":"ROUND(J141,0)","v":0},0,0,0,0,0,0,0,0,0,0,0,0,0]
[null,"Środki trwałe",null,null,null,null,null,null,null,{"$f":"ROUND(SUM(J562:J567),0)","v":0},{"$f":"ROUND(SUM(K562:K567),0)","v":0},0,0,0,0,0,0,0,0,0,0,0,0]
[null,"   a) grunty",null,null,null,null,null,null,null,{"$f":"ROUND(J189,0)","v":0},0,0,0,0,0,0,0,0,0,0,0,0,0]
[null,"   b) budynki i budowle ",null,null,null,null,null,null,null,{"$f":"NPV!J80","v":0},{"$f":"NPV!K80","v":0},{"$f":"NPV!L80","v":0},{"$f":"NPV!M80","v":0},{"$f":"NPV!N80","v":0},{"$f":"NPV!O80","v":0},{"$f":"NPV!P80","v":0},{"$f":"NPV!Q80","v":0},{"$f":"NPV!R80","v":0},{"$f":"NPV!S80","v":0},{"$f":"NPV!T80","v":0},{"$f":"NPV!U80","v":0},{"$f":"NPV!V80","v":0},{"$f":"NPV!W80","v":0}]
[null,"   c) urządzenia techniczne i maszyny ",null,null,null,null,null,null,null,{"$f":"NPV!J83","v":0},{"$f":"NPV!K83","v":0},{"$f":"NPV!L83","v":0},{"$f":"NPV!M83","v":0},{"$f":"NPV!N83","v":0},{"$f":"NPV!O83","v":0},{"$f":"NPV!P83","v":0},{"$f":"NPV!Q83","v":0},{"$f":"NPV!R83","v":0},{"$f":"NPV!S83","v":0},{"$f":"NPV!T83","v":0},{"$f":"NPV!U83","v":0},{"$f":"NPV!V83","v":0},{"$f":"NPV!W83","v":0}]
[null,"   d) środki transportu ",null,null,null,null,null,null,null,{"$f":"ROUND(J453,0)","v":0},0,0,0,0,0,0,0,0,0,0,0,0,0]
[null,"   e) inne środki trwałe ",null,null,null,null,null,null,null,{"$f":"ROUND(J500,0)","v":0},0,0,0,0,0,0,0,0,0,0,0,0,0]
[null," 2) Środki trwałe w budowie",null,null,null,null,null,null,null,{"$f":"NPV!J92","v":0},{"$f":"NPV!K92","v":0},{"$f":"NPV!L92","v":0},{"$f":"NPV!M92","v":0},{"$f":"NPV!N92","v":0},{"$f":"NPV!O92","v":0},{"$f":"NPV!P92","v":0},{"$f":"NPV!Q92","v":0},{"$f":"NPV!R92","v":0},{"$f":"NPV!S92","v":0},{"$f":"NPV!T92","v":0},{"$f":"NPV!U92","v":0},{"$f":"NPV!V92","v":0},{"$f":"NPV!W92","v":0}]
[null,"Razem Nakłady inwestycyjne",null,null,null,null,null,null,null,{"$f":"ROUND(J561+J558,0)","v":0},{"$f":"ROUND(K561+K558,0)","v":0},0,0,0,0,0,0,0,0,0,0,0,0]
[]
[null,"Nakłady inwestycyjne - narastająco",null,null,null,null,null,null,null,{"$f":"IF(LataProjekcji<=Koniec,ROUND(J568,0),0)","v":0},{"$f":"IF(LataProjekcji<=Koniec,ROUND(J570+K568,0),0)","v":0},0,0,0,0,0,0,0,0,0,0,0,0]
[null,"Umorzenie",null,null,null,null,null,null,null,{"$f":"IF(LataProjekcji<=Koniec,ROUND(J554,0),0)","v":0},{"$f":"IF(LataProjekcji<=Koniec,ROUND(J571+K554,0),0)","v":0},0,0,0,0,0,0,0,0,0,0,0,0]
[null,"Wartość rezydualna",null,null,null,null,null,null,null,{"$f":"ROUND(IF(ISBLANK(Koniec),0,IF(LataProjekcji=Koniec,J570-J571,0)),0)","v":0},0,0,0,0,0,0,0,0,0,0,0,0,0]
[]
[]
[null,"Komentarz"]
[]
[]
[]
[]
[]
[]
[]
[]
[]
[]
[]
[]
[]
[]
[]
[]
[]
[]
[]
[]
[]
[]
[]
[]
[]
[]
[]
[]
[]
[]
[]
[]
[]
[]
[]
[]
[]
[]
[]
[]
[]
[]
[]
[]
[]
[]
[null,"zakup środków trwałych kwalifikowalnych"]
[]
[null,"inne wartości niematerialne i prawne",null,null,null,null,null,null,null,{"$f":"J$12","v":"Uzupełnij dane"},{"$f":"K$12","v":""},"","","","","","","","","","","",""]
[null,{"$f":"B136","v":0},{"$f":"YEAR(D136)","v":1900},{"$f":"E136","v":0},0,null,null,null,null,{"$f":"IF(AND(LataProjekcji>=Poczatek,LataProjekcji<=Koniec_Projekt,$E136>0),J136,0)","v":0},0,0,0,0,0,0,0,0,0,0,0,0,0]
[null,{"$f":"B137","v":0},{"$f":"YEAR(D137)","v":1900},0,0,null,null,null,null,{"$f":"IF(AND(LataProjekcji>=Poczatek,LataProjekcji<=Koniec_Projekt,$E137>0),J137,0)","v":0},0,0,0,0,0,0,0,0,0,0,0,0,0]
[null,{"$f":"B138","v":0},{"$f":"YEAR(D138)","v":1900},0,0,null,null,null,null,{"$f":"IF(AND(LataProjekcji>=Poczatek,LataProjekcji<=Koniec_Projekt,$E138>0),J138,0)","v":0},0,0,0,0,0,0,0,0,0,0,0,0,0]
[null,{"$f":"B139","v":0},{"$f":"YEAR(D139)","v":1900},0,0,null,null,null,null,{"$f":"IF(AND(LataProjekcji>=Poczatek,LataProjekcji<=Koniec_Projekt,$E139>0),J139,0)","v":0},0,0,0,0,0,0,0,0,0,0,0,0,0]
[null,{"$f":"B140","v":0},{"$f":"YEAR(D140)","v":1900},0,0,null,null,null,null,{"$f":"IF(AND(LataProjekcji>=Poczatek,LataProjekcji<=Koniec_Projekt,$E140>0),J140,0)","v":0},0,0,0,0,0,0,0,0,0,0,0,0,0]
[null,"Razem kwalifikowalne",null,null,null,null,null,null,null,{"$f":"SUM(J625:J629)","v":0},{"$f":"SUM(K625:K629)","v":0},0,0,0,0,0,0,0,0,0,0,0,0]
[null,"Razem niekwalifiowane",null,null,null,null,null,null,null,{"$f":"J141-J630","v":0},0,0,0,0,0,0,0,0,0,0,0,0,0]
[]
[]
[null,{"$f":"B183","v":"grunty"},null,null,null,null,null,null,null,{"$f":"J$12","v":"Uzupełnij dane"},{"$f":"K$12","v":""},"","","","","","","","","","","",""]
[null,0,{"$f":"YEAR(D184)","v":1900},{"$f":"E184","v":0},0,null,null,null,null,{"$f":"IF(AND(LataProjekcji>=Poczatek,LataProjekcji<=Koniec_Projekt,$E184>0),J184,0)","v":0},0,0,0,0,0,0,0,0,0,0,0,0,0]
[null,0,{"$f":"YEAR(D185)","v":1900},0,0,null,null,null,null,{"$f":"IF(AND(LataProjekcji>=Poczatek,LataProjekcji<=Koniec_Projekt,$E185>0),J185,0)","v":0},0,0,0,0,0,0,0,0,0,0,0,0,0]
[null,0,{"$f":"YEAR(D186)","v":1900},0,0,null,null,null,null,{"$f":"IF(AND(LataProjekcji>=Poczatek,LataProjekcji<=Koniec_Projekt,$E186>0),J186,0)","v":0},0,0,0,0,0,0,0,0,0,0,0,0,0]
[null,0,{"$f":"YEAR(D187)","v":1900},0,0,null,null,null,null,{"$f":"IF(AND(LataProjekcji>=Poczatek,LataProjekcji<=Koniec_Projekt,$E187>0),J187,0)","v":0},0,0,0,0,0,0,0,0,0,0,0,0,0]
[null,0,{"$f":"YEAR(D188)","v":1900},0,0,null,null,null,null,{"$f":"IF(AND(LataProjekcji>=Poczatek,LataProjekcji<=Koniec_Projekt,$E188>0),J188,0)","v":0},0,0,0,0,0,0,0,0,0,0,0,0,0]
[null,"Razem kwalifikowalne",null,null,null,null,null,null,null,{"$f":"SUM(J635:J639)","v":0},0,0,0,0,0,0,0,0,0,0,0,0,0]
[null,"Razem niekwalifiowane",null,null,null,null,null,null,null,{"$f":"J189-J640","v":0},0,0,0,0,0,0,0,0,0,0,0,0,0]
[]
[]
[null,{"$f":"B230","v":"budynki i budowle "},null,null,null,null,null,null,null,{"$f":"J$12","v":"Uzupełnij dane"},{"$f":"K$12","v":""},"","","","","","","","","","","",""]
[null,0,{"$f":"YEAR(D231)","v":1900},{"$f":"E231","v":0},0,null,null,null,null,{"$f":"IF(AND(LataProjekcji>=Poczatek,LataProjekcji<=Koniec_Projekt,$E231>0),J231,0)","v":0},0,0,0,0,0,0,0,0,0,0,0,0,0]
[null,0,{"$f":"YEAR(D232)","v":1900},0,0,null,null,null,null,{"$f":"IF(AND(LataProjekcji>=Poczatek,LataProjekcji<=Koniec_Projekt,$E232>0),J232,0)","v":0},0,0,0,0,0,0,0,0,0,0,0,0,0]
[null,0,{"$f":"YEAR(D233)","v":1900},0,0,null,null,null,null,{"$f":"IF(AND(LataProjekcji>=Poczatek,LataProjekcji<=Koniec_Projekt,$E233>0),J233,0)","v":0},0,0,0,0,0,0,0,0,0,0,0,0,0]
[null,0,{"$f":"YEAR(D234)","v":1900},0,0,null,null,null,null,{"$f":"IF(AND(LataProjekcji>=Poczatek,LataProjekcji<=Koniec_Projekt,$E234>0),J234,0)","v":0},0,0,0,0,0,0,0,0,0,0,0,0,0]
[null,0,{"$f":"YEAR(D235)","v":1900},0,0,null,null,null,null,{"$f":"IF(AND(LataProjekcji>=Poczatek,LataProjekcji<=Koniec_Projekt,$E235>0),J235,0)","v":0},0,0,0,0,0,0,0,0,0,0,0,0,0]
[null,"Razem kwalifikowalne budynki i budowle",null,null,null,null,null,null,null,{"$f":"SUM(J645:J649)","v":0},0,0,0,0,0,0,0,0,0,0,0,0,0]
[null,"Razem niekwalifiowane budynki i budowle",null,null,null,null,null,null,null,{"$f":"SUM(J231:J235)-J650","v":0},0,0,0,0,0,0,0,0,0,0,0,0,0]
[]
[]
[null,"środki trwałe w budowie (prace budowlane; urządzenia i maszyny > 1 rok)",null,null,null,null,null,null,null,{"$f":"J$12","v":"Uzupełnij dane"},{"$f":"K$12","v":""},"","","","","","","","","","","",""]
[null,{"$f":"B236","v":"zrealizowane środki trwałe w budowie"},{"$f":"YEAR(D236)","v":{"$error":"#VALUE!"}},{"$f":"E236","v":0},0,null,null,null,null,{"$f":"IF(AND(LataProjekcji<=Koniec_Projekt,LataProjekcji>=$C247,$E247>0,ISNUMBER($C247),ISNUMBER($D247)),J247,0)","v":0},0,0,0,0,0,0,0,0,0,0,0,0,0]
[null,{"$f":"B237","v":"zrealizowane środki trwałe w budowie"},{"$f":"YEAR(D237)","v":{"$error":"#VALUE!"}},0,0,null,null,null,null,{"$f":"IF(AND(LataProjekcji<=Koniec_Projekt,LataProjekcji>=$C248,$E248>0,ISNUMBER($C248),ISNUMBER($D248)),J248,0)","v":0},0,0,0,0,0,0,0,0,0,0,0,0,0]
[null,{"$f":"B238","v":"zrealizowane środki trwałe w budowie"},{"$f":"YEAR(D238)","v":{"$error":"#VALUE!"}},0,0,null,null,null,null,{"$f":"IF(AND(LataProjekcji<=Koniec_Projekt,LataProjekcji>=$C249,$E249>0,ISNUMBER($C249),ISNUMBER($D249)),J249,0)","v":0},0,0,0,0,0,0,0,0,0,0,0,0,0]
[null,{"$f":"B239","v":"zrealizowane środki trwałe w budowie"},{"$f":"YEAR(D239)","v":{"$error":"#VALUE!"}},0,0,null,null,null,null,{"$f":"IF(AND(LataProjekcji<=Koniec_Projekt,LataProjekcji>=$C250,$E250>0,ISNUMBER($C250),ISNUMBER($D250)),J250,0)","v":0},0,0,0,0,0,0,0,0,0,0,0,0,0]
[null,{"$f":"B240","v":"zrealizowane środki trwałe w budowie"},{"$f":"YEAR(D240)","v":{"$error":"#VALUE!"}},0,0,null,null,null,null,{"$f":"IF(AND(LataProjekcji<=Koniec_Projekt,LataProjekcji>=$C251,$E251>0,ISNUMBER($C251),ISNUMBER($D251)),J251,0)","v":0},0,0,0,0,0,0,0,0,0,0,0,0,0]
[null,{"$f":"B345","v":"zrealizowane środki trwałe w budowie"},{"$f":"YEAR(D345)","v":{"$error":"#VALUE!"}},{"$f":"E345","v":0},{"$f":"F345","v":0},null,null,null,null,{"$f":"IF(AND(LataProjekcji<=Koniec_Projekt,LataProjekcji>=$C356,$E356>0,ISNUMBER($C356),ISNUMBER($D356)),J356,0)","v":0},0,0,0,0,0,0,0,0,0,0,0,0,0]
[null,{"$f":"B346","v":"zrealizowane środki trwałe w budowie"},{"$f":"YEAR(D346)","v":{"$error":"#VALUE!"}},{"$f":"E346","v":0},0,null,null,null,null,{"$f":"IF(AND(LataProjekcji<=Koniec_Projekt,LataProjekcji>=$C357,$E357>0,ISNUMBER($C357),ISNUMBER($D357)),J357,0)","v":0},0,0,0,0,0,0,0,0,0,0,0,0,0]
[null,"zrealizowane środki trwałe w budowie",{"$error":"#VALUE!"},{"$f":"E347","v":0},0,null,null,null,null,{"$f":"IF(AND(LataProjekcji<=Koniec_Projekt,LataProjekcji>=$C358,$E358>0,ISNUMBER($C358),ISNUMBER($D358)),J358,0)","v":0},0,0,0,0,0,0,0,0,0,0,0,0,0]
[null,"zrealizowane środki trwałe w budowie",{"$error":"#VALUE!"},{"$f":"E348","v":0},0,null,null,null,null,{"$f":"IF(AND(LataProjekcji<=Koniec_Projekt,LataProjekcji>=$C359,$E359>0,ISNUMBER($C359),ISNUMBER($D359)),J359,0)","v":0},0,0,0,0,0,0,0,0,0,0,0,0,0]
[null,"zrealizowane środki trwałe w budowie",{"$error":"#VALUE!"},{"$f":"E349","v":0},0,null,null,null,null,{"$f":"IF(AND(LataProjekcji<=Koniec_Projekt,LataProjekcji>=$C360,$E360>0,ISNUMBER($C360),ISNUMBER($D360)),J360,0)","v":0},0,0,0,0,0,0,0,0,0,0,0,0,0]
[null,"Razem kwalifikowalne budynki i budowle; maszyny i urządzenia",null,null,null,null,null,null,null,{"$f":"SUM(J655:J664)","v":0},{"$f":"SUM(K655:K664)","v":0},0,0,0,0,0,0,0,0,0,0,0,0]
[null,{"$f":"B655","v":"zrealizowane środki trwałe w budowie"},{"$f":"C655","v":{"$error":"#VALUE!"}},{"$f":"D655","v":0},{"$f":"E655","v":0},null,null,null,null,{"$f":"IF(AND(LataProjekcji<=Koniec_Projekt,LataProjekcji>=$C247,$E247=0,ISNUMBER($C247),ISNUMBER($D247)),J247,0)","v":0},0,0,0,0,0,0,0,0,0,0,0,0,0]
[null,{"$f":"B656","v":"zrealizowane środki trwałe w budowie"},{"$error":"#VALUE!"},0,0,null,null,null,null,{"$f":"IF(AND(LataProjekcji<=Koniec_Projekt,LataProjekcji>=$C248,$E248=0,ISNUMBER($C248),ISNUMBER($D248)),J248,0)","v":0},0,0,0,0,0,0,0,0,0,0,0,0,0]
[null,{"$f":"B657","v":"zrealizowane środki trwałe w budowie"},{"$error":"#VALUE!"},0,0,null,null,null,null,{"$f":"IF(AND(LataProjekcji<=Koniec_Projekt,LataProjekcji>=$C249,$E249=0,ISNUMBER($C249),ISNUMBER($D249)),J249,0)","v":0},0,0,0,0,0,0,0,0,0,0,0,0,0]
[null,{"$f":"B658","v":"zrealizowane środki trwałe w budowie"},{"$error":"#VALUE!"},0,0,null,null,null,null,{"$f":"IF(AND(LataProjekcji<=Koniec_Projekt,LataProjekcji>=$C250,$E250=0,ISNUMBER($C250),ISNUMBER($D250)),J250,0)","v":0},0,0,0,0,0,0,0,0,0,0,0,0,0]
[null,{"$f":"B659","v":"zrealizowane środki trwałe w budowie"},{"$error":"#VALUE!"},0,0,null,null,null,null,{"$f":"IF(AND(LataProjekcji<=Koniec_Projekt,LataProjekcji>=$C251,$E251=0,ISNUMBER($C251),ISNUMBER($D251)),J251,0)","v":0},0,0,0,0,0,0,0,0,0,0,0,0,0]
[null,{"$f":"B660","v":"zrealizowane środki trwałe w budowie"},{"$error":"#VALUE!"},0,0,null,null,null,null,{"$f":"IF(AND(LataProjekcji<=Koniec_Projekt,LataProjekcji>=$C356,$E356=0,ISNUMBER($C356),ISNUMBER($D356)),J356,0)","v":0},0,0,0,0,0,0,0,0,0,0,0,0,0]
[null,{"$f":"B661","v":"zrealizowane środki trwałe w budowie"},{"$error":"#VALUE!"},0,0,null,null,null,null,{"$f":"IF(AND(LataProjekcji<=Koniec_Projekt,LataProjekcji>=$C357,$E357=0,ISNUMBER($C357),ISNUMBER($D357)),J357,0)","v":0},0,0,0,0,0,0,0,0,0,0,0,0,0]
[null,{"$f":"B662","v":"zrealizowane środki trwałe w budowie"},{"$error":"#VALUE!"},0,0,null,null,null,null,{"$f":"IF(AND(LataProjekcji<=Koniec_Projekt,LataProjekcji>=$C358,$E358=0,ISNUMBER($C358),ISNUMBER($D358)),J358,0)","v":0},0,0,0,0,0,0,0,0,0,0,0,0,0]
[null,{"$f":"B663","v":"zrealizowane środki trwałe w budowie"},{"$error":"#VALUE!"},0,0,null,null,null,null,{"$f":"IF(AND(LataProjekcji<=Koniec_Projekt,LataProjekcji>=$C359,$E359=0,ISNUMBER($C359),ISNUMBER($D359)),J359,0)","v":0},0,0,0,0,0,0,0,0,0,0,0,0,0]
[null,{"$f":"B664","v":"zrealizowane środki trwałe w budowie"},{"$error":"#VALUE!"},0,0,null,null,null,null,{"$f":"IF(AND(LataProjekcji<=Koniec_Projekt,LataProjekcji>=$C360,$E360=0,ISNUMBER($C360),ISNUMBER($D360)),J360,0)","v":0},0,0,0,0,0,0,0,0,0,0,0,0,0]
[null,"Razem niekwalifiowane budynki i budowle; maszyny i urządzenia",null,null,null,null,null,null,null,{"$f":"SUM(J666:J675)","v":0},{"$f":"SUM(K666:K675)","v":0},0,0,0,0,0,0,0,0,0,0,0,0]
[]
[]
[]
[null,{"$f":"B339","v":"urządzenia techniczne i maszyny "},null,null,null,null,null,null,null,{"$f":"J$12","v":"Uzupełnij dane"},{"$f":"K$12","v":""},"","","","","","","","","","","",""]
[null,0,{"$f":"YEAR(D340)","v":1900},{"$f":"E340","v":0},0,null,null,null,null,{"$f":"IF(AND(LataProjekcji>=Poczatek,LataProjekcji<=Koniec_Projekt,$E340>0),J340,0)","v":0},0,0,0,0,0,0,0,0,0,0,0,0,0]
[null,0,{"$f":"YEAR(D341)","v":1900},0,0,null,null,null,null,{"$f":"IF(AND(LataProjekcji>=Poczatek,LataProjekcji<=Koniec_Projekt,$E341>0),J341,0)","v":0},0,0,0,0,0,0,0,0,0,0,0,0,0]
[null,0,{"$f":"YEAR(D342)","v":1900},0,0,null,null,null,null,{"$f":"IF(AND(LataProjekcji>=Poczatek,LataProjekcji<=Koniec_Projekt,$E342>0),J342,0)","v":0},0,0,0,0,0,0,0,0,0,0,0,0,0]
[null,0,{"$f":"YEAR(D343)","v":1900},0,0,null,null,null,null,{"$f":"IF(AND(LataProjekcji>=Poczatek,LataProjekcji<=Koniec_Projekt,$E343>0),J343,0)","v":0},0,0,0,0,0,0,0,0,0,0,0,0,0]
[null,0,{"$f":"YEAR(D344)","v":1900},0,0,null,null,null,null,{"$f":"IF(AND(LataProjekcji>=Poczatek,LataProjekcji<=Koniec_Projekt,$E344>0),J344,0)","v":0},0,0,0,0,0,0,0,0,0,0,0,0,0]
[null,"Razem kwalifikowalne",null,null,null,null,null,null,null,{"$f":"SUM(J681:J685)","v":0},0,0,0,0,0,0,0,0,0,0,0,0,0]
[null,"Razem niekwalifiowane",null,null,null,null,null,null,null,{"$f":"SUM(J340:J344)-J686","v":0},{"$f":"SUM(K340:K344)-K686","v":0},0,0,0,0,0,0,0,0,0,0,0,0]
[]
[]
[null,{"$f":"B447","v":"środki transportu "},null,null,null,null,null,null,null,{"$f":"J$12","v":"Uzupełnij dane"},{"$f":"K$12","v":""},"","","","","","","","","","","",""]
[null,0,{"$f":"YEAR(D448)","v":1900},{"$f":"E448","v":0},0,null,null,null,null,{"$f":"IF(AND(LataProjekcji>=Poczatek,LataProjekcji<=Koniec_Projekt,$E448>0),J448,0)","v":0},0,0,0,0,0,0,0,0,0,0,0,0,0]
[null,0,{"$f":"YEAR(D449)","v":1900},0,0,null,null,null,null,{"$f":"IF(AND(LataProjekcji>=Poczatek,LataProjekcji<=Koniec_Projekt,$E449>0),J449,0)","v":0},0,0,0,0,0,0,0,0,0,0,0,0,0]
[null,0,{"$f":"YEAR(D450)","v":1900},0,0,null,null,null,null,{"$f":"IF(AND(LataProjekcji>=Poczatek,LataProjekcji<=Koniec_Projekt,$E450>0),J450,0)","v":0},0,0,0,0,0,0,0,0,0,0,0,0,0]
[null,0,{"$f":"YEAR(D451)","v":1900},0,0,null,null,null,null,{"$f":"IF(AND(LataProjekcji>=Poczatek,LataProjekcji<=Koniec_Projekt,$E451>0),J451,0)","v":0},0,0,0,0,0,0,0,0,0,0,0,0,0]
[null,0,{"$f":"YEAR(D452)","v":1900},0,0,null,null,null,null,{"$f":"IF(AND(LataProjekcji>=Poczatek,LataProjekcji<=Koniec_Projekt,$E452>0),J452,0)","v":0},0,0,0,0,0,0,0,0,0,0,0,0,0]
[null,"Razem kwalifikowalne",null,null,null,null,null,null,null,{"$f":"SUM(J691:J695)","v":0},{"$f":"SUM(K691:K695)","v":0},0,0,0,0,0,0,0,0,0,0,0,0]
[null,"Razem niekwalifiowane",null,null,null,null,null,null,null,{"$f":"J453-J696","v":0},0,0,0,0,0,0,0,0,0,0,0,0,0]
[]
[]
[null,{"$f":"B494","v":"inne środki trwałe "},null,null,null,null,null,null,null,{"$f":"J$12","v":"Uzupełnij dane"},{"$f":"K$12","v":""},"","","","","","","","","","","",""]
[null,0,{"$f":"YEAR(D495)","v":1900},{"$f":"E495","v":0},0,null,null,null,null,{"$f":"IF(AND(LataProjekcji>=Poczatek,LataProjekcji<=Koniec_Projekt,$E495>0),J495,0)","v":0},0,0,0,0,0,0,0,0,0,0,0,0,0]
[null,0,{"$f":"YEAR(D496)","v":1900},0,0,null,null,null,null,{"$f":"IF(AND(LataProjekcji>=Poczatek,LataProjekcji<=Koniec_Projekt,$E496>0),J496,0)","v":0},0,0,0,0,0,0,0,0,0,0,0,0,0]
[null,0,{"$f":"YEAR(D497)","v":1900},0,0,null,null,null,null,{"$f":"IF(AND(LataProjekcji>=Poczatek,LataProjekcji<=Koniec_Projekt,$E497>0),J497,0)","v":0},0,0,0,0,0,0,0,0,0,0,0,0,0]
[null,0,{"$f":"YEAR(D498)","v":1900},0,0,null,null,null,null,{"$f":"IF(AND(LataProjekcji>=Poczatek,LataProjekcji<=Koniec_Projekt,$E498>0),J498,0)","v":0},0,0,0,0,0,0,0,0,0,0,0,0,0]
[null,0,{"$f":"YEAR(D499)","v":1900},0,0,null,null,null,null,{"$f":"IF(AND(LataProjekcji>=Poczatek,LataProjekcji<=Koniec_Projekt,$E499>0),J499,0)","v":0},0,0,0,0,0,0,0,0,0,0,0,0,0]
[null,"Razem kwalifikowalne",null,null,null,null,null,null,null,{"$f":"SUM(J701:J705)","v":0},{"$f":"SUM(K701:K705)","v":0},0,0,0,0,0,0,0,0,0,0,0,0]
[null,"Razem niekwalifiowane",null,null,null,null,null,null,null,{"$f":"J500-J706","v":0},0,0,0,0,0,0,0,0,0,0,0,0,0]
[]
[]
[]
[null,null,null,null,null,null,null,null,null,{"$f":"J$12","v":"Uzupełnij dane"},{"$f":"K$12","v":""},"","","","","","","","","","","",""]
[null,"Razem kwalifikowalne",null,null,null,null,null,null,null,{"$f":"J706+J696+J686+J650+J640+J630+J665","v":0},{"$f":"K706+K696+K686+K650+K640+K630","v":0},0,0,0,0,0,0,0,0,0,0,0,0]
[null,"Razem niekwalifikowane",null,null,null,null,null,null,null,{"$f":"J707+J697+J687+J651+J641+J631+J676","v":0},{"$f":"K707+K697+K687+K651+K641+K631","v":0},0,0,0,0,0,0,0,0,0,0,0,0]
[null,null,null,null,null,null,null,null,null,{"$f":"(J568-J559)=(J712+J713)","v":true},true,true,true,true,true,true,true,true,true,true,true,true,true]
[]
[]
[]
[]
[]
[]
[null,"Środki trwałe w budowie - rozliczenie w czasie do bilansu",null,null,null,null,null,null,null,{"$f":"LataProjekcji","v":"Uzupełnij dane"},"","","","","","","","","","","","",""]
[null,{"$f":"B247","v":0},0,{"$f":"YEAR(D247)","v":1900},{"$f":"E247","v":0},0,null,null,{"$f":"I247","v":""},{"$f":"IF(AND(LataProjekcji<=$D722,LataProjekcji>=$C247),J247,0)","v":0},0,0,0,0,0,0,0,0,0,0,0,0,0]
[null,0,0,{"$f":"YEAR(D248)","v":1900},0,0,null,null,{"$f":"I248","v":""},{"$f":"IF(AND(LataProjekcji<=$D723,LataProjekcji>=$C248),J248,0)","v":0},0,0,0,0,0,0,0,0,0,0,0,0,0]
[null,0,0,{"$f":"YEAR(D249)","v":1900},0,0,null,null,{"$f":"I249","v":""},{"$f":"IF(AND(LataProjekcji<=$D724,LataProjekcji>=$C249),J249,0)","v":0},0,0,0,0,0,0,0,0,0,0,0,0,0]
[null,0,0,{"$f":"YEAR(D250)","v":1900},0,0,null,null,{"$f":"I250","v":""},{"$f":"IF(AND(LataProjekcji<=$D725,LataProjekcji>=$C250),J250,0)","v":0},0,0,0,0,0,0,0,0,0,0,0,0,0]
[null,0,0,{"$f":"YEAR(D251)","v":1900},0,0,null,null,{"$f":"I251","v":""},{"$f":"IF(AND(LataProjekcji<=$D726,LataProjekcji>=$C251),J251,0)","v":0},0,0,0,0,0,0,0,0,0,0,0,0,0]
[null,{"$f":"B356","v":0},{"$f":"C356","v":0},{"$f":"YEAR(D356)","v":1900},0,0,0,0,"",{"$f":"IF(AND(LataProjekcji<=$D727,LataProjekcji>=$C356),J356,0)","v":0},0,0,0,0,0,0,0,0,0,0,0,0,0]
[null,{"$f":"B357","v":0},0,{"$f":"YEAR(D357)","v":1900},{"$f":"E357","v":0},0,0,0,"",{"$f":"IF(AND(LataProjekcji<=$D728,LataProjekcji>=$C357),J357,0)","v":0},0,0,0,0,0,0,0,0,0,0,0,0,0]
[null,0,0,1900,{"$f":"E358","v":0},0,0,0,"",{"$f":"IF(AND(LataProjekcji<=$D729,LataProjekcji>=$C358),J358,0)","v":0},0,0,0,0,0,0,0,0,0,0,0,0,0]
[null,0,0,1900,{"$f":"E359","v":0},0,0,0,"",{"$f":"IF(AND(LataProjekcji<=$D730,LataProjekcji>=$C359),J359,0)","v":0},0,0,0,0,0,0,0,0,0,0,0,0,0]
[null,0,0,1900,{"$f":"E360","v":0},0,0,0,"",{"$f":"IF(AND(LataProjekcji<=$D731,LataProjekcji>=$C360),J360,0)","v":0},0,0,0,0,0,0,0,0,0,0,0,0,0]
[null,"Razem",null,null,null,null,null,null,{"$f":"SUM(I722:I731)","v":0},{"$f":"SUM(J722:J731)","v":0},0,0,0,0,0,0,0,0,0,0,0,0,0]
[]
[null,"Środki trwałe w budowie - NARASTAJĄCO DO BILANSU",null,null,null,null,null,null,null,{"$f":"LataProjekcji","v":"Uzupełnij dane"},"","","","","","","","","","","","",""]
[null,{"$f":"B$722","v":0},{"$f":"C$722","v":0},{"$f":"D$722","v":1900},{"$f":"E$722","v":0},null,null,null,{"$f":"MAX(J735:W735)=I722","v":false},{"$f":"IF(AND(LataProjekcji<$D735,LataProjekcji>=$C735),J722,0)","v":0},{"$f":"IF(AND(LataProjekcji<$D735,LataProjekcji>=$C735),K722+J735,0)","v":0},0,0,0,0,0,0,0,0,0,0,0,0]
[null,{"$f":"B723","v":0},0,1900,0,null,null,null,{"$f":"MAX(J736:W736)=I723","v":false},0,{"$f":"IF(AND(LataProjekcji<$D736,LataProjekcji>=$C736),K723+J736,0)","v":0},0,0,0,0,0,0,0,0,0,0,0,0]
[null,0,0,1900,0,null,null,null,{"$f":"MAX(J737:W737)=I724","v":false},0,{"$f":"IF(AND(LataProjekcji<$D737,LataProjekcji>=$C737),K724+J737,0)","v":0},0,0,0,0,0,0,0,0,0,0,0,0]
[null,0,0,1900,0,null,null,null,{"$f":"MAX(J738:W738)=I725","v":false},0,{"$f":"IF(AND(LataProjekcji<$D738,LataProjekcji>=$C738),K725+J738,0)","v":0},0,0,0,0,0,0,0,0,0,0,0,0]
[null,0,0,1900,0,null,null,null,{"$f":"MAX(J739:W739)=I726","v":false},0,{"$f":"IF(AND(LataProjekcji<$D739,LataProjekcji>=$C739),K726+J739,0)","v":0},0,0,0,0,0,0,0,0,0,0,0,0]
[null,{"$f":"B727","v":0},0,1900,0,null,null,null,{"$f":"MAX(J740:W740)=I727","v":false},0,{"$f":"IF(AND(LataProjekcji<$D740,LataProjekcji>=$C740),K727+J740,0)","v":0},{"$f":"IF(AND(LataProjekcji<$D740,LataProjekcji>=$C740),L727+K740,0)","v":0},{"$f":"IF(AND(LataProjekcji<$D740,LataProjekcji>=$C740),M727+L740,0)","v":0},{"$f":"IF(AND(LataProjekcji<$D740,LataProjekcji>=$C740),N727+M740,0)","v":0},{"$f":"IF(AND(LataProjekcji<$D740,LataProjekcji>=$C740),O727+N740,0)","v":0},{"$f":"IF(AND(LataProjekcji<$D740,LataProjekcji>=$C740),P727+O740,0)","v":0},{"$f":"IF(AND(LataProjekcji<$D740,LataProjekcji>=$C740),Q727+P740,0)","v":0},{"$f":"IF(AND(LataProjekcji<$D740,LataProjekcji>=$C740),R727+Q740,0)","v":0},{"$f":"IF(AND(LataProjekcji<$D740,LataProjekcji>=$C740),S727+R740,0)","v":0},{"$f":"IF(AND(LataProjekcji<$D740,LataProjekcji>=$C740),T727+S740,0)","v":0},{"$f":"IF(AND(LataProjekcji<$D740,LataProjekcji>=$C740),U727+T740,0)","v":0},{"$f":"IF(AND(LataProjekcji<$D740,LataProjekcji>=$C740),V727+U740,0)","v":0},{"$f":"IF(AND(LataProjekcji<$D740,LataProjekcji>=$C740),W727+V740,0)","v":0}]
[null,{"$f":"B728","v":0},0,1900,0,null,null,null,false,0,0,0,0,0,0,0,0,0,0,0,0,0,0]
[null,{"$f":"B729","v":0},0,1900,0,null,null,null,false,0,0,0,0,0,0,0,0,0,0,0,0,0,0]
[null,{"$f":"B730","v":0},0,1900,0,null,null,null,false,0,0,0,0,0,0,0,0,0,0,0,0,0,0]
[null,{"$f":"B731","v":0},0,1900,0,null,null,null,false,0,0,0,0,0,0,0,0,0,0,0,0,0,0]
[null,"Razem",null,null,null,null,null,null,null,{"$f":"SUM(J735:J744)","v":0},{"$f":"SUM(K735:K744)","v":0},0,0,0,0,0,0,0,0,0,0,0,0]
[]
[null,"Środki trwałe w budowie - DOTACJA DO ROZLICZEŃ MIĘDZYOKRESOWYCH",null,null,null,null,null,null,null,{"$f":"LataProjekcji","v":"Uzupełnij dane"},"","","","","","","","","","","","",""]
[null,{"$f":"B735","v":0},0,1900,{"$f":"E722","v":0},null,null,null,null,{"$f":"IF(LataProjekcji<$D748,ROUND(J722*$E748,0),0)","v":0},0,0,0,0,0,0,0,0,0,0,0,0,0]
[null,0,0,1900,{"$f":"E723","v":0},null,null,null,null,{"$f":"IF(LataProjekcji<$D749,ROUND(J723*$E749,0),0)","v":0},0,0,0,0,0,0,0,0,0,0,0,0,0]
[null,0,0,1900,{"$f":"E724","v":0},null,null,null,null,{"$f":"IF(LataProjekcji<$D750,ROUND(J724*$E750,0),0)","v":0},0,0,0,0,0,0,0,0,0,0,0,0,0]
[null,0,0,1900,{"$f":"E725","v":0},null,null,null,null,{"$f":"IF(LataProjekcji<$D751,ROUND(J725*$E751,0),0)","v":0},0,0,0,0,0,0,0,0,0,0,0,0,0]
[null,0,0,1900,{"$f":"E726","v":0},null,null,null,null,{"$f":"IF(LataProjekcji<$D752,ROUND(J726*$E752,0),0)","v":0},0,0,0,0,0,0,0,0,0,0,0,0,0]
[null,{"$f":"B740","v":0},0,1900,{"$f":"E727","v":0},null,null,null,null,{"$f":"IF(LataProjekcji<$D753,ROUND(J727*$E753,0),0)","v":0},0,0,0,0,0,0,0,0,0,0,0,0,0]
[null,{"$f":"B741","v":0},0,1900,0,null,null,null,null,{"$f":"IF(LataProjekcji<$D754,ROUND(J728*$E754,0),0)","v":0},0,0,0,0,0,0,0,0,0,0,0,0,0]
[null,{"$f":"B742","v":0},0,1900,0,null,null,null,null,{"$f":"IF(LataProjekcji<$D755,ROUND(J729*$E755,0),0)","v":0},0,0,0,0,0,0,0,0,0,0,0,0,0]
[null,{"$f":"B743","v":0},0,1900,0,null,null,null,null,{"$f":"IF(LataProjekcji<$D756,ROUND(J730*$E756,0),0)","v":0},0,0,0,0,0,0,0,0,0,0,0,0,0]
[null,{"$f":"B744","v":0},0,1900,0,null,null,null,null,{"$f":"IF(LataProjekcji<$D757,ROUND(J731*$E757,0),0)","v":0},0,0,0,0,0,0,0,0,0,0,0,0,0]
[null,"Razem",null,null,null,null,null,null,null,{"$f":"SUM(J748:J757)","v":0},{"$f":"SUM(K748:K757)","v":0},0,0,0,0,0,0,0,0,0,0,0,0]
[null,null,null,null,null,null,null,null,"DOTACJA NARASTAJĄCO",{"$f":"J758","v":0},{"$f":"K758+J759","v":0},{"$f":"L758+K759","v":0},0,0,0,0,0,0,0,0,0,0,0]
[]
[null,"Środki trwałe w budowie - DOTACJA DO ROZLICZEŃ MIĘDZYOKRESOWYCH PRZENOSZONA DO ARKUSZA \"ROZLICZENIE DOTACJI\"",null,null,null,null,null,null,null,{"$f":"LataProjekcji","v":"Uzupełnij dane"},"","","","","","","","","","","","",""]
[null,{"$f":"B748","v":0},0,1900,0,null,null,null,null,{"$f":"J748","v":0},{"$f":"IF(LataProjekcji<$D762,ROUND(J762+K748,0),0)","v":0},0,0,0,0,0,0,0,0,0,0,0,0]
[null,0,0,1900,0,null,null,null,null,{"$f":"J749","v":0},{"$f":"IF(LataProjekcji<$D763,ROUND(J763+K749,0),0)","v":0},0,0,0,0,0,0,0,0,0,0,0,0]
[null,0,0,1900,0,null,null,null,null,{"$f":"J750","v":0},{"$f":"IF(LataProjekcji<$D764,ROUND(J764+K750,0),0)","v":0},0,0,0,0,0,0,0,0,0,0,0,0]
[null,0,0,1900,0,null,null,null,null,{"$f":"J751","v":0},{"$f":"IF(LataProjekcji<$D765,ROUND(J765+K751,0),0)","v":0},0,0,0,0,0,0,0,0,0,0,0,0]
[null,0,0,1900,0,null,null,null,null,{"$f":"J752","v":0},{"$f":"IF(LataProjekcji<$D766,ROUND(J766+K752,0),0)","v":0},0,0,0,0,0,0,0,0,0,0,0,0]
[null,{"$f":"B753","v":0},0,1900,0,null,null,null,null,{"$f":"J753","v":0},{"$f":"IF(LataProjekcji<$D767,ROUND(J767+K753,0),0)","v":0},0,0,0,0,0,0,0,0,0,0,0,0]
[null,{"$f":"B754","v":0},0,1900,0,null,null,null,null,0,{"$f":"IF(LataProjekcji<$D768,ROUND(J768+K754,0),0)","v":0},0,0,0,0,0,0,0,0,0,0,0,0]
[null,{"$f":"B755","v":0},0,1900,0,null,null,null,null,0,{"$f":"IF(LataProjekcji<$D769,ROUND(J769+K755,0),0)","v":0},0,0,0,0,0,0,0,0,0,0,0,0]
[null,{"$f":"B756","v":0},0,1900,0,null,null,null,null,0,{"$f":"IF(LataProjekcji<$D770,ROUND(J770+K756,0),0)","v":0},0,0,0,0,0,0,0,0,0,0,0,0]
[null,{"$f":"B757","v":0},0,1900,0,null,null,null,null,0,{"$f":"IF(LataProjekcji<$D771,ROUND(J771+K757,0),0)","v":0},0,0,0,0,0,0,0,0,0,0,0,0]
[null,"Razem",null,null,null,null,null,null,"DOTACJA NARASTAJĄCO",{"$f":"SUM(J762:J771)","v":0},{"$f":"SUM(K762:K771)","v":0},0,0,0,0,0,0,0,0,0,0,0,0]
[]
[]
[null,"Środki trwałe w budowie - DOTACJA DO ROZLICZEŃ MIĘDZYOKRESOWYCH PRZENOSZONA DO ARKUSZA \"NPV\"",null,null,null,null,null,null,null,{"$f":"LataProjekcji","v":"Uzupełnij dane"},"","","","","","","","","","","","",""]
[null,{"$f":"B762","v":0},0,1900,0,{"$f":"F722","v":0},null,null,{"$f":"SUM(J776:W776)","v":0},{"$f":"J748","v":0},{"$f":"IF(LataProjekcji<$D776,K748,IF(LataProjekcji=$D776,$F776-J762,0))","v":0},0,0,0,0,0,0,0,0,0,0,0,0]
[null,0,0,1900,0,{"$f":"F723","v":0},null,null,{"$f":"SUM(J777:W777)","v":0},{"$f":"J749","v":0},{"$f":"IF(LataProjekcji<$D777,K749,IF(LataProjekcji=$D777,$F777-J763,0))","v":0},0,0,0,0,0,0,0,0,0,0,0,0]
[null,0,0,1900,0,{"$f":"F724","v":0},null,null,{"$f":"SUM(J778:W778)","v":0},{"$f":"J750","v":0},{"$f":"IF(LataProjekcji<$D778,K750,IF(LataProjekcji=$D778,$F778-J764,0))","v":0},0,0,0,0,0,0,0,0,0,0,0,0]
[null,0,0,1900,0,{"$f":"F725","v":0},null,null,{"$f":"SUM(J779:W779)","v":0},{"$f":"J751","v":0},{"$f":"IF(LataProjekcji<$D779,K751,IF(LataProjekcji=$D779,$F779-J765,0))","v":0},0,0,0,0,0,0,0,0,0,0,0,0]
[null,0,0,1900,0,{"$f":"F726","v":0},null,null,{"$f":"SUM(J780:W780)","v":0},{"$f":"J752","v":0},{"$f":"IF(LataProjekcji<$D780,K752,IF(LataProjekcji=$D780,$F780-J766,0))","v":0},0,0,0,0,0,0,0,0,0,0,0,0]
[null,{"$f":"B767","v":0},0,1900,0,{"$f":"F727","v":0},null,null,{"$f":"SUM(J781:W781)","v":0},{"$f":"J753","v":0},{"$f":"IF(LataProjekcji<$D781,K753,IF(LataProjekcji=$D781,$F781-J767,0))","v":0},{"$f":"IF(LataProjekcji<$D781,L753,IF(LataProjekcji=$D781,$F781-K767,0))","v":0},{"$f":"IF(LataProjekcji<$D781,M753,IF(LataProjekcji=$D781,$F781-L767,0))","v":0},{"$f":"IF(LataProjekcji<$D781,N753,IF(LataProjekcji=$D781,$F781-M767,0))","v":0},{"$f":"IF(LataProjekcji<$D781,O753,IF(LataProjekcji=$D781,$F781-N767,0))","v":0},{"$f":"IF(LataProjekcji<$D781,P753,IF(LataProjekcji=$D781,$F781-O767,0))","v":0},{"$f":"IF(LataProjekcji<$D781,Q753,IF(LataProjekcji=$D781,$F781-P767,0))","v":0},{"$f":"IF(LataProjekcji<$D781,R753,IF(LataProjekcji=$D781,$F781-Q767,0))","v":0},{"$f":"IF(LataProjekcji<$D781,S753,IF(LataProjekcji=$D781,$F781-R767,0))","v":0},{"$f":"IF(LataProjekcji<$D781,T753,IF(LataProjekcji=$D781,$F781-S767,0))","v":0},{"$f":"IF(LataProjekcji<$D781,U753,IF(LataProjekcji=$D781,$F781-T767,0))","v":0},{"$f":"IF(LataProjekcji<$D781,V753,IF(LataProjekcji=$D781,$F781-U767,0))","v":0},{"$f":"IF(LataProjekcji<$D781,W753,IF(LataProjekcji=$D781,$F781-V767,0))","v":0}]
[null,{"$f":"B768","v":0},0,1900,0,0,null,null,0,0,0,0,0,0,0,0,0,0,0,0,0,0,0]
[null,{"$f":"B769","v":0},0,1900,0,0,null,null,0,0,0,0,0,0,0,0,0,0,0,0,0,0,0]
[null,{"$f":"B770","v":0},0,1900,0,0,null,null,0,0,0,0,0,0,0,0,0,0,0,0,0,0,0]
[null,{"$f":"B771","v":0},0,1900,0,0,null,null,0,0,0,0,0,0,0,0,0,0,0,0,0,0,0]
[null,"Razem",null,null,null,null,null,null,"DOTACJA NARASTAJĄCO",{"$f":"SUM(J776:J785)","v":0},{"$f":"SUM(K776:K785)","v":0},{"$f":"SUM(L776:L785)","v":0},0,0,0,0,0,0,0,0,0,0,0]

{"sheet":"Rozliczenie dotacji","index":7,"n_rows":468,"n_cols":23,"rows_kept":468,"cut":false,"hidden":false,"merged":[[1,1,2,4]]}
[]
[null,{"$f":"IF(ISBLANK(Firma),\"Wstaw nazwę firmy\",Firma)","v":"Wstaw nazwę firmy"}]
[]
[]
[]
[]
[]
[]
[]
[]
[null,null,null,null,null,null,null,null,null,{"$f":"Założenia!J25","v":0},{"$f":"Założenia!K25","v":1},{"$f":"Założenia!L25","v":2},{"$f":"Założenia!M25","v":3},{"$f":"Założenia!N25","v":4},{"$f":"Założenia!O25","v":5},{"$f":"Założenia!P25","v":6},{"$f":"Założenia!Q25","v":7},{"$f":"Założenia!R25","v":8},{"$f":"Założenia!S25","v":9},{"$f":"Założenia!T25","v":10},{"$f":"Założenia!U25","v":11},{"$f":"Założenia!V25","v":12},{"$f":"Założenia!W25","v":13}]
[null,"Działalność dotychczasowa (bez Projektu)",null,null,null,null,null,null,{"$f":"Założenia!I26","v":""},{"$f":"Założenia!J26","v":"Uzupełnij dane"},{"$f":"Założenia!K26","v":""},{"$f":"Założenia!L26","v":""},{"$f":"Założenia!M26","v":""},{"$f":"Założenia!N26","v":""},{"$f":"Założenia!O26","v":""},{"$f":"Założenia!P26","v":""},{"$f":"Założenia!Q26","v":""},{"$f":"Założenia!R26","v":""},{"$f":"Założenia!S26","v":""},{"$f":"Założenia!T26","v":""},{"$f":"Założenia!U26","v":""},{"$f":"Założenia!V26","v":""},{"$f":"Założenia!W26","v":""}]
[]
[null,"Dotacje otrzymane w latach poprzednich"]
[]
[]
[]
[]
[]
[null,"Razem (do Pozostałych przychodów operacyjnych)",null,null,null,null,null,null,null,{"$f":"ROUND(SUM(J15:J19),0)","v":0},{"$f":"ROUND(SUM(K15:K19),0)","v":0},0,0,0,0,0,0,0,0,0,0,0,0]
[]
[null,"Rozliczenia międzyokresowe bierne (pasywa)",null,null,null,null,null,null,{"$f":"IF(ISBLANK(DaneBiezace),ROUND('Sprawozdania finansowe'!E141,0),ROUND('Sprawozdania finansowe'!F141,0))","v":0},{"$f":"ROUND(I22-J20,0)","v":0},{"$f":"ROUND(J22-K20,0)","v":0},0,0,0,0,0,0,0,0,0,0,0,0]
[]
[]
[null,"Projekt",null,null,null,null,null,null,null,{"$f":"J12","v":"Uzupełnij dane"},"","","","","","","","","","","","",""]
[]
[null,"koszty zakończonych prac rozwojowych","wartość netto","rok i miesiąc zakończenia","dofinansowanie %","dofinansowanie PLN"]
[null,{"$f":"IF(ISBLANK('Środki trwałe'!B89),\"\",'Środki trwałe'!B89)","v":""},{"$f":"IF(ISBLANK('Środki trwałe'!C89),\"\",'Środki trwałe'!C89)","v":0},{"$f":"IF(ISBLANK('Środki trwałe'!D89),\"\",'Środki trwałe'!D89)","v":""},{"$f":"IFERROR(ROUND(F28/C28,3),0)","v":0},{"$f":"MAX('Koszty operacyjne'!J798:W798)","v":0},null,null,null,{"$f":"IFERROR(ROUND(IF(AND(YEAR($D28)=LataProjekcji,$F28>0),$F28,0),0),0)","v":0},0,0,0,0,0,0,0,0,0,0,0,0,0]
[null,{"$f":"IF(ISBLANK('Środki trwałe'!B90),\"\",'Środki trwałe'!B90)","v":""},{"$f":"IF(ISBLANK('Środki trwałe'!C90),\"\",'Środki trwałe'!C90)","v":""},{"$f":"IF(ISBLANK('Środki trwałe'!D90),\"\",'Środki trwałe'!D90)","v":""},{"$f":"IF(ISBLANK('Środki trwałe'!E90),\"\",'Środki trwałe'!E90)","v":""},{"$f":"IFERROR(IF(E29=0,0,ROUND(E29*C29,0)),0)","v":0},null,null,null,0,0,0,0,0,0,0,0,0,0,0,0,0,0]
[null,{"$f":"IF(ISBLANK('Środki trwałe'!B91),\"\",'Środki trwałe'!B91)","v":""},{"$f":"IF(ISBLANK('Środki trwałe'!C91),\"\",'Środki trwałe'!C91)","v":""},{"$f":"IF(ISBLANK('Środki trwałe'!D91),\"\",'Środki trwałe'!D91)","v":""},{"$f":"IF(ISBLANK('Środki trwałe'!E91),\"\",'Środki trwałe'!E91)","v":""},{"$f":"IFERROR(IF(E30=0,0,ROUND(E30*C30,0)),0)","v":0},null,null,null,0,0,0,0,0,0,0,0,0,0,0,0,0,0]
[null,{"$f":"IF(ISBLANK('Środki trwałe'!B92),\"\",'Środki trwałe'!B92)","v":""},{"$f":"IF(ISBLANK('Środki trwałe'!C92),\"\",'Środki trwałe'!C92)","v":""},{"$f":"IF(ISBLANK('Środki trwałe'!D92),\"\",'Środki trwałe'!D92)","v":""},{"$f":"IF(ISBLANK('Środki trwałe'!E92),\"\",'Środki trwałe'!E92)","v":""},{"$f":"IFERROR(IF(E31=0,0,ROUND(E31*C31,0)),0)","v":0},null,null,null,0,0,0,0,0,0,0,0,0,0,0,0,0,0]
[null,{"$f":"IF(ISBLANK('Środki trwałe'!B93),\"\",'Środki trwałe'!B93)","v":""},{"$f":"IF(ISBLANK('Środki trwałe'!C93),\"\",'Środki trwałe'!C93)","v":""},{"$f":"IF(ISBLANK('Środki trwałe'!D93),\"\",'Środki trwałe'!D93)","v":""},{"$f":"IF(ISBLANK('Środki trwałe'!E93),\"\",'Środki trwałe'!E93)","v":""},{"$f":"IFERROR(IF(E32=0,0,ROUND(E32*C32,0)),0)","v":0},null,null,null,0,0,0,0,0,0,0,0,0,0,0,0,0,0]
[null,"Razem",{"$f":"SUM(C28:C32)","v":0},null,null,{"$f":"SUM(F28:F32)","v":0},null,null,null,{"$f":"ROUND(SUM(J28:J32),0)","v":0},{"$f":"ROUND(SUM(K28:K32),0)","v":0},0,0,0,0,0,0,0,0,0,0,0,0]
[null,"     - dotacja w okresie (pozostałe przychody)",null,null,null,null,null,null,null,{"$f":"ROUND(J41+J48+J55+J62+J69,0)","v":0},{"$f":"ROUND(K41+K48+K55+K62+K69,0)","v":0},0,0,0,0,0,0,0,0,0,0,0,0]
[null,"     - dotacja narastająco",null,null,null,null,null,null,null,{"$f":"ROUND(J42+J49+J56+J63+J70,0)","v":0},{"$f":"ROUND(K42+K49+K56+K63+K70,0)","v":0},0,0,0,0,0,0,0,0,0,0,0,0]
[null,"     - rozliczenia międzyokresowe bierne",null,null,null,null,null,null,null,{"$f":"ROUND(J43+J50+J57+J64+J71,0)","v":0},{"$f":"ROUND(K43+K50+K57+K64+K71,0)","v":0},0,0,0,0,0,{"$f":"ROUND(Q43+Q50+Q57+Q64+Q71,0)","v":0},0,0,0,0,0,0]
[]
[null,"Koszty zakończonych prac rozwojowych"]
[null,"rok zakupu",{"$f":"IFERROR(YEAR(D28),0)","v":0},{"$f":"IFERROR(MONTH(D28),0)","v":0},{"$f":"12-$D39","v":12}]
[null,"wartość netto",{"$f":"IF(F28<0,0,F28)","v":0},{"$f":"C28","v":0},{"$f":"IF($C28>3.5,ROUND(($C41/12)*$E39,0),$C40)","v":0}]
[null,"amortyzacja roczna",{"$f":"IF(ISBLANK(D28),0,IF(C28>3.5,ROUND(C40*am_prace_rozwojowe,0),IF(C40<0,0,C40)))","v":0},null,null,null,null,null,null,{"$f":"IFERROR(ROUND(IF(($C39+1)=J$25,$C41,0),0),0)","v":0},{"$f":"ROUND(IF(OR(AND($C39=LataProjekcji,$E39>0),AND($C39=LataProjekcji,$E39=0,$D40<=3.5)),$E40,IF($C39<LataProjekcji,IF((SUM($J41:J41)+$C41)<$C40,$C41,$C40-SUM($J41:J41)),0)),0)","v":0},{"$f":"ROUND(IF(OR(AND($C39=LataProjekcji,$E39>0),AND($C39=LataProjekcji,$E39=0,$D40<=3.5)),$E40,IF($C39<LataProjekcji,IF((SUM($J41:K41)+$C41)<$C40,$C41,$C40-SUM($J41:K41)),0)),0)","v":0},{"$f":"ROUND(IF(OR(AND($C39=LataProjekcji,$E39>0),AND($C39=LataProjekcji,$E39=0,$D40<=3.5)),$E40,IF($C39<LataProjekcji,IF((SUM($J41:L41)+$C41)<$C40,$C41,$C40-SUM($J41:L41)),0)),0)","v":0},{"$f":"ROUND(IF(OR(AND($C39=LataProjekcji,$E39>0),AND($C39=LataProjekcji,$E39=0,$D40<=3.5)),$E40,IF($C39<LataProjekcji,IF((SUM($J41:M41)+$C41)<$C40,$C41,$C40-SUM($J41:M41)),0)),0)","v":0},{"$f":"ROUND(IF(OR(AND($C39=LataProjekcji,$E39>0),AND($C39=LataProjekcji,$E39=0,$D40<=3.5)),$E40,IF($C39<LataProjekcji,IF((SUM($J41:N41)+$C41)<$C40,$C41,$C40-SUM($J41:N41)),0)),0)","v":0},{"$f":"ROUND(IF(OR(AND($C39=LataProjekcji,$E39>0),AND($C39=LataProjekcji,$E39=0,$D40<=3.5)),$E40,IF($C39<LataProjekcji,IF((SUM($J41:O41)+$C41)<$C40,$C41,$C40-SUM($J41:O41)),0)),0)","v":0},{"$f":"ROUND(IF(OR(AND($C39=LataProjekcji,$E39>0),AND($C39=LataProjekcji,$E39=0,$D40<=3.5)),$E40,IF($C39<LataProjekcji,IF((SUM($J41:P41)+$C41)<$C40,$C41,$C40-SUM($J41:P41)),0)),0)","v":0},{"$f":"ROUND(IF(OR(AND($C39=LataProjekcji,$E39>0),AND($C39=LataProjekcji,$E39=0,$D40<=3.5)),$E40,IF($C39<LataProjekcji,IF((SUM($J41:Q41)+$C41)<$C40,$C41,$C40-SUM($J41:Q41)),0)),0)","v":0},{"$f":"ROUND(IF(OR(AND($C39=LataProjekcji,$E39>0),AND($C39=LataProjekcji,$E39=0,$D40<=3.5)),$E40,IF($C39<LataProjekcji,IF((SUM($J41:R41)+$C41)<$C40,$C41,$C40-SUM($J41:R41)),0)),0)","v":0},{"$f":"ROUND(IF(OR(AND($C39=LataProjekcji,$E39>0),AND($C39=LataProjekcji,$E39=0,$D40<=3.5)),$E40,IF($C39<LataProjekcji,IF((SUM($J41:S41)+$C41)<$C40,$C41,$C40-SUM($J41:S41)),0)),0)","v":0},{"$f":"ROUND(IF(OR(AND($C39=LataProjekcji,$E39>0),AND($C39=LataProjekcji,$E39=0,$D40<=3.5)),$E40,IF($C39<LataProjekcji,IF((SUM($J41:T41)+$C41)<$C40,$C41,$C40-SUM($J41:T41)),0)),0)","v":0},{"$f":"ROUND(IF(OR(AND($C39=LataProjekcji,$E39>0),AND($C39=LataProjekcji,$E39=0,$D40<=3.5)),$E40,IF($C39<LataProjekcji,IF((SUM($J41:U41)+$C41)<$C40,$C41,$C40-SUM($J41:U41)),0)),0)","v":0},{"$f":"ROUND(IF(OR(AND($C39=LataProjekcji,$E39>0),AND($C39=LataProjekcji,$E39=0,$D40<=3.5)),$E40,IF($C39<LataProjekcji,IF((SUM($J41:V41)+$C41)<$C40,$C41,$C40-SUM($J41:V41)),0)),0)","v":0}]
[null,"umorzenie",null,null,null,null,null,null,null,{"$f":"ROUND(J41,0)","v":0},{"$f":"ROUND(J42+K41,0)","v":0},{"$f":"ROUND(K42+L41,0)","v":0},0,0,0,0,0,0,0,0,0,0,0]
[null,"wartość netto",null,null,null,null,null,null,null,{"$f":"IF($C39=J$25,$C40,ROUND(IF(J41=0,0,$C40-J42),0))","v":0},{"$f":"IF($C39=K$25,$C40,ROUND(IF(K41=0,0,$C40-K42),0))","v":0},0,0,0,0,0,0,0,0,0,0,0,0]
[]
[null,"Koszty zakończonych prac rozwojowych"]
[null,"rok zakupu",{"$f":"D29","v":""}]
[null,"wartość netto",{"$f":"F29","v":0}]
[null,"amortyzacja roczna",{"$f":"ROUND(C47*am_prace_rozwojowe,0)","v":0},null,null,null,null,null,null,{"$f":"IFERROR(ROUND(IF(($C46+1)=J$25,$C48,0),0),0)","v":0},{"$f":"ROUND(IF(OR(AND($C46=LataProjekcji,$E46>0),AND($C46=LataProjekcji,$E46=0,$D47<=3.5)),$E47,IF($C46<LataProjekcji,IF((SUM($J48:J48)+$C48)<$C47,$C48,$C47-SUM($J48:J48)),0)),0)","v":0},{"$f":"ROUND(IF(OR(AND($C46=LataProjekcji,$E46>0),AND($C46=LataProjekcji,$E46=0,$D47<=3.5)),$E47,IF($C46<LataProjekcji,IF((SUM($J48:K48)+$C48)<$C47,$C48,$C47-SUM($J48:K48)),0)),0)","v":0},{"$f":"ROUND(IF(OR(AND($C46=LataProjekcji,$E46>0),AND($C46=LataProjekcji,$E46=0,$D47<=3.5)),$E47,IF($C46<LataProjekcji,IF((SUM($J48:L48)+$C48)<$C47,$C48,$C47-SUM($J48:L48)),0)),0)","v":0},{"$f":"ROUND(IF(OR(AND($C46=LataProjekcji,$E46>0),AND($C46=LataProjekcji,$E46=0,$D47<=3.5)),$E47,IF($C46<LataProjekcji,IF((SUM($J48:M48)+$C48)<$C47,$C48,$C47-SUM($J48:M48)),0)),0)","v":0},{"$f":"ROUND(IF(OR(AND($C46=LataProjekcji,$E46>0),AND($C46=LataProjekcji,$E46=0,$D47<=3.5)),$E47,IF($C46<LataProjekcji,IF((SUM($J48:N48)+$C48)<$C47,$C48,$C47-SUM($J48:N48)),0)),0)","v":0},{"$f":"ROUND(IF(OR(AND($C46=LataProjekcji,$E46>0),AND($C46=LataProjekcji,$E46=0,$D47<=3.5)),$E47,IF($C46<LataProjekcji,IF((SUM($J48:O48)+$C48)<$C47,$C48,$C47-SUM($J48:O48)),0)),0)","v":0},{"$f":"ROUND(IF(OR(AND($C46=LataProjekcji,$E46>0),AND($C46=LataProjekcji,$E46=0,$D47<=3.5)),$E47,IF($C46<LataProjekcji,IF((SUM($J48:P48)+$C48)<$C47,$C48,$C47-SUM($J48:P48)),0)),0)","v":0},{"$f":"ROUND(IF(OR(AND($C46=LataProjekcji,$E46>0),AND($C46=LataProjekcji,$E46=0,$D47<=3.5)),$E47,IF($C46<LataProjekcji,IF((SUM($J48:Q48)+$C48)<$C47,$C48,$C47-SUM($J48:Q48)),0)),0)","v":0},{"$f":"ROUND(IF(OR(AND($C46=LataProjekcji,$E46>0),AND($C46=LataProjekcji,$E46=0,$D47<=3.5)),$E47,IF($C46<LataProjekcji,IF((SUM($J48:R48)+$C48)<$C47,$C48,$C47-SUM($J48:R48)),0)),0)","v":0},{"$f":"ROUND(IF(OR(AND($C46=LataProjekcji,$E46>0),AND($C46=LataProjekcji,$E46=0,$D47<=3.5)),$E47,IF($C46<LataProjekcji,IF((SUM($J48:S48)+$C48)<$C47,$C48,$C47-SUM($J48:S48)),0)),0)","v":0},{"$f":"ROUND(IF(OR(AND($C46=LataProjekcji,$E46>0),AND($C46=LataProjekcji,$E46=0,$D47<=3.5)),$E47,IF($C46<LataProjekcji,IF((SUM($J48:T48)+$C48)<$C47,$C48,$C47-SUM($J48:T48)),0)),0)","v":0},{"$f":"ROUND(IF(OR(AND($C46=LataProjekcji,$E46>0),AND($C46=LataProjekcji,$E46=0,$D47<=3.5)),$E47,IF($C46<LataProjekcji,IF((SUM($J48:U48)+$C48)<$C47,$C48,$C47-SUM($J48:U48)),0)),0)","v":0},{"$f":"ROUND(IF(OR(AND($C46=LataProjekcji,$E46>0),AND($C46=LataProjekcji,$E46=0,$D47<=3.5)),$E47,IF($C46<LataProjekcji,IF((SUM($J48:V48)+$C48)<$C47,$C48,$C47-SUM($J48:V48)),0)),0)","v":0}]
[null,"umorzenie",null,null,null,null,null,null,null,{"$f":"ROUND(J48,0)","v":0},{"$f":"ROUND(J49+K48,0)","v":0},0,0,0,0,0,0,0,0,0,0,0,0]
[null,"wartość netto",null,null,null,null,null,null,null,{"$f":"IF($C46=J$25,$C47,ROUND(IF(J48=0,0,$C47-J49),0))","v":0},0,0,0,0,0,0,0,0,0,0,0,0,0]
[]
[null,"Koszty zakończonych prac rozwojowych"]
[null,"rok zakupu",{"$f":"D30","v":""}]
[null,"wartość netto",{"$f":"F30","v":0}]
[null,"amortyzacja roczna",{"$f":"ROUND(C54*am_prace_rozwojowe,0)","v":0},null,null,null,null,null,null,{"$f":"IFERROR(ROUND(IF(($C53+1)=J$25,$C55,0),0),0)","v":0},{"$f":"ROUND(IF(OR(AND($C53=LataProjekcji,$E53>0),AND($C53=LataProjekcji,$E53=0,$D54<=3.5)),$E54,IF($C53<LataProjekcji,IF((SUM($J55:J55)+$C55)<$C54,$C55,$C54-SUM($J55:J55)),0)),0)","v":0},{"$f":"ROUND(IF(OR(AND($C53=LataProjekcji,$E53>0),AND($C53=LataProjekcji,$E53=0,$D54<=3.5)),$E54,IF($C53<LataProjekcji,IF((SUM($J55:K55)+$C55)<$C54,$C55,$C54-SUM($J55:K55)),0)),0)","v":0},{"$f":"ROUND(IF(OR(AND($C53=LataProjekcji,$E53>0),AND($C53=LataProjekcji,$E53=0,$D54<=3.5)),$E54,IF($C53<LataProjekcji,IF((SUM($J55:L55)+$C55)<$C54,$C55,$C54-SUM($J55:L55)),0)),0)","v":0},{"$f":"ROUND(IF(OR(AND($C53=LataProjekcji,$E53>0),AND($C53=LataProjekcji,$E53=0,$D54<=3.5)),$E54,IF($C53<LataProjekcji,IF((SUM($J55:M55)+$C55)<$C54,$C55,$C54-SUM($J55:M55)),0)),0)","v":0},{"$f":"ROUND(IF(OR(AND($C53=LataProjekcji,$E53>0),AND($C53=LataProjekcji,$E53=0,$D54<=3.5)),$E54,IF($C53<LataProjekcji,IF((SUM($J55:N55)+$C55)<$C54,$C55,$C54-SUM($J55:N55)),0)),0)","v":0},{"$f":"ROUND(IF(OR(AND($C53=LataProjekcji,$E53>0),AND($C53=LataProjekcji,$E53=0,$D54<=3.5)),$E54,IF($C53<LataProjekcji,IF((SUM($J55:O55)+$C55)<$C54,$C55,$C54-SUM($J55:O55)),0)),0)","v":0},{"$f":"ROUND(IF(OR(AND($C53=LataProjekcji,$E53>0),AND($C53=LataProjekcji,$E53=0,$D54<=3.5)),$E54,IF($C53<LataProjekcji,IF((SUM($J55:P55)+$C55)<$C54,$C55,$C54-SUM($J55:P55)),0)),0)","v":0},{"$f":"ROUND(IF(OR(AND($C53=LataProjekcji,$E53>0),AND($C53=LataProjekcji,$E53=0,$D54<=3.5)),$E54,IF($C53<LataProjekcji,IF((SUM($J55:Q55)+$C55)<$C54,$C55,$C54-SUM($J55:Q55)),0)),0)","v":0},{"$f":"ROUND(IF(OR(AND($C53=LataProjekcji,$E53>0),AND($C53=LataProjekcji,$E53=0,$D54<=3.5)),$E54,IF($C53<LataProjekcji,IF((SUM($J55:R55)+$C55)<$C54,$C55,$C54-SUM($J55:R55)),0)),0)","v":0},{"$f":"ROUND(IF(OR(AND($C53=LataProjekcji,$E53>0),AND($C53=LataProjekcji,$E53=0,$D54<=3.5)),$E54,IF($C53<LataProjekcji,IF((SUM($J55:S55)+$C55)<$C54,$C55,$C54-SUM($J55:S55)),0)),0)","v":0},{"$f":"ROUND(IF(OR(AND($C53=LataProjekcji,$E53>0),AND($C53=LataProjekcji,$E53=0,$D54<=3.5)),$E54,IF($C53<LataProjekcji,IF((SUM($J55:T55)+$C55)<$C54,$C55,$C54-SUM($J55:T55)),0)),0)","v":0},{"$f":"ROUND(IF(OR(AND($C53=LataProjekcji,$E53>0),AND($C53=LataProjekcji,$E53=0,$D54<=3.5)),$E54,IF($C53<LataProjekcji,IF((SUM($J55:U55)+$C55)<$C54,$C55,$C54-SUM($J55:U55)),0)),0)","v":0},{"$f":"ROUND(IF(OR(AND($C53=LataProjekcji,$E53>0),AND($C53=LataProjekcji,$E53=0,$D54<=3.5)),$E54,IF($C53<LataProjekcji,IF((SUM($J55:V55)+$C55)<$C54,$C55,$C54-SUM($J55:V55)),0)),0)","v":0}]
[null,"umorzenie",null,null,null,null,null,null,null,{"$f":"ROUND(J55,0)","v":0},{"$f":"ROUND(J56+K55,0)","v":0},0,0,0,0,0,0,0,0,0,0,0,0]
[null,"wartość netto",null,null,null,null,null,null,null,{"$f":"IF($C53=J$25,$C54,ROUND(IF(J55=0,0,$C54-J56),0))","v":0},0,0,0,0,0,0,0,0,0,0,0,0,0]
[]
[null,"Koszty zakończonych prac rozwojowych"]
[null,"rok zakupu",{"$f":"D31","v":""}]
[null,"wartość netto",{"$f":"F31","v":0}]
[null,"amortyzacja roczna",{"$f":"ROUND(C61*am_prace_rozwojowe,0)","v":0},null,null,null,null,null,null,{"$f":"IFERROR(ROUND(IF(($C60+1)=J$25,$C62,0),0),0)","v":0},{"$f":"ROUND(IF(OR(AND($C60=LataProjekcji,$E60>0),AND($C60=LataProjekcji,$E60=0,$D61<=3.5)),$E61,IF($C60<LataProjekcji,IF((SUM($J62:J62)+$C62)<$C61,$C62,$C61-SUM($J62:J62)),0)),0)","v":0},{"$f":"ROUND(IF(OR(AND($C60=LataProjekcji,$E60>0),AND($C60=LataProjekcji,$E60=0,$D61<=3.5)),$E61,IF($C60<LataProjekcji,IF((SUM($J62:K62)+$C62)<$C61,$C62,$C61-SUM($J62:K62)),0)),0)","v":0},{"$f":"ROUND(IF(OR(AND($C60=LataProjekcji,$E60>0),AND($C60=LataProjekcji,$E60=0,$D61<=3.5)),$E61,IF($C60<LataProjekcji,IF((SUM($J62:L62)+$C62)<$C61,$C62,$C61-SUM($J62:L62)),0)),0)","v":0},{"$f":"ROUND(IF(OR(AND($C60=LataProjekcji,$E60>0),AND($C60=LataProjekcji,$E60=0,$D61<=3.5)),$E61,IF($C60<LataProjekcji,IF((SUM($J62:M62)+$C62)<$C61,$C62,$C61-SUM($J62:M62)),0)),0)","v":0},{"$f":"ROUND(IF(OR(AND($C60=LataProjekcji,$E60>0),AND($C60=LataProjekcji,$E60=0,$D61<=3.5)),$E61,IF($C60<LataProjekcji,IF((SUM($J62:N62)+$C62)<$C61,$C62,$C61-SUM($J62:N62)),0)),0)","v":0},{"$f":"ROUND(IF(OR(AND($C60=LataProjekcji,$E60>0),AND($C60=LataProjekcji,$E60=0,$D61<=3.5)),$E61,IF($C60<LataProjekcji,IF((SUM($J62:O62)+$C62)<$C61,$C62,$C61-SUM($J62:O62)),0)),0)","v":0},{"$f":"ROUND(IF(OR(AND($C60=LataProjekcji,$E60>0),AND($C60=LataProjekcji,$E60=0,$D61<=3.5)),$E61,IF($C60<LataProjekcji,IF((SUM($J62:P62)+$C62)<$C61,$C62,$C61-SUM($J62:P62)),0)),0)","v":0},{"$f":"ROUND(IF(OR(AND($C60=LataProjekcji,$E60>0),AND($C60=LataProjekcji,$E60=0,$D61<=3.5)),$E61,IF($C60<LataProjekcji,IF((SUM($J62:Q62)+$C62)<$C61,$C62,$C61-SUM($J62:Q62)),0)),0)","v":0},{"$f":"ROUND(IF(OR(AND($C60=LataProjekcji,$E60>0),AND($C60=LataProjekcji,$E60=0,$D61<=3.5)),$E61,IF($C60<LataProjekcji,IF((SUM($J62:R62)+$C62)<$C61,$C62,$C61-SUM($J62:R62)),0)),0)","v":0},{"$f":"ROUND(IF(OR(AND($C60=LataProjekcji,$E60>0),AND($C60=LataProjekcji,$E60=0,$D61<=3.5)),$E61,IF($C60<LataProjekcji,IF((SUM($J62:S62)+$C62)<$C61,$C62,$C61-SUM($J62:S62)),0)),0)","v":0},{"$f":"ROUND(IF(OR(AND($C60=LataProjekcji,$E60>0),AND($C60=LataProjekcji,$E60=0,$D61<=3.5)),$E61,IF($C60<LataProjekcji,IF((SUM($J62:T62)+$C62)<$C61,$C62,$C61-SUM($J62:T62)),0)),0)","v":0},{"$f":"ROUND(IF(OR(AND($C60=LataProjekcji,$E60>0),AND($C60=LataProjekcji,$E60=0,$D61<=3.5)),$E61,IF($C60<LataProjekcji,IF((SUM($J62:U62)+$C62)<$C61,$C62,$C61-SUM($J62:U62)),0)),0)","v":0},{"$f":"ROUND(IF(OR(AND($C60=LataProjekcji,$E60>0),AND($C60=LataProjekcji,$E60=0,$D61<=3.5)),$E61,IF($C60<LataProjekcji,IF((SUM($J62:V62)+$C62)<$C61,$C62,$C61-SUM($J62:V62)),0)),0)","v":0}]
[null,"umorzenie",null,null,null,null,null,null,null,{"$f":"ROUND(J62,0)","v":0},{"$f":"ROUND(J63+K62,0)","v":0},0,0,0,0,0,0,0,0,0,0,0,0]
[null,"wartość netto",null,null,null,null,null,null,null,{"$f":"IF($C60=J$25,$C61,ROUND(IF(J62=0,0,$C61-J63),0))","v":0},0,0,0,0,0,0,0,0,0,0,0,0,0]
[]
[null,"Koszty zakończonych prac rozwojowych"]
[null,"rok zakupu",{"$f":"D32","v":""}]
[null,"wartość netto",{"$f":"F32","v":0}]
[null,"amortyzacja roczna",{"$f":"ROUND(C68*am_prace_rozwojowe,0)","v":0},null,null,null,null,null,null,{"$f":"IFERROR(ROUND(IF(($C67+1)=J$25,$C69,0),0),0)","v":0},{"$f":"ROUND(IF(OR(AND($C67=LataProjekcji,$E67>0),AND($C67=LataProjekcji,$E67=0,$D68<=3.5)),$E68,IF($C67<LataProjekcji,IF((SUM($J69:J69)+$C69)<$C68,$C69,$C68-SUM($J69:J69)),0)),0)","v":0},{"$f":"ROUND(IF(OR(AND($C67=LataProjekcji,$E67>0),AND($C67=LataProjekcji,$E67=0,$D68<=3.5)),$E68,IF($C67<LataProjekcji,IF((SUM($J69:K69)+$C69)<$C68,$C69,$C68-SUM($J69:K69)),0)),0)","v":0},{"$f":"ROUND(IF(OR(AND($C67=LataProjekcji,$E67>0),AND($C67=LataProjekcji,$E67=0,$D68<=3.5)),$E68,IF($C67<LataProjekcji,IF((SUM($J69:L69)+$C69)<$C68,$C69,$C68-SUM($J69:L69)),0)),0)","v":0},{"$f":"ROUND(IF(OR(AND($C67=LataProjekcji,$E67>0),AND($C67=LataProjekcji,$E67=0,$D68<=3.5)),$E68,IF($C67<LataProjekcji,IF((SUM($J69:M69)+$C69)<$C68,$C69,$C68-SUM($J69:M69)),0)),0)","v":0},{"$f":"ROUND(IF(OR(AND($C67=LataProjekcji,$E67>0),AND($C67=LataProjekcji,$E67=0,$D68<=3.5)),$E68,IF($C67<LataProjekcji,IF((SUM($J69:N69)+$C69)<$C68,$C69,$C68-SUM($J69:N69)),0)),0)","v":0},{"$f":"ROUND(IF(OR(AND($C67=LataProjekcji,$E67>0),AND($C67=LataProjekcji,$E67=0,$D68<=3.5)),$E68,IF($C67<LataProjekcji,IF((SUM($J69:O69)+$C69)<$C68,$C69,$C68-SUM($J69:O69)),0)),0)","v":0},{"$f":"ROUND(IF(OR(AND($C67=LataProjekcji,$E67>0),AND($C67=LataProjekcji,$E67=0,$D68<=3.5)),$E68,IF($C67<LataProjekcji,IF((SUM($J69:P69)+$C69)<$C68,$C69,$C68-SUM($J69:P69)),0)),0)","v":0},{"$f":"ROUND(IF(OR(AND($C67=LataProjekcji,$E67>0),AND($C67=LataProjekcji,$E67=0,$D68<=3.5)),$E68,IF($C67<LataProjekcji,IF((SUM($J69:Q69)+$C69)<$C68,$C69,$C68-SUM($J69:Q69)),0)),0)","v":0},{"$f":"ROUND(IF(OR(AND($C67=LataProjekcji,$E67>0),AND($C67=LataProjekcji,$E67=0,$D68<=3.5)),$E68,IF($C67<LataProjekcji,IF((SUM($J69:R69)+$C69)<$C68,$C69,$C68-SUM($J69:R69)),0)),0)","v":0},{"$f":"ROUND(IF(OR(AND($C67=LataProjekcji,$E67>0),AND($C67=LataProjekcji,$E67=0,$D68<=3.5)),$E68,IF($C67<LataProjekcji,IF((SUM($J69:S69)+$C69)<$C68,$C69,$C68-SUM($J69:S69)),0)),0)","v":0},{"$f":"ROUND(IF(OR(AND($C67=LataProjekcji,$E67>0),AND($C67=LataProjekcji,$E67=0,$D68<=3.5)),$E68,IF($C67<LataProjekcji,IF((SUM($J69:T69)+$C69)<$C68,$C69,$C68-SUM($J69:T69)),0)),0)","v":0},{"$f":"ROUND(IF(OR(AND($C67=LataProjekcji,$E67>0),AND($C67=LataProjekcji,$E67=0,$D68<=3.5)),$E68,IF($C67<LataProjekcji,IF((SUM($J69:U69)+$C69)<$C68,$C69,$C68-SUM($J69:U69)),0)),0)","v":0},{"$f":"ROUND(IF(OR(AND($C67=LataProjekcji,$E67>0),AND($C67=LataProjekcji,$E67=0,$D68<=3.5)),$E68,IF($C67<LataProjekcji,IF((SUM($J69:V69)+$C69)<$C68,$C69,$C68-SUM($J69:V69)),0)),0)","v":0}]
[null,"umorzenie",null,null,null,null,null,null,null,{"$f":"ROUND(J69,0)","v":0},{"$f":"ROUND(J70+K69,0)","v":0},0,0,0,0,0,0,0,0,0,0,0,0]
[null,"wartość netto",null,null,null,null,null,null,null,{"$f":"IF($C67=J$25,$C68,ROUND(IF(J69=0,0,$C68-J70),0))","v":0},0,0,0,0,0,0,0,0,0,0,0,0,0]
[null,"inne wartości niematerialne i prawne","wartość netto","rok i miesiąc zakupu","dofinansowanie %","dofinansowanie PLN",null,null,null,{"$f":"LataProjekcji","v":"Uzupełnij dane"},"","","","","","","","","","","","",""]
[null,{"$f":"IF(ISBLANK('Środki trwałe'!B136),\"\",'Środki trwałe'!B136)","v":""},{"$f":"IF(ISBLANK('Środki trwałe'!C136),\"\",'Środki trwałe'!C136)","v":""},{"$f":"IF(ISBLANK('Środki trwałe'!D136),\"\",'Środki trwałe'!D136)","v":""},{"$f":"IF(ISBLANK('Środki trwałe'!E136),\"\",'Środki trwałe'!E136)","v":""},{"$f":"IFERROR(IF(E73=0,0,ROUND(E73*C73,0)),0)","v":0},null,null,null,{"$f":"IFERROR(ROUND(IF(AND(YEAR($D73)=LataProjekcji,$F73>0),$F73,0),0),0)","v":0},0,0,0,0,0,0,0,0,0,0,0,0,0]
[null,{"$f":"IF(ISBLANK('Środki trwałe'!B137),\"\",'Środki trwałe'!B137)","v":""},{"$f":"IF(ISBLANK('Środki trwałe'!C137),\"\",'Środki trwałe'!C137)","v":""},{"$f":"IF(ISBLANK('Środki trwałe'!D137),\"\",'Środki trwałe'!D137)","v":""},{"$f":"IF(ISBLANK('Środki trwałe'!E137),\"\",'Środki trwałe'!E137)","v":""},{"$f":"IFERROR(IF(E74=0,0,ROUND(E74*C74,0)),0)","v":0},null,null,null,0,0,0,0,0,0,0,0,0,0,0,0,0,0]
[null,{"$f":"IF(ISBLANK('Środki trwałe'!B138),\"\",'Środki trwałe'!B138)","v":""},{"$f":"IF(ISBLANK('Środki trwałe'!C138),\"\",'Środki trwałe'!C138)","v":""},{"$f":"IF(ISBLANK('Środki trwałe'!D138),\"\",'Środki trwałe'!D138)","v":""},{"$f":"IF(ISBLANK('Środki trwałe'!E138),\"\",'Środki trwałe'!E138)","v":""},{"$f":"IFERROR(IF(E75=0,0,ROUND(E75*C75,0)),0)","v":0},null,null,null,0,0,0,0,0,0,0,0,0,0,0,0,0,0]
[null,{"$f":"IF(ISBLANK('Środki trwałe'!B139),\"\",'Środki trwałe'!B139)","v":""},{"$f":"IF(ISBLANK('Środki trwałe'!C139),\"\",'Środki trwałe'!C139)","v":""},{"$f":"IF(ISBLANK('Środki trwałe'!D139),\"\",'Środki trwałe'!D139)","v":""},{"$f":"IF(ISBLANK('Środki trwałe'!E139),\"\",'Środki trwałe'!E139)","v":""},{"$f":"IFERROR(IF(E76=0,0,ROUND(E76*C76,0)),0)","v":0},null,null,null,0,0,0,0,0,0,0,0,0,0,0,0,0,0]
[null,{"$f":"IF(ISBLANK('Środki trwałe'!B140),\"\",'Środki trwałe'!B140)","v":""},{"$f":"IF(ISBLANK('Środki trwałe'!C140),\"\",'Środki trwałe'!C140)","v":""},{"$f":"IF(ISBLANK('Środki trwałe'!D140),\"\",'Środki trwałe'!D140)","v":""},{"$f":"IF(ISBLANK('Środki trwałe'!E140),\"\",'Środki trwałe'!E140)","v":""},{"$f":"IFERROR(IF(E77=0,0,ROUND(E77*C77,0)),0)","v":0},null,null,null,0,0,0,0,0,0,0,0,0,0,0,0,0,0]
[null,"Razem",{"$f":"SUM(C73:C77)","v":0},null,null,{"$f":"SUM(F73:F77)","v":0},null,null,null,{"$f":"ROUND(SUM(J73:J77),0)","v":0},0,0,0,0,0,0,0,0,0,0,0,0,0]
[null,"     - dotacja w okresie (pozostałe przychody)",null,null,null,null,null,null,null,{"$f":"ROUND(J86+J93+J100+J107+J114,0)","v":0},{"$f":"ROUND(K86+K93+K100+K107+K114,0)","v":0},0,0,0,0,0,0,0,0,0,0,0,0]
[null,"     - dotacja narastająco",null,null,null,null,null,null,null,{"$f":"ROUND(J87+J94+J101+J108+J115,0)","v":0},{"$f":"ROUND(K87+K94+K101+K108+K115,0)","v":0},0,0,0,0,0,0,0,0,0,0,0,0]
[null,"     - rozliczenia międzyokresowe bierne",null,null,null,null,null,null,null,{"$f":"ROUND(J88+J95+J102+J109+J116,0)","v":0},{"$f":"ROUND(K88+K95+K102+K109+K116,0)","v":0},0,0,0,0,0,0,0,0,0,0,0,0]
[]
[null,"inne wartości niematerialne i prawne",null,null,"ile miesiący do końca roku",null,"niekwalifikowalne","spr"]
[null,"rok zakupu",{"$f":"IFERROR(YEAR(D73),0)","v":0},{"$f":"IFERROR(MONTH(D73),0)","v":0},{"$f":"12-$D84","v":12},null,{"$f":"C78-F84","v":0},{"$f":"C78-F84-G84","v":0}]
[null,"wartość netto",{"$f":"IF(F73<0,0,F73)","v":0},{"$f":"C73","v":""},{"$f":"IF($C73>3.5,ROUND(($C86/12)*$E84,0),$C85)","v":0},"<- am. Do końca roku"]
[null,"amortyzacja roczna",{"$f":"IF(ISBLANK(D73),0,IF(C73>3.5,ROUND(C85*am_wnip,0),IF(C85<0,0,C85)))","v":0},null,null,null,null,null,null,{"$f":"ROUND(IF($C84=LataProjekcji,$E85,IF($C84=LataProjekcji,$C86,0)),0)","v":0},{"$f":"ROUND(IF(OR(AND($C84=LataProjekcji,$E84>0),AND($C84=LataProjekcji,$E84=0,$D85<=3.5)),$E85,IF($C84<LataProjekcji,IF((SUM($J86:J86)+$C86)<$C85,$C86,$C85-SUM($J86:J86)),0)),0)","v":0},{"$f":"ROUND(IF(OR(AND($C84=LataProjekcji,$E84>0),AND($C84=LataProjekcji,$E84=0,$D85<=3.5)),$E85,IF($C84<LataProjekcji,IF((SUM($J86:K86)+$C86)<$C85,$C86,$C85-SUM($J86:K86)),0)),0)","v":0},{"$f":"ROUND(IF(OR(AND($C84=LataProjekcji,$E84>0),AND($C84=LataProjekcji,$E84=0,$D85<=3.5)),$E85,IF($C84<LataProjekcji,IF((SUM($J86:L86)+$C86)<$C85,$C86,$C85-SUM($J86:L86)),0)),0)","v":0},{"$f":"ROUND(IF(OR(AND($C84=LataProjekcji,$E84>0),AND($C84=LataProjekcji,$E84=0,$D85<=3.5)),$E85,IF($C84<LataProjekcji,IF((SUM($J86:M86)+$C86)<$C85,$C86,$C85-SUM($J86:M86)),0)),0)","v":0},{"$f":"ROUND(IF(OR(AND($C84=LataProjekcji,$E84>0),AND($C84=LataProjekcji,$E84=0,$D85<=3.5)),$E85,IF($C84<LataProjekcji,IF((SUM($J86:N86)+$C86)<$C85,$C86,$C85-SUM($J86:N86)),0)),0)","v":0},{"$f":"ROUND(IF(OR(AND($C84=LataProjekcji,$E84>0),AND($C84=LataProjekcji,$E84=0,$D85<=3.5)),$E85,IF($C84<LataProjekcji,IF((SUM($J86:O86)+$C86)<$C85,$C86,$C85-SUM($J86:O86)),0)),0)","v":0},{"$f":"ROUND(IF(OR(AND($C84=LataProjekcji,$E84>0),AND($C84=LataProjekcji,$E84=0,$D85<=3.5)),$E85,IF($C84<LataProjekcji,IF((SUM($J86:P86)+$C86)<$C85,$C86,$C85-SUM($J86:P86)),0)),0)","v":0},{"$f":"ROUND(IF(OR(AND($C84=LataProjekcji,$E84>0),AND($C84=LataProjekcji,$E84=0,$D85<=3.5)),$E85,IF($C84<LataProjekcji,IF((SUM($J86:Q86)+$C86)<$C85,$C86,$C85-SUM($J86:Q86)),0)),0)","v":0},{"$f":"ROUND(IF(OR(AND($C84=LataProjekcji,$E84>0),AND($C84=LataProjekcji,$E84=0,$D85<=3.5)),$E85,IF($C84<LataProjekcji,IF((SUM($J86:R86)+$C86)<$C85,$C86,$C85-SUM($J86:R86)),0)),0)","v":0},{"$f":"ROUND(IF(OR(AND($C84=LataProjekcji,$E84>0),AND($C84=LataProjekcji,$E84=0,$D85<=3.5)),$E85,IF($C84<LataProjekcji,IF((SUM($J86:S86)+$C86)<$C85,$C86,$C85-SUM($J86:S86)),0)),0)","v":0},{"$f":"ROUND(IF(OR(AND($C84=LataProjekcji,$E84>0),AND($C84=LataProjekcji,$E84=0,$D85<=3.5)),$E85,IF($C84<LataProjekcji,IF((SUM($J86:T86)+$C86)<$C85,$C86,$C85-SUM($J86:T86)),0)),0)","v":0},{"$f":"ROUND(IF(OR(AND($C84=LataProjekcji,$E84>0),AND($C84=LataProjekcji,$E84=0,$D85<=3.5)),$E85,IF($C84<LataProjekcji,IF((SUM($J86:U86)+$C86)<$C85,$C86,$C85-SUM($J86:U86)),0)),0)","v":0},{"$f":"ROUND(IF(OR(AND($C84=LataProjekcji,$E84>0),AND($C84=LataProjekcji,$E84=0,$D85<=3.5)),$E85,IF($C84<LataProjekcji,IF((SUM($J86:V86)+$C86)<$C85,$C86,$C85-SUM($J86:V86)),0)),0)","v":0}]
[null,"umorzenie",null,null,null,null,null,null,null,{"$f":"ROUND(J86,0)","v":0},{"$f":"ROUND(J87+K86,0)","v":0},0,0,0,0,0,0,0,0,0,0,0,0]
[null,"wartość netto",null,null,null,null,null,null,null,{"$f":"IF($C84=LataProjekcji,ROUND($C85-J87,0),ROUND(IF(J86=0,0,$C85-J87),0))","v":0},0,0,0,0,0,0,0,0,0,0,0,0,0]
[]
[null,"inne wartości niematerialne i prawne"]
[null,"rok zakupu",{"$f":"IFERROR(YEAR(D74),0)","v":0},{"$f":"IFERROR(MONTH(D74),0)","v":0},{"$f":"12-$D91","v":12}]
[null,"wartość netto",{"$f":"IF(F74<0,0,F74)","v":0},{"$f":"C74","v":""},{"$f":"IF($C74>3.5,ROUND(($C93/12)*$E91,0),$C92)","v":0}]
[null,"amortyzacja roczna",{"$f":"IF(ISBLANK(D74),0,IF(C74>3.5,ROUND(C92*am_wnip,0),IF(C92<0,0,C92)))","v":0},null,null,null,null,null,null,{"$f":"ROUND(IF($C91=LataProjekcji,$E92,IF($C91=LataProjekcji,$C93,0)),0)","v":0},{"$f":"ROUND(IF(OR(AND($C91=LataProjekcji,$E91>0),AND($C91=LataProjekcji,$E91=0,$D92<=3.5)),$E92,IF($C91<LataProjekcji,IF((SUM($J93:J93)+$C93)<$C92,$C93,$C92-SUM($J93:J93)),0)),0)","v":0},{"$f":"ROUND(IF(OR(AND($C91=LataProjekcji,$E91>0),AND($C91=LataProjekcji,$E91=0,$D92<=3.5)),$E92,IF($C91<LataProjekcji,IF((SUM($J93:K93)+$C93)<$C92,$C93,$C92-SUM($J93:K93)),0)),0)","v":0},{"$f":"ROUND(IF(OR(AND($C91=LataProjekcji,$E91>0),AND($C91=LataProjekcji,$E91=0,$D92<=3.5)),$E92,IF($C91<LataProjekcji,IF((SUM($J93:L93)+$C93)<$C92,$C93,$C92-SUM($J93:L93)),0)),0)","v":0},{"$f":"ROUND(IF(OR(AND($C91=LataProjekcji,$E91>0),AND($C91=LataProjekcji,$E91=0,$D92<=3.5)),$E92,IF($C91<LataProjekcji,IF((SUM($J93:M93)+$C93)<$C92,$C93,$C92-SUM($J93:M93)),0)),0)","v":0},{"$f":"ROUND(IF(OR(AND($C91=LataProjekcji,$E91>0),AND($C91=LataProjekcji,$E91=0,$D92<=3.5)),$E92,IF($C91<LataProjekcji,IF((SUM($J93:N93)+$C93)<$C92,$C93,$C92-SUM($J93:N93)),0)),0)","v":0},{"$f":"ROUND(IF(OR(AND($C91=LataProjekcji,$E91>0),AND($C91=LataProjekcji,$E91=0,$D92<=3.5)),$E92,IF($C91<LataProjekcji,IF((SUM($J93:O93)+$C93)<$C92,$C93,$C92-SUM($J93:O93)),0)),0)","v":0},{"$f":"ROUND(IF(OR(AND($C91=LataProjekcji,$E91>0),AND($C91=LataProjekcji,$E91=0,$D92<=3.5)),$E92,IF($C91<LataProjekcji,IF((SUM($J93:P93)+$C93)<$C92,$C93,$C92-SUM($J93:P93)),0)),0)","v":0},{"$f":"ROUND(IF(OR(AND($C91=LataProjekcji,$E91>0),AND($C91=LataProjekcji,$E91=0,$D92<=3.5)),$E92,IF($C91<LataProjekcji,IF((SUM($J93:Q93)+$C93)<$C92,$C93,$C92-SUM($J93:Q93)),0)),0)","v":0},{"$f":"ROUND(IF(OR(AND($C91=LataProjekcji,$E91>0),AND($C91=LataProjekcji,$E91=0,$D92<=3.5)),$E92,IF($C91<LataProjekcji,IF((SUM($J93:R93)+$C93)<$C92,$C93,$C92-SUM($J93:R93)),0)),0)","v":0},{"$f":"ROUND(IF(OR(AND($C91=LataProjekcji,$E91>0),AND($C91=LataProjekcji,$E91=0,$D92<=3.5)),$E92,IF($C91<LataProjekcji,IF((SUM($J93:S93)+$C93)<$C92,$C93,$C92-SUM($J93:S93)),0)),0)","v":0},{"$f":"ROUND(IF(OR(AND($C91=LataProjekcji,$E91>0),AND($C91=LataProjekcji,$E91=0,$D92<=3.5)),$E92,IF($C91<LataProjekcji,IF((SUM($J93:T93)+$C93)<$C92,$C93,$C92-SUM($J93:T93)),0)),0)","v":0},{"$f":"ROUND(IF(OR(AND($C91=LataProjekcji,$E91>0),AND($C91=LataProjekcji,$E91=0,$D92<=3.5)),$E92,IF($C91<LataProjekcji,IF((SUM($J93:U93)+$C93)<$C92,$C93,$C92-SUM($J93:U93)),0)),0)","v":0},{"$f":"ROUND(IF(OR(AND($C91=LataProjekcji,$E91>0),AND($C91=LataProjekcji,$E91=0,$D92<=3.5)),$E92,IF($C91<LataProjekcji,IF((SUM($J93:V93)+$C93)<$C92,$C93,$C92-SUM($J93:V93)),0)),0)","v":0}]
[null,"umorzenie",null,null,null,null,null,null,null,{"$f":"ROUND(J93,0)","v":0},{"$f":"ROUND(J94+K93,0)","v":0},0,0,0,0,0,0,0,0,0,0,0,0]
[null,"wartość netto",null,null,null,null,null,null,null,{"$f":"IF($C91=LataProjekcji,ROUND($C92-J94,0),ROUND(IF(J93=0,0,$C92-J94),0))","v":0},0,0,0,0,0,0,0,0,0,0,0,0,0]
[]
[null,"inne wartości niematerialne i prawne"]
[null,"rok zakupu",{"$f":"IFERROR(YEAR(D75),0)","v":0},{"$f":"IFERROR(MONTH(D75),0)","v":0},{"$f":"12-$D98","v":12}]
[null,"wartość netto",{"$f":"IF(F75<0,0,F75)","v":0},{"$f":"C75","v":""},{"$f":"IF($C75>3.5,ROUND(($C100/12)*$E98,0),$C99)","v":0}]
[null,"amortyzacja roczna",{"$f":"IF(ISBLANK(D75),0,IF(C75>3.5,ROUND(C99*am_wnip,0),IF(C99<0,0,C99)))","v":0},null,null,null,null,null,null,{"$f":"ROUND(IF($C98=LataProjekcji,$E99,IF($C98=LataProjekcji,$C100,0)),0)","v":0},{"$f":"ROUND(IF(OR(AND($C98=LataProjekcji,$E98>0),AND($C98=LataProjekcji,$E98=0,$D99<=3.5)),$E99,IF($C98<LataProjekcji,IF((SUM($J100:J100)+$C100)<$C99,$C100,$C99-SUM($J100:J100)),0)),0)","v":0},{"$f":"ROUND(IF(OR(AND($C98=LataProjekcji,$E98>0),AND($C98=LataProjekcji,$E98=0,$D99<=3.5)),$E99,IF($C98<LataProjekcji,IF((SUM($J100:K100)+$C100)<$C99,$C100,$C99-SUM($J100:K100)),0)),0)","v":0},{"$f":"ROUND(IF(OR(AND($C98=LataProjekcji,$E98>0),AND($C98=LataProjekcji,$E98=0,$D99<=3.5)),$E99,IF($C98<LataProjekcji,IF((SUM($J100:L100)+$C100)<$C99,$C100,$C99-SUM($J100:L100)),0)),0)","v":0},{"$f":"ROUND(IF(OR(AND($C98=LataProjekcji,$E98>0),AND($C98=LataProjekcji,$E98=0,$D99<=3.5)),$E99,IF($C98<LataProjekcji,IF((SUM($J100:M100)+$C100)<$C99,$C100,$C99-SUM($J100:M100)),0)),0)","v":0},{"$f":"ROUND(IF(OR(AND($C98=LataProjekcji,$E98>0),AND($C98=LataProjekcji,$E98=0,$D99<=3.5)),$E99,IF($C98<LataProjekcji,IF((SUM($J100:N100)+$C100)<$C99,$C100,$C99-SUM($J100:N100)),0)),0)","v":0},{"$f":"ROUND(IF(OR(AND($C98=LataProjekcji,$E98>0),AND($C98=LataProjekcji,$E98=0,$D99<=3.5)),$E99,IF($C98<LataProjekcji,IF((SUM($J100:O100)+$C100)<$C99,$C100,$C99-SUM($J100:O100)),0)),0)","v":0},{"$f":"ROUND(IF(OR(AND($C98=LataProjekcji,$E98>0),AND($C98=LataProjekcji,$E98=0,$D99<=3.5)),$E99,IF($C98<LataProjekcji,IF((SUM($J100:P100)+$C100)<$C99,$C100,$C99-SUM($J100:P100)),0)),0)","v":0},{"$f":"ROUND(IF(OR(AND($C98=LataProjekcji,$E98>0),AND($C98=LataProjekcji,$E98=0,$D99<=3.5)),$E99,IF($C98<LataProjekcji,IF((SUM($J100:Q100)+$C100)<$C99,$C100,$C99-SUM($J100:Q100)),0)),0)","v":0},{"$f":"ROUND(IF(OR(AND($C98=LataProjekcji,$E98>0),AND($C98=LataProjekcji,$E98=0,$D99<=3.5)),$E99,IF($C98<LataProjekcji,IF((SUM($J100:R100)+$C100)<$C99,$C100,$C99-SUM($J100:R100)),0)),0)","v":0},{"$f":"ROUND(IF(OR(AND($C98=LataProjekcji,$E98>0),AND($C98=LataProjekcji,$E98=0,$D99<=3.5)),$E99,IF($C98<LataProjekcji,IF((SUM($J100:S100)+$C100)<$C99,$C100,$C99-SUM($J100:S100)),0)),0)","v":0},{"$f":"ROUND(IF(OR(AND($C98=LataProjekcji,$E98>0),AND($C98=LataProjekcji,$E98=0,$D99<=3.5)),$E99,IF($C98<LataProjekcji,IF((SUM($J100:T100)+$C100)<$C99,$C100,$C99-SUM($J100:T100)),0)),0)","v":0},{"$f":"ROUND(IF(OR(AND($C98=LataProjekcji,$E98>0),AND($C98=LataProjekcji,$E98=0,$D99<=3.5)),$E99,IF($C98<LataProjekcji,IF((SUM($J100:U100)+$C100)<$C99,$C100,$C99-SUM($J100:U100)),0)),0)","v":0},{"$f":"ROUND(IF(OR(AND($C98=LataProjekcji,$E98>0),AND($C98=LataProjekcji,$E98=0,$D99<=3.5)),$E99,IF($C98<LataProjekcji,IF((SUM($J100:V100)+$C100)<$C99,$C100,$C99-SUM($J100:V100)),0)),0)","v":0}]
[null,"umorzenie",null,null,null,null,null,null,null,{"$f":"ROUND(J100,0)","v":0},{"$f":"ROUND(J101+K100,0)","v":0},0,0,0,0,0,0,0,0,0,0,0,0]
[null,"wartość netto",null,null,null,null,null,null,null,{"$f":"IF($C98=LataProjekcji,ROUND($C99-J101,0),ROUND(IF(J100=0,0,$C99-J101),0))","v":0},0,0,0,0,0,0,0,0,0,0,0,0,0]
[]
[null,"inne wartości niematerialne i prawne"]
[null,"rok zakupu",{"$f":"IFERROR(YEAR(D76),0)","v":0},{"$f":"IFERROR(MONTH(D76),0)","v":0},{"$f":"12-$D105","v":12}]
[null,"wartość netto",{"$f":"IF(F76<0,0,F76)","v":0},{"$f":"C76","v":""},{"$f":"IF($C76>3.5,ROUND(($C107/12)*$E105,0),$C106)","v":0}]
[null,"amortyzacja roczna",{"$f":"IF(ISBLANK(D76),0,IF(C76>3.5,ROUND(C106*am_wnip,0),IF(C106<0,0,C106)))","v":0},null,null,null,null,null,null,{"$f":"ROUND(IF($C105=LataProjekcji,$E106,IF($C105=LataProjekcji,$C107,0)),0)","v":0},{"$f":"ROUND(IF(OR(AND($C105=LataProjekcji,$E105>0),AND($C105=LataProjekcji,$E105=0,$D106<=3.5)),$E106,IF($C105<LataProjekcji,IF((SUM($J107:J107)+$C107)<$C106,$C107,$C106-SUM($J107:J107)),0)),0)","v":0},{"$f":"ROUND(IF(OR(AND($C105=LataProjekcji,$E105>0),AND($C105=LataProjekcji,$E105=0,$D106<=3.5)),$E106,IF($C105<LataProjekcji,IF((SUM($J107:K107)+$C107)<$C106,$C107,$C106-SUM($J107:K107)),0)),0)","v":0},{"$f":"ROUND(IF(OR(AND($C105=LataProjekcji,$E105>0),AND($C105=LataProjekcji,$E105=0,$D106<=3.5)),$E106,IF($C105<LataProjekcji,IF((SUM($J107:L107)+$C107)<$C106,$C107,$C106-SUM($J107:L107)),0)),0)","v":0},{"$f":"ROUND(IF(OR(AND($C105=LataProjekcji,$E105>0),AND($C105=LataProjekcji,$E105=0,$D106<=3.5)),$E106,IF($C105<LataProjekcji,IF((SUM($J107:M107)+$C107)<$C106,$C107,$C106-SUM($J107:M107)),0)),0)","v":0},{"$f":"ROUND(IF(OR(AND($C105=LataProjekcji,$E105>0),AND($C105=LataProjekcji,$E105=0,$D106<=3.5)),$E106,IF($C105<LataProjekcji,IF((SUM($J107:N107)+$C107)<$C106,$C107,$C106-SUM($J107:N107)),0)),0)","v":0},{"$f":"ROUND(IF(OR(AND($C105=LataProjekcji,$E105>0),AND($C105=LataProjekcji,$E105=0,$D106<=3.5)),$E106,IF($C105<LataProjekcji,IF((SUM($J107:O107)+$C107)<$C106,$C107,$C106-SUM($J107:O107)),0)),0)","v":0},{"$f":"ROUND(IF(OR(AND($C105=LataProjekcji,$E105>0),AND($C105=LataProjekcji,$E105=0,$D106<=3.5)),$E106,IF($C105<LataProjekcji,IF((SUM($J107:P107)+$C107)<$C106,$C107,$C106-SUM($J107:P107)),0)),0)","v":0},{"$f":"ROUND(IF(OR(AND($C105=LataProjekcji,$E105>0),AND($C105=LataProjekcji,$E105=0,$D106<=3.5)),$E106,IF($C105<LataProjekcji,IF((SUM($J107:Q107)+$C107)<$C106,$C107,$C106-SUM($J107:Q107)),0)),0)","v":0},{"$f":"ROUND(IF(OR(AND($C105=LataProjekcji,$E105>0),AND($C105=LataProjekcji,$E105=0,$D106<=3.5)),$E106,IF($C105<LataProjekcji,IF((SUM($J107:R107)+$C107)<$C106,$C107,$C106-SUM($J107:R107)),0)),0)","v":0},{"$f":"ROUND(IF(OR(AND($C105=LataProjekcji,$E105>0),AND($C105=LataProjekcji,$E105=0,$D106<=3.5)),$E106,IF($C105<LataProjekcji,IF((SUM($J107:S107)+$C107)<$C106,$C107,$C106-SUM($J107:S107)),0)),0)","v":0},{"$f":"ROUND(IF(OR(AND($C105=LataProjekcji,$E105>0),AND($C105=LataProjekcji,$E105=0,$D106<=3.5)),$E106,IF($C105<LataProjekcji,IF((SUM($J107:T107)+$C107)<$C106,$C107,$C106-SUM($J107:T107)),0)),0)","v":0},{"$f":"ROUND(IF(OR(AND($C105=LataProjekcji,$E105>0),AND($C105=LataProjekcji,$E105=0,$D106<=3.5)),$E106,IF($C105<LataProjekcji,IF((SUM($J107:U107)+$C107)<$C106,$C107,$C106-SUM($J107:U107)),0)),0)","v":0},{"$f":"ROUND(IF(OR(AND($C105=LataProjekcji,$E105>0),AND($C105=LataProjekcji,$E105=0,$D106<=3.5)),$E106,IF($C105<LataProjekcji,IF((SUM($J107:V107)+$C107)<$C106,$C107,$C106-SUM($J107:V107)),0)),0)","v":0}]
[null,"umorzenie",null,null,null,null,null,null,null,{"$f":"ROUND(J107,0)","v":0},{"$f":"ROUND(J108+K107,0)","v":0},0,0,0,0,0,0,0,0,0,0,0,0]
[null,"wartość netto",null,null,null,null,null,null,null,{"$f":"IF($C105=LataProjekcji,ROUND($C106-J108,0),ROUND(IF(J107=0,0,$C106-J108),0))","v":0},0,0,0,0,0,0,0,0,0,0,0,0,0]
[]
[null,"inne wartości niematerialne i prawne"]
[null,"rok zakupu",{"$f":"IFERROR(YEAR(D77),0)","v":0},{"$f":"IFERROR(MONTH(D77),0)","v":0},{"$f":"12-$D112","v":12}]
[null,"wartość netto",{"$f":"IF(F77<0,0,F77)","v":0},{"$f":"C77","v":""},{"$f":"IF($C77>3.5,ROUND(($C114/12)*$E112,0),$C113)","v":0}]
[null,"amortyzacja roczna",{"$f":"IF(ISBLANK(D77),0,IF(C77>3.5,ROUND(C113*am_wnip,0),IF(C113<0,0,C113)))","v":0},null,null,null,null,null,null,{"$f":"ROUND(IF($C112=LataProjekcji,$E113,IF($C112=LataProjekcji,$C114,0)),0)","v":0},{"$f":"ROUND(IF(OR(AND($C112=LataProjekcji,$E112>0),AND($C112=LataProjekcji,$E112=0,$D113<=3.5)),$E113,IF($C112<LataProjekcji,IF((SUM($J114:J114)+$C114)<$C113,$C114,$C113-SUM($J114:J114)),0)),0)","v":0},{"$f":"ROUND(IF(OR(AND($C112=LataProjekcji,$E112>0),AND($C112=LataProjekcji,$E112=0,$D113<=3.5)),$E113,IF($C112<LataProjekcji,IF((SUM($J114:K114)+$C114)<$C113,$C114,$C113-SUM($J114:K114)),0)),0)","v":0},{"$f":"ROUND(IF(OR(AND($C112=LataProjekcji,$E112>0),AND($C112=LataProjekcji,$E112=0,$D113<=3.5)),$E113,IF($C112<LataProjekcji,IF((SUM($J114:L114)+$C114)<$C113,$C114,$C113-SUM($J114:L114)),0)),0)","v":0},{"$f":"ROUND(IF(OR(AND($C112=LataProjekcji,$E112>0),AND($C112=LataProjekcji,$E112=0,$D113<=3.5)),$E113,IF($C112<LataProjekcji,IF((SUM($J114:M114)+$C114)<$C113,$C114,$C113-SUM($J114:M114)),0)),0)","v":0},{"$f":"ROUND(IF(OR(AND($C112=LataProjekcji,$E112>0),AND($C112=LataProjekcji,$E112=0,$D113<=3.5)),$E113,IF($C112<LataProjekcji,IF((SUM($J114:N114)+$C114)<$C113,$C114,$C113-SUM($J114:N114)),0)),0)","v":0},{"$f":"ROUND(IF(OR(AND($C112=LataProjekcji,$E112>0),AND($C112=LataProjekcji,$E112=0,$D113<=3.5)),$E113,IF($C112<LataProjekcji,IF((SUM($J114:O114)+$C114)<$C113,$C114,$C113-SUM($J114:O114)),0)),0)","v":0},{"$f":"ROUND(IF(OR(AND($C112=LataProjekcji,$E112>0),AND($C112=LataProjekcji,$E112=0,$D113<=3.5)),$E113,IF($C112<LataProjekcji,IF((SUM($J114:P114)+$C114)<$C113,$C114,$C113-SUM($J114:P114)),0)),0)","v":0},{"$f":"ROUND(IF(OR(AND($C112=LataProjekcji,$E112>0),AND($C112=LataProjekcji,$E112=0,$D113<=3.5)),$E113,IF($C112<LataProjekcji,IF((SUM($J114:Q114)+$C114)<$C113,$C114,$C113-SUM($J114:Q114)),0)),0)","v":0},{"$f":"ROUND(IF(OR(AND($C112=LataProjekcji,$E112>0),AND($C112=LataProjekcji,$E112=0,$D113<=3.5)),$E113,IF($C112<LataProjekcji,IF((SUM($J114:R114)+$C114)<$C113,$C114,$C113-SUM($J114:R114)),0)),0)","v":0},{"$f":"ROUND(IF(OR(AND($C112=LataProjekcji,$E112>0),AND($C112=LataProjekcji,$E112=0,$D113<=3.5)),$E113,IF($C112<LataProjekcji,IF((SUM($J114:S114)+$C114)<$C113,$C114,$C113-SUM($J114:S114)),0)),0)","v":0},{"$f":"ROUND(IF(OR(AND($C112=LataProjekcji,$E112>0),AND($C112=LataProjekcji,$E112=0,$D113<=3.5)),$E113,IF($C112<LataProjekcji,IF((SUM($J114:T114)+$C114)<$C113,$C114,$C113-SUM($J114:T114)),0)),0)","v":0},{"$f":"ROUND(IF(OR(AND($C112=LataProjekcji,$E112>0),AND($C112=LataProjekcji,$E112=0,$D113<=3.5)),$E113,IF($C112<LataProjekcji,IF((SUM($J114:U114)+$C114)<$C113,$C114,$C113-SUM($J114:U114)),0)),0)","v":0},{"$f":"ROUND(IF(OR(AND($C112=LataProjekcji,$E112>0),AND($C112=LataProjekcji,$E112=0,$D113<=3.5)),$E113,IF($C112<LataProjekcji,IF((SUM($J114:V114)+$C114)<$C113,$C114,$C113-SUM($J114:V114)),0)),0)","v":0}]
[null,"umorzenie",null,null,null,null,null,null,null,{"$f":"ROUND(J114,0)","v":0},{"$f":"ROUND(J115+K114,0)","v":0},0,0,0,0,0,0,0,0,0,0,0,0]
[null,"wartość netto",null,null,null,null,null,null,null,{"$f":"IF($C112=LataProjekcji,ROUND($C113-J115,0),ROUND(IF(J114=0,0,$C113-J115),0))","v":0},0,0,0,0,0,0,0,0,0,0,0,0,0]
[null,"grunty","wartość netto","rok i miesiąc zakupu","dofinansowanie %","dofinansowanie PLN",null,null,null,{"$f":"LataProjekcji","v":"Uzupełnij dane"},"","","","","","","","","","","","",""]
[null,{"$f":"IF(ISBLANK('Środki trwałe'!B184),\"\",'Środki trwałe'!B184)","v":""},{"$f":"IF(ISBLANK('Środki trwałe'!C184),\"\",'Środki trwałe'!C184)","v":""},{"$f":"IF(ISBLANK('Środki trwałe'!D184),\"\",'Środki trwałe'!D184)","v":""},{"$f":"IF(ISBLANK('Środki trwałe'!E184),\"\",'Środki trwałe'!E184)","v":""},{"$f":"IFERROR(IF(E118=0,0,ROUND(E118*C118,0)),0)","v":0},null,null,null,{"$f":"IFERROR(ROUND(IF(AND(YEAR($D118)=LataProjekcji,$F118>0),$F118,0),0),0)","v":0},0,0,0,0,0,0,0,0,0,0,0,0,0]
[null,{"$f":"IF(ISBLANK('Środki trwałe'!B185),\"\",'Środki trwałe'!B185)","v":""},{"$f":"IF(ISBLANK('Środki trwałe'!C185),\"\",'Środki trwałe'!C185)","v":""},{"$f":"IF(ISBLANK('Środki trwałe'!D185),\"\",'Środki trwałe'!D185)","v":""},{"$f":"IF(ISBLANK('Środki trwałe'!E185),\"\",'Środki trwałe'!E185)","v":""},{"$f":"IFERROR(IF(E119=0,0,ROUND(E119*C119,0)),0)","v":0},null,null,null,0,0,0,0,0,0,0,0,0,0,0,0,0,0]
[null,{"$f":"IF(ISBLANK('Środki trwałe'!B186),\"\",'Środki trwałe'!B186)","v":""},{"$f":"IF(ISBLANK('Środki trwałe'!C186),\"\",'Środki trwałe'!C186)","v":""},{"$f":"IF(ISBLANK('Środki trwałe'!D186),\"\",'Środki trwałe'!D186)","v":""},{"$f":"IF(ISBLANK('Środki trwałe'!E186),\"\",'Środki trwałe'!E186)","v":""},{"$f":"IFERROR(IF(E120=0,0,ROUND(E120*C120,0)),0)","v":0},null,null,null,0,0,0,0,0,0,0,0,0,0,0,0,0,0]
[null,{"$f":"IF(ISBLANK('Środki trwałe'!B187),\"\",'Środki trwałe'!B187)","v":""},{"$f":"IF(ISBLANK('Środki trwałe'!C187),\"\",'Środki trwałe'!C187)","v":""},{"$f":"IF(ISBLANK('Środki trwałe'!D187),\"\",'Środki trwałe'!D187)","v":""},{"$f":"IF(ISBLANK('Środki trwałe'!E187),\"\",'Środki trwałe'!E187)","v":""},{"$f":"IFERROR(IF(E121=0,0,ROUND(E121*C121,0)),0)","v":0},null,null,null,0,0,0,0,0,0,0,0,0,0,0,0,0,0]
[null,{"$f":"IF(ISBLANK('Środki trwałe'!B188),\"\",'Środki trwałe'!B188)","v":""},{"$f":"IF(ISBLANK('Środki trwałe'!C188),\"\",'Środki trwałe'!C188)","v":""},{"$f":"IF(ISBLANK('Środki trwałe'!D188),\"\",'Środki trwałe'!D188)","v":""},{"$f":"IF(ISBLANK('Środki trwałe'!E188),\"\",'Środki trwałe'!E188)","v":""},{"$f":"IFERROR(IF(E122=0,0,ROUND(E122*C122,0)),0)","v":0},null,null,null,0,0,0,0,0,0,0,0,0,0,0,0,0,0]
[null,"Razem",{"$f":"SUM(C118:C122)","v":0},null,null,{"$f":"SUM(F118:F122)","v":0},null,null,null,{"$f":"ROUND(SUM(J118:J122),0)","v":0},0,0,0,0,0,0,0,0,0,0,0,0,0]
[null,"     - dotacja w okresie (pozostałe przychody)",null,null,null,null,null,null,null,{"$f":"ROUND(J131+J138+J145+J152+J159,0)","v":0},{"$f":"ROUND(K131+K138+K145+K152+K159,0)","v":0},0,0,0,0,0,0,0,0,0,0,0,0]
[null,"     - dotacja narastająco",null,null,null,null,null,null,null,{"$f":"ROUND(J132+J139+J146+J153+J160,0)","v":0},{"$f":"ROUND(K132+K139+K146+K153+K160,0)","v":0},0,0,0,0,0,0,0,0,0,0,0,0]
[null,"     - rozliczenia międzyokresowe bierne",null,null,null,null,null,null,null,{"$f":"ROUND(J133+J140+J147+J154+J161,0)","v":0},{"$f":"ROUND(K133+K140+K147+K154+K161,0)","v":0},0,0,0,0,0,0,0,0,0,0,0,0]
[]
[null,"grunty",null,null,"ile miesiący do końca roku",null,"niekwalifikowalne","spr"]
[null,"rok zakupu",{"$f":"IFERROR(YEAR(D118),0)","v":0},{"$f":"IFERROR(MONTH(D118),0)","v":0},{"$f":"12-$D129","v":12},null,{"$f":"C123-F129","v":0},{"$f":"C123-F129-G129","v":0}]
[null,"wartość netto",{"$f":"IF(F118<0,0,F118)","v":0},{"$f":"C118","v":""},{"$f":"IF($C118>3.5,ROUND(($C131/12)*$E129,0),$C130)","v":0},"<- am. Do końca roku"]
[null,"amortyzacja roczna",{"$f":"IF(ISBLANK(D118),0,IF(C118>3.5,ROUND(C130*am_grunty,0),IF(C130<0,0,C130)))","v":0},null,null,null,null,null,null,{"$f":"ROUND(IF($C129=LataProjekcji,$E130,IF($C129=LataProjekcji,$C131,0)),0)","v":0},{"$f":"ROUND(IF(OR(AND($C129=LataProjekcji,$E129>0),AND($C129=LataProjekcji,$E129=0,$D130<=3.5)),$E130,IF($C129<LataProjekcji,IF((SUM($J131:J131)+$C131)<$C130,$C131,$C130-SUM($J131:J131)),0)),0)","v":0},{"$f":"ROUND(IF(OR(AND($C129=LataProjekcji,$E129>0),AND($C129=LataProjekcji,$E129=0,$D130<=3.5)),$E130,IF($C129<LataProjekcji,IF((SUM($J131:K131)+$C131)<$C130,$C131,$C130-SUM($J131:K131)),0)),0)","v":0},{"$f":"ROUND(IF(OR(AND($C129=LataProjekcji,$E129>0),AND($C129=LataProjekcji,$E129=0,$D130<=3.5)),$E130,IF($C129<LataProjekcji,IF((SUM($J131:L131)+$C131)<$C130,$C131,$C130-SUM($J131:L131)),0)),0)","v":0},{"$f":"ROUND(IF(OR(AND($C129=LataProjekcji,$E129>0),AND($C129=LataProjekcji,$E129=0,$D130<=3.5)),$E130,IF($C129<LataProjekcji,IF((SUM($J131:M131)+$C131)<$C130,$C131,$C130-SUM($J131:M131)),0)),0)","v":0},{"$f":"ROUND(IF(OR(AND($C129=LataProjekcji,$E129>0),AND($C129=LataProjekcji,$E129=0,$D130<=3.5)),$E130,IF($C129<LataProjekcji,IF((SUM($J131:N131)+$C131)<$C130,$C131,$C130-SUM($J131:N131)),0)),0)","v":0},{"$f":"ROUND(IF(OR(AND($C129=LataProjekcji,$E129>0),AND($C129=LataProjekcji,$E129=0,$D130<=3.5)),$E130,IF($C129<LataProjekcji,IF((SUM($J131:O131)+$C131)<$C130,$C131,$C130-SUM($J131:O131)),0)),0)","v":0},{"$f":"ROUND(IF(OR(AND($C129=LataProjekcji,$E129>0),AND($C129=LataProjekcji,$E129=0,$D130<=3.5)),$E130,IF($C129<LataProjekcji,IF((SUM($J131:P131)+$C131)<$C130,$C131,$C130-SUM($J131:P131)),0)),0)","v":0},{"$f":"ROUND(IF(OR(AND($C129=LataProjekcji,$E129>0),AND($C129=LataProjekcji,$E129=0,$D130<=3.5)),$E130,IF($C129<LataProjekcji,IF((SUM($J131:Q131)+$C131)<$C130,$C131,$C130-SUM($J131:Q131)),0)),0)","v":0},{"$f":"ROUND(IF(OR(AND($C129=LataProjekcji,$E129>0),AND($C129=LataProjekcji,$E129=0,$D130<=3.5)),$E130,IF($C129<LataProjekcji,IF((SUM($J131:R131)+$C131)<$C130,$C131,$C130-SUM($J131:R131)),0)),0)","v":0},{"$f":"ROUND(IF(OR(AND($C129=LataProjekcji,$E129>0),AND($C129=LataProjekcji,$E129=0,$D130<=3.5)),$E130,IF($C129<LataProjekcji,IF((SUM($J131:S131)+$C131)<$C130,$C131,$C130-SUM($J131:S131)),0)),0)","v":0},{"$f":"ROUND(IF(OR(AND($C129=LataProjekcji,$E129>0),AND($C129=LataProjekcji,$E129=0,$D130<=3.5)),$E130,IF($C129<LataProjekcji,IF((SUM($J131:T131)+$C131)<$C130,$C131,$C130-SUM($J131:T131)),0)),0)","v":0},{"$f":"ROUND(IF(OR(AND($C129=LataProjekcji,$E129>0),AND($C129=LataProjekcji,$E129=0,$D130<=3.5)),$E130,IF($C129<LataProjekcji,IF((SUM($J131:U131)+$C131)<$C130,$C131,$C130-SUM($J131:U131)),0)),0)","v":0},{"$f":"ROUND(IF(OR(AND($C129=LataProjekcji,$E129>0),AND($C129=LataProjekcji,$E129=0,$D130<=3.5)),$E130,IF($C129<LataProjekcji,IF((SUM($J131:V131)+$C131)<$C130,$C131,$C130-SUM($J131:V131)),0)),0)","v":0}]
[null,"umorzenie",null,null,null,null,null,null,null,{"$f":"ROUND(J131,0)","v":0},{"$f":"ROUND(J132+K131,0)","v":0},{"$f":"ROUND(K132+L131,0)","v":0},{"$f":"ROUND(L132+M131,0)","v":0},{"$f":"ROUND(M132+N131,0)","v":0},{"$f":"ROUND(N132+O131,0)","v":0},{"$f":"ROUND(O132+P131,0)","v":0},{"$f":"ROUND(P132+Q131,0)","v":0},{"$f":"ROUND(Q132+R131,0)","v":0},{"$f":"ROUND(R132+S131,0)","v":0},{"$f":"ROUND(S132+T131,0)","v":0},{"$f":"ROUND(T132+U131,0)","v":0},{"$f":"ROUND(U132+V131,0)","v":0},{"$f":"ROUND(V132+W131,0)","v":0}]
[null,"wartość netto",null,null,null,null,null,null,null,{"$f":"IF($C129=LataProjekcji,ROUND($C130-J132,0),ROUND(IF(J131=0,0,$C130-J132),0))","v":0},0,0,0,0,0,0,0,0,0,0,0,0,0]
[]
[null,"grunty"]
[null,"rok zakupu",{"$f":"IFERROR(YEAR(D119),0)","v":0},{"$f":"IFERROR(MONTH(D119),0)","v":0},{"$f":"12-$D136","v":12}]
[null,"wartość netto",{"$f":"IF(F119<0,0,F119)","v":0},{"$f":"C119","v":""},{"$f":"IF($C119>3.5,ROUND(($C138/12)*$E136,0),$C137)","v":0}]
[null,"amortyzacja roczna",{"$f":"IF(ISBLANK(D119),0,IF(C119>3.5,ROUND(C137*am_grunty,0),IF(C137<0,0,C137)))","v":0},null,null,null,null,null,null,{"$f":"ROUND(IF($C136=LataProjekcji,$E137,IF($C136=LataProjekcji,$C138,0)),0)","v":0},{"$f":"ROUND(IF(OR(AND($C136=LataProjekcji,$E136>0),AND($C136=LataProjekcji,$E136=0,$D137<=3.5)),$E137,IF($C136<LataProjekcji,IF((SUM($J138:J138)+$C138)<$C137,$C138,$C137-SUM($J138:J138)),0)),0)","v":0},{"$f":"ROUND(IF(OR(AND($C136=LataProjekcji,$E136>0),AND($C136=LataProjekcji,$E136=0,$D137<=3.5)),$E137,IF($C136<LataProjekcji,IF((SUM($J138:K138)+$C138)<$C137,$C138,$C137-SUM($J138:K138)),0)),0)","v":0},{"$f":"ROUND(IF(OR(AND($C136=LataProjekcji,$E136>0),AND($C136=LataProjekcji,$E136=0,$D137<=3.5)),$E137,IF($C136<LataProjekcji,IF((SUM($J138:L138)+$C138)<$C137,$C138,$C137-SUM($J138:L138)),0)),0)","v":0},{"$f":"ROUND(IF(OR(AND($C136=LataProjekcji,$E136>0),AND($C136=LataProjekcji,$E136=0,$D137<=3.5)),$E137,IF($C136<LataProjekcji,IF((SUM($J138:M138)+$C138)<$C137,$C138,$C137-SUM($J138:M138)),0)),0)","v":0},{"$f":"ROUND(IF(OR(AND($C136=LataProjekcji,$E136>0),AND($C136=LataProjekcji,$E136=0,$D137<=3.5)),$E137,IF($C136<LataProjekcji,IF((SUM($J138:N138)+$C138)<$C137,$C138,$C137-SUM($J138:N138)),0)),0)","v":0},{"$f":"ROUND(IF(OR(AND($C136=LataProjekcji,$E136>0),AND($C136=LataProjekcji,$E136=0,$D137<=3.5)),$E137,IF($C136<LataProjekcji,IF((SUM($J138:O138)+$C138)<$C137,$C138,$C137-SUM($J138:O138)),0)),0)","v":0},{"$f":"ROUND(IF(OR(AND($C136=LataProjekcji,$E136>0),AND($C136=LataProjekcji,$E136=0,$D137<=3.5)),$E137,IF($C136<LataProjekcji,IF((SUM($J138:P138)+$C138)<$C137,$C138,$C137-SUM($J138:P138)),0)),0)","v":0},{"$f":"ROUND(IF(OR(AND($C136=LataProjekcji,$E136>0),AND($C136=LataProjekcji,$E136=0,$D137<=3.5)),$E137,IF($C136<LataProjekcji,IF((SUM($J138:Q138)+$C138)<$C137,$C138,$C137-SUM($J138:Q138)),0)),0)","v":0},{"$f":"ROUND(IF(OR(AND($C136=LataProjekcji,$E136>0),AND($C136=LataProjekcji,$E136=0,$D137<=3.5)),$E137,IF($C136<LataProjekcji,IF((SUM($J138:R138)+$C138)<$C137,$C138,$C137-SUM($J138:R138)),0)),0)","v":0},{"$f":"ROUND(IF(OR(AND($C136=LataProjekcji,$E136>0),AND($C136=LataProjekcji,$E136=0,$D137<=3.5)),$E137,IF($C136<LataProjekcji,IF((SUM($J138:S138)+$C138)<$C137,$C138,$C137-SUM($J138:S138)),0)),0)","v":0},{"$f":"ROUND(IF(OR(AND($C136=LataProjekcji,$E136>0),AND($C136=LataProjekcji,$E136=0,$D137<=3.5)),$E137,IF($C136<LataProjekcji,IF((SUM($J138:T138)+$C138)<$C137,$C138,$C137-SUM($J138:T138)),0)),0)","v":0},{"$f":"ROUND(IF(OR(AND($C136=LataProjekcji,$E136>0),AND($C136=LataProjekcji,$E136=0,$D137<=3.5)),$E137,IF($C136<LataProjekcji,IF((SUM($J138:U138)+$C138)<$C137,$C138,$C137-SUM($J138:U138)),0)),0)","v":0},{"$f":"ROUND(IF(OR(AND($C136=LataProjekcji,$E136>0),AND($C136=LataProjekcji,$E136=0,$D137<=3.5)),$E137,IF($C136<LataProjekcji,IF((SUM($J138:V138)+$C138)<$C137,$C138,$C137-SUM($J138:V138)),0)),0)","v":0}]
[null,"umorzenie",null,null,null,null,null,null,null,{"$f":"ROUND(J138,0)","v":0},{"$f":"ROUND(J139+K138,0)","v":0},{"$f":"ROUND(K139+L138,0)","v":0},{"$f":"ROUND(L139+M138,0)","v":0},{"$f":"ROUND(M139+N138,0)","v":0},{"$f":"ROUND(N139+O138,0)","v":0},{"$f":"ROUND(O139+P138,0)","v":0},{"$f":"ROUND(P139+Q138,0)","v":0},{"$f":"ROUND(Q139+R138,0)","v":0},{"$f":"ROUND(R139+S138,0)","v":0},{"$f":"ROUND(S139+T138,0)","v":0},{"$f":"ROUND(T139+U138,0)","v":0},{"$f":"ROUND(U139+V138,0)","v":0},{"$f":"ROUND(V139+W138,0)","v":0}]
[null,"wartość netto",null,null,null,null,null,null,null,{"$f":"IF($C136=LataProjekcji,ROUND($C137-J139,0),ROUND(IF(J138=0,0,$C137-J139),0))","v":0},0,0,0,0,0,0,0,0,0,0,0,0,0]
[]
[null,"grunty"]
[null,"rok zakupu",{"$f":"IFERROR(YEAR(D120),0)","v":0},{"$f":"IFERROR(MONTH(D120),0)","v":0},{"$f":"12-$D143","v":12}]
[null,"wartość netto",{"$f":"IF(F120<0,0,F120)","v":0},{"$f":"C120","v":""},{"$f":"IF($C120>3.5,ROUND(($C145/12)*$E143,0),$C144)","v":0}]
[null,"amortyzacja roczna",{"$f":"IF(ISBLANK(D120),0,IF(C120>3.5,ROUND(C144*am_grunty,0),IF(C144<0,0,C144)))","v":0},null,null,null,null,null,null,{"$f":"ROUND(IF($C143=LataProjekcji,$E144,IF($C143=LataProjekcji,$C145,0)),0)","v":0},{"$f":"ROUND(IF(OR(AND($C143=LataProjekcji,$E143>0),AND($C143=LataProjekcji,$E143=0,$D144<=3.5)),$E144,IF($C143<LataProjekcji,IF((SUM($J145:J145)+$C145)<$C144,$C145,$C144-SUM($J145:J145)),0)),0)","v":0},{"$f":"ROUND(IF(OR(AND($C143=LataProjekcji,$E143>0),AND($C143=LataProjekcji,$E143=0,$D144<=3.5)),$E144,IF($C143<LataProjekcji,IF((SUM($J145:K145)+$C145)<$C144,$C145,$C144-SUM($J145:K145)),0)),0)","v":0},{"$f":"ROUND(IF(OR(AND($C143=LataProjekcji,$E143>0),AND($C143=LataProjekcji,$E143=0,$D144<=3.5)),$E144,IF($C143<LataProjekcji,IF((SUM($J145:L145)+$C145)<$C144,$C145,$C144-SUM($J145:L145)),0)),0)","v":0},{"$f":"ROUND(IF(OR(AND($C143=LataProjekcji,$E143>0),AND($C143=LataProjekcji,$E143=0,$D144<=3.5)),$E144,IF($C143<LataProjekcji,IF((SUM($J145:M145)+$C145)<$C144,$C145,$C144-SUM($J145:M145)),0)),0)","v":0},{"$f":"ROUND(IF(OR(AND($C143=LataProjekcji,$E143>0),AND($C143=LataProjekcji,$E143=0,$D144<=3.5)),$E144,IF($C143<LataProjekcji,IF((SUM($J145:N145)+$C145)<$C144,$C145,$C144-SUM($J145:N145)),0)),0)","v":0},{"$f":"ROUND(IF(OR(AND($C143=LataProjekcji,$E143>0),AND($C143=LataProjekcji,$E143=0,$D144<=3.5)),$E144,IF($C143<LataProjekcji,IF((SUM($J145:O145)+$C145)<$C144,$C145,$C144-SUM($J145:O145)),0)),0)","v":0},{"$f":"ROUND(IF(OR(AND($C143=LataProjekcji,$E143>0),AND($C143=LataProjekcji,$E143=0,$D144<=3.5)),$E144,IF($C143<LataProjekcji,IF((SUM($J145:P145)+$C145)<$C144,$C145,$C144-SUM($J145:P145)),0)),0)","v":0},{"$f":"ROUND(IF(OR(AND($C143=LataProjekcji,$E143>0),AND($C143=LataProjekcji,$E143=0,$D144<=3.5)),$E144,IF($C143<LataProjekcji,IF((SUM($J145:Q145)+$C145)<$C144,$C145,$C144-SUM($J145:Q145)),0)),0)","v":0},{"$f":"ROUND(IF(OR(AND($C143=LataProjekcji,$E143>0),AND($C143=LataProjekcji,$E143=0,$D144<=3.5)),$E144,IF($C143<LataProjekcji,IF((SUM($J145:R145)+$C145)<$C144,$C145,$C144-SUM($J145:R145)),0)),0)","v":0},{"$f":"ROUND(IF(OR(AND($C143=LataProjekcji,$E143>0),AND($C143=LataProjekcji,$E143=0,$D144<=3.5)),$E144,IF($C143<LataProjekcji,IF((SUM($J145:S145)+$C145)<$C144,$C145,$C144-SUM($J145:S145)),0)),0)","v":0},{"$f":"ROUND(IF(OR(AND($C143=LataProjekcji,$E143>0),AND($C143=LataProjekcji,$E143=0,$D144<=3.5)),$E144,IF($C143<LataProjekcji,IF((SUM($J145:T145)+$C145)<$C144,$C145,$C144-SUM($J145:T145)),0)),0)","v":0},{"$f":"ROUND(IF(OR(AND($C143=LataProjekcji,$E143>0),AND($C143=LataProjekcji,$E143=0,$D144<=3.5)),$E144,IF($C143<LataProjekcji,IF((SUM($J145:U145)+$C145)<$C144,$C145,$C144-SUM($J145:U145)),0)),0)","v":0},{"$f":"ROUND(IF(OR(AND($C143=LataProjekcji,$E143>0),AND($C143=LataProjekcji,$E143=0,$D144<=3.5)),$E144,IF($C143<LataProjekcji,IF((SUM($J145:V145)+$C145)<$C144,$C145,$C144-SUM($J145:V145)),0)),0)","v":0}]
[null,"umorzenie",null,null,null,null,null,null,null,{"$f":"ROUND(J145,0)","v":0},{"$f":"ROUND(J146+K145,0)","v":0},{"$f":"ROUND(K146+L145,0)","v":0},{"$f":"ROUND(L146+M145,0)","v":0},{"$f":"ROUND(M146+N145,0)","v":0},{"$f":"ROUND(N146+O145,0)","v":0},{"$f":"ROUND(O146+P145,0)","v":0},{"$f":"ROUND(P146+Q145,0)","v":0},{"$f":"ROUND(Q146+R145,0)","v":0},{"$f":"ROUND(R146+S145,0)","v":0},{"$f":"ROUND(S146+T145,0)","v":0},{"$f":"ROUND(T146+U145,0)","v":0},{"$f":"ROUND(U146+V145,0)","v":0},{"$f":"ROUND(V146+W145,0)","v":0}]
[null,"wartość netto",null,null,null,null,null,null,null,{"$f":"IF($C143=LataProjekcji,ROUND($C144-J146,0),ROUND(IF(J145=0,0,$C144-J146),0))","v":0},0,0,0,0,0,0,0,0,0,0,0,0,0]
[]
[null,"grunty"]
[null,"rok zakupu",{"$f":"IFERROR(YEAR(D121),0)","v":0},{"$f":"IFERROR(MONTH(D121),0)","v":0},{"$f":"12-$D150","v":12}]
[null,"wartość netto",{"$f":"IF(F121<0,0,F121)","v":0},{"$f":"C121","v":""},{"$f":"IF($C121>3.5,ROUND(($C152/12)*$E150,0),$C151)","v":0}]
[null,"amortyzacja roczna",{"$f":"IF(ISBLANK(D121),0,IF(C121>3.5,ROUND(C151*am_grunty,0),IF(C151<0,0,C151)))","v":0},null,null,null,null,null,null,{"$f":"ROUND(IF($C150=LataProjekcji,$E151,IF($C150=LataProjekcji,$C152,0)),0)","v":0},{"$f":"ROUND(IF(OR(AND($C150=LataProjekcji,$E150>0),AND($C150=LataProjekcji,$E150=0,$D151<=3.5)),$E151,IF($C150<LataProjekcji,IF((SUM($J152:J152)+$C152)<$C151,$C152,$C151-SUM($J152:J152)),0)),0)","v":0},{"$f":"ROUND(IF(OR(AND($C150=LataProjekcji,$E150>0),AND($C150=LataProjekcji,$E150=0,$D151<=3.5)),$E151,IF($C150<LataProjekcji,IF((SUM($J152:K152)+$C152)<$C151,$C152,$C151-SUM($J152:K152)),0)),0)","v":0},{"$f":"ROUND(IF(OR(AND($C150=LataProjekcji,$E150>0),AND($C150=LataProjekcji,$E150=0,$D151<=3.5)),$E151,IF($C150<LataProjekcji,IF((SUM($J152:L152)+$C152)<$C151,$C152,$C151-SUM($J152:L152)),0)),0)","v":0},{"$f":"ROUND(IF(OR(AND($C150=LataProjekcji,$E150>0),AND($C150=LataProjekcji,$E150=0,$D151<=3.5)),$E151,IF($C150<LataProjekcji,IF((SUM($J152:M152)+$C152)<$C151,$C152,$C151-SUM($J152:M152)),0)),0)","v":0},{"$f":"ROUND(IF(OR(AND($C150=LataProjekcji,$E150>0),AND($C150=LataProjekcji,$E150=0,$D151<=3.5)),$E151,IF($C150<LataProjekcji,IF((SUM($J152:N152)+$C152)<$C151,$C152,$C151-SUM($J152:N152)),0)),0)","v":0},{"$f":"ROUND(IF(OR(AND($C150=LataProjekcji,$E150>0),AND($C150=LataProjekcji,$E150=0,$D151<=3.5)),$E151,IF($C150<LataProjekcji,IF((SUM($J152:O152)+$C152)<$C151,$C152,$C151-SUM($J152:O152)),0)),0)","v":0},{"$f":"ROUND(IF(OR(AND($C150=LataProjekcji,$E150>0),AND($C150=LataProjekcji,$E150=0,$D151<=3.5)),$E151,IF($C150<LataProjekcji,IF((SUM($J152:P152)+$C152)<$C151,$C152,$C151-SUM($J152:P152)),0)),0)","v":0},{"$f":"ROUND(IF(OR(AND($C150=LataProjekcji,$E150>0),AND($C150=LataProjekcji,$E150=0,$D151<=3.5)),$E151,IF($C150<LataProjekcji,IF((SUM($J152:Q152)+$C152)<$C151,$C152,$C151-SUM($J152:Q152)),0)),0)","v":0},{"$f":"ROUND(IF(OR(AND($C150=LataProjekcji,$E150>0),AND($C150=LataProjekcji,$E150=0,$D151<=3.5)),$E151,IF($C150<LataProjekcji,IF((SUM($J152:R152)+$C152)<$C151,$C152,$C151-SUM($J152:R152)),0)),0)","v":0},{"$f":"ROUND(IF(OR(AND($C150=LataProjekcji,$E150>0),AND($C150=LataProjekcji,$E150=0,$D151<=3.5)),$E151,IF($C150<LataProjekcji,IF((SUM($J152:S152)+$C152)<$C151,$C152,$C151-SUM($J152:S152)),0)),0)","v":0},{"$f":"ROUND(IF(OR(AND($C150=LataProjekcji,$E150>0),AND($C150=LataProjekcji,$E150=0,$D151<=3.5)),$E151,IF($C150<LataProjekcji,IF((SUM($J152:T152)+$C152)<$C151,$C152,$C151-SUM($J152:T152)),0)),0)","v":0},{"$f":"ROUND(IF(OR(AND($C150=LataProjekcji,$E150>0),AND($C150=LataProjekcji,$E150=0,$D151<=3.5)),$E151,IF($C150<LataProjekcji,IF((SUM($J152:U152)+$C152)<$C151,$C152,$C151-SUM($J152:U152)),0)),0)","v":0},{"$f":"ROUND(IF(OR(AND($C150=LataProjekcji,$E150>0),AND($C150=LataProjekcji,$E150=0,$D151<=3.5)),$E151,IF($C150<LataProjekcji,IF((SUM($J152:V152)+$C152)<$C151,$C152,$C151-SUM($J152:V152)),0)),0)","v":0}]
[null,"umorzenie",null,null,null,null,null,null,null,{"$f":"ROUND(J152,0)","v":0},{"$f":"ROUND(J153+K152,0)","v":0},{"$f":"ROUND(K153+L152,0)","v":0},{"$f":"ROUND(L153+M152,0)","v":0},{"$f":"ROUND(M153+N152,0)","v":0},{"$f":"ROUND(N153+O152,0)","v":0},{"$f":"ROUND(O153+P152,0)","v":0},{"$f":"ROUND(P153+Q152,0)","v":0},{"$f":"ROUND(Q153+R152,0)","v":0},{"$f":"ROUND(R153+S152,0)","v":0},{"$f":"ROUND(S153+T152,0)","v":0},{"$f":"ROUND(T153+U152,0)","v":0},{"$f":"ROUND(U153+V152,0)","v":0},{"$f":"ROUND(V153+W152,0)","v":0}]
[null,"wartość netto",null,null,null,null,null,null,null,{"$f":"IF($C150=LataProjekcji,ROUND($C151-J153,0),ROUND(IF(J152=0,0,$C151-J153),0))","v":0},0,0,0,0,0,0,0,0,0,0,0,0,0]
[]
[null,"grunty"]
[null,"rok zakupu",{"$f":"IFERROR(YEAR(D122),0)","v":0},{"$f":"IFERROR(MONTH(D122),0)","v":0},{"$f":"12-$D157","v":12}]
[null,"wartość netto",{"$f":"IF(F122<0,0,F122)","v":0},{"$f":"C122","v":""},{"$f":"IF($C122>3.5,ROUND(($C159/12)*$E157,0),$C158)","v":0}]
[null,"amortyzacja roczna",{"$f":"IF(ISBLANK(D122),0,IF(C122>3.5,ROUND(C158*am_grunty,0),IF(C158<0,0,C158)))","v":0},null,null,null,null,null,null,{"$f":"ROUND(IF($C157=LataProjekcji,$E158,IF($C157=LataProjekcji,$C159,0)),0)","v":0},{"$f":"ROUND(IF(OR(AND($C157=LataProjekcji,$E157>0),AND($C157=LataProjekcji,$E157=0,$D158<=3.5)),$E158,IF($C157<LataProjekcji,IF((SUM($J159:J159)+$C159)<$C158,$C159,$C158-SUM($J159:J159)),0)),0)","v":0},{"$f":"ROUND(IF(OR(AND($C157=LataProjekcji,$E157>0),AND($C157=LataProjekcji,$E157=0,$D158<=3.5)),$E158,IF($C157<LataProjekcji,IF((SUM($J159:K159)+$C159)<$C158,$C159,$C158-SUM($J159:K159)),0)),0)","v":0},{"$f":"ROUND(IF(OR(AND($C157=LataProjekcji,$E157>0),AND($C157=LataProjekcji,$E157=0,$D158<=3.5)),$E158,IF($C157<LataProjekcji,IF((SUM($J159:L159)+$C159)<$C158,$C159,$C158-SUM($J159:L159)),0)),0)","v":0},{"$f":"ROUND(IF(OR(AND($C157=LataProjekcji,$E157>0),AND($C157=LataProjekcji,$E157=0,$D158<=3.5)),$E158,IF($C157<LataProjekcji,IF((SUM($J159:M159)+$C159)<$C158,$C159,$C158-SUM($J159:M159)),0)),0)","v":0},{"$f":"ROUND(IF(OR(AND($C157=LataProjekcji,$E157>0),AND($C157=LataProjekcji,$E157=0,$D158<=3.5)),$E158,IF($C157<LataProjekcji,IF((SUM($J159:N159)+$C159)<$C158,$C159,$C158-SUM($J159:N159)),0)),0)","v":0},{"$f":"ROUND(IF(OR(AND($C157=LataProjekcji,$E157>0),AND($C157=LataProjekcji,$E157=0,$D158<=3.5)),$E158,IF($C157<LataProjekcji,IF((SUM($J159:O159)+$C159)<$C158,$C159,$C158-SUM($J159:O159)),0)),0)","v":0},{"$f":"ROUND(IF(OR(AND($C157=LataProjekcji,$E157>0),AND($C157=LataProjekcji,$E157=0,$D158<=3.5)),$E158,IF($C157<LataProjekcji,IF((SUM($J159:P159)+$C159)<$C158,$C159,$C158-SUM($J159:P159)),0)),0)","v":0},{"$f":"ROUND(IF(OR(AND($C157=LataProjekcji,$E157>0),AND($C157=LataProjekcji,$E157=0,$D158<=3.5)),$E158,IF($C157<LataProjekcji,IF((SUM($J159:Q159)+$C159)<$C158,$C159,$C158-SUM($J159:Q159)),0)),0)","v":0},{"$f":"ROUND(IF(OR(AND($C157=LataProjekcji,$E157>0),AND($C157=LataProjekcji,$E157=0,$D158<=3.5)),$E158,IF($C157<LataProjekcji,IF((SUM($J159:R159)+$C159)<$C158,$C159,$C158-SUM($J159:R159)),0)),0)","v":0},{"$f":"ROUND(IF(OR(AND($C157=LataProjekcji,$E157>0),AND($C157=LataProjekcji,$E157=0,$D158<=3.5)),$E158,IF($C157<LataProjekcji,IF((SUM($J159:S159)+$C159)<$C158,$C159,$C158-SUM($J159:S159)),0)),0)","v":0},{"$f":"ROUND(IF(OR(AND($C157=LataProjekcji,$E157>0),AND($C157=LataProjekcji,$E157=0,$D158<=3.5)),$E158,IF($C157<LataProjekcji,IF((SUM($J159:T159)+$C159)<$C158,$C159,$C158-SUM($J159:T159)),0)),0)","v":0},{"$f":"ROUND(IF(OR(AND($C157=LataProjekcji,$E157>0),AND($C157=LataProjekcji,$E157=0,$D158<=3.5)),$E158,IF($C157<LataProjekcji,IF((SUM($J159:U159)+$C159)<$C158,$C159,$C158-SUM($J159:U159)),0)),0)","v":0},{"$f":"ROUND(IF(OR(AND($C157=LataProjekcji,$E157>0),AND($C157=LataProjekcji,$E157=0,$D158<=3.5)),$E158,IF($C157<LataProjekcji,IF((SUM($J159:V159)+$C159)<$C158,$C159,$C158-SUM($J159:V159)),0)),0)","v":0}]
[null,"umorzenie",null,null,null,null,null,null,null,{"$f":"ROUND(J159,0)","v":0},{"$f":"ROUND(J160+K159,0)","v":0},{"$f":"ROUND(K160+L159,0)","v":0},{"$f":"ROUND(L160+M159,0)","v":0},{"$f":"ROUND(M160+N159,0)","v":0},{"$f":"ROUND(N160+O159,0)","v":0},{"$f":"ROUND(O160+P159,0)","v":0},{"$f":"ROUND(P160+Q159,0)","v":0},{"$f":"ROUND(Q160+R159,0)","v":0},{"$f":"ROUND(R160+S159,0)","v":0},{"$f":"ROUND(S160+T159,0)","v":0},{"$f":"ROUND(T160+U159,0)","v":0},{"$f":"ROUND(U160+V159,0)","v":0},{"$f":"ROUND(V160+W159,0)","v":0}]
[null,"wartość netto",null,null,null,null,null,null,null,{"$f":"IF($C157=LataProjekcji,ROUND($C158-J160,0),ROUND(IF(J159=0,0,$C158-J160),0))","v":0},0,0,0,0,0,0,0,0,0,0,0,0,0]
[null,"budynki i budowle ","wartość netto","rok i miesiąc zakupu","dofinansowanie %","dofinansowanie PLN",null,null,null,{"$f":"LataProjekcji","v":"Uzupełnij dane"},"","","","","","","","","","","","",""]
[null,{"$f":"IF(ISBLANK('Środki trwałe'!B231),\"\",'Środki trwałe'!B231)","v":""},{"$f":"IF(ISBLANK('Środki trwałe'!C231),\"\",'Środki trwałe'!C231)","v":""},{"$f":"IF(ISBLANK('Środki trwałe'!D231),\"\",'Środki trwałe'!D231)","v":""},{"$f":"IF(ISBLANK('Środki trwałe'!E231),\"\",'Środki trwałe'!E231)","v":""},{"$f":"IFERROR(IF(E163=0,0,ROUND(E163*C163,0)),0)","v":0},null,null,null,{"$f":"IFERROR(ROUND(IF(AND(YEAR($D163)=LataProjekcji,$F163>0),$F163,0),0),0)","v":0},0,0,0,0,0,0,0,0,0,0,0,0,0]
[null,{"$f":"IF(ISBLANK('Środki trwałe'!B232),\"\",'Środki trwałe'!B232)","v":""},{"$f":"IF(ISBLANK('Środki trwałe'!C232),\"\",'Środki trwałe'!C232)","v":""},{"$f":"IF(ISBLANK('Środki trwałe'!D232),\"\",'Środki trwałe'!D232)","v":""},{"$f":"IF(ISBLANK('Środki trwałe'!E232),\"\",'Środki trwałe'!E232)","v":""},{"$f":"IFERROR(IF(E164=0,0,ROUND(E164*C164,0)),0)","v":0},null,null,null,0,0,0,0,0,0,0,0,0,0,0,0,0,0]
[null,{"$f":"IF(ISBLANK('Środki trwałe'!B233),\"\",'Środki trwałe'!B233)","v":""},{"$f":"IF(ISBLANK('Środki trwałe'!C233),\"\",'Środki trwałe'!C233)","v":""},{"$f":"IF(ISBLANK('Środki trwałe'!D233),\"\",'Środki trwałe'!D233)","v":""},{"$f":"IF(ISBLANK('Środki trwałe'!E233),\"\",'Środki trwałe'!E233)","v":""},{"$f":"IFERROR(IF(E165=0,0,ROUND(E165*C165,0)),0)","v":0},null,null,null,0,0,0,0,0,0,0,0,0,0,0,0,0,0]
[null,{"$f":"IF(ISBLANK('Środki trwałe'!B234),\"\",'Środki trwałe'!B234)","v":""},{"$f":"IF(ISBLANK('Środki trwałe'!C234),\"\",'Środki trwałe'!C234)","v":""},{"$f":"IF(ISBLANK('Środki trwałe'!D234),\"\",'Środki trwałe'!D234)","v":""},{"$f":"IF(ISBLANK('Środki trwałe'!E234),\"\",'Środki trwałe'!E234)","v":""},{"$f":"IFERROR(IF(E166=0,0,ROUND(E166*C166,0)),0)","v":0},null,null,null,0,0,0,0,0,0,0,0,0,0,0,0,0,0]
[null,{"$f":"IF(ISBLANK('Środki trwałe'!B235),\"\",'Środki trwałe'!B235)","v":""},{"$f":"IF(ISBLANK('Środki trwałe'!C235),\"\",'Środki trwałe'!C235)","v":""},{"$f":"IF(ISBLANK('Środki trwałe'!D235),\"\",'Środki trwałe'!D235)","v":""},{"$f":"IF(ISBLANK('Środki trwałe'!E235),\"\",'Środki trwałe'!E235)","v":""},{"$f":"IFERROR(IF(E167=0,0,ROUND(E167*C167,0)),0)","v":0},null,null,null,0,0,0,0,0,0,0,0,0,0,0,0,0,0]
[null,{"$f":"IF(ISBLANK('Środki trwałe'!B236),\"\",'Środki trwałe'!B236)","v":"zrealizowane środki trwałe w budowie"},{"$f":"IF(ISBLANK('Środki trwałe'!C236),\"\",'Środki trwałe'!C236)","v":0},{"$f":"IF(ISBLANK('Środki trwałe'!D236),\"\",'Środki trwałe'!D236)","v":""},{"$f":"IF(ISBLANK('Środki trwałe'!E247),\"\",'Środki trwałe'!E247)","v":""},{"$f":"IFERROR(IF(E168=0,0,ROUND(E168*C168,0)),0)","v":0},null,null,null,0,0,0,0,0,0,0,0,0,0,0,0,0,0]
[null,{"$f":"IF(ISBLANK('Środki trwałe'!B237),\"\",'Środki trwałe'!B237)","v":"zrealizowane środki trwałe w budowie"},{"$f":"IF(ISBLANK('Środki trwałe'!C237),\"\",'Środki trwałe'!C237)","v":0},{"$f":"IF(ISBLANK('Środki trwałe'!D237),\"\",'Środki trwałe'!D237)","v":""},{"$f":"IF(ISBLANK('Środki trwałe'!E248),\"\",'Środki trwałe'!E248)","v":""},0,null,null,null,0,0,0,0,0,0,0,0,0,0,0,0,0,0]
[null,{"$f":"IF(ISBLANK('Środki trwałe'!B238),\"\",'Środki trwałe'!B238)","v":"zrealizowane środki trwałe w budowie"},{"$f":"IF(ISBLANK('Środki trwałe'!C238),\"\",'Środki trwałe'!C238)","v":0},{"$f":"IF(ISBLANK('Środki trwałe'!D238),\"\",'Środki trwałe'!D238)","v":""},{"$f":"IF(ISBLANK('Środki trwałe'!E249),\"\",'Środki trwałe'!E249)","v":""},0,null,null,null,0,0,0,0,0,0,0,0,0,0,0,0,0,0]
[null,{"$f":"IF(ISBLANK('Środki trwałe'!B239),\"\",'Środki trwałe'!B239)","v":"zrealizowane środki trwałe w budowie"},{"$f":"IF(ISBLANK('Środki trwałe'!C239),\"\",'Środki trwałe'!C239)","v":0},{"$f":"IF(ISBLANK('Środki trwałe'!D239),\"\",'Środki trwałe'!D239)","v":""},{"$f":"IF(ISBLANK('Środki trwałe'!E250),\"\",'Środki trwałe'!E250)","v":""},0,null,null,null,0,0,0,0,0,0,0,0,0,0,0,0,0,0]
[null,{"$f":"IF(ISBLANK('Środki trwałe'!B240),\"\",'Środki trwałe'!B240)","v":"zrealizowane środki trwałe w budowie"},{"$f":"IF(ISBLANK('Środki trwałe'!C240),\"\",'Środki trwałe'!C240)","v":0},{"$f":"IF(ISBLANK('Środki trwałe'!D240),\"\",'Środki trwałe'!D240)","v":""},{"$f":"IF(ISBLANK('Środki trwałe'!E251),\"\",'Środki trwałe'!E251)","v":""},0,null,null,null,0,0,0,0,0,0,0,0,0,0,0,0,0,0]
[null,"Razem",{"$f":"SUM(C163:C172)","v":0},null,null,{"$f":"ROUND(SUM(F163:F172),0)","v":0},null,null,null,{"$f":"ROUND(SUM(J163:J172),0)","v":0},{"$f":"ROUND(SUM(K163:K172),0)","v":0},0,0,0,0,0,0,0,0,0,0,0,0]
[null,"     - dotacja w okresie (pozostałe przychody)",null,null,null,null,null,null,null,{"$f":"ROUND(J181+J188+J195+J202+J209+J216+J223+J230+J237+J244,0)","v":0},{"$f":"ROUND(K181+K188+K195+K202+K209+K216+K223+K230+K237+K244,0)","v":0},0,0,0,0,0,0,0,0,0,0,0,0]
[null,"     - dotacja narastająco",null,null,null,null,null,null,null,{"$f":"ROUND(J182+J189+J196+J203+J210+J217+J224+J231+J238+J245,0)","v":0},{"$f":"ROUND(K182+K189+K196+K203+K210+K217+K224+K231+K238+K245,0)","v":0},0,0,0,0,0,0,0,0,0,0,0,0]
[null,"     - rozliczenia międzyokresowe bierne",null,null,null,null,null,null,null,{"$f":"ROUND(J183+J190+J197+J204+J211+J218+J225+J232+J239+J246,0)","v":0},{"$f":"ROUND(K183+K190+K197+K204+K211+K218+K225+K232+K239+K246,0)","v":0},0,0,0,0,0,0,0,0,0,0,0,0]
[]
[null,"budynki i budowle ",null,null,"ile miesiący do końca roku",null,"niekwalifikowalne","spr"]
[null,"rok zakupu",{"$f":"IFERROR(YEAR(D163),0)","v":0},{"$f":"IFERROR(MONTH(D163),0)","v":0},{"$f":"12-$D179","v":12},null,{"$f":"C173-F179","v":0},{"$f":"C173-F179-G179","v":0}]
[null,"wartość netto",{"$f":"IF(F163<0,0,F163)","v":0},{"$f":"C163","v":""},{"$f":"IF($C163>3.5,ROUND(($C181/12)*$E179,0),$C180)","v":0},"<- am. Do końca roku"]
[null,"amortyzacja roczna",{"$f":"IF(ISBLANK(D163),0,IF(C163>3.5,ROUND(C180*am_budynki,0),IF(C180<0,0,C180)))","v":0},null,null,null,null,null,null,{"$f":"ROUND(IF($C179=LataProjekcji,$E180,IF($C179=LataProjekcji,$C181,0)),0)","v":0},{"$f":"ROUND(IF(OR(AND($C179=LataProjekcji,$E179>0),AND($C179=LataProjekcji,$E179=0,$D180<=3.5)),$E180,IF($C179<LataProjekcji,IF((SUM($J181:J181)+$C181)<$C180,$C181,$C180-SUM($J181:J181)),0)),0)","v":0},{"$f":"ROUND(IF(OR(AND($C179=LataProjekcji,$E179>0),AND($C179=LataProjekcji,$E179=0,$D180<=3.5)),$E180,IF($C179<LataProjekcji,IF((SUM($J181:K181)+$C181)<$C180,$C181,$C180-SUM($J181:K181)),0)),0)","v":0},{"$f":"ROUND(IF(OR(AND($C179=LataProjekcji,$E179>0),AND($C179=LataProjekcji,$E179=0,$D180<=3.5)),$E180,IF($C179<LataProjekcji,IF((SUM($J181:L181)+$C181)<$C180,$C181,$C180-SUM($J181:L181)),0)),0)","v":0},{"$f":"ROUND(IF(OR(AND($C179=LataProjekcji,$E179>0),AND($C179=LataProjekcji,$E179=0,$D180<=3.5)),$E180,IF($C179<LataProjekcji,IF((SUM($J181:M181)+$C181)<$C180,$C181,$C180-SUM($J181:M181)),0)),0)","v":0},{"$f":"ROUND(IF(OR(AND($C179=LataProjekcji,$E179>0),AND($C179=LataProjekcji,$E179=0,$D180<=3.5)),$E180,IF($C179<LataProjekcji,IF((SUM($J181:N181)+$C181)<$C180,$C181,$C180-SUM($J181:N181)),0)),0)","v":0},{"$f":"ROUND(IF(OR(AND($C179=LataProjekcji,$E179>0),AND($C179=LataProjekcji,$E179=0,$D180<=3.5)),$E180,IF($C179<LataProjekcji,IF((SUM($J181:O181)+$C181)<$C180,$C181,$C180-SUM($J181:O181)),0)),0)","v":0},{"$f":"ROUND(IF(OR(AND($C179=LataProjekcji,$E179>0),AND($C179=LataProjekcji,$E179=0,$D180<=3.5)),$E180,IF($C179<LataProjekcji,IF((SUM($J181:P181)+$C181)<$C180,$C181,$C180-SUM($J181:P181)),0)),0)","v":0},{"$f":"ROUND(IF(OR(AND($C179=LataProjekcji,$E179>0),AND($C179=LataProjekcji,$E179=0,$D180<=3.5)),$E180,IF($C179<LataProjekcji,IF((SUM($J181:Q181)+$C181)<$C180,$C181,$C180-SUM($J181:Q181)),0)),0)","v":0},{"$f":"ROUND(IF(OR(AND($C179=LataProjekcji,$E179>0),AND($C179=LataProjekcji,$E179=0,$D180<=3.5)),$E180,IF($C179<LataProjekcji,IF((SUM($J181:R181)+$C181)<$C180,$C181,$C180-SUM($J181:R181)),0)),0)","v":0},{"$f":"ROUND(IF(OR(AND($C179=LataProjekcji,$E179>0),AND($C179=LataProjekcji,$E179=0,$D180<=3.5)),$E180,IF($C179<LataProjekcji,IF((SUM($J181:S181)+$C181)<$C180,$C181,$C180-SUM($J181:S181)),0)),0)","v":0},{"$f":"ROUND(IF(OR(AND($C179=LataProjekcji,$E179>0),AND($C179=LataProjekcji,$E179=0,$D180<=3.5)),$E180,IF($C179<LataProjekcji,IF((SUM($J181:T181)+$C181)<$C180,$C181,$C180-SUM($J181:T181)),0)),0)","v":0},{"$f":"ROUND(IF(OR(AND($C179=LataProjekcji,$E179>0),AND($C179=LataProjekcji,$E179=0,$D180<=3.5)),$E180,IF($C179<LataProjekcji,IF((SUM($J181:U181)+$C181)<$C180,$C181,$C180-SUM($J181:U181)),0)),0)","v":0},{"$f":"ROUND(IF(OR(AND($C179=LataProjekcji,$E179>0),AND($C179=LataProjekcji,$E179=0,$D180<=3.5)),$E180,IF($C179<LataProjekcji,IF((SUM($J181:V181)+$C181)<$C180,$C181,$C180-SUM($J181:V181)),0)),0)","v":0}]
[null,"umorzenie",null,null,null,null,null,null,null,{"$f":"ROUND(J181,0)","v":0},{"$f":"ROUND(J182+K181,0)","v":0},{"$f":"ROUND(K182+L181,0)","v":0},{"$f":"ROUND(L182+M181,0)","v":0},{"$f":"ROUND(M182+N181,0)","v":0},{"$f":"ROUND(N182+O181,0)","v":0},{"$f":"ROUND(O182+P181,0)","v":0},{"$f":"ROUND(P182+Q181,0)","v":0},{"$f":"ROUND(Q182+R181,0)","v":0},{"$f":"ROUND(R182+S181,0)","v":0},{"$f":"ROUND(S182+T181,0)","v":0},{"$f":"ROUND(T182+U181,0)","v":0},{"$f":"ROUND(U182+V181,0)","v":0},{"$f":"ROUND(V182+W181,0)","v":0}]
[null,"wartość netto",null,null,null,null,null,null,null,{"$f":"IF($C179=LataProjekcji,ROUND($C180-J182,0),ROUND(IF(J181=0,0,$C180-J182),0))","v":0},0,0,0,0,0,0,0,0,0,0,0,0,0]
[]
[null,"budynki i budowle "]
[null,"rok zakupu",{"$f":"IFERROR(YEAR(D164),0)","v":0},{"$f":"IFERROR(MONTH(D164),0)","v":0},{"$f":"12-$D186","v":12}]
[null,"wartość netto",{"$f":"IF(F164<0,0,F164)","v":0},{"$f":"C164","v":""},{"$f":"IF($C164>3.5,ROUND(($C188/12)*$E186,0),$C187)","v":0}]
[null,"amortyzacja roczna",{"$f":"IF(ISBLANK(D164),0,IF(C164>3.5,ROUND(C187*am_budynki,0),IF(C187<0,0,C187)))","v":0},null,null,null,null,null,null,{"$f":"ROUND(IF($C186=LataProjekcji,$E187,IF($C186=LataProjekcji,$C188,0)),0)","v":0},{"$f":"ROUND(IF(OR(AND($C186=LataProjekcji,$E186>0),AND($C186=LataProjekcji,$E186=0,$D187<=3.5)),$E187,IF($C186<LataProjekcji,IF((SUM($J188:J188)+$C188)<$C187,$C188,$C187-SUM($J188:J188)),0)),0)","v":0},{"$f":"ROUND(IF(OR(AND($C186=LataProjekcji,$E186>0),AND($C186=LataProjekcji,$E186=0,$D187<=3.5)),$E187,IF($C186<LataProjekcji,IF((SUM($J188:K188)+$C188)<$C187,$C188,$C187-SUM($J188:K188)),0)),0)","v":0},{"$f":"ROUND(IF(OR(AND($C186=LataProjekcji,$E186>0),AND($C186=LataProjekcji,$E186=0,$D187<=3.5)),$E187,IF($C186<LataProjekcji,IF((SUM($J188:L188)+$C188)<$C187,$C188,$C187-SUM($J188:L188)),0)),0)","v":0},{"$f":"ROUND(IF(OR(AND($C186=LataProjekcji,$E186>0),AND($C186=LataProjekcji,$E186=0,$D187<=3.5)),$E187,IF($C186<LataProjekcji,IF((SUM($J188:M188)+$C188)<$C187,$C188,$C187-SUM($J188:M188)),0)),0)","v":0},{"$f":"ROUND(IF(OR(AND($C186=LataProjekcji,$E186>0),AND($C186=LataProjekcji,$E186=0,$D187<=3.5)),$E187,IF($C186<LataProjekcji,IF((SUM($J188:N188)+$C188)<$C187,$C188,$C187-SUM($J188:N188)),0)),0)","v":0},{"$f":"ROUND(IF(OR(AND($C186=LataProjekcji,$E186>0),AND($C186=LataProjekcji,$E186=0,$D187<=3.5)),$E187,IF($C186<LataProjekcji,IF((SUM($J188:O188)+$C188)<$C187,$C188,$C187-SUM($J188:O188)),0)),0)","v":0},{"$f":"ROUND(IF(OR(AND($C186=LataProjekcji,$E186>0),AND($C186=LataProjekcji,$E186=0,$D187<=3.5)),$E187,IF($C186<LataProjekcji,IF((SUM($J188:P188)+$C188)<$C187,$C188,$C187-SUM($J188:P188)),0)),0)","v":0},{"$f":"ROUND(IF(OR(AND($C186=LataProjekcji,$E186>0),AND($C186=LataProjekcji,$E186=0,$D187<=3.5)),$E187,IF($C186<LataProjekcji,IF((SUM($J188:Q188)+$C188)<$C187,$C188,$C187-SUM($J188:Q188)),0)),0)","v":0},{"$f":"ROUND(IF(OR(AND($C186=LataProjekcji,$E186>0),AND($C186=LataProjekcji,$E186=0,$D187<=3.5)),$E187,IF($C186<LataProjekcji,IF((SUM($J188:R188)+$C188)<$C187,$C188,$C187-SUM($J188:R188)),0)),0)","v":0},{"$f":"ROUND(IF(OR(AND($C186=LataProjekcji,$E186>0),AND($C186=LataProjekcji,$E186=0,$D187<=3.5)),$E187,IF($C186<LataProjekcji,IF((SUM($J188:S188)+$C188)<$C187,$C188,$C187-SUM($J188:S188)),0)),0)","v":0},{"$f":"ROUND(IF(OR(AND($C186=LataProjekcji,$E186>0),AND($C186=LataProjekcji,$E186=0,$D187<=3.5)),$E187,IF($C186<LataProjekcji,IF((SUM($J188:T188)+$C188)<$C187,$C188,$C187-SUM($J188:T188)),0)),0)","v":0},{"$f":"ROUND(IF(OR(AND($C186=LataProjekcji,$E186>0),AND($C186=LataProjekcji,$E186=0,$D187<=3.5)),$E187,IF($C186<LataProjekcji,IF((SUM($J188:U188)+$C188)<$C187,$C188,$C187-SUM($J188:U188)),0)),0)","v":0},{"$f":"ROUND(IF(OR(AND($C186=LataProjekcji,$E186>0),AND($C186=LataProjekcji,$E186=0,$D187<=3.5)),$E187,IF($C186<LataProjekcji,IF((SUM($J188:V188)+$C188)<$C187,$C188,$C187-SUM($J188:V188)),0)),0)","v":0}]
[null,"umorzenie",null,null,null,null,null,null,null,{"$f":"ROUND(J188,0)","v":0},{"$f":"ROUND(J189+K188,0)","v":0},{"$f":"ROUND(K189+L188,0)","v":0},{"$f":"ROUND(L189+M188,0)","v":0},{"$f":"ROUND(M189+N188,0)","v":0},{"$f":"ROUND(N189+O188,0)","v":0},{"$f":"ROUND(O189+P188,0)","v":0},{"$f":"ROUND(P189+Q188,0)","v":0},{"$f":"ROUND(Q189+R188,0)","v":0},{"$f":"ROUND(R189+S188,0)","v":0},{"$f":"ROUND(S189+T188,0)","v":0},{"$f":"ROUND(T189+U188,0)","v":0},{"$f":"ROUND(U189+V188,0)","v":0},{"$f":"ROUND(V189+W188,0)","v":0}]
[null,"wartość netto",null,null,null,null,null,null,null,{"$f":"IF($C186=LataProjekcji,ROUND($C187-J189,0),ROUND(IF(J188=0,0,$C187-J189),0))","v":0},0,0,0,0,0,0,0,0,0,0,0,0,0]
[]
[null,"budynki i budowle "]
[null,"rok zakupu",{"$f":"IFERROR(YEAR(D165),0)","v":0},{"$f":"IFERROR(MONTH(D165),0)","v":0},{"$f":"12-$D193","v":12}]
[null,"wartość netto",{"$f":"IF(F165<0,0,F165)","v":0},{"$f":"C165","v":""},{"$f":"IF($C165>3.5,ROUND(($C195/12)*$E193,0),$C194)","v":0}]
[null,"amortyzacja roczna",{"$f":"IF(ISBLANK(D165),0,IF(C165>3.5,ROUND(C194*am_budynki,0),IF(C194<0,0,C194)))","v":0},null,null,null,null,null,null,{"$f":"ROUND(IF($C193=LataProjekcji,$E194,IF($C193=LataProjekcji,$C195,0)),0)","v":0},{"$f":"ROUND(IF(OR(AND($C193=LataProjekcji,$E193>0),AND($C193=LataProjekcji,$E193=0,$D194<=3.5)),$E194,IF($C193<LataProjekcji,IF((SUM($J195:J195)+$C195)<$C194,$C195,$C194-SUM($J195:J195)),0)),0)","v":0},{"$f":"ROUND(IF(OR(AND($C193=LataProjekcji,$E193>0),AND($C193=LataProjekcji,$E193=0,$D194<=3.5)),$E194,IF($C193<LataProjekcji,IF((SUM($J195:K195)+$C195)<$C194,$C195,$C194-SUM($J195:K195)),0)),0)","v":0},{"$f":"ROUND(IF(OR(AND($C193=LataProjekcji,$E193>0),AND($C193=LataProjekcji,$E193=0,$D194<=3.5)),$E194,IF($C193<LataProjekcji,IF((SUM($J195:L195)+$C195)<$C194,$C195,$C194-SUM($J195:L195)),0)),0)","v":0},{"$f":"ROUND(IF(OR(AND($C193=LataProjekcji,$E193>0),AND($C193=LataProjekcji,$E193=0,$D194<=3.5)),$E194,IF($C193<LataProjekcji,IF((SUM($J195:M195)+$C195)<$C194,$C195,$C194-SUM($J195:M195)),0)),0)","v":0},{"$f":"ROUND(IF(OR(AND($C193=LataProjekcji,$E193>0),AND($C193=LataProjekcji,$E193=0,$D194<=3.5)),$E194,IF($C193<LataProjekcji,IF((SUM($J195:N195)+$C195)<$C194,$C195,$C194-SUM($J195:N195)),0)),0)","v":0},{"$f":"ROUND(IF(OR(AND($C193=LataProjekcji,$E193>0),AND($C193=LataProjekcji,$E193=0,$D194<=3.5)),$E194,IF($C193<LataProjekcji,IF((SUM($J195:O195)+$C195)<$C194,$C195,$C194-SUM($J195:O195)),0)),0)","v":0},{"$f":"ROUND(IF(OR(AND($C193=LataProjekcji,$E193>0),AND($C193=LataProjekcji,$E193=0,$D194<=3.5)),$E194,IF($C193<LataProjekcji,IF((SUM($J195:P195)+$C195)<$C194,$C195,$C194-SUM($J195:P195)),0)),0)","v":0},{"$f":"ROUND(IF(OR(AND($C193=LataProjekcji,$E193>0),AND($C193=LataProjekcji,$E193=0,$D194<=3.5)),$E194,IF($C193<LataProjekcji,IF((SUM($J195:Q195)+$C195)<$C194,$C195,$C194-SUM($J195:Q195)),0)),0)","v":0},{"$f":"ROUND(IF(OR(AND($C193=LataProjekcji,$E193>0),AND($C193=LataProjekcji,$E193=0,$D194<=3.5)),$E194,IF($C193<LataProjekcji,IF((SUM($J195:R195)+$C195)<$C194,$C195,$C194-SUM($J195:R195)),0)),0)","v":0},{"$f":"ROUND(IF(OR(AND($C193=LataProjekcji,$E193>0),AND($C193=LataProjekcji,$E193=0,$D194<=3.5)),$E194,IF($C193<LataProjekcji,IF((SUM($J195:S195)+$C195)<$C194,$C195,$C194-SUM($J195:S195)),0)),0)","v":0},{"$f":"ROUND(IF(OR(AND($C193=LataProjekcji,$E193>0),AND($C193=LataProjekcji,$E193=0,$D194<=3.5)),$E194,IF($C193<LataProjekcji,IF((SUM($J195:T195)+$C195)<$C194,$C195,$C194-SUM($J195:T195)),0)),0)","v":0},{"$f":"ROUND(IF(OR(AND($C193=LataProjekcji,$E193>0),AND($C193=LataProjekcji,$E193=0,$D194<=3.5)),$E194,IF($C193<LataProjekcji,IF((SUM($J195:U195)+$C195)<$C194,$C195,$C194-SUM($J195:U195)),0)),0)","v":0},{"$f":"ROUND(IF(OR(AND($C193=LataProjekcji,$E193>0),AND($C193=LataProjekcji,$E193=0,$D194<=3.5)),$E194,IF($C193<LataProjekcji,IF((SUM($J195:V195)+$C195)<$C194,$C195,$C194-SUM($J195:V195)),0)),0)","v":0}]
[null,"umorzenie",null,null,null,null,null,null,null,{"$f":"ROUND(J195,0)","v":0},{"$f":"ROUND(J196+K195,0)","v":0},{"$f":"ROUND(K196+L195,0)","v":0},{"$f":"ROUND(L196+M195,0)","v":0},{"$f":"ROUND(M196+N195,0)","v":0},{"$f":"ROUND(N196+O195,0)","v":0},{"$f":"ROUND(O196+P195,0)","v":0},{"$f":"ROUND(P196+Q195,0)","v":0},{"$f":"ROUND(Q196+R195,0)","v":0},{"$f":"ROUND(R196+S195,0)","v":0},{"$f":"ROUND(S196+T195,0)","v":0},{"$f":"ROUND(T196+U195,0)","v":0},{"$f":"ROUND(U196+V195,0)","v":0},{"$f":"ROUND(V196+W195,0)","v":0}]
[null,"wartość netto",null,null,null,null,null,null,null,{"$f":"IF($C193=LataProjekcji,ROUND($C194-J196,0),ROUND(IF(J195=0,0,$C194-J196),0))","v":0},0,0,0,0,0,0,0,0,0,0,0,0,0]
[]
[null,"budynki i budowle "]
[null,"rok zakupu",{"$f":"IFERROR(YEAR(D166),0)","v":0},{"$f":"IFERROR(MONTH(D166),0)","v":0},{"$f":"12-$D200","v":12}]
[null,"wartość netto",{"$f":"IF(F166<0,0,F166)","v":0},{"$f":"C166","v":""},{"$f":"IF($C166>3.5,ROUND(($C202/12)*$E200,0),$C201)","v":0}]
[null,"amortyzacja roczna",{"$f":"IF(ISBLANK(D166),0,IF(C166>3.5,ROUND(C201*am_budynki,0),IF(C201<0,0,C201)))","v":0},null,null,null,null,null,null,{"$f":"ROUND(IF($C200=LataProjekcji,$E201,IF($C200=LataProjekcji,$C202,0)),0)","v":0},{"$f":"ROUND(IF(OR(AND($C200=LataProjekcji,$E200>0),AND($C200=LataProjekcji,$E200=0,$D201<=3.5)),$E201,IF($C200<LataProjekcji,IF((SUM($J202:J202)+$C202)<$C201,$C202,$C201-SUM($J202:J202)),0)),0)","v":0},{"$f":"ROUND(IF(OR(AND($C200=LataProjekcji,$E200>0),AND($C200=LataProjekcji,$E200=0,$D201<=3.5)),$E201,IF($C200<LataProjekcji,IF((SUM($J202:K202)+$C202)<$C201,$C202,$C201-SUM($J202:K202)),0)),0)","v":0},{"$f":"ROUND(IF(OR(AND($C200=LataProjekcji,$E200>0),AND($C200=LataProjekcji,$E200=0,$D201<=3.5)),$E201,IF($C200<LataProjekcji,IF((SUM($J202:L202)+$C202)<$C201,$C202,$C201-SUM($J202:L202)),0)),0)","v":0},{"$f":"ROUND(IF(OR(AND($C200=LataProjekcji,$E200>0),AND($C200=LataProjekcji,$E200=0,$D201<=3.5)),$E201,IF($C200<LataProjekcji,IF((SUM($J202:M202)+$C202)<$C201,$C202,$C201-SUM($J202:M202)),0)),0)","v":0},{"$f":"ROUND(IF(OR(AND($C200=LataProjekcji,$E200>0),AND($C200=LataProjekcji,$E200=0,$D201<=3.5)),$E201,IF($C200<LataProjekcji,IF((SUM($J202:N202)+$C202)<$C201,$C202,$C201-SUM($J202:N202)),0)),0)","v":0},{"$f":"ROUND(IF(OR(AND($C200=LataProjekcji,$E200>0),AND($C200=LataProjekcji,$E200=0,$D201<=3.5)),$E201,IF($C200<LataProjekcji,IF((SUM($J202:O202)+$C202)<$C201,$C202,$C201-SUM($J202:O202)),0)),0)","v":0},{"$f":"ROUND(IF(OR(AND($C200=LataProjekcji,$E200>0),AND($C200=LataProjekcji,$E200=0,$D201<=3.5)),$E201,IF($C200<LataProjekcji,IF((SUM($J202:P202)+$C202)<$C201,$C202,$C201-SUM($J202:P202)),0)),0)","v":0},{"$f":"ROUND(IF(OR(AND($C200=LataProjekcji,$E200>0),AND($C200=LataProjekcji,$E200=0,$D201<=3.5)),$E201,IF($C200<LataProjekcji,IF((SUM($J202:Q202)+$C202)<$C201,$C202,$C201-SUM($J202:Q202)),0)),0)","v":0},{"$f":"ROUND(IF(OR(AND($C200=LataProjekcji,$E200>0),AND($C200=LataProjekcji,$E200=0,$D201<=3.5)),$E201,IF($C200<LataProjekcji,IF((SUM($J202:R202)+$C202)<$C201,$C202,$C201-SUM($J202:R202)),0)),0)","v":0},{"$f":"ROUND(IF(OR(AND($C200=LataProjekcji,$E200>0),AND($C200=LataProjekcji,$E200=0,$D201<=3.5)),$E201,IF($C200<LataProjekcji,IF((SUM($J202:S202)+$C202)<$C201,$C202,$C201-SUM($J202:S202)),0)),0)","v":0},{"$f":"ROUND(IF(OR(AND($C200=LataProjekcji,$E200>0),AND($C200=LataProjekcji,$E200=0,$D201<=3.5)),$E201,IF($C200<LataProjekcji,IF((SUM($J202:T202)+$C202)<$C201,$C202,$C201-SUM($J202:T202)),0)),0)","v":0},{"$f":"ROUND(IF(OR(AND($C200=LataProjekcji,$E200>0),AND($C200=LataProjekcji,$E200=0,$D201<=3.5)),$E201,IF($C200<LataProjekcji,IF((SUM($J202:U202)+$C202)<$C201,$C202,$C201-SUM($J202:U202)),0)),0)","v":0},{"$f":"ROUND(IF(OR(AND($C200=LataProjekcji,$E200>0),AND($C200=LataProjekcji,$E200=0,$D201<=3.5)),$E201,IF($C200<LataProjekcji,IF((SUM($J202:V202)+$C202)<$C201,$C202,$C201-SUM($J202:V202)),0)),0)","v":0}]
[null,"umorzenie",null,null,null,null,null,null,null,{"$f":"ROUND(J202,0)","v":0},{"$f":"ROUND(J203+K202,0)","v":0},{"$f":"ROUND(K203+L202,0)","v":0},{"$f":"ROUND(L203+M202,0)","v":0},{"$f":"ROUND(M203+N202,0)","v":0},{"$f":"ROUND(N203+O202,0)","v":0},{"$f":"ROUND(O203+P202,0)","v":0},{"$f":"ROUND(P203+Q202,0)","v":0},{"$f":"ROUND(Q203+R202,0)","v":0},{"$f":"ROUND(R203+S202,0)","v":0},{"$f":"ROUND(S203+T202,0)","v":0},{"$f":"ROUND(T203+U202,0)","v":0},{"$f":"ROUND(U203+V202,0)","v":0},{"$f":"ROUND(V203+W202,0)","v":0}]
[null,"wartość netto",null,null,null,null,null,null,null,{"$f":"IF($C200=LataProjekcji,ROUND($C201-J203,0),ROUND(IF(J202=0,0,$C201-J203),0))","v":0},0,0,0,0,0,0,0,0,0,0,0,0,0]
[]
[null,"budynki i budowle "]
[null,"rok zakupu",{"$f":"IFERROR(YEAR(D167),0)","v":0},{"$f":"IFERROR(MONTH(D167),0)","v":0},{"$f":"12-$D207","v":12}]
[null,"wartość netto",{"$f":"IF(F167<0,0,F167)","v":0},{"$f":"C167","v":""},{"$f":"IF($C167>3.5,ROUND(($C209/12)*$E207,0),$C208)","v":0}]
[null,"amortyzacja roczna",{"$f":"IF(ISBLANK(D167),0,IF(C167>3.5,ROUND(C208*am_budynki,0),IF(C208<0,0,C208)))","v":0},null,null,null,null,null,null,{"$f":"ROUND(IF($C207=LataProjekcji,$E208,IF($C207=LataProjekcji,$C209,0)),0)","v":0},{"$f":"ROUND(IF(OR(AND($C207=LataProjekcji,$E207>0),AND($C207=LataProjekcji,$E207=0,$D208<=3.5)),$E208,IF($C207<LataProjekcji,IF((SUM($J209:J209)+$C209)<$C208,$C209,$C208-SUM($J209:J209)),0)),0)","v":0},{"$f":"ROUND(IF(OR(AND($C207=LataProjekcji,$E207>0),AND($C207=LataProjekcji,$E207=0,$D208<=3.5)),$E208,IF($C207<LataProjekcji,IF((SUM($J209:K209)+$C209)<$C208,$C209,$C208-SUM($J209:K209)),0)),0)","v":0},{"$f":"ROUND(IF(OR(AND($C207=LataProjekcji,$E207>0),AND($C207=LataProjekcji,$E207=0,$D208<=3.5)),$E208,IF($C207<LataProjekcji,IF((SUM($J209:L209)+$C209)<$C208,$C209,$C208-SUM($J209:L209)),0)),0)","v":0},{"$f":"ROUND(IF(OR(AND($C207=LataProjekcji,$E207>0),AND($C207=LataProjekcji,$E207=0,$D208<=3.5)),$E208,IF($C207<LataProjekcji,IF((SUM($J209:M209)+$C209)<$C208,$C209,$C208-SUM($J209:M209)),0)),0)","v":0},{"$f":"ROUND(IF(OR(AND($C207=LataProjekcji,$E207>0),AND($C207=LataProjekcji,$E207=0,$D208<=3.5)),$E208,IF($C207<LataProjekcji,IF((SUM($J209:N209)+$C209)<$C208,$C209,$C208-SUM($J209:N209)),0)),0)","v":0},{"$f":"ROUND(IF(OR(AND($C207=LataProjekcji,$E207>0),AND($C207=LataProjekcji,$E207=0,$D208<=3.5)),$E208,IF($C207<LataProjekcji,IF((SUM($J209:O209)+$C209)<$C208,$C209,$C208-SUM($J209:O209)),0)),0)","v":0},{"$f":"ROUND(IF(OR(AND($C207=LataProjekcji,$E207>0),AND($C207=LataProjekcji,$E207=0,$D208<=3.5)),$E208,IF($C207<LataProjekcji,IF((SUM($J209:P209)+$C209)<$C208,$C209,$C208-SUM($J209:P209)),0)),0)","v":0},{"$f":"ROUND(IF(OR(AND($C207=LataProjekcji,$E207>0),AND($C207=LataProjekcji,$E207=0,$D208<=3.5)),$E208,IF($C207<LataProjekcji,IF((SUM($J209:Q209)+$C209)<$C208,$C209,$C208-SUM($J209:Q209)),0)),0)","v":0},{"$f":"ROUND(IF(OR(AND($C207=LataProjekcji,$E207>0),AND($C207=LataProjekcji,$E207=0,$D208<=3.5)),$E208,IF($C207<LataProjekcji,IF((SUM($J209:R209)+$C209)<$C208,$C209,$C208-SUM($J209:R209)),0)),0)","v":0},{"$f":"ROUND(IF(OR(AND($C207=LataProjekcji,$E207>0),AND($C207=LataProjekcji,$E207=0,$D208<=3.5)),$E208,IF($C207<LataProjekcji,IF((SUM($J209:S209)+$C209)<$C208,$C209,$C208-SUM($J209:S209)),0)),0)","v":0},{"$f":"ROUND(IF(OR(AND($C207=LataProjekcji,$E207>0),AND($C207=LataProjekcji,$E207=0,$D208<=3.5)),$E208,IF($C207<LataProjekcji,IF((SUM($J209:T209)+$C209)<$C208,$C209,$C208-SUM($J209:T209)),0)),0)","v":0},{"$f":"ROUND(IF(OR(AND($C207=LataProjekcji,$E207>0),AND($C207=LataProjekcji,$E207=0,$D208<=3.5)),$E208,IF($C207<LataProjekcji,IF((SUM($J209:U209)+$C209)<$C208,$C209,$C208-SUM($J209:U209)),0)),0)","v":0},{"$f":"ROUND(IF(OR(AND($C207=LataProjekcji,$E207>0),AND($C207=LataProjekcji,$E207=0,$D208<=3.5)),$E208,IF($C207<LataProjekcji,IF((SUM($J209:V209)+$C209)<$C208,$C209,$C208-SUM($J209:V209)),0)),0)","v":0}]
[null,"umorzenie",null,null,null,null,null,null,null,{"$f":"ROUND(J209,0)","v":0},{"$f":"ROUND(J210+K209,0)","v":0},{"$f":"ROUND(K210+L209,0)","v":0},{"$f":"ROUND(L210+M209,0)","v":0},{"$f":"ROUND(M210+N209,0)","v":0},{"$f":"ROUND(N210+O209,0)","v":0},{"$f":"ROUND(O210+P209,0)","v":0},{"$f":"ROUND(P210+Q209,0)","v":0},{"$f":"ROUND(Q210+R209,0)","v":0},{"$f":"ROUND(R210+S209,0)","v":0},{"$f":"ROUND(S210+T209,0)","v":0},{"$f":"ROUND(T210+U209,0)","v":0},{"$f":"ROUND(U210+V209,0)","v":0},{"$f":"ROUND(V210+W209,0)","v":0}]
[null,"wartość netto",null,null,null,null,null,null,null,{"$f":"IF($C207=LataProjekcji,ROUND($C208-J210,0),ROUND(IF(J209=0,0,$C208-J210),0))","v":0},0,0,0,0,0,0,0,0,0,0,0,0,0]
[]
[null,{"$f":"B168","v":"zrealizowane środki trwałe w budowie"},null,null,null,null,"niekwalifikowalne","spr"]
[null,"rok zakupu",{"$f":"IFERROR(YEAR(D168),0)","v":0},{"$f":"IFERROR(MONTH(D168),0)","v":0},{"$f":"12-$D214","v":12},null,{"$f":"C208-F214","v":0},{"$f":"C208-F214-G214","v":0}]
[null,"wartość netto",{"$f":"IF(F168<0,0,F168)","v":0},{"$f":"C168","v":0},{"$f":"IF($C168>3.5,ROUND(($C216/12)*$E214,0),$C215)","v":0},"<- am. Do końca roku"]
[null,"amortyzacja roczna",{"$f":"IF(ISBLANK(D168),0,IF(C168>3.5,ROUND(C215*am_budynki,0),IF(C215<0,0,C215)))","v":0},null,null,null,null,null,null,{"$f":"ROUND(IF($C214=LataProjekcji,$E215,IF($C214=LataProjekcji,$C216,0)),0)","v":0},{"$f":"ROUND(IF(OR(AND($C214=LataProjekcji,$E214>0),AND($C214=LataProjekcji,$E214=0,$D215<=3.5)),$E215,IF($C214<LataProjekcji,IF((SUM($J216:J216)+$C216)<$C215,$C216,$C215-SUM($J216:J216)),0)),0)","v":0},{"$f":"ROUND(IF(OR(AND($C214=LataProjekcji,$E214>0),AND($C214=LataProjekcji,$E214=0,$D215<=3.5)),$E215,IF($C214<LataProjekcji,IF((SUM($J216:K216)+$C216)<$C215,$C216,$C215-SUM($J216:K216)),0)),0)","v":0},{"$f":"ROUND(IF(OR(AND($C214=LataProjekcji,$E214>0),AND($C214=LataProjekcji,$E214=0,$D215<=3.5)),$E215,IF($C214<LataProjekcji,IF((SUM($J216:L216)+$C216)<$C215,$C216,$C215-SUM($J216:L216)),0)),0)","v":0},{"$f":"ROUND(IF(OR(AND($C214=LataProjekcji,$E214>0),AND($C214=LataProjekcji,$E214=0,$D215<=3.5)),$E215,IF($C214<LataProjekcji,IF((SUM($J216:M216)+$C216)<$C215,$C216,$C215-SUM($J216:M216)),0)),0)","v":0},{"$f":"ROUND(IF(OR(AND($C214=LataProjekcji,$E214>0),AND($C214=LataProjekcji,$E214=0,$D215<=3.5)),$E215,IF($C214<LataProjekcji,IF((SUM($J216:N216)+$C216)<$C215,$C216,$C215-SUM($J216:N216)),0)),0)","v":0},{"$f":"ROUND(IF(OR(AND($C214=LataProjekcji,$E214>0),AND($C214=LataProjekcji,$E214=0,$D215<=3.5)),$E215,IF($C214<LataProjekcji,IF((SUM($J216:O216)+$C216)<$C215,$C216,$C215-SUM($J216:O216)),0)),0)","v":0},{"$f":"ROUND(IF(OR(AND($C214=LataProjekcji,$E214>0),AND($C214=LataProjekcji,$E214=0,$D215<=3.5)),$E215,IF($C214<LataProjekcji,IF((SUM($J216:P216)+$C216)<$C215,$C216,$C215-SUM($J216:P216)),0)),0)","v":0},{"$f":"ROUND(IF(OR(AND($C214=LataProjekcji,$E214>0),AND($C214=LataProjekcji,$E214=0,$D215<=3.5)),$E215,IF($C214<LataProjekcji,IF((SUM($J216:Q216)+$C216)<$C215,$C216,$C215-SUM($J216:Q216)),0)),0)","v":0},{"$f":"ROUND(IF(OR(AND($C214=LataProjekcji,$E214>0),AND($C214=LataProjekcji,$E214=0,$D215<=3.5)),$E215,IF($C214<LataProjekcji,IF((SUM($J216:R216)+$C216)<$C215,$C216,$C215-SUM($J216:R216)),0)),0)","v":0},{"$f":"ROUND(IF(OR(AND($C214=LataProjekcji,$E214>0),AND($C214=LataProjekcji,$E214=0,$D215<=3.5)),$E215,IF($C214<LataProjekcji,IF((SUM($J216:S216)+$C216)<$C215,$C216,$C215-SUM($J216:S216)),0)),0)","v":0},{"$f":"ROUND(IF(OR(AND($C214=LataProjekcji,$E214>0),AND($C214=LataProjekcji,$E214=0,$D215<=3.5)),$E215,IF($C214<LataProjekcji,IF((SUM($J216:T216)+$C216)<$C215,$C216,$C215-SUM($J216:T216)),0)),0)","v":0},{"$f":"ROUND(IF(OR(AND($C214=LataProjekcji,$E214>0),AND($C214=LataProjekcji,$E214=0,$D215<=3.5)),$E215,IF($C214<LataProjekcji,IF((SUM($J216:U216)+$C216)<$C215,$C216,$C215-SUM($J216:U216)),0)),0)","v":0},{"$f":"ROUND(IF(OR(AND($C214=LataProjekcji,$E214>0),AND($C214=LataProjekcji,$E214=0,$D215<=3.5)),$E215,IF($C214<LataProjekcji,IF((SUM($J216:V216)+$C216)<$C215,$C216,$C215-SUM($J216:V216)),0)),0)","v":0}]
[null,"umorzenie",null,null,null,null,null,null,null,{"$f":"ROUND(J216,0)","v":0},{"$f":"ROUND(J217+K216,0)","v":0},{"$f":"ROUND(K217+L216,0)","v":0},{"$f":"ROUND(L217+M216,0)","v":0},{"$f":"ROUND(M217+N216,0)","v":0},{"$f":"ROUND(N217+O216,0)","v":0},{"$f":"ROUND(O217+P216,0)","v":0},{"$f":"ROUND(P217+Q216,0)","v":0},{"$f":"ROUND(Q217+R216,0)","v":0},{"$f":"ROUND(R217+S216,0)","v":0},{"$f":"ROUND(S217+T216,0)","v":0},{"$f":"ROUND(T217+U216,0)","v":0},{"$f":"ROUND(U217+V216,0)","v":0},{"$f":"ROUND(V217+W216,0)","v":0}]
[null,"wartość netto",null,null,null,null,null,null,null,{"$f":"IF($C214=LataProjekcji,ROUND($C215-J217,0),ROUND(IF(J216=0,0,$C215-J217),0))","v":0},0,0,{"$f":"IF($C214=LataProjekcji,ROUND($C215-M217,0),ROUND(IF(M216=0,0,$C215-M217),0))","v":0},0,0,0,0,0,0,0,0,0,0]
[]
[null,{"$f":"B169","v":"zrealizowane środki trwałe w budowie"}]
[null,"rok zakupu",{"$f":"IFERROR(YEAR(D169),0)","v":0},{"$f":"IFERROR(MONTH(D169),0)","v":0},{"$f":"12-$D221","v":12}]
[null,"wartość netto",{"$f":"IF(F169<0,0,F169)","v":0},{"$f":"C169","v":0},{"$f":"IF($C169>3.5,ROUND(($C223/12)*$E221,0),$C222)","v":0}]
[null,"amortyzacja roczna",{"$f":"IF(ISBLANK(D169),0,IF(C169>3.5,ROUND(C222*am_budynki,0),IF(C222<0,0,C222)))","v":0},null,null,null,null,null,null,{"$f":"ROUND(IF($C221=LataProjekcji,$E222,IF($C221=LataProjekcji,$C223,0)),0)","v":0},{"$f":"ROUND(IF(OR(AND($C221=LataProjekcji,$E221>0),AND($C221=LataProjekcji,$E221=0,$D222<=3.5)),$E222,IF($C221<LataProjekcji,IF((SUM($J223:J223)+$C223)<$C222,$C223,$C222-SUM($J223:J223)),0)),0)","v":0},{"$f":"ROUND(IF(OR(AND($C221=LataProjekcji,$E221>0),AND($C221=LataProjekcji,$E221=0,$D222<=3.5)),$E222,IF($C221<LataProjekcji,IF((SUM($J223:K223)+$C223)<$C222,$C223,$C222-SUM($J223:K223)),0)),0)","v":0},{"$f":"ROUND(IF(OR(AND($C221=LataProjekcji,$E221>0),AND($C221=LataProjekcji,$E221=0,$D222<=3.5)),$E222,IF($C221<LataProjekcji,IF((SUM($J223:L223)+$C223)<$C222,$C223,$C222-SUM($J223:L223)),0)),0)","v":0},{"$f":"ROUND(IF(OR(AND($C221=LataProjekcji,$E221>0),AND($C221=LataProjekcji,$E221=0,$D222<=3.5)),$E222,IF($C221<LataProjekcji,IF((SUM($J223:M223)+$C223)<$C222,$C223,$C222-SUM($J223:M223)),0)),0)","v":0},{"$f":"ROUND(IF(OR(AND($C221=LataProjekcji,$E221>0),AND($C221=LataProjekcji,$E221=0,$D222<=3.5)),$E222,IF($C221<LataProjekcji,IF((SUM($J223:N223)+$C223)<$C222,$C223,$C222-SUM($J223:N223)),0)),0)","v":0},{"$f":"ROUND(IF(OR(AND($C221=LataProjekcji,$E221>0),AND($C221=LataProjekcji,$E221=0,$D222<=3.5)),$E222,IF($C221<LataProjekcji,IF((SUM($J223:O223)+$C223)<$C222,$C223,$C222-SUM($J223:O223)),0)),0)","v":0},{"$f":"ROUND(IF(OR(AND($C221=LataProjekcji,$E221>0),AND($C221=LataProjekcji,$E221=0,$D222<=3.5)),$E222,IF($C221<LataProjekcji,IF((SUM($J223:P223)+$C223)<$C222,$C223,$C222-SUM($J223:P223)),0)),0)","v":0},{"$f":"ROUND(IF(OR(AND($C221=LataProjekcji,$E221>0),AND($C221=LataProjekcji,$E221=0,$D222<=3.5)),$E222,IF($C221<LataProjekcji,IF((SUM($J223:Q223)+$C223)<$C222,$C223,$C222-SUM($J223:Q223)),0)),0)","v":0},{"$f":"ROUND(IF(OR(AND($C221=LataProjekcji,$E221>0),AND($C221=LataProjekcji,$E221=0,$D222<=3.5)),$E222,IF($C221<LataProjekcji,IF((SUM($J223:R223)+$C223)<$C222,$C223,$C222-SUM($J223:R223)),0)),0)","v":0},{"$f":"ROUND(IF(OR(AND($C221=LataProjekcji,$E221>0),AND($C221=LataProjekcji,$E221=0,$D222<=3.5)),$E222,IF($C221<LataProjekcji,IF((SUM($J223:S223)+$C223)<$C222,$C223,$C222-SUM($J223:S223)),0)),0)","v":0},{"$f":"ROUND(IF(OR(AND($C221=LataProjekcji,$E221>0),AND($C221=LataProjekcji,$E221=0,$D222<=3.5)),$E222,IF($C221<LataProjekcji,IF((SUM($J223:T223)+$C223)<$C222,$C223,$C222-SUM($J223:T223)),0)),0)","v":0},{"$f":"ROUND(IF(OR(AND($C221=LataProjekcji,$E221>0),AND($C221=LataProjekcji,$E221=0,$D222<=3.5)),$E222,IF($C221<LataProjekcji,IF((SUM($J223:U223)+$C223)<$C222,$C223,$C222-SUM($J223:U223)),0)),0)","v":0},{"$f":"ROUND(IF(OR(AND($C221=LataProjekcji,$E221>0),AND($C221=LataProjekcji,$E221=0,$D222<=3.5)),$E222,IF($C221<LataProjekcji,IF((SUM($J223:V223)+$C223)<$C222,$C223,$C222-SUM($J223:V223)),0)),0)","v":0}]
[null,"umorzenie",null,null,null,null,null,null,null,{"$f":"ROUND(J223,0)","v":0},{"$f":"ROUND(J224+K223,0)","v":0},{"$f":"ROUND(K224+L223,0)","v":0},{"$f":"ROUND(L224+M223,0)","v":0},{"$f":"ROUND(M224+N223,0)","v":0},{"$f":"ROUND(N224+O223,0)","v":0},{"$f":"ROUND(O224+P223,0)","v":0},{"$f":"ROUND(P224+Q223,0)","v":0},{"$f":"ROUND(Q224+R223,0)","v":0},{"$f":"ROUND(R224+S223,0)","v":0},{"$f":"ROUND(S224+T223,0)","v":0},{"$f":"ROUND(T224+U223,0)","v":0},{"$f":"ROUND(U224+V223,0)","v":0},{"$f":"ROUND(V224+W223,0)","v":0}]
[null,"wartość netto",null,null,null,null,null,null,null,{"$f":"IF($C221=LataProjekcji,ROUND($C222-J224,0),ROUND(IF(J223=0,0,$C222-J224),0))","v":0},0,0,0,0,0,0,0,0,0,0,0,0,0]
[]
[null,{"$f":"B170","v":"zrealizowane środki trwałe w budowie"}]
[null,"rok zakupu",{"$f":"IFERROR(YEAR(D170),0)","v":0},{"$f":"IFERROR(MONTH(D170),0)","v":0},{"$f":"12-$D228","v":12}]
[null,"wartość netto",{"$f":"IF(F170<0,0,F170)","v":0},{"$f":"C170","v":0},{"$f":"IF($C170>3.5,ROUND(($C230/12)*$E228,0),$C229)","v":0}]
[null,"amortyzacja roczna",{"$f":"IF(ISBLANK(D170),0,IF(C170>3.5,ROUND(C229*am_budynki,0),IF(C229<0,0,C229)))","v":0},null,null,null,null,null,null,{"$f":"ROUND(IF($C228=LataProjekcji,$E229,IF($C228=LataProjekcji,$C230,0)),0)","v":0},{"$f":"ROUND(IF(OR(AND($C228=LataProjekcji,$E228>0),AND($C228=LataProjekcji,$E228=0,$D229<=3.5)),$E229,IF($C228<LataProjekcji,IF((SUM($J230:J230)+$C230)<$C229,$C230,$C229-SUM($J230:J230)),0)),0)","v":0},{"$f":"ROUND(IF(OR(AND($C228=LataProjekcji,$E228>0),AND($C228=LataProjekcji,$E228=0,$D229<=3.5)),$E229,IF($C228<LataProjekcji,IF((SUM($J230:K230)+$C230)<$C229,$C230,$C229-SUM($J230:K230)),0)),0)","v":0},{"$f":"ROUND(IF(OR(AND($C228=LataProjekcji,$E228>0),AND($C228=LataProjekcji,$E228=0,$D229<=3.5)),$E229,IF($C228<LataProjekcji,IF((SUM($J230:L230)+$C230)<$C229,$C230,$C229-SUM($J230:L230)),0)),0)","v":0},{"$f":"ROUND(IF(OR(AND($C228=LataProjekcji,$E228>0),AND($C228=LataProjekcji,$E228=0,$D229<=3.5)),$E229,IF($C228<LataProjekcji,IF((SUM($J230:M230)+$C230)<$C229,$C230,$C229-SUM($J230:M230)),0)),0)","v":0},{"$f":"ROUND(IF(OR(AND($C228=LataProjekcji,$E228>0),AND($C228=LataProjekcji,$E228=0,$D229<=3.5)),$E229,IF($C228<LataProjekcji,IF((SUM($J230:N230)+$C230)<$C229,$C230,$C229-SUM($J230:N230)),0)),0)","v":0},{"$f":"ROUND(IF(OR(AND($C228=LataProjekcji,$E228>0),AND($C228=LataProjekcji,$E228=0,$D229<=3.5)),$E229,IF($C228<LataProjekcji,IF((SUM($J230:O230)+$C230)<$C229,$C230,$C229-SUM($J230:O230)),0)),0)","v":0},{"$f":"ROUND(IF(OR(AND($C228=LataProjekcji,$E228>0),AND($C228=LataProjekcji,$E228=0,$D229<=3.5)),$E229,IF($C228<LataProjekcji,IF((SUM($J230:P230)+$C230)<$C229,$C230,$C229-SUM($J230:P230)),0)),0)","v":0},{"$f":"ROUND(IF(OR(AND($C228=LataProjekcji,$E228>0),AND($C228=LataProjekcji,$E228=0,$D229<=3.5)),$E229,IF($C228<LataProjekcji,IF((SUM($J230:Q230)+$C230)<$C229,$C230,$C229-SUM($J230:Q230)),0)),0)","v":0},{"$f":"ROUND(IF(OR(AND($C228=LataProjekcji,$E228>0),AND($C228=LataProjekcji,$E228=0,$D229<=3.5)),$E229,IF($C228<LataProjekcji,IF((SUM($J230:R230)+$C230)<$C229,$C230,$C229-SUM($J230:R230)),0)),0)","v":0},{"$f":"ROUND(IF(OR(AND($C228=LataProjekcji,$E228>0),AND($C228=LataProjekcji,$E228=0,$D229<=3.5)),$E229,IF($C228<LataProjekcji,IF((SUM($J230:S230)+$C230)<$C229,$C230,$C229-SUM($J230:S230)),0)),0)","v":0},{"$f":"ROUND(IF(OR(AND($C228=LataProjekcji,$E228>0),AND($C228=LataProjekcji,$E228=0,$D229<=3.5)),$E229,IF($C228<LataProjekcji,IF((SUM($J230:T230)+$C230)<$C229,$C230,$C229-SUM($J230:T230)),0)),0)","v":0},{"$f":"ROUND(IF(OR(AND($C228=LataProjekcji,$E228>0),AND($C228=LataProjekcji,$E228=0,$D229<=3.5)),$E229,IF($C228<LataProjekcji,IF((SUM($J230:U230)+$C230)<$C229,$C230,$C229-SUM($J230:U230)),0)),0)","v":0},{"$f":"ROUND(IF(OR(AND($C228=LataProjekcji,$E228>0),AND($C228=LataProjekcji,$E228=0,$D229<=3.5)),$E229,IF($C228<LataProjekcji,IF((SUM($J230:V230)+$C230)<$C229,$C230,$C229-SUM($J230:V230)),0)),0)","v":0}]
[null,"umorzenie",null,null,null,null,null,null,null,{"$f":"ROUND(J230,0)","v":0},{"$f":"ROUND(J231+K230,0)","v":0},{"$f":"ROUND(K231+L230,0)","v":0},{"$f":"ROUND(L231+M230,0)","v":0},{"$f":"ROUND(M231+N230,0)","v":0},{"$f":"ROUND(N231+O230,0)","v":0},{"$f":"ROUND(O231+P230,0)","v":0},{"$f":"ROUND(P231+Q230,0)","v":0},{"$f":"ROUND(Q231+R230,0)","v":0},{"$f":"ROUND(R231+S230,0)","v":0},{"$f":"ROUND(S231+T230,0)","v":0},{"$f":"ROUND(T231+U230,0)","v":0},{"$f":"ROUND(U231+V230,0)","v":0},{"$f":"ROUND(V231+W230,0)","v":0}]
[null,"wartość netto",null,null,null,null,null,null,null,{"$f":"IF($C228=LataProjekcji,ROUND($C229-J231,0),ROUND(IF(J230=0,0,$C229-J231),0))","v":0},0,0,0,0,0,0,0,0,0,0,0,0,0]
[]
[null,{"$f":"B171","v":"zrealizowane środki trwałe w budowie"}]
[null,"rok zakupu",{"$f":"IFERROR(YEAR(D171),0)","v":0},{"$f":"IFERROR(MONTH(D171),0)","v":0},{"$f":"12-$D235","v":12}]
[null,"wartość netto",{"$f":"IF(F171<0,0,F171)","v":0},{"$f":"C171","v":0},{"$f":"IF($C171>3.5,ROUND(($C237/12)*$E235,0),$C236)","v":0}]
[null,"amortyzacja roczna",{"$f":"IF(ISBLANK(D171),0,IF(C171>3.5,ROUND(C236*am_budynki,0),IF(C236<0,0,C236)))","v":0},null,null,null,null,null,null,{"$f":"ROUND(IF($C235=LataProjekcji,$E236,IF($C235=LataProjekcji,$C237,0)),0)","v":0},{"$f":"ROUND(IF(OR(AND($C235=LataProjekcji,$E235>0),AND($C235=LataProjekcji,$E235=0,$D236<=3.5)),$E236,IF($C235<LataProjekcji,IF((SUM($J237:J237)+$C237)<$C236,$C237,$C236-SUM($J237:J237)),0)),0)","v":0},{"$f":"ROUND(IF(OR(AND($C235=LataProjekcji,$E235>0),AND($C235=LataProjekcji,$E235=0,$D236<=3.5)),$E236,IF($C235<LataProjekcji,IF((SUM($J237:K237)+$C237)<$C236,$C237,$C236-SUM($J237:K237)),0)),0)","v":0},{"$f":"ROUND(IF(OR(AND($C235=LataProjekcji,$E235>0),AND($C235=LataProjekcji,$E235=0,$D236<=3.5)),$E236,IF($C235<LataProjekcji,IF((SUM($J237:L237)+$C237)<$C236,$C237,$C236-SUM($J237:L237)),0)),0)","v":0},{"$f":"ROUND(IF(OR(AND($C235=LataProjekcji,$E235>0),AND($C235=LataProjekcji,$E235=0,$D236<=3.5)),$E236,IF($C235<LataProjekcji,IF((SUM($J237:M237)+$C237)<$C236,$C237,$C236-SUM($J237:M237)),0)),0)","v":0},{"$f":"ROUND(IF(OR(AND($C235=LataProjekcji,$E235>0),AND($C235=LataProjekcji,$E235=0,$D236<=3.5)),$E236,IF($C235<LataProjekcji,IF((SUM($J237:N237)+$C237)<$C236,$C237,$C236-SUM($J237:N237)),0)),0)","v":0},{"$f":"ROUND(IF(OR(AND($C235=LataProjekcji,$E235>0),AND($C235=LataProjekcji,$E235=0,$D236<=3.5)),$E236,IF($C235<LataProjekcji,IF((SUM($J237:O237)+$C237)<$C236,$C237,$C236-SUM($J237:O237)),0)),0)","v":0},{"$f":"ROUND(IF(OR(AND($C235=LataProjekcji,$E235>0),AND($C235=LataProjekcji,$E235=0,$D236<=3.5)),$E236,IF($C235<LataProjekcji,IF((SUM($J237:P237)+$C237)<$C236,$C237,$C236-SUM($J237:P237)),0)),0)","v":0},{"$f":"ROUND(IF(OR(AND($C235=LataProjekcji,$E235>0),AND($C235=LataProjekcji,$E235=0,$D236<=3.5)),$E236,IF($C235<LataProjekcji,IF((SUM($J237:Q237)+$C237)<$C236,$C237,$C236-SUM($J237:Q237)),0)),0)","v":0},{"$f":"ROUND(IF(OR(AND($C235=LataProjekcji,$E235>0),AND($C235=LataProjekcji,$E235=0,$D236<=3.5)),$E236,IF($C235<LataProjekcji,IF((SUM($J237:R237)+$C237)<$C236,$C237,$C236-SUM($J237:R237)),0)),0)","v":0},{"$f":"ROUND(IF(OR(AND($C235=LataProjekcji,$E235>0),AND($C235=LataProjekcji,$E235=0,$D236<=3.5)),$E236,IF($C235<LataProjekcji,IF((SUM($J237:S237)+$C237)<$C236,$C237,$C236-SUM($J237:S237)),0)),0)","v":0},{"$f":"ROUND(IF(OR(AND($C235=LataProjekcji,$E235>0),AND($C235=LataProjekcji,$E235=0,$D236<=3.5)),$E236,IF($C235<LataProjekcji,IF((SUM($J237:T237)+$C237)<$C236,$C237,$C236-SUM($J237:T237)),0)),0)","v":0},{"$f":"ROUND(IF(OR(AND($C235=LataProjekcji,$E235>0),AND($C235=LataProjekcji,$E235=0,$D236<=3.5)),$E236,IF($C235<LataProjekcji,IF((SUM($J237:U237)+$C237)<$C236,$C237,$C236-SUM($J237:U237)),0)),0)","v":0},{"$f":"ROUND(IF(OR(AND($C235=LataProjekcji,$E235>0),AND($C235=LataProjekcji,$E235=0,$D236<=3.5)),$E236,IF($C235<LataProjekcji,IF((SUM($J237:V237)+$C237)<$C236,$C237,$C236-SUM($J237:V237)),0)),0)","v":0}]
[null,"umorzenie",null,null,null,null,null,null,null,{"$f":"ROUND(J237,0)","v":0},{"$f":"ROUND(J238+K237,0)","v":0},{"$f":"ROUND(K238+L237,0)","v":0},{"$f":"ROUND(L238+M237,0)","v":0},{"$f":"ROUND(M238+N237,0)","v":0},{"$f":"ROUND(N238+O237,0)","v":0},{"$f":"ROUND(O238+P237,0)","v":0},{"$f":"ROUND(P238+Q237,0)","v":0},{"$f":"ROUND(Q238+R237,0)","v":0},{"$f":"ROUND(R238+S237,0)","v":0},{"$f":"ROUND(S238+T237,0)","v":0},{"$f":"ROUND(T238+U237,0)","v":0},{"$f":"ROUND(U238+V237,0)","v":0},{"$f":"ROUND(V238+W237,0)","v":0}]
[null,"wartość netto",null,null,null,null,null,null,null,{"$f":"IF($C235=LataProjekcji,ROUND($C236-J238,0),ROUND(IF(J237=0,0,$C236-J238),0))","v":0},0,0,0,0,0,0,0,0,0,0,0,0,0]
[]
[null,{"$f":"B172","v":"zrealizowane środki trwałe w budowie"}]
[null,"rok zakupu",{"$f":"IFERROR(YEAR(D172),0)","v":0},{"$f":"IFERROR(MONTH(D172),0)","v":0},{"$f":"12-$D242","v":12}]
[null,"wartość netto",{"$f":"IF(F172<0,0,F172)","v":0},{"$f":"C172","v":0},{"$f":"IF($C172>3.5,ROUND(($C244/12)*$E242,0),$C243)","v":0}]
[null,"amortyzacja roczna",{"$f":"IF(ISBLANK(D172),0,IF(C172>3.5,ROUND(C243*am_budynki,0),IF(C243<0,0,C243)))","v":0},null,null,null,null,null,null,{"$f":"ROUND(IF($C242=LataProjekcji,$E243,IF($C242=LataProjekcji,$C244,0)),0)","v":0},{"$f":"ROUND(IF(OR(AND($C242=LataProjekcji,$E242>0),AND($C242=LataProjekcji,$E242=0,$D243<=3.5)),$E243,IF($C242<LataProjekcji,IF((SUM($J244:J244)+$C244)<$C243,$C244,$C243-SUM($J244:J244)),0)),0)","v":0},{"$f":"ROUND(IF(OR(AND($C242=LataProjekcji,$E242>0),AND($C242=LataProjekcji,$E242=0,$D243<=3.5)),$E243,IF($C242<LataProjekcji,IF((SUM($J244:K244)+$C244)<$C243,$C244,$C243-SUM($J244:K244)),0)),0)","v":0},{"$f":"ROUND(IF(OR(AND($C242=LataProjekcji,$E242>0),AND($C242=LataProjekcji,$E242=0,$D243<=3.5)),$E243,IF($C242<LataProjekcji,IF((SUM($J244:L244)+$C244)<$C243,$C244,$C243-SUM($J244:L244)),0)),0)","v":0},{"$f":"ROUND(IF(OR(AND($C242=LataProjekcji,$E242>0),AND($C242=LataProjekcji,$E242=0,$D243<=3.5)),$E243,IF($C242<LataProjekcji,IF((SUM($J244:M244)+$C244)<$C243,$C244,$C243-SUM($J244:M244)),0)),0)","v":0},{"$f":"ROUND(IF(OR(AND($C242=LataProjekcji,$E242>0),AND($C242=LataProjekcji,$E242=0,$D243<=3.5)),$E243,IF($C242<LataProjekcji,IF((SUM($J244:N244)+$C244)<$C243,$C244,$C243-SUM($J244:N244)),0)),0)","v":0},{"$f":"ROUND(IF(OR(AND($C242=LataProjekcji,$E242>0),AND($C242=LataProjekcji,$E242=0,$D243<=3.5)),$E243,IF($C242<LataProjekcji,IF((SUM($J244:O244)+$C244)<$C243,$C244,$C243-SUM($J244:O244)),0)),0)","v":0},{"$f":"ROUND(IF(OR(AND($C242=LataProjekcji,$E242>0),AND($C242=LataProjekcji,$E242=0,$D243<=3.5)),$E243,IF($C242<LataProjekcji,IF((SUM($J244:P244)+$C244)<$C243,$C244,$C243-SUM($J244:P244)),0)),0)","v":0},{"$f":"ROUND(IF(OR(AND($C242=LataProjekcji,$E242>0),AND($C242=LataProjekcji,$E242=0,$D243<=3.5)),$E243,IF($C242<LataProjekcji,IF((SUM($J244:Q244)+$C244)<$C243,$C244,$C243-SUM($J244:Q244)),0)),0)","v":0},{"$f":"ROUND(IF(OR(AND($C242=LataProjekcji,$E242>0),AND($C242=LataProjekcji,$E242=0,$D243<=3.5)),$E243,IF($C242<LataProjekcji,IF((SUM($J244:R244)+$C244)<$C243,$C244,$C243-SUM($J244:R244)),0)),0)","v":0},{"$f":"ROUND(IF(OR(AND($C242=LataProjekcji,$E242>0),AND($C242=LataProjekcji,$E242=0,$D243<=3.5)),$E243,IF($C242<LataProjekcji,IF((SUM($J244:S244)+$C244)<$C243,$C244,$C243-SUM($J244:S244)),0)),0)","v":0},{"$f":"ROUND(IF(OR(AND($C242=LataProjekcji,$E242>0),AND($C242=LataProjekcji,$E242=0,$D243<=3.5)),$E243,IF($C242<LataProjekcji,IF((SUM($J244:T244)+$C244)<$C243,$C244,$C243-SUM($J244:T244)),0)),0)","v":0},{"$f":"ROUND(IF(OR(AND($C242=LataProjekcji,$E242>0),AND($C242=LataProjekcji,$E242=0,$D243<=3.5)),$E243,IF($C242<LataProjekcji,IF((SUM($J244:U244)+$C244)<$C243,$C244,$C243-SUM($J244:U244)),0)),0)","v":0},{"$f":"ROUND(IF(OR(AND($C242=LataProjekcji,$E242>0),AND($C242=LataProjekcji,$E242=0,$D243<=3.5)),$E243,IF($C242<LataProjekcji,IF((SUM($J244:V244)+$C244)<$C243,$C244,$C243-SUM($J244:V244)),0)),0)","v":0}]
[null,"umorzenie",null,null,null,null,null,null,null,{"$f":"ROUND(J244,0)","v":0},{"$f":"ROUND(J245+K244,0)","v":0},{"$f":"ROUND(K245+L244,0)","v":0},{"$f":"ROUND(L245+M244,0)","v":0},{"$f":"ROUND(M245+N244,0)","v":0},{"$f":"ROUND(N245+O244,0)","v":0},{"$f":"ROUND(O245+P244,0)","v":0},{"$f":"ROUND(P245+Q244,0)","v":0},{"$f":"ROUND(Q245+R244,0)","v":0},{"$f":"ROUND(R245+S244,0)","v":0},{"$f":"ROUND(S245+T244,0)","v":0},{"$f":"ROUND(T245+U244,0)","v":0},{"$f":"ROUND(U245+V244,0)","v":0},{"$f":"ROUND(V245+W244,0)","v":0}]
[null,"wartość netto",null,null,null,null,null,null,null,{"$f":"IF($C242=LataProjekcji,ROUND($C243-J245,0),ROUND(IF(J244=0,0,$C243-J245),0))","v":0},0,0,0,0,0,0,0,0,0,0,0,0,0]
[]
[null,"urządzenia techniczne i maszyny ","wartość netto","rok i miesiąc zakupu","dofinansowanie %","dofinansowanie PLN",null,null,null,{"$f":"LataProjekcji","v":"Uzupełnij dane"},"","","","","","","","","","","","",""]
[null,{"$f":"IF(ISBLANK('Środki trwałe'!B340),\"\",'Środki trwałe'!B340)","v":""},{"$f":"IF(ISBLANK('Środki trwałe'!C340),\"\",'Środki trwałe'!C340)","v":""},{"$f":"IF(ISBLANK('Środki trwałe'!D340),\"\",'Środki trwałe'!D340)","v":""},{"$f":"IF(ISBLANK('Środki trwałe'!E340),\"\",'Środki trwałe'!E340)","v":""},{"$f":"IFERROR(IF(E249=0,0,ROUND(E249*C249,0)),0)","v":0},null,null,null,{"$f":"IFERROR(ROUND(IF(AND(YEAR($D249)=LataProjekcji,$F249>0),$F249,0),0),0)","v":0},0,0,0,0,0,0,0,0,0,0,0,0,0]
[null,{"$f":"IF(ISBLANK('Środki trwałe'!B341),\"\",'Środki trwałe'!B341)","v":""},{"$f":"IF(ISBLANK('Środki trwałe'!C341),\"\",'Środki trwałe'!C341)","v":""},{"$f":"IF(ISBLANK('Środki trwałe'!D341),\"\",'Środki trwałe'!D341)","v":""},{"$f":"IF(ISBLANK('Środki trwałe'!E341),\"\",'Środki trwałe'!E341)","v":""},{"$f":"IFERROR(IF(E250=0,0,ROUND(E250*C250,0)),0)","v":0},null,null,null,0,0,0,0,0,0,0,0,0,0,0,0,0,0]
[null,{"$f":"IF(ISBLANK('Środki trwałe'!B342),\"\",'Środki trwałe'!B342)","v":""},{"$f":"IF(ISBLANK('Środki trwałe'!C342),\"\",'Środki trwałe'!C342)","v":""},{"$f":"IF(ISBLANK('Środki trwałe'!D342),\"\",'Środki trwałe'!D342)","v":""},{"$f":"IF(ISBLANK('Środki trwałe'!E342),\"\",'Środki trwałe'!E342)","v":""},{"$f":"IFERROR(IF(E251=0,0,ROUND(E251*C251,0)),0)","v":0},null,null,null,0,0,0,0,0,0,0,0,0,0,0,0,0,0]
[null,{"$f":"IF(ISBLANK('Środki trwałe'!B343),\"\",'Środki trwałe'!B343)","v":""},{"$f":"IF(ISBLANK('Środki trwałe'!C343),\"\",'Środki trwałe'!C343)","v":""},{"$f":"IF(ISBLANK('Środki trwałe'!D343),\"\",'Środki trwałe'!D343)","v":""},{"$f":"IF(ISBLANK('Środki trwałe'!E343),\"\",'Środki trwałe'!E343)","v":""},{"$f":"IFERROR(IF(E252=0,0,ROUND(E252*C252,0)),0)","v":0},null,null,null,0,0,0,0,0,0,0,0,0,0,0,0,0,0]
[null,{"$f":"IF(ISBLANK('Środki trwałe'!B344),\"\",'Środki trwałe'!B344)","v":""},{"$f":"IF(ISBLANK('Środki trwałe'!C344),\"\",'Środki trwałe'!C344)","v":""},{"$f":"IF(ISBLANK('Środki trwałe'!D344),\"\",'Środki trwałe'!D344)","v":""},{"$f":"IF(ISBLANK('Środki trwałe'!E344),\"\",'Środki trwałe'!E344)","v":""},{"$f":"IFERROR(IF(E253=0,0,ROUND(E253*C253,0)),0)","v":0},null,null,null,0,0,0,0,0,0,0,0,0,0,0,0,0,0]
[null,{"$f":"IF(ISBLANK('Środki trwałe'!B345),\"\",'Środki trwałe'!B345)","v":"zrealizowane środki trwałe w budowie"},{"$f":"IF(ISBLANK('Środki trwałe'!C345),\"\",'Środki trwałe'!C345)","v":0},{"$f":"IF(ISBLANK('Środki trwałe'!D345),\"\",'Środki trwałe'!D345)","v":""},{"$f":"IF(ISBLANK('Środki trwałe'!E345),\"\",'Środki trwałe'!E345)","v":0},{"$f":"IFERROR(IF(E254=0,0,ROUND(E254*C254,0)),0)","v":0},null,null,null,0,0,0,0,0,0,0,0,0,0,0,0,0,0]
[null,{"$f":"IF(ISBLANK('Środki trwałe'!B346),\"\",'Środki trwałe'!B346)","v":"zrealizowane środki trwałe w budowie"},{"$f":"IF(ISBLANK('Środki trwałe'!C346),\"\",'Środki trwałe'!C346)","v":0},{"$f":"IF(ISBLANK('Środki trwałe'!D346),\"\",'Środki trwałe'!D346)","v":""},{"$f":"IF(ISBLANK('Środki trwałe'!E346),\"\",'Środki trwałe'!E346)","v":0},0,null,null,null,0,0,0,0,0,0,0,0,0,0,0,0,0,0]
[null,{"$f":"IF(ISBLANK('Środki trwałe'!B347),\"\",'Środki trwałe'!B347)","v":"zrealizowane środki trwałe w budowie"},{"$f":"IF(ISBLANK('Środki trwałe'!C347),\"\",'Środki trwałe'!C347)","v":0},{"$f":"IF(ISBLANK('Środki trwałe'!D347),\"\",'Środki trwałe'!D347)","v":""},{"$f":"IF(ISBLANK('Środki trwałe'!E347),\"\",'Środki trwałe'!E347)","v":0},0,null,null,null,0,0,0,0,0,0,0,0,0,0,0,0,0,0]
[null,{"$f":"IF(ISBLANK('Środki trwałe'!B348),\"\",'Środki trwałe'!B348)","v":"zrealizowane środki trwałe w budowie"},{"$f":"IF(ISBLANK('Środki trwałe'!C348),\"\",'Środki trwałe'!C348)","v":0},{"$f":"IF(ISBLANK('Środki trwałe'!D348),\"\",'Środki trwałe'!D348)","v":""},{"$f":"IF(ISBLANK('Środki trwałe'!E348),\"\",'Środki trwałe'!E348)","v":0},0,null,null,null,0,0,0,0,0,0,0,0,0,0,0,0,0,0]
[null,{"$f":"IF(ISBLANK('Środki trwałe'!B349),\"\",'Środki trwałe'!B349)","v":"zrealizowane środki trwałe w budowie"},{"$f":"IF(ISBLANK('Środki trwałe'!C349),\"\",'Środki trwałe'!C349)","v":0},{"$f":"IF(ISBLANK('Środki trwałe'!D349),\"\",'Środki trwałe'!D349)","v":""},{"$f":"IF(ISBLANK('Środki trwałe'!E349),\"\",'Środki trwałe'!E349)","v":""},0,null,null,null,0,0,0,0,0,0,0,0,0,0,0,0,0,0]
[null,"Razem",{"$f":"SUM(C249:C258)","v":0},null,null,{"$f":"SUM(F249:F258)","v":0},null,null,null,{"$f":"ROUND(SUM(J249:J258),0)","v":0},{"$f":"ROUND(SUM(K249:K258),0)","v":0},0,0,0,0,0,0,0,0,0,0,0,0]
[null,"     - dotacja w okresie (pozostałe przychody)",null,null,null,null,null,null,null,{"$f":"ROUND(J267+J274+J281+J288+J295+J302+J309+J316+J323+J330,0)","v":0},{"$f":"ROUND(K267+K274+K281+K288+K295+K302+K309+K316+K323+K330,0)","v":0},0,0,0,0,0,0,0,0,0,0,0,0]
[null,"     - dotacja narastająco",null,null,null,null,null,null,null,{"$f":"ROUND(J268+J275+J282+J289+J296+J303+J310+J317+J324+J331,0)","v":0},{"$f":"ROUND(K268+K275+K282+K289+K296+K303+K310+K317+K324+K331,0)","v":0},0,0,0,0,0,0,0,0,0,0,0,0]
[null,"     - rozliczenia międzyokresowe bierne",null,null,null,null,null,null,null,{"$f":"ROUND(J269+J276+J283+J290+J297+J304+J311+J318+J325+J332,0)","v":0},{"$f":"ROUND(K269+K276+K283+K290+K297+K304+K311+K318+K325+K332,0)","v":0},0,0,0,0,0,0,0,0,0,0,0,0]
[]
[null,"urządzenia techniczne i maszyny ",null,null,"ile miesiący do końca roku",null,"niekwalifikowalne","spr"]
[null,"rok zakupu",{"$f":"IFERROR(YEAR(D249),0)","v":0},{"$f":"IFERROR(MONTH(D249),0)","v":0},{"$f":"12-$D265","v":12},null,{"$f":"C259-F265","v":0},{"$f":"C259-F265-G265","v":0}]
[null,"wartość netto",{"$f":"IF(F249<0,0,F249)","v":0},{"$f":"C249","v":""},{"$f":"IF($C249>3.5,ROUND(($C267/12)*$E265,0),$C266)","v":0},"<- am. Do końca roku"]
[null,"amortyzacja roczna",{"$f":"IF(ISBLANK(D249),0,IF(C249>3.5,ROUND(C266*am_maszyny,0),IF(C266<0,0,C266)))","v":0},null,null,null,null,null,null,{"$f":"ROUND(IF($C265=LataProjekcji,$E266,IF($C265=LataProjekcji,$C267,0)),0)","v":0},{"$f":"ROUND(IF(OR(AND($C265=LataProjekcji,$E265>0),AND($C265=LataProjekcji,$E265=0,$D266<=3.5)),$E266,IF($C265<LataProjekcji,IF((SUM($J267:J267)+$C267)<$C266,$C267,$C266-SUM($J267:J267)),0)),0)","v":0},{"$f":"ROUND(IF(OR(AND($C265=LataProjekcji,$E265>0),AND($C265=LataProjekcji,$E265=0,$D266<=3.5)),$E266,IF($C265<LataProjekcji,IF((SUM($J267:K267)+$C267)<$C266,$C267,$C266-SUM($J267:K267)),0)),0)","v":0},{"$f":"ROUND(IF(OR(AND($C265=LataProjekcji,$E265>0),AND($C265=LataProjekcji,$E265=0,$D266<=3.5)),$E266,IF($C265<LataProjekcji,IF((SUM($J267:L267)+$C267)<$C266,$C267,$C266-SUM($J267:L267)),0)),0)","v":0},{"$f":"ROUND(IF(OR(AND($C265=LataProjekcji,$E265>0),AND($C265=LataProjekcji,$E265=0,$D266<=3.5)),$E266,IF($C265<LataProjekcji,IF((SUM($J267:M267)+$C267)<$C266,$C267,$C266-SUM($J267:M267)),0)),0)","v":0},{"$f":"ROUND(IF(OR(AND($C265=LataProjekcji,$E265>0),AND($C265=LataProjekcji,$E265=0,$D266<=3.5)),$E266,IF($C265<LataProjekcji,IF((SUM($J267:N267)+$C267)<$C266,$C267,$C266-SUM($J267:N267)),0)),0)","v":0},{"$f":"ROUND(IF(OR(AND($C265=LataProjekcji,$E265>0),AND($C265=LataProjekcji,$E265=0,$D266<=3.5)),$E266,IF($C265<LataProjekcji,IF((SUM($J267:O267)+$C267)<$C266,$C267,$C266-SUM($J267:O267)),0)),0)","v":0},{"$f":"ROUND(IF(OR(AND($C265=LataProjekcji,$E265>0),AND($C265=LataProjekcji,$E265=0,$D266<=3.5)),$E266,IF($C265<LataProjekcji,IF((SUM($J267:P267)+$C267)<$C266,$C267,$C266-SUM($J267:P267)),0)),0)","v":0},{"$f":"ROUND(IF(OR(AND($C265=LataProjekcji,$E265>0),AND($C265=LataProjekcji,$E265=0,$D266<=3.5)),$E266,IF($C265<LataProjekcji,IF((SUM($J267:Q267)+$C267)<$C266,$C267,$C266-SUM($J267:Q267)),0)),0)","v":0},{"$f":"ROUND(IF(OR(AND($C265=LataProjekcji,$E265>0),AND($C265=LataProjekcji,$E265=0,$D266<=3.5)),$E266,IF($C265<LataProjekcji,IF((SUM($J267:R267)+$C267)<$C266,$C267,$C266-SUM($J267:R267)),0)),0)","v":0},{"$f":"ROUND(IF(OR(AND($C265=LataProjekcji,$E265>0),AND($C265=LataProjekcji,$E265=0,$D266<=3.5)),$E266,IF($C265<LataProjekcji,IF((SUM($J267:S267)+$C267)<$C266,$C267,$C266-SUM($J267:S267)),0)),0)","v":0},{"$f":"ROUND(IF(OR(AND($C265=LataProjekcji,$E265>0),AND($C265=LataProjekcji,$E265=0,$D266<=3.5)),$E266,IF($C265<LataProjekcji,IF((SUM($J267:T267)+$C267)<$C266,$C267,$C266-SUM($J267:T267)),0)),0)","v":0},{"$f":"ROUND(IF(OR(AND($C265=LataProjekcji,$E265>0),AND($C265=LataProjekcji,$E265=0,$D266<=3.5)),$E266,IF($C265<LataProjekcji,IF((SUM($J267:U267)+$C267)<$C266,$C267,$C266-SUM($J267:U267)),0)),0)","v":0},{"$f":"ROUND(IF(OR(AND($C265=LataProjekcji,$E265>0),AND($C265=LataProjekcji,$E265=0,$D266<=3.5)),$E266,IF($C265<LataProjekcji,IF((SUM($J267:V267)+$C267)<$C266,$C267,$C266-SUM($J267:V267)),0)),0)","v":0}]
[null,"umorzenie",null,null,null,null,null,null,null,{"$f":"ROUND(J267,0)","v":0},{"$f":"ROUND(J268+K267,0)","v":0},{"$f":"ROUND(K268+L267,0)","v":0},{"$f":"ROUND(L268+M267,0)","v":0},{"$f":"ROUND(M268+N267,0)","v":0},{"$f":"ROUND(N268+O267,0)","v":0},{"$f":"ROUND(O268+P267,0)","v":0},{"$f":"ROUND(P268+Q267,0)","v":0},{"$f":"ROUND(Q268+R267,0)","v":0},{"$f":"ROUND(R268+S267,0)","v":0},{"$f":"ROUND(S268+T267,0)","v":0},{"$f":"ROUND(T268+U267,0)","v":0},{"$f":"ROUND(U268+V267,0)","v":0},{"$f":"ROUND(V268+W267,0)","v":0}]
[null,"wartość netto",null,null,null,null,null,null,null,{"$f":"IF($C265=LataProjekcji,ROUND($C266-J268,0),ROUND(IF(J267=0,0,$C266-J268),0))","v":0},0,0,0,0,0,0,0,0,0,0,0,0,0]
[]
[null,"urządzenia techniczne i maszyny "]
[null,"rok zakupu",{"$f":"IFERROR(YEAR(D250),0)","v":0},{"$f":"IFERROR(MONTH(D250),0)","v":0},{"$f":"12-$D272","v":12}]
[null,"wartość netto",{"$f":"IF(F250<0,0,F250)","v":0},{"$f":"C250","v":""},{"$f":"IF($C250>3.5,ROUND(($C274/12)*$E272,0),$C273)","v":0}]
[null,"amortyzacja roczna",{"$f":"IF(ISBLANK(D250),0,IF(C250>3.5,ROUND(C273*am_maszyny,0),IF(C273<0,0,C273)))","v":0},null,null,null,null,null,null,{"$f":"ROUND(IF($C272=LataProjekcji,$E273,IF($C272=LataProjekcji,$C274,0)),0)","v":0},{"$f":"ROUND(IF(OR(AND($C272=LataProjekcji,$E272>0),AND($C272=LataProjekcji,$E272=0,$D273<=3.5)),$E273,IF($C272<LataProjekcji,IF((SUM($J274:J274)+$C274)<$C273,$C274,$C273-SUM($J274:J274)),0)),0)","v":0},{"$f":"ROUND(IF(OR(AND($C272=LataProjekcji,$E272>0),AND($C272=LataProjekcji,$E272=0,$D273<=3.5)),$E273,IF($C272<LataProjekcji,IF((SUM($J274:K274)+$C274)<$C273,$C274,$C273-SUM($J274:K274)),0)),0)","v":0},{"$f":"ROUND(IF(OR(AND($C272=LataProjekcji,$E272>0),AND($C272=LataProjekcji,$E272=0,$D273<=3.5)),$E273,IF($C272<LataProjekcji,IF((SUM($J274:L274)+$C274)<$C273,$C274,$C273-SUM($J274:L274)),0)),0)","v":0},{"$f":"ROUND(IF(OR(AND($C272=LataProjekcji,$E272>0),AND($C272=LataProjekcji,$E272=0,$D273<=3.5)),$E273,IF($C272<LataProjekcji,IF((SUM($J274:M274)+$C274)<$C273,$C274,$C273-SUM($J274:M274)),0)),0)","v":0},{"$f":"ROUND(IF(OR(AND($C272=LataProjekcji,$E272>0),AND($C272=LataProjekcji,$E272=0,$D273<=3.5)),$E273,IF($C272<LataProjekcji,IF((SUM($J274:N274)+$C274)<$C273,$C274,$C273-SUM($J274:N274)),0)),0)","v":0},{"$f":"ROUND(IF(OR(AND($C272=LataProjekcji,$E272>0),AND($C272=LataProjekcji,$E272=0,$D273<=3.5)),$E273,IF($C272<LataProjekcji,IF((SUM($J274:O274)+$C274)<$C273,$C274,$C273-SUM($J274:O274)),0)),0)","v":0},{"$f":"ROUND(IF(OR(AND($C272=LataProjekcji,$E272>0),AND($C272=LataProjekcji,$E272=0,$D273<=3.5)),$E273,IF($C272<LataProjekcji,IF((SUM($J274:P274)+$C274)<$C273,$C274,$C273-SUM($J274:P274)),0)),0)","v":0},{"$f":"ROUND(IF(OR(AND($C272=LataProjekcji,$E272>0),AND($C272=LataProjekcji,$E272=0,$D273<=3.5)),$E273,IF($C272<LataProjekcji,IF((SUM($J274:Q274)+$C274)<$C273,$C274,$C273-SUM($J274:Q274)),0)),0)","v":0},{"$f":"ROUND(IF(OR(AND($C272=LataProjekcji,$E272>0),AND($C272=LataProjekcji,$E272=0,$D273<=3.5)),$E273,IF($C272<LataProjekcji,IF((SUM($J274:R274)+$C274)<$C273,$C274,$C273-SUM($J274:R274)),0)),0)","v":0},{"$f":"ROUND(IF(OR(AND($C272=LataProjekcji,$E272>0),AND($C272=LataProjekcji,$E272=0,$D273<=3.5)),$E273,IF($C272<LataProjekcji,IF((SUM($J274:S274)+$C274)<$C273,$C274,$C273-SUM($J274:S274)),0)),0)","v":0},{"$f":"ROUND(IF(OR(AND($C272=LataProjekcji,$E272>0),AND($C272=LataProjekcji,$E272=0,$D273<=3.5)),$E273,IF($C272<LataProjekcji,IF((SUM($J274:T274)+$C274)<$C273,$C274,$C273-SUM($J274:T274)),0)),0)","v":0},{"$f":"ROUND(IF(OR(AND($C272=LataProjekcji,$E272>0),AND($C272=LataProjekcji,$E272=0,$D273<=3.5)),$E273,IF($C272<LataProjekcji,IF((SUM($J274:U274)+$C274)<$C273,$C274,$C273-SUM($J274:U274)),0)),0)","v":0},{"$f":"ROUND(IF(OR(AND($C272=LataProjekcji,$E272>0),AND($C272=LataProjekcji,$E272=0,$D273<=3.5)),$E273,IF($C272<LataProjekcji,IF((SUM($J274:V274)+$C274)<$C273,$C274,$C273-SUM($J274:V274)),0)),0)","v":0}]
[null,"umorzenie",null,null,null,null,null,null,null,{"$f":"ROUND(J274,0)","v":0},{"$f":"ROUND(J275+K274,0)","v":0},{"$f":"ROUND(K275+L274,0)","v":0},{"$f":"ROUND(L275+M274,0)","v":0},{"$f":"ROUND(M275+N274,0)","v":0},{"$f":"ROUND(N275+O274,0)","v":0},{"$f":"ROUND(O275+P274,0)","v":0},{"$f":"ROUND(P275+Q274,0)","v":0},{"$f":"ROUND(Q275+R274,0)","v":0},{"$f":"ROUND(R275+S274,0)","v":0},{"$f":"ROUND(S275+T274,0)","v":0},{"$f":"ROUND(T275+U274,0)","v":0},{"$f":"ROUND(U275+V274,0)","v":0},{"$f":"ROUND(V275+W274,0)","v":0}]
[null,"wartość netto",null,null,null,null,null,null,null,{"$f":"IF($C272=LataProjekcji,ROUND($C273-J275,0),ROUND(IF(J274=0,0,$C273-J275),0))","v":0},0,0,0,0,0,0,0,0,0,0,0,0,0]
[]
[null,"urządzenia techniczne i maszyny "]
[null,"rok zakupu",{"$f":"IFERROR(YEAR(D251),0)","v":0},{"$f":"IFERROR(MONTH(D251),0)","v":0},{"$f":"12-$D279","v":12}]
[null,"wartość netto",{"$f":"IF(F251<0,0,F251)","v":0},{"$f":"C251","v":""},{"$f":"IF($C251>3.5,ROUND(($C281/12)*$E279,0),$C280)","v":0}]
[null,"amortyzacja roczna",{"$f":"IF(ISBLANK(D251),0,IF(C251>3.5,ROUND(C280*am_maszyny,0),IF(C280<0,0,C280)))","v":0},null,null,null,null,null,null,{"$f":"ROUND(IF($C279=LataProjekcji,$E280,IF($C279=LataProjekcji,$C281,0)),0)","v":0},{"$f":"ROUND(IF(OR(AND($C279=LataProjekcji,$E279>0),AND($C279=LataProjekcji,$E279=0,$D280<=3.5)),$E280,IF($C279<LataProjekcji,IF((SUM($J281:J281)+$C281)<$C280,$C281,$C280-SUM($J281:J281)),0)),0)","v":0},{"$f":"ROUND(IF(OR(AND($C279=LataProjekcji,$E279>0),AND($C279=LataProjekcji,$E279=0,$D280<=3.5)),$E280,IF($C279<LataProjekcji,IF((SUM($J281:K281)+$C281)<$C280,$C281,$C280-SUM($J281:K281)),0)),0)","v":0},{"$f":"ROUND(IF(OR(AND($C279=LataProjekcji,$E279>0),AND($C279=LataProjekcji,$E279=0,$D280<=3.5)),$E280,IF($C279<LataProjekcji,IF((SUM($J281:L281)+$C281)<$C280,$C281,$C280-SUM($J281:L281)),0)),0)","v":0},{"$f":"ROUND(IF(OR(AND($C279=LataProjekcji,$E279>0),AND($C279=LataProjekcji,$E279=0,$D280<=3.5)),$E280,IF($C279<LataProjekcji,IF((SUM($J281:M281)+$C281)<$C280,$C281,$C280-SUM($J281:M281)),0)),0)","v":0},{"$f":"ROUND(IF(OR(AND($C279=LataProjekcji,$E279>0),AND($C279=LataProjekcji,$E279=0,$D280<=3.5)),$E280,IF($C279<LataProjekcji,IF((SUM($J281:N281)+$C281)<$C280,$C281,$C280-SUM($J281:N281)),0)),0)","v":0},{"$f":"ROUND(IF(OR(AND($C279=LataProjekcji,$E279>0),AND($C279=LataProjekcji,$E279=0,$D280<=3.5)),$E280,IF($C279<LataProjekcji,IF((SUM($J281:O281)+$C281)<$C280,$C281,$C280-SUM($J281:O281)),0)),0)","v":0},{"$f":"ROUND(IF(OR(AND($C279=LataProjekcji,$E279>0),AND($C279=LataProjekcji,$E279=0,$D280<=3.5)),$E280,IF($C279<LataProjekcji,IF((SUM($J281:P281)+$C281)<$C280,$C281,$C280-SUM($J281:P281)),0)),0)","v":0},{"$f":"ROUND(IF(OR(AND($C279=LataProjekcji,$E279>0),AND($C279=LataProjekcji,$E279=0,$D280<=3.5)),$E280,IF($C279<LataProjekcji,IF((SUM($J281:Q281)+$C281)<$C280,$C281,$C280-SUM($J281:Q281)),0)),0)","v":0},{"$f":"ROUND(IF(OR(AND($C279=LataProjekcji,$E279>0),AND($C279=LataProjekcji,$E279=0,$D280<=3.5)),$E280,IF($C279<LataProjekcji,IF((SUM($J281:R281)+$C281)<$C280,$C281,$C280-SUM($J281:R281)),0)),0)","v":0},{"$f":"ROUND(IF(OR(AND($C279=LataProjekcji,$E279>0),AND($C279=LataProjekcji,$E279=0,$D280<=3.5)),$E280,IF($C279<LataProjekcji,IF((SUM($J281:S281)+$C281)<$C280,$C281,$C280-SUM($J281:S281)),0)),0)","v":0},{"$f":"ROUND(IF(OR(AND($C279=LataProjekcji,$E279>0),AND($C279=LataProjekcji,$E279=0,$D280<=3.5)),$E280,IF($C279<LataProjekcji,IF((SUM($J281:T281)+$C281)<$C280,$C281,$C280-SUM($J281:T281)),0)),0)","v":0},{"$f":"ROUND(IF(OR(AND($C279=LataProjekcji,$E279>0),AND($C279=LataProjekcji,$E279=0,$D280<=3.5)),$E280,IF($C279<LataProjekcji,IF((SUM($J281:U281)+$C281)<$C280,$C281,$C280-SUM($J281:U281)),0)),0)","v":0},{"$f":"ROUND(IF(OR(AND($C279=LataProjekcji,$E279>0),AND($C279=LataProjekcji,$E279=0,$D280<=3.5)),$E280,IF($C279<LataProjekcji,IF((SUM($J281:V281)+$C281)<$C280,$C281,$C280-SUM($J281:V281)),0)),0)","v":0}]
[null,"umorzenie",null,null,null,null,null,null,null,{"$f":"ROUND(J281,0)","v":0},{"$f":"ROUND(J282+K281,0)","v":0},{"$f":"ROUND(K282+L281,0)","v":0},{"$f":"ROUND(L282+M281,0)","v":0},{"$f":"ROUND(M282+N281,0)","v":0},{"$f":"ROUND(N282+O281,0)","v":0},{"$f":"ROUND(O282+P281,0)","v":0},{"$f":"ROUND(P282+Q281,0)","v":0},{"$f":"ROUND(Q282+R281,0)","v":0},{"$f":"ROUND(R282+S281,0)","v":0},{"$f":"ROUND(S282+T281,0)","v":0},{"$f":"ROUND(T282+U281,0)","v":0},{"$f":"ROUND(U282+V281,0)","v":0},{"$f":"ROUND(V282+W281,0)","v":0}]
[null,"wartość netto",null,null,null,null,null,null,null,{"$f":"IF($C279=LataProjekcji,ROUND($C280-J282,0),ROUND(IF(J281=0,0,$C280-J282),0))","v":0},0,0,0,0,0,0,0,0,0,0,0,0,0]
[]
[null,"urządzenia techniczne i maszyny "]
[null,"rok zakupu",{"$f":"IFERROR(YEAR(D252),0)","v":0},{"$f":"IFERROR(MONTH(D252),0)","v":0},{"$f":"12-$D286","v":12}]
[null,"wartość netto",{"$f":"IF(F252<0,0,F252)","v":0},{"$f":"C252","v":""},{"$f":"IF($C252>3.5,ROUND(($C288/12)*$E286,0),$C287)","v":0}]
[null,"amortyzacja roczna",{"$f":"IF(ISBLANK(D252),0,IF(C252>3.5,ROUND(C287*am_maszyny,0),IF(C287<0,0,C287)))","v":0},null,null,null,null,null,null,{"$f":"ROUND(IF($C286=LataProjekcji,$E287,IF($C286=LataProjekcji,$C288,0)),0)","v":0},{"$f":"ROUND(IF(OR(AND($C286=LataProjekcji,$E286>0),AND($C286=LataProjekcji,$E286=0,$D287<=3.5)),$E287,IF($C286<LataProjekcji,IF((SUM($J288:J288)+$C288)<$C287,$C288,$C287-SUM($J288:J288)),0)),0)","v":0},{"$f":"ROUND(IF(OR(AND($C286=LataProjekcji,$E286>0),AND($C286=LataProjekcji,$E286=0,$D287<=3.5)),$E287,IF($C286<LataProjekcji,IF((SUM($J288:K288)+$C288)<$C287,$C288,$C287-SUM($J288:K288)),0)),0)","v":0},{"$f":"ROUND(IF(OR(AND($C286=LataProjekcji,$E286>0),AND($C286=LataProjekcji,$E286=0,$D287<=3.5)),$E287,IF($C286<LataProjekcji,IF((SUM($J288:L288)+$C288)<$C287,$C288,$C287-SUM($J288:L288)),0)),0)","v":0},{"$f":"ROUND(IF(OR(AND($C286=LataProjekcji,$E286>0),AND($C286=LataProjekcji,$E286=0,$D287<=3.5)),$E287,IF($C286<LataProjekcji,IF((SUM($J288:M288)+$C288)<$C287,$C288,$C287-SUM($J288:M288)),0)),0)","v":0},{"$f":"ROUND(IF(OR(AND($C286=LataProjekcji,$E286>0),AND($C286=LataProjekcji,$E286=0,$D287<=3.5)),$E287,IF($C286<LataProjekcji,IF((SUM($J288:N288)+$C288)<$C287,$C288,$C287-SUM($J288:N288)),0)),0)","v":0},{"$f":"ROUND(IF(OR(AND($C286=LataProjekcji,$E286>0),AND($C286=LataProjekcji,$E286=0,$D287<=3.5)),$E287,IF($C286<LataProjekcji,IF((SUM($J288:O288)+$C288)<$C287,$C288,$C287-SUM($J288:O288)),0)),0)","v":0},{"$f":"ROUND(IF(OR(AND($C286=LataProjekcji,$E286>0),AND($C286=LataProjekcji,$E286=0,$D287<=3.5)),$E287,IF($C286<LataProjekcji,IF((SUM($J288:P288)+$C288)<$C287,$C288,$C287-SUM($J288:P288)),0)),0)","v":0},{"$f":"ROUND(IF(OR(AND($C286=LataProjekcji,$E286>0),AND($C286=LataProjekcji,$E286=0,$D287<=3.5)),$E287,IF($C286<LataProjekcji,IF((SUM($J288:Q288)+$C288)<$C287,$C288,$C287-SUM($J288:Q288)),0)),0)","v":0},{"$f":"ROUND(IF(OR(AND($C286=LataProjekcji,$E286>0),AND($C286=LataProjekcji,$E286=0,$D287<=3.5)),$E287,IF($C286<LataProjekcji,IF((SUM($J288:R288)+$C288)<$C287,$C288,$C287-SUM($J288:R288)),0)),0)","v":0},{"$f":"ROUND(IF(OR(AND($C286=LataProjekcji,$E286>0),AND($C286=LataProjekcji,$E286=0,$D287<=3.5)),$E287,IF($C286<LataProjekcji,IF((SUM($J288:S288)+$C288)<$C287,$C288,$C287-SUM($J288:S288)),0)),0)","v":0},{"$f":"ROUND(IF(OR(AND($C286=LataProjekcji,$E286>0),AND($C286=LataProjekcji,$E286=0,$D287<=3.5)),$E287,IF($C286<LataProjekcji,IF((SUM($J288:T288)+$C288)<$C287,$C288,$C287-SUM($J288:T288)),0)),0)","v":0},{"$f":"ROUND(IF(OR(AND($C286=LataProjekcji,$E286>0),AND($C286=LataProjekcji,$E286=0,$D287<=3.5)),$E287,IF($C286<LataProjekcji,IF((SUM($J288:U288)+$C288)<$C287,$C288,$C287-SUM($J288:U288)),0)),0)","v":0},{"$f":"ROUND(IF(OR(AND($C286=LataProjekcji,$E286>0),AND($C286=LataProjekcji,$E286=0,$D287<=3.5)),$E287,IF($C286<LataProjekcji,IF((SUM($J288:V288)+$C288)<$C287,$C288,$C287-SUM($J288:V288)),0)),0)","v":0}]
[null,"umorzenie",null,null,null,null,null,null,null,{"$f":"ROUND(J288,0)","v":0},{"$f":"ROUND(J289+K288,0)","v":0},{"$f":"ROUND(K289+L288,0)","v":0},{"$f":"ROUND(L289+M288,0)","v":0},{"$f":"ROUND(M289+N288,0)","v":0},{"$f":"ROUND(N289+O288,0)","v":0},{"$f":"ROUND(O289+P288,0)","v":0},{"$f":"ROUND(P289+Q288,0)","v":0},{"$f":"ROUND(Q289+R288,0)","v":0},{"$f":"ROUND(R289+S288,0)","v":0},{"$f":"ROUND(S289+T288,0)","v":0},{"$f":"ROUND(T289+U288,0)","v":0},{"$f":"ROUND(U289+V288,0)","v":0},{"$f":"ROUND(V289+W288,0)","v":0}]
[null,"wartość netto",null,null,null,null,null,null,null,{"$f":"IF($C286=LataProjekcji,ROUND($C287-J289,0),ROUND(IF(J288=0,0,$C287-J289),0))","v":0},0,0,0,0,0,0,0,0,0,0,0,0,0]
[]
[null,"urządzenia techniczne i maszyny "]
[null,"rok zakupu",{"$f":"IFERROR(YEAR(D253),0)","v":0},{"$f":"IFERROR(MONTH(D253),0)","v":0},{"$f":"12-$D293","v":12}]
[null,"wartość netto",{"$f":"IF(F253<0,0,F253)","v":0},{"$f":"C253","v":""},{"$f":"IF($C253>3.5,ROUND(($C295/12)*$E293,0),$C294)","v":0}]
[null,"amortyzacja roczna",{"$f":"IF(ISBLANK(D253),0,IF(C253>3.5,ROUND(C294*am_maszyny,0),IF(C294<0,0,C294)))","v":0},null,null,null,null,null,null,{"$f":"ROUND(IF($C293=LataProjekcji,$E294,IF($C293=LataProjekcji,$C295,0)),0)","v":0},{"$f":"ROUND(IF(OR(AND($C293=LataProjekcji,$E293>0),AND($C293=LataProjekcji,$E293=0,$D294<=3.5)),$E294,IF($C293<LataProjekcji,IF((SUM($J295:J295)+$C295)<$C294,$C295,$C294-SUM($J295:J295)),0)),0)","v":0},{"$f":"ROUND(IF(OR(AND($C293=LataProjekcji,$E293>0),AND($C293=LataProjekcji,$E293=0,$D294<=3.5)),$E294,IF($C293<LataProjekcji,IF((SUM($J295:K295)+$C295)<$C294,$C295,$C294-SUM($J295:K295)),0)),0)","v":0},{"$f":"ROUND(IF(OR(AND($C293=LataProjekcji,$E293>0),AND($C293=LataProjekcji,$E293=0,$D294<=3.5)),$E294,IF($C293<LataProjekcji,IF((SUM($J295:L295)+$C295)<$C294,$C295,$C294-SUM($J295:L295)),0)),0)","v":0},{"$f":"ROUND(IF(OR(AND($C293=LataProjekcji,$E293>0),AND($C293=LataProjekcji,$E293=0,$D294<=3.5)),$E294,IF($C293<LataProjekcji,IF((SUM($J295:M295)+$C295)<$C294,$C295,$C294-SUM($J295:M295)),0)),0)","v":0},{"$f":"ROUND(IF(OR(AND($C293=LataProjekcji,$E293>0),AND($C293=LataProjekcji,$E293=0,$D294<=3.5)),$E294,IF($C293<LataProjekcji,IF((SUM($J295:N295)+$C295)<$C294,$C295,$C294-SUM($J295:N295)),0)),0)","v":0},{"$f":"ROUND(IF(OR(AND($C293=LataProjekcji,$E293>0),AND($C293=LataProjekcji,$E293=0,$D294<=3.5)),$E294,IF($C293<LataProjekcji,IF((SUM($J295:O295)+$C295)<$C294,$C295,$C294-SUM($J295:O295)),0)),0)","v":0},{"$f":"ROUND(IF(OR(AND($C293=LataProjekcji,$E293>0),AND($C293=LataProjekcji,$E293=0,$D294<=3.5)),$E294,IF($C293<LataProjekcji,IF((SUM($J295:P295)+$C295)<$C294,$C295,$C294-SUM($J295:P295)),0)),0)","v":0},{"$f":"ROUND(IF(OR(AND($C293=LataProjekcji,$E293>0),AND($C293=LataProjekcji,$E293=0,$D294<=3.5)),$E294,IF($C293<LataProjekcji,IF((SUM($J295:Q295)+$C295)<$C294,$C295,$C294-SUM($J295:Q295)),0)),0)","v":0},{"$f":"ROUND(IF(OR(AND($C293=LataProjekcji,$E293>0),AND($C293=LataProjekcji,$E293=0,$D294<=3.5)),$E294,IF($C293<LataProjekcji,IF((SUM($J295:R295)+$C295)<$C294,$C295,$C294-SUM($J295:R295)),0)),0)","v":0},{"$f":"ROUND(IF(OR(AND($C293=LataProjekcji,$E293>0),AND($C293=LataProjekcji,$E293=0,$D294<=3.5)),$E294,IF($C293<LataProjekcji,IF((SUM($J295:S295)+$C295)<$C294,$C295,$C294-SUM($J295:S295)),0)),0)","v":0},{"$f":"ROUND(IF(OR(AND($C293=LataProjekcji,$E293>0),AND($C293=LataProjekcji,$E293=0,$D294<=3.5)),$E294,IF($C293<LataProjekcji,IF((SUM($J295:T295)+$C295)<$C294,$C295,$C294-SUM($J295:T295)),0)),0)","v":0},{"$f":"ROUND(IF(OR(AND($C293=LataProjekcji,$E293>0),AND($C293=LataProjekcji,$E293=0,$D294<=3.5)),$E294,IF($C293<LataProjekcji,IF((SUM($J295:U295)+$C295)<$C294,$C295,$C294-SUM($J295:U295)),0)),0)","v":0},{"$f":"ROUND(IF(OR(AND($C293=LataProjekcji,$E293>0),AND($C293=LataProjekcji,$E293=0,$D294<=3.5)),$E294,IF($C293<LataProjekcji,IF((SUM($J295:V295)+$C295)<$C294,$C295,$C294-SUM($J295:V295)),0)),0)","v":0}]
[null,"umorzenie",null,null,null,null,null,null,null,{"$f":"ROUND(J295,0)","v":0},{"$f":"ROUND(J296+K295,0)","v":0},{"$f":"ROUND(K296+L295,0)","v":0},{"$f":"ROUND(L296+M295,0)","v":0},{"$f":"ROUND(M296+N295,0)","v":0},{"$f":"ROUND(N296+O295,0)","v":0},{"$f":"ROUND(O296+P295,0)","v":0},{"$f":"ROUND(P296+Q295,0)","v":0},{"$f":"ROUND(Q296+R295,0)","v":0},{"$f":"ROUND(R296+S295,0)","v":0},{"$f":"ROUND(S296+T295,0)","v":0},{"$f":"ROUND(T296+U295,0)","v":0},{"$f":"ROUND(U296+V295,0)","v":0},{"$f":"ROUND(V296+W295,0)","v":0}]
[null,"wartość netto",null,null,null,null,null,null,null,{"$f":"IF($C293=LataProjekcji,ROUND($C294-J296,0),ROUND(IF(J295=0,0,$C294-J296),0))","v":0},0,0,0,0,0,0,0,0,0,0,0,0,0]
[]
[null,{"$f":"B254","v":"zrealizowane środki trwałe w budowie"},null,null,null,null,"niekwalifikowalne","spr"]
[null,"rok zakupu",{"$f":"IFERROR(YEAR(D254),0)","v":0},{"$f":"IFERROR(MONTH(D254),0)","v":0},{"$f":"12-$D300","v":12},null,{"$f":"C294-F300","v":0},{"$f":"C294-F300-G300","v":0}]
[null,"wartość netto",{"$f":"IF(F254<0,0,F254)","v":0},{"$f":"C254","v":0},{"$f":"IF($C254>3.5,ROUND(($C302/12)*$E300,0),$C301)","v":0},"<- am. Do końca roku"]
[null,"amortyzacja roczna",{"$f":"IF(ISBLANK(D254),0,IF(C254>3.5,ROUND(C301*am_maszyny,0),IF(C301<0,0,C301)))","v":0},null,null,null,null,null,null,{"$f":"ROUND(IF($C300=LataProjekcji,$E301,IF($C300=LataProjekcji,$C302,0)),0)","v":0},{"$f":"ROUND(IF(OR(AND($C300=LataProjekcji,$E300>0),AND($C300=LataProjekcji,$E300=0,$D301<=3.5)),$E301,IF($C300<LataProjekcji,IF((SUM($J302:J302)+$C302)<$C301,$C302,$C301-SUM($J302:J302)),0)),0)","v":0},{"$f":"ROUND(IF(OR(AND($C300=LataProjekcji,$E300>0),AND($C300=LataProjekcji,$E300=0,$D301<=3.5)),$E301,IF($C300<LataProjekcji,IF((SUM($J302:K302)+$C302)<$C301,$C302,$C301-SUM($J302:K302)),0)),0)","v":0},{"$f":"ROUND(IF(OR(AND($C300=LataProjekcji,$E300>0),AND($C300=LataProjekcji,$E300=0,$D301<=3.5)),$E301,IF($C300<LataProjekcji,IF((SUM($J302:L302)+$C302)<$C301,$C302,$C301-SUM($J302:L302)),0)),0)","v":0},{"$f":"ROUND(IF(OR(AND($C300=LataProjekcji,$E300>0),AND($C300=LataProjekcji,$E300=0,$D301<=3.5)),$E301,IF($C300<LataProjekcji,IF((SUM($J302:M302)+$C302)<$C301,$C302,$C301-SUM($J302:M302)),0)),0)","v":0},{"$f":"ROUND(IF(OR(AND($C300=LataProjekcji,$E300>0),AND($C300=LataProjekcji,$E300=0,$D301<=3.5)),$E301,IF($C300<LataProjekcji,IF((SUM($J302:N302)+$C302)<$C301,$C302,$C301-SUM($J302:N302)),0)),0)","v":0},{"$f":"ROUND(IF(OR(AND($C300=LataProjekcji,$E300>0),AND($C300=LataProjekcji,$E300=0,$D301<=3.5)),$E301,IF($C300<LataProjekcji,IF((SUM($J302:O302)+$C302)<$C301,$C302,$C301-SUM($J302:O302)),0)),0)","v":0},{"$f":"ROUND(IF(OR(AND($C300=LataProjekcji,$E300>0),AND($C300=LataProjekcji,$E300=0,$D301<=3.5)),$E301,IF($C300<LataProjekcji,IF((SUM($J302:P302)+$C302)<$C301,$C302,$C301-SUM($J302:P302)),0)),0)","v":0},{"$f":"ROUND(IF(OR(AND($C300=LataProjekcji,$E300>0),AND($C300=LataProjekcji,$E300=0,$D301<=3.5)),$E301,IF($C300<LataProjekcji,IF((SUM($J302:Q302)+$C302)<$C301,$C302,$C301-SUM($J302:Q302)),0)),0)","v":0},{"$f":"ROUND(IF(OR(AND($C300=LataProjekcji,$E300>0),AND($C300=LataProjekcji,$E300=0,$D301<=3.5)),$E301,IF($C300<LataProjekcji,IF((SUM($J302:R302)+$C302)<$C301,$C302,$C301-SUM($J302:R302)),0)),0)","v":0},{"$f":"ROUND(IF(OR(AND($C300=LataProjekcji,$E300>0),AND($C300=LataProjekcji,$E300=0,$D301<=3.5)),$E301,IF($C300<LataProjekcji,IF((SUM($J302:S302)+$C302)<$C301,$C302,$C301-SUM($J302:S302)),0)),0)","v":0},{"$f":"ROUND(IF(OR(AND($C300=LataProjekcji,$E300>0),AND($C300=LataProjekcji,$E300=0,$D301<=3.5)),$E301,IF($C300<LataProjekcji,IF((SUM($J302:T302)+$C302)<$C301,$C302,$C301-SUM($J302:T302)),0)),0)","v":0},{"$f":"ROUND(IF(OR(AND($C300=LataProjekcji,$E300>0),AND($C300=LataProjekcji,$E300=0,$D301<=3.5)),$E301,IF($C300<LataProjekcji,IF((SUM($J302:U302)+$C302)<$C301,$C302,$C301-SUM($J302:U302)),0)),0)","v":0},{"$f":"ROUND(IF(OR(AND($C300=LataProjekcji,$E300>0),AND($C300=LataProjekcji,$E300=0,$D301<=3.5)),$E301,IF($C300<LataProjekcji,IF((SUM($J302:V302)+$C302)<$C301,$C302,$C301-SUM($J302:V302)),0)),0)","v":0}]
[null,"umorzenie",null,null,null,null,null,null,null,{"$f":"ROUND(J302,0)","v":0},{"$f":"ROUND(J303+K302,0)","v":0},{"$f":"ROUND(K303+L302,0)","v":0},{"$f":"ROUND(L303+M302,0)","v":0},{"$f":"ROUND(M303+N302,0)","v":0},{"$f":"ROUND(N303+O302,0)","v":0},{"$f":"ROUND(O303+P302,0)","v":0},{"$f":"ROUND(P303+Q302,0)","v":0},{"$f":"ROUND(Q303+R302,0)","v":0},{"$f":"ROUND(R303+S302,0)","v":0},{"$f":"ROUND(S303+T302,0)","v":0},{"$f":"ROUND(T303+U302,0)","v":0},{"$f":"ROUND(U303+V302,0)","v":0},{"$f":"ROUND(V303+W302,0)","v":0}]
[null,"wartość netto",null,null,null,null,null,null,null,{"$f":"IF($C300=LataProjekcji,ROUND($C301-J303,0),ROUND(IF(J302=0,0,$C301-J303),0))","v":0},0,0,{"$f":"IF($C300=LataProjekcji,ROUND($C301-M303,0),ROUND(IF(M302=0,0,$C301-M303),0))","v":0},{"$f":"IF($C300=LataProjekcji,ROUND($C301-N303,0),ROUND(IF(N302=0,0,$C301-N303),0))","v":0},0,0,0,0,0,0,0,0,0]
[]
[null,{"$f":"B255","v":"zrealizowane środki trwałe w budowie"}]
[null,"rok zakupu",{"$f":"IFERROR(YEAR(D255),0)","v":0},{"$f":"IFERROR(MONTH(D255),0)","v":0},{"$f":"12-$D307","v":12}]
[null,"wartość netto",{"$f":"IF(F255<0,0,F255)","v":0},{"$f":"C255","v":0},{"$f":"IF($C255>3.5,ROUND(($C309/12)*$E307,0),$C308)","v":0}]
[null,"amortyzacja roczna",{"$f":"IF(ISBLANK(D255),0,IF(C255>3.5,ROUND(C308*am_maszyny,0),IF(C308<0,0,C308)))","v":0},null,null,null,null,null,null,{"$f":"ROUND(IF($C307=LataProjekcji,$E308,IF($C307=LataProjekcji,$C309,0)),0)","v":0},{"$f":"ROUND(IF(OR(AND($C307=LataProjekcji,$E307>0),AND($C307=LataProjekcji,$E307=0,$D308<=3.5)),$E308,IF($C307<LataProjekcji,IF((SUM($J309:J309)+$C309)<$C308,$C309,$C308-SUM($J309:J309)),0)),0)","v":0},{"$f":"ROUND(IF(OR(AND($C307=LataProjekcji,$E307>0),AND($C307=LataProjekcji,$E307=0,$D308<=3.5)),$E308,IF($C307<LataProjekcji,IF((SUM($J309:K309)+$C309)<$C308,$C309,$C308-SUM($J309:K309)),0)),0)","v":0},{"$f":"ROUND(IF(OR(AND($C307=LataProjekcji,$E307>0),AND($C307=LataProjekcji,$E307=0,$D308<=3.5)),$E308,IF($C307<LataProjekcji,IF((SUM($J309:L309)+$C309)<$C308,$C309,$C308-SUM($J309:L309)),0)),0)","v":0},{"$f":"ROUND(IF(OR(AND($C307=LataProjekcji,$E307>0),AND($C307=LataProjekcji,$E307=0,$D308<=3.5)),$E308,IF($C307<LataProjekcji,IF((SUM($J309:M309)+$C309)<$C308,$C309,$C308-SUM($J309:M309)),0)),0)","v":0},{"$f":"ROUND(IF(OR(AND($C307=LataProjekcji,$E307>0),AND($C307=LataProjekcji,$E307=0,$D308<=3.5)),$E308,IF($C307<LataProjekcji,IF((SUM($J309:N309)+$C309)<$C308,$C309,$C308-SUM($J309:N309)),0)),0)","v":0},{"$f":"ROUND(IF(OR(AND($C307=LataProjekcji,$E307>0),AND($C307=LataProjekcji,$E307=0,$D308<=3.5)),$E308,IF($C307<LataProjekcji,IF((SUM($J309:O309)+$C309)<$C308,$C309,$C308-SUM($J309:O309)),0)),0)","v":0},{"$f":"ROUND(IF(OR(AND($C307=LataProjekcji,$E307>0),AND($C307=LataProjekcji,$E307=0,$D308<=3.5)),$E308,IF($C307<LataProjekcji,IF((SUM($J309:P309)+$C309)<$C308,$C309,$C308-SUM($J309:P309)),0)),0)","v":0},{"$f":"ROUND(IF(OR(AND($C307=LataProjekcji,$E307>0),AND($C307=LataProjekcji,$E307=0,$D308<=3.5)),$E308,IF($C307<LataProjekcji,IF((SUM($J309:Q309)+$C309)<$C308,$C309,$C308-SUM($J309:Q309)),0)),0)","v":0},{"$f":"ROUND(IF(OR(AND($C307=LataProjekcji,$E307>0),AND($C307=LataProjekcji,$E307=0,$D308<=3.5)),$E308,IF($C307<LataProjekcji,IF((SUM($J309:R309)+$C309)<$C308,$C309,$C308-SUM($J309:R309)),0)),0)","v":0},{"$f":"ROUND(IF(OR(AND($C307=LataProjekcji,$E307>0),AND($C307=LataProjekcji,$E307=0,$D308<=3.5)),$E308,IF($C307<LataProjekcji,IF((SUM($J309:S309)+$C309)<$C308,$C309,$C308-SUM($J309:S309)),0)),0)","v":0},{"$f":"ROUND(IF(OR(AND($C307=LataProjekcji,$E307>0),AND($C307=LataProjekcji,$E307=0,$D308<=3.5)),$E308,IF($C307<LataProjekcji,IF((SUM($J309:T309)+$C309)<$C308,$C309,$C308-SUM($J309:T309)),0)),0)","v":0},{"$f":"ROUND(IF(OR(AND($C307=LataProjekcji,$E307>0),AND($C307=LataProjekcji,$E307=0,$D308<=3.5)),$E308,IF($C307<LataProjekcji,IF((SUM($J309:U309)+$C309)<$C308,$C309,$C308-SUM($J309:U309)),0)),0)","v":0},{"$f":"ROUND(IF(OR(AND($C307=LataProjekcji,$E307>0),AND($C307=LataProjekcji,$E307=0,$D308<=3.5)),$E308,IF($C307<LataProjekcji,IF((SUM($J309:V309)+$C309)<$C308,$C309,$C308-SUM($J309:V309)),0)),0)","v":0}]
[null,"umorzenie",null,null,null,null,null,null,null,{"$f":"ROUND(J309,0)","v":0},{"$f":"ROUND(J310+K309,0)","v":0},{"$f":"ROUND(K310+L309,0)","v":0},{"$f":"ROUND(L310+M309,0)","v":0},{"$f":"ROUND(M310+N309,0)","v":0},{"$f":"ROUND(N310+O309,0)","v":0},{"$f":"ROUND(O310+P309,0)","v":0},{"$f":"ROUND(P310+Q309,0)","v":0},{"$f":"ROUND(Q310+R309,0)","v":0},{"$f":"ROUND(R310+S309,0)","v":0},{"$f":"ROUND(S310+T309,0)","v":0},{"$f":"ROUND(T310+U309,0)","v":0},{"$f":"ROUND(U310+V309,0)","v":0},{"$f":"ROUND(V310+W309,0)","v":0}]
[null,"wartość netto",null,null,null,null,null,null,null,{"$f":"IF($C307=LataProjekcji,ROUND($C308-J310,0),ROUND(IF(J309=0,0,$C308-J310),0))","v":0},0,0,0,0,0,0,0,0,0,0,0,0,0]
[]
[null,{"$f":"B256","v":"zrealizowane środki trwałe w budowie"}]
[null,"rok zakupu",{"$f":"IFERROR(YEAR(D256),0)","v":0},{"$f":"IFERROR(MONTH(D256),0)","v":0},{"$f":"12-$D314","v":12}]
[null,"wartość netto",{"$f":"IF(F256<0,0,F256)","v":0},{"$f":"C256","v":0},{"$f":"IF($C256>3.5,ROUND(($C316/12)*$E314,0),$C315)","v":0}]
[null,"amortyzacja roczna",{"$f":"IF(ISBLANK(D256),0,IF(C256>3.5,ROUND(C315*am_maszyny,0),IF(C315<0,0,C315)))","v":0},null,null,null,null,null,null,{"$f":"ROUND(IF($C314=LataProjekcji,$E315,IF($C314=LataProjekcji,$C316,0)),0)","v":0},{"$f":"ROUND(IF(OR(AND($C314=LataProjekcji,$E314>0),AND($C314=LataProjekcji,$E314=0,$D315<=3.5)),$E315,IF($C314<LataProjekcji,IF((SUM($J316:J316)+$C316)<$C315,$C316,$C315-SUM($J316:J316)),0)),0)","v":0},{"$f":"ROUND(IF(OR(AND($C314=LataProjekcji,$E314>0),AND($C314=LataProjekcji,$E314=0,$D315<=3.5)),$E315,IF($C314<LataProjekcji,IF((SUM($J316:K316)+$C316)<$C315,$C316,$C315-SUM($J316:K316)),0)),0)","v":0},{"$f":"ROUND(IF(OR(AND($C314=LataProjekcji,$E314>0),AND($C314=LataProjekcji,$E314=0,$D315<=3.5)),$E315,IF($C314<LataProjekcji,IF((SUM($J316:L316)+$C316)<$C315,$C316,$C315-SUM($J316:L316)),0)),0)","v":0},{"$f":"ROUND(IF(OR(AND($C314=LataProjekcji,$E314>0),AND($C314=LataProjekcji,$E314=0,$D315<=3.5)),$E315,IF($C314<LataProjekcji,IF((SUM($J316:M316)+$C316)<$C315,$C316,$C315-SUM($J316:M316)),0)),0)","v":0},{"$f":"ROUND(IF(OR(AND($C314=LataProjekcji,$E314>0),AND($C314=LataProjekcji,$E314=0,$D315<=3.5)),$E315,IF($C314<LataProjekcji,IF((SUM($J316:N316)+$C316)<$C315,$C316,$C315-SUM($J316:N316)),0)),0)","v":0},{"$f":"ROUND(IF(OR(AND($C314=LataProjekcji,$E314>0),AND($C314=LataProjekcji,$E314=0,$D315<=3.5)),$E315,IF($C314<LataProjekcji,IF((SUM($J316:O316)+$C316)<$C315,$C316,$C315-SUM($J316:O316)),0)),0)","v":0},{"$f":"ROUND(IF(OR(AND($C314=LataProjekcji,$E314>0),AND($C314=LataProjekcji,$E314=0,$D315<=3.5)),$E315,IF($C314<LataProjekcji,IF((SUM($J316:P316)+$C316)<$C315,$C316,$C315-SUM($J316:P316)),0)),0)","v":0},{"$f":"ROUND(IF(OR(AND($C314=LataProjekcji,$E314>0),AND($C314=LataProjekcji,$E314=0,$D315<=3.5)),$E315,IF($C314<LataProjekcji,IF((SUM($J316:Q316)+$C316)<$C315,$C316,$C315-SUM($J316:Q316)),0)),0)","v":0},{"$f":"ROUND(IF(OR(AND($C314=LataProjekcji,$E314>0),AND($C314=LataProjekcji,$E314=0,$D315<=3.5)),$E315,IF($C314<LataProjekcji,IF((SUM($J316:R316)+$C316)<$C315,$C316,$C315-SUM($J316:R316)),0)),0)","v":0},{"$f":"ROUND(IF(OR(AND($C314=LataProjekcji,$E314>0),AND($C314=LataProjekcji,$E314=0,$D315<=3.5)),$E315,IF($C314<LataProjekcji,IF((SUM($J316:S316)+$C316)<$C315,$C316,$C315-SUM($J316:S316)),0)),0)","v":0},{"$f":"ROUND(IF(OR(AND($C314=LataProjekcji,$E314>0),AND($C314=LataProjekcji,$E314=0,$D315<=3.5)),$E315,IF($C314<LataProjekcji,IF((SUM($J316:T316)+$C316)<$C315,$C316,$C315-SUM($J316:T316)),0)),0)","v":0},{"$f":"ROUND(IF(OR(AND($C314=LataProjekcji,$E314>0),AND($C314=LataProjekcji,$E314=0,$D315<=3.5)),$E315,IF($C314<LataProjekcji,IF((SUM($J316:U316)+$C316)<$C315,$C316,$C315-SUM($J316:U316)),0)),0)","v":0},{"$f":"ROUND(IF(OR(AND($C314=LataProjekcji,$E314>0),AND($C314=LataProjekcji,$E314=0,$D315<=3.5)),$E315,IF($C314<LataProjekcji,IF((SUM($J316:V316)+$C316)<$C315,$C316,$C315-SUM($J316:V316)),0)),0)","v":0}]
[null,"umorzenie",null,null,null,null,null,null,null,{"$f":"ROUND(J316,0)","v":0},{"$f":"ROUND(J317+K316,0)","v":0},{"$f":"ROUND(K317+L316,0)","v":0},{"$f":"ROUND(L317+M316,0)","v":0},{"$f":"ROUND(M317+N316,0)","v":0},{"$f":"ROUND(N317+O316,0)","v":0},{"$f":"ROUND(O317+P316,0)","v":0},{"$f":"ROUND(P317+Q316,0)","v":0},{"$f":"ROUND(Q317+R316,0)","v":0},{"$f":"ROUND(R317+S316,0)","v":0},{"$f":"ROUND(S317+T316,0)","v":0},{"$f":"ROUND(T317+U316,0)","v":0},{"$f":"ROUND(U317+V316,0)","v":0},{"$f":"ROUND(V317+W316,0)","v":0}]
[null,"wartość netto",null,null,null,null,null,null,null,{"$f":"IF($C314=LataProjekcji,ROUND($C315-J317,0),ROUND(IF(J316=0,0,$C315-J317),0))","v":0},0,0,0,0,0,0,0,0,0,0,0,0,0]
[]
[null,{"$f":"B257","v":"zrealizowane środki trwałe w budowie"}]
[null,"rok zakupu",{"$f":"IFERROR(YEAR(D257),0)","v":0},{"$f":"IFERROR(MONTH(D257),0)","v":0},{"$f":"12-$D321","v":12}]
[null,"wartość netto",{"$f":"IF(F257<0,0,F257)","v":0},{"$f":"C257","v":0},{"$f":"IF($C257>3.5,ROUND(($C323/12)*$E321,0),$C322)","v":0}]
[null,"amortyzacja roczna",{"$f":"IF(ISBLANK(D257),0,IF(C257>3.5,ROUND(C322*am_maszyny,0),IF(C322<0,0,C322)))","v":0},null,null,null,null,null,null,{"$f":"ROUND(IF($C321=LataProjekcji,$E322,IF($C321=LataProjekcji,$C323,0)),0)","v":0},{"$f":"ROUND(IF(OR(AND($C321=LataProjekcji,$E321>0),AND($C321=LataProjekcji,$E321=0,$D322<=3.5)),$E322,IF($C321<LataProjekcji,IF((SUM($J323:J323)+$C323)<$C322,$C323,$C322-SUM($J323:J323)),0)),0)","v":0},{"$f":"ROUND(IF(OR(AND($C321=LataProjekcji,$E321>0),AND($C321=LataProjekcji,$E321=0,$D322<=3.5)),$E322,IF($C321<LataProjekcji,IF((SUM($J323:K323)+$C323)<$C322,$C323,$C322-SUM($J323:K323)),0)),0)","v":0},{"$f":"ROUND(IF(OR(AND($C321=LataProjekcji,$E321>0),AND($C321=LataProjekcji,$E321=0,$D322<=3.5)),$E322,IF($C321<LataProjekcji,IF((SUM($J323:L323)+$C323)<$C322,$C323,$C322-SUM($J323:L323)),0)),0)","v":0},{"$f":"ROUND(IF(OR(AND($C321=LataProjekcji,$E321>0),AND($C321=LataProjekcji,$E321=0,$D322<=3.5)),$E322,IF($C321<LataProjekcji,IF((SUM($J323:M323)+$C323)<$C322,$C323,$C322-SUM($J323:M323)),0)),0)","v":0},{"$f":"ROUND(IF(OR(AND($C321=LataProjekcji,$E321>0),AND($C321=LataProjekcji,$E321=0,$D322<=3.5)),$E322,IF($C321<LataProjekcji,IF((SUM($J323:N323)+$C323)<$C322,$C323,$C322-SUM($J323:N323)),0)),0)","v":0},{"$f":"ROUND(IF(OR(AND($C321=LataProjekcji,$E321>0),AND($C321=LataProjekcji,$E321=0,$D322<=3.5)),$E322,IF($C321<LataProjekcji,IF((SUM($J323:O323)+$C323)<$C322,$C323,$C322-SUM($J323:O323)),0)),0)","v":0},{"$f":"ROUND(IF(OR(AND($C321=LataProjekcji,$E321>0),AND($C321=LataProjekcji,$E321=0,$D322<=3.5)),$E322,IF($C321<LataProjekcji,IF((SUM($J323:P323)+$C323)<$C322,$C323,$C322-SUM($J323:P323)),0)),0)","v":0},{"$f":"ROUND(IF(OR(AND($C321=LataProjekcji,$E321>0),AND($C321=LataProjekcji,$E321=0,$D322<=3.5)),$E322,IF($C321<LataProjekcji,IF((SUM($J323:Q323)+$C323)<$C322,$C323,$C322-SUM($J323:Q323)),0)),0)","v":0},{"$f":"ROUND(IF(OR(AND($C321=LataProjekcji,$E321>0),AND($C321=LataProjekcji,$E321=0,$D322<=3.5)),$E322,IF($C321<LataProjekcji,IF((SUM($J323:R323)+$C323)<$C322,$C323,$C322-SUM($J323:R323)),0)),0)","v":0},{"$f":"ROUND(IF(OR(AND($C321=LataProjekcji,$E321>0),AND($C321=LataProjekcji,$E321=0,$D322<=3.5)),$E322,IF($C321<LataProjekcji,IF((SUM($J323:S323)+$C323)<$C322,$C323,$C322-SUM($J323:S323)),0)),0)","v":0},{"$f":"ROUND(IF(OR(AND($C321=LataProjekcji,$E321>0),AND($C321=LataProjekcji,$E321=0,$D322<=3.5)),$E322,IF($C321<LataProjekcji,IF((SUM($J323:T323)+$C323)<$C322,$C323,$C322-SUM($J323:T323)),0)),0)","v":0},{"$f":"ROUND(IF(OR(AND($C321=LataProjekcji,$E321>0),AND($C321=LataProjekcji,$E321=0,$D322<=3.5)),$E322,IF($C321<LataProjekcji,IF((SUM($J323:U323)+$C323)<$C322,$C323,$C322-SUM($J323:U323)),0)),0)","v":0},{"$f":"ROUND(IF(OR(AND($C321=LataProjekcji,$E321>0),AND($C321=LataProjekcji,$E321=0,$D322<=3.5)),$E322,IF($C321<LataProjekcji,IF((SUM($J323:V323)+$C323)<$C322,$C323,$C322-SUM($J323:V323)),0)),0)","v":0}]
[null,"umorzenie",null,null,null,null,null,null,null,{"$f":"ROUND(J323,0)","v":0},{"$f":"ROUND(J324+K323,0)","v":0},{"$f":"ROUND(K324+L323,0)","v":0},{"$f":"ROUND(L324+M323,0)","v":0},{"$f":"ROUND(M324+N323,0)","v":0},{"$f":"ROUND(N324+O323,0)","v":0},{"$f":"ROUND(O324+P323,0)","v":0},{"$f":"ROUND(P324+Q323,0)","v":0},{"$f":"ROUND(Q324+R323,0)","v":0},{"$f":"ROUND(R324+S323,0)","v":0},{"$f":"ROUND(S324+T323,0)","v":0},{"$f":"ROUND(T324+U323,0)","v":0},{"$f":"ROUND(U324+V323,0)","v":0},{"$f":"ROUND(V324+W323,0)","v":0}]
[null,"wartość netto",null,null,null,null,null,null,null,{"$f":"IF($C321=LataProjekcji,ROUND($C322-J324,0),ROUND(IF(J323=0,0,$C322-J324),0))","v":0},0,0,0,0,0,0,0,0,0,0,0,0,0]
[]
[null,{"$f":"B258","v":"zrealizowane środki trwałe w budowie"}]
[null,"rok zakupu",{"$f":"IFERROR(YEAR(D258),0)","v":0},{"$f":"IFERROR(MONTH(D258),0)","v":0},{"$f":"12-$D328","v":12}]
[null,"wartość netto",{"$f":"IF(F258<0,0,F258)","v":0},{"$f":"C258","v":0},{"$f":"IF($C258>3.5,ROUND(($C330/12)*$E328,0),$C329)","v":0}]
[null,"amortyzacja roczna",{"$f":"IF(ISBLANK(D258),0,IF(C258>3.5,ROUND(C329*am_maszyny,0),IF(C329<0,0,C329)))","v":0},null,null,null,null,null,null,{"$f":"ROUND(IF($C328=LataProjekcji,$E329,IF($C328=LataProjekcji,$C330,0)),0)","v":0},{"$f":"ROUND(IF(OR(AND($C328=LataProjekcji,$E328>0),AND($C328=LataProjekcji,$E328=0,$D329<=3.5)),$E329,IF($C328<LataProjekcji,IF((SUM($J330:J330)+$C330)<$C329,$C330,$C329-SUM($J330:J330)),0)),0)","v":0},{"$f":"ROUND(IF(OR(AND($C328=LataProjekcji,$E328>0),AND($C328=LataProjekcji,$E328=0,$D329<=3.5)),$E329,IF($C328<LataProjekcji,IF((SUM($J330:K330)+$C330)<$C329,$C330,$C329-SUM($J330:K330)),0)),0)","v":0},{"$f":"ROUND(IF(OR(AND($C328=LataProjekcji,$E328>0),AND($C328=LataProjekcji,$E328=0,$D329<=3.5)),$E329,IF($C328<LataProjekcji,IF((SUM($J330:L330)+$C330)<$C329,$C330,$C329-SUM($J330:L330)),0)),0)","v":0},{"$f":"ROUND(IF(OR(AND($C328=LataProjekcji,$E328>0),AND($C328=LataProjekcji,$E328=0,$D329<=3.5)),$E329,IF($C328<LataProjekcji,IF((SUM($J330:M330)+$C330)<$C329,$C330,$C329-SUM($J330:M330)),0)),0)","v":0},{"$f":"ROUND(IF(OR(AND($C328=LataProjekcji,$E328>0),AND($C328=LataProjekcji,$E328=0,$D329<=3.5)),$E329,IF($C328<LataProjekcji,IF((SUM($J330:N330)+$C330)<$C329,$C330,$C329-SUM($J330:N330)),0)),0)","v":0},{"$f":"ROUND(IF(OR(AND($C328=LataProjekcji,$E328>0),AND($C328=LataProjekcji,$E328=0,$D329<=3.5)),$E329,IF($C328<LataProjekcji,IF((SUM($J330:O330)+$C330)<$C329,$C330,$C329-SUM($J330:O330)),0)),0)","v":0},{"$f":"ROUND(IF(OR(AND($C328=LataProjekcji,$E328>0),AND($C328=LataProjekcji,$E328=0,$D329<=3.5)),$E329,IF($C328<LataProjekcji,IF((SUM($J330:P330)+$C330)<$C329,$C330,$C329-SUM($J330:P330)),0)),0)","v":0},{"$f":"ROUND(IF(OR(AND($C328=LataProjekcji,$E328>0),AND($C328=LataProjekcji,$E328=0,$D329<=3.5)),$E329,IF($C328<LataProjekcji,IF((SUM($J330:Q330)+$C330)<$C329,$C330,$C329-SUM($J330:Q330)),0)),0)","v":0},{"$f":"ROUND(IF(OR(AND($C328=LataProjekcji,$E328>0),AND($C328=LataProjekcji,$E328=0,$D329<=3.5)),$E329,IF($C328<LataProjekcji,IF((SUM($J330:R330)+$C330)<$C329,$C330,$C329-SUM($J330:R330)),0)),0)","v":0},{"$f":"ROUND(IF(OR(AND($C328=LataProjekcji,$E328>0),AND($C328=LataProjekcji,$E328=0,$D329<=3.5)),$E329,IF($C328<LataProjekcji,IF((SUM($J330:S330)+$C330)<$C329,$C330,$C329-SUM($J330:S330)),0)),0)","v":0},{"$f":"ROUND(IF(OR(AND($C328=LataProjekcji,$E328>0),AND($C328=LataProjekcji,$E328=0,$D329<=3.5)),$E329,IF($C328<LataProjekcji,IF((SUM($J330:T330)+$C330)<$C329,$C330,$C329-SUM($J330:T330)),0)),0)","v":0},{"$f":"ROUND(IF(OR(AND($C328=LataProjekcji,$E328>0),AND($C328=LataProjekcji,$E328=0,$D329<=3.5)),$E329,IF($C328<LataProjekcji,IF((SUM($J330:U330)+$C330)<$C329,$C330,$C329-SUM($J330:U330)),0)),0)","v":0},{"$f":"ROUND(IF(OR(AND($C328=LataProjekcji,$E328>0),AND($C328=LataProjekcji,$E328=0,$D329<=3.5)),$E329,IF($C328<LataProjekcji,IF((SUM($J330:V330)+$C330)<$C329,$C330,$C329-SUM($J330:V330)),0)),0)","v":0}]
[null,"umorzenie",null,null,null,null,null,null,null,{"$f":"ROUND(J330,0)","v":0},{"$f":"ROUND(J331+K330,0)","v":0},{"$f":"ROUND(K331+L330,0)","v":0},{"$f":"ROUND(L331+M330,0)","v":0},{"$f":"ROUND(M331+N330,0)","v":0},{"$f":"ROUND(N331+O330,0)","v":0},{"$f":"ROUND(O331+P330,0)","v":0},{"$f":"ROUND(P331+Q330,0)","v":0},{"$f":"ROUND(Q331+R330,0)","v":0},{"$f":"ROUND(R331+S330,0)","v":0},{"$f":"ROUND(S331+T330,0)","v":0},{"$f":"ROUND(T331+U330,0)","v":0},{"$f":"ROUND(U331+V330,0)","v":0},{"$f":"ROUND(V331+W330,0)","v":0}]
[null,"wartość netto",null,null,null,null,null,null,null,{"$f":"IF($C328=LataProjekcji,ROUND($C329-J331,0),ROUND(IF(J330=0,0,$C329-J331),0))","v":0},0,0,0,0,0,0,0,0,0,0,0,0,0]
[null,"środki transportu ","wartość netto","rok i miesiąc zakupu","dofinansowanie %","dofinansowanie PLN",null,null,null,{"$f":"LataProjekcji","v":"Uzupełnij dane"},"","","","","","","","","","","","",""]
[null,{"$f":"IF(ISBLANK('Środki trwałe'!B448),\"\",'Środki trwałe'!B448)","v":""},{"$f":"IF(ISBLANK('Środki trwałe'!C448),\"\",'Środki trwałe'!C448)","v":""},{"$f":"IF(ISBLANK('Środki trwałe'!D448),\"\",'Środki trwałe'!D448)","v":""},{"$f":"IF(ISBLANK('Środki trwałe'!E448),\"\",'Środki trwałe'!E448)","v":""},{"$f":"IFERROR(IF(E334=0,0,ROUND(E334*C334,0)),0)","v":0},null,null,null,{"$f":"IFERROR(ROUND(IF(AND(YEAR($D334)=LataProjekcji,$F334>0),$F334,0),0),0)","v":0},0,0,0,0,0,0,0,0,0,0,0,0,0]
[null,{"$f":"IF(ISBLANK('Środki trwałe'!B449),\"\",'Środki trwałe'!B449)","v":""},{"$f":"IF(ISBLANK('Środki trwałe'!C449),\"\",'Środki trwałe'!C449)","v":""},{"$f":"IF(ISBLANK('Środki trwałe'!D449),\"\",'Środki trwałe'!D449)","v":""},{"$f":"IF(ISBLANK('Środki trwałe'!E449),\"\",'Środki trwałe'!E449)","v":""},{"$f":"IFERROR(IF(E335=0,0,ROUND(E335*C335,0)),0)","v":0},null,null,null,0,0,0,0,0,0,0,0,0,0,0,0,0,0]
[null,{"$f":"IF(ISBLANK('Środki trwałe'!B450),\"\",'Środki trwałe'!B450)","v":""},{"$f":"IF(ISBLANK('Środki trwałe'!C450),\"\",'Środki trwałe'!C450)","v":""},{"$f":"IF(ISBLANK('Środki trwałe'!D450),\"\",'Środki trwałe'!D450)","v":""},{"$f":"IF(ISBLANK('Środki trwałe'!E450),\"\",'Środki trwałe'!E450)","v":""},{"$f":"IFERROR(IF(E336=0,0,ROUND(E336*C336,0)),0)","v":0},null,null,null,0,0,0,0,0,0,0,0,0,0,0,0,0,0]
[null,{"$f":"IF(ISBLANK('Środki trwałe'!B451),\"\",'Środki trwałe'!B451)","v":""},{"$f":"IF(ISBLANK('Środki trwałe'!C451),\"\",'Środki trwałe'!C451)","v":""},{"$f":"IF(ISBLANK('Środki trwałe'!D451),\"\",'Środki trwałe'!D451)","v":""},{"$f":"IF(ISBLANK('Środki trwałe'!E451),\"\",'Środki trwałe'!E451)","v":""},{"$f":"IFERROR(IF(E337=0,0,ROUND(E337*C337,0)),0)","v":0},null,null,null,0,0,0,0,0,0,0,0,0,0,0,0,0,0]
[null,{"$f":"IF(ISBLANK('Środki trwałe'!B452),\"\",'Środki trwałe'!B452)","v":""},{"$f":"IF(ISBLANK('Środki trwałe'!C452),\"\",'Środki trwałe'!C452)","v":""},{"$f":"IF(ISBLANK('Środki trwałe'!D452),\"\",'Środki trwałe'!D452)","v":""},{"$f":"IF(ISBLANK('Środki trwałe'!E452),\"\",'Środki trwałe'!E452)","v":""},{"$f":"IFERROR(IF(E338=0,0,ROUND(E338*C338,0)),0)","v":0},null,null,null,0,0,0,0,0,0,0,0,0,0,0,0,0,0]
[null,"Razem",{"$f":"SUM(C334:C338)","v":0},null,null,{"$f":"SUM(F334:F338)","v":0},null,null,null,{"$f":"ROUND(SUM(J334:J338),0)","v":0},0,0,0,0,0,0,0,0,0,0,0,0,0]
[null,"     - dotacja w okresie (pozostałe przychody)",null,null,null,null,null,null,null,{"$f":"ROUND(J347+J354+J361+J368+J375,0)","v":0},{"$f":"ROUND(K347+K354+K361+K368+K375,0)","v":0},0,0,0,0,0,0,0,0,0,0,0,0]
[null,"     - dotacja narastająco",null,null,null,null,null,null,null,{"$f":"ROUND(J348+J355+J362+J369+J376,0)","v":0},{"$f":"ROUND(K348+K355+K362+K369+K376,0)","v":0},0,0,0,0,0,0,0,0,0,0,0,0]
[null,"     - rozliczenia międzyokresowe bierne",null,null,null,null,null,null,null,{"$f":"ROUND(J349+J356+J363+J370+J377,0)","v":0},{"$f":"ROUND(K349+K356+K363+K370+K377,0)","v":0},0,0,0,0,0,0,0,0,0,0,0,0]
[]
[null,"środki transportu ",null,null,"ile miesiący do końca roku",null,"niekwalifikowalne","spr"]
[null,"rok zakupu",{"$f":"IFERROR(YEAR(D334),0)","v":0},{"$f":"IFERROR(MONTH(D334),0)","v":0},{"$f":"12-$D345","v":12},null,{"$f":"C339-F345","v":0},{"$f":"C339-F345-G345","v":0}]
[null,"wartość netto",{"$f":"IF(F334<0,0,F334)","v":0},{"$f":"C334","v":""},{"$f":"IF($C334>3.5,ROUND(($C347/12)*$E345,0),$C346)","v":0},"<- am. Do końca roku"]
[null,"amortyzacja roczna",{"$f":"IF(ISBLANK(D334),0,IF(C334>3.5,ROUND(C346*am_transport,0),IF(C346<0,0,C346)))","v":0},null,null,null,null,null,null,{"$f":"ROUND(IF($C345=LataProjekcji,$E346,IF($C345=LataProjekcji,$C347,0)),0)","v":0},{"$f":"ROUND(IF(OR(AND($C345=LataProjekcji,$E345>0),AND($C345=LataProjekcji,$E345=0,$D346<=3.5)),$E346,IF($C345<LataProjekcji,IF((SUM($J347:J347)+$C347)<$C346,$C347,$C346-SUM($J347:J347)),0)),0)","v":0},{"$f":"ROUND(IF(OR(AND($C345=LataProjekcji,$E345>0),AND($C345=LataProjekcji,$E345=0,$D346<=3.5)),$E346,IF($C345<LataProjekcji,IF((SUM($J347:K347)+$C347)<$C346,$C347,$C346-SUM($J347:K347)),0)),0)","v":0},{"$f":"ROUND(IF(OR(AND($C345=LataProjekcji,$E345>0),AND($C345=LataProjekcji,$E345=0,$D346<=3.5)),$E346,IF($C345<LataProjekcji,IF((SUM($J347:L347)+$C347)<$C346,$C347,$C346-SUM($J347:L347)),0)),0)","v":0},{"$f":"ROUND(IF(OR(AND($C345=LataProjekcji,$E345>0),AND($C345=LataProjekcji,$E345=0,$D346<=3.5)),$E346,IF($C345<LataProjekcji,IF((SUM($J347:M347)+$C347)<$C346,$C347,$C346-SUM($J347:M347)),0)),0)","v":0},{"$f":"ROUND(IF(OR(AND($C345=LataProjekcji,$E345>0),AND($C345=LataProjekcji,$E345=0,$D346<=3.5)),$E346,IF($C345<LataProjekcji,IF((SUM($J347:N347)+$C347)<$C346,$C347,$C346-SUM($J347:N347)),0)),0)","v":0},{"$f":"ROUND(IF(OR(AND($C345=LataProjekcji,$E345>0),AND($C345=LataProjekcji,$E345=0,$D346<=3.5)),$E346,IF($C345<LataProjekcji,IF((SUM($J347:O347)+$C347)<$C346,$C347,$C346-SUM($J347:O347)),0)),0)","v":0},{"$f":"ROUND(IF(OR(AND($C345=LataProjekcji,$E345>0),AND($C345=LataProjekcji,$E345=0,$D346<=3.5)),$E346,IF($C345<LataProjekcji,IF((SUM($J347:P347)+$C347)<$C346,$C347,$C346-SUM($J347:P347)),0)),0)","v":0},{"$f":"ROUND(IF(OR(AND($C345=LataProjekcji,$E345>0),AND($C345=LataProjekcji,$E345=0,$D346<=3.5)),$E346,IF($C345<LataProjekcji,IF((SUM($J347:Q347)+$C347)<$C346,$C347,$C346-SUM($J347:Q347)),0)),0)","v":0},{"$f":"ROUND(IF(OR(AND($C345=LataProjekcji,$E345>0),AND($C345=LataProjekcji,$E345=0,$D346<=3.5)),$E346,IF($C345<LataProjekcji,IF((SUM($J347:R347)+$C347)<$C346,$C347,$C346-SUM($J347:R347)),0)),0)","v":0},{"$f":"ROUND(IF(OR(AND($C345=LataProjekcji,$E345>0),AND($C345=LataProjekcji,$E345=0,$D346<=3.5)),$E346,IF($C345<LataProjekcji,IF((SUM($J347:S347)+$C347)<$C346,$C347,$C346-SUM($J347:S347)),0)),0)","v":0},{"$f":"ROUND(IF(OR(AND($C345=LataProjekcji,$E345>0),AND($C345=LataProjekcji,$E345=0,$D346<=3.5)),$E346,IF($C345<LataProjekcji,IF((SUM($J347:T347)+$C347)<$C346,$C347,$C346-SUM($J347:T347)),0)),0)","v":0},{"$f":"ROUND(IF(OR(AND($C345=LataProjekcji,$E345>0),AND($C345=LataProjekcji,$E345=0,$D346<=3.5)),$E346,IF($C345<LataProjekcji,IF((SUM($J347:U347)+$C347)<$C346,$C347,$C346-SUM($J347:U347)),0)),0)","v":0},{"$f":"ROUND(IF(OR(AND($C345=LataProjekcji,$E345>0),AND($C345=LataProjekcji,$E345=0,$D346<=3.5)),$E346,IF($C345<LataProjekcji,IF((SUM($J347:V347)+$C347)<$C346,$C347,$C346-SUM($J347:V347)),0)),0)","v":0}]
[null,"umorzenie",null,null,null,null,null,null,null,{"$f":"ROUND(J347,0)","v":0},{"$f":"ROUND(J348+K347,0)","v":0},{"$f":"ROUND(K348+L347,0)","v":0},{"$f":"ROUND(L348+M347,0)","v":0},{"$f":"ROUND(M348+N347,0)","v":0},{"$f":"ROUND(N348+O347,0)","v":0},{"$f":"ROUND(O348+P347,0)","v":0},{"$f":"ROUND(P348+Q347,0)","v":0},{"$f":"ROUND(Q348+R347,0)","v":0},{"$f":"ROUND(R348+S347,0)","v":0},{"$f":"ROUND(S348+T347,0)","v":0},{"$f":"ROUND(T348+U347,0)","v":0},{"$f":"ROUND(U348+V347,0)","v":0},{"$f":"ROUND(V348+W347,0)","v":0}]
[null,"wartość netto",null,null,null,null,null,null,null,{"$f":"IF($C345=LataProjekcji,ROUND($C346-J348,0),ROUND(IF(J347=0,0,$C346-J348),0))","v":0},0,0,0,0,0,0,0,0,0,0,0,0,0]
[]
[null,"środki transportu "]
[null,"rok zakupu",{"$f":"IFERROR(YEAR(D335),0)","v":0},{"$f":"IFERROR(MONTH(D335),0)","v":0},{"$f":"12-$D352","v":12}]
[null,"wartość netto",{"$f":"IF(F335<0,0,F335)","v":0},{"$f":"C335","v":""},{"$f":"IF($C335>3.5,ROUND(($C354/12)*$E352,0),$C353)","v":0}]
[null,"amortyzacja roczna",{"$f":"IF(ISBLANK(D335),0,IF(C335>3.5,ROUND(C353*am_transport,0),IF(C353<0,0,C353)))","v":0},null,null,null,null,null,null,{"$f":"ROUND(IF($C352=LataProjekcji,$E353,IF($C352=LataProjekcji,$C354,0)),0)","v":0},{"$f":"ROUND(IF(OR(AND($C352=LataProjekcji,$E352>0),AND($C352=LataProjekcji,$E352=0,$D353<=3.5)),$E353,IF($C352<LataProjekcji,IF((SUM($J354:J354)+$C354)<$C353,$C354,$C353-SUM($J354:J354)),0)),0)","v":0},{"$f":"ROUND(IF(OR(AND($C352=LataProjekcji,$E352>0),AND($C352=LataProjekcji,$E352=0,$D353<=3.5)),$E353,IF($C352<LataProjekcji,IF((SUM($J354:K354)+$C354)<$C353,$C354,$C353-SUM($J354:K354)),0)),0)","v":0},{"$f":"ROUND(IF(OR(AND($C352=LataProjekcji,$E352>0),AND($C352=LataProjekcji,$E352=0,$D353<=3.5)),$E353,IF($C352<LataProjekcji,IF((SUM($J354:L354)+$C354)<$C353,$C354,$C353-SUM($J354:L354)),0)),0)","v":0},{"$f":"ROUND(IF(OR(AND($C352=LataProjekcji,$E352>0),AND($C352=LataProjekcji,$E352=0,$D353<=3.5)),$E353,IF($C352<LataProjekcji,IF((SUM($J354:M354)+$C354)<$C353,$C354,$C353-SUM($J354:M354)),0)),0)","v":0},{"$f":"ROUND(IF(OR(AND($C352=LataProjekcji,$E352>0),AND($C352=LataProjekcji,$E352=0,$D353<=3.5)),$E353,IF($C352<LataProjekcji,IF((SUM($J354:N354)+$C354)<$C353,$C354,$C353-SUM($J354:N354)),0)),0)","v":0},{"$f":"ROUND(IF(OR(AND($C352=LataProjekcji,$E352>0),AND($C352=LataProjekcji,$E352=0,$D353<=3.5)),$E353,IF($C352<LataProjekcji,IF((SUM($J354:O354)+$C354)<$C353,$C354,$C353-SUM($J354:O354)),0)),0)","v":0},{"$f":"ROUND(IF(OR(AND($C352=LataProjekcji,$E352>0),AND($C352=LataProjekcji,$E352=0,$D353<=3.5)),$E353,IF($C352<LataProjekcji,IF((SUM($J354:P354)+$C354)<$C353,$C354,$C353-SUM($J354:P354)),0)),0)","v":0},{"$f":"ROUND(IF(OR(AND($C352=LataProjekcji,$E352>0),AND($C352=LataProjekcji,$E352=0,$D353<=3.5)),$E353,IF($C352<LataProjekcji,IF((SUM($J354:Q354)+$C354)<$C353,$C354,$C353-SUM($J354:Q354)),0)),0)","v":0},{"$f":"ROUND(IF(OR(AND($C352=LataProjekcji,$E352>0),AND($C352=LataProjekcji,$E352=0,$D353<=3.5)),$E353,IF($C352<LataProjekcji,IF((SUM($J354:R354)+$C354)<$C353,$C354,$C353-SUM($J354:R354)),0)),0)","v":0},{"$f":"ROUND(IF(OR(AND($C352=LataProjekcji,$E352>0),AND($C352=LataProjekcji,$E352=0,$D353<=3.5)),$E353,IF($C352<LataProjekcji,IF((SUM($J354:S354)+$C354)<$C353,$C354,$C353-SUM($J354:S354)),0)),0)","v":0},{"$f":"ROUND(IF(OR(AND($C352=LataProjekcji,$E352>0),AND($C352=LataProjekcji,$E352=0,$D353<=3.5)),$E353,IF($C352<LataProjekcji,IF((SUM($J354:T354)+$C354)<$C353,$C354,$C353-SUM($J354:T354)),0)),0)","v":0},{"$f":"ROUND(IF(OR(AND($C352=LataProjekcji,$E352>0),AND($C352=LataProjekcji,$E352=0,$D353<=3.5)),$E353,IF($C352<LataProjekcji,IF((SUM($J354:U354)+$C354)<$C353,$C354,$C353-SUM($J354:U354)),0)),0)","v":0},{"$f":"ROUND(IF(OR(AND($C352=LataProjekcji,$E352>0),AND($C352=LataProjekcji,$E352=0,$D353<=3.5)),$E353,IF($C352<LataProjekcji,IF((SUM($J354:V354)+$C354)<$C353,$C354,$C353-SUM($J354:V354)),0)),0)","v":0}]
[null,"umorzenie",null,null,null,null,null,null,null,{"$f":"ROUND(J354,0)","v":0},{"$f":"ROUND(J355+K354,0)","v":0},{"$f":"ROUND(K355+L354,0)","v":0},{"$f":"ROUND(L355+M354,0)","v":0},{"$f":"ROUND(M355+N354,0)","v":0},{"$f":"ROUND(N355+O354,0)","v":0},{"$f":"ROUND(O355+P354,0)","v":0},{"$f":"ROUND(P355+Q354,0)","v":0},{"$f":"ROUND(Q355+R354,0)","v":0},{"$f":"ROUND(R355+S354,0)","v":0},{"$f":"ROUND(S355+T354,0)","v":0},{"$f":"ROUND(T355+U354,0)","v":0},{"$f":"ROUND(U355+V354,0)","v":0},{"$f":"ROUND(V355+W354,0)","v":0}]
[null,"wartość netto",null,null,null,null,null,null,null,{"$f":"IF($C352=LataProjekcji,ROUND($C353-J355,0),ROUND(IF(J354=0,0,$C353-J355),0))","v":0},0,0,0,0,0,0,0,0,0,0,0,0,0]
[]
[null,"środki transportu "]
[null,"rok zakupu",{"$f":"IFERROR(YEAR(D336),0)","v":0},{"$f":"IFERROR(MONTH(D336),0)","v":0},{"$f":"12-$D359","v":12}]
[null,"wartość netto",{"$f":"IF(F336<0,0,F336)","v":0},{"$f":"C336","v":""},{"$f":"IF($C336>3.5,ROUND(($C361/12)*$E359,0),$C360)","v":0}]
[null,"amortyzacja roczna",{"$f":"IF(ISBLANK(D336),0,IF(C336>3.5,ROUND(C360*am_transport,0),IF(C360<0,0,C360)))","v":0},null,null,null,null,null,null,{"$f":"ROUND(IF($C359=LataProjekcji,$E360,IF($C359=LataProjekcji,$C361,0)),0)","v":0},{"$f":"ROUND(IF(OR(AND($C359=LataProjekcji,$E359>0),AND($C359=LataProjekcji,$E359=0,$D360<=3.5)),$E360,IF($C359<LataProjekcji,IF((SUM($J361:J361)+$C361)<$C360,$C361,$C360-SUM($J361:J361)),0)),0)","v":0},{"$f":"ROUND(IF(OR(AND($C359=LataProjekcji,$E359>0),AND($C359=LataProjekcji,$E359=0,$D360<=3.5)),$E360,IF($C359<LataProjekcji,IF((SUM($J361:K361)+$C361)<$C360,$C361,$C360-SUM($J361:K361)),0)),0)","v":0},{"$f":"ROUND(IF(OR(AND($C359=LataProjekcji,$E359>0),AND($C359=LataProjekcji,$E359=0,$D360<=3.5)),$E360,IF($C359<LataProjekcji,IF((SUM($J361:L361)+$C361)<$C360,$C361,$C360-SUM($J361:L361)),0)),0)","v":0},{"$f":"ROUND(IF(OR(AND($C359=LataProjekcji,$E359>0),AND($C359=LataProjekcji,$E359=0,$D360<=3.5)),$E360,IF($C359<LataProjekcji,IF((SUM($J361:M361)+$C361)<$C360,$C361,$C360-SUM($J361:M361)),0)),0)","v":0},{"$f":"ROUND(IF(OR(AND($C359=LataProjekcji,$E359>0),AND($C359=LataProjekcji,$E359=0,$D360<=3.5)),$E360,IF($C359<LataProjekcji,IF((SUM($J361:N361)+$C361)<$C360,$C361,$C360-SUM($J361:N361)),0)),0)","v":0},{"$f":"ROUND(IF(OR(AND($C359=LataProjekcji,$E359>0),AND($C359=LataProjekcji,$E359=0,$D360<=3.5)),$E360,IF($C359<LataProjekcji,IF((SUM($J361:O361)+$C361)<$C360,$C361,$C360-SUM($J361:O361)),0)),0)","v":0},{"$f":"ROUND(IF(OR(AND($C359=LataProjekcji,$E359>0),AND($C359=LataProjekcji,$E359=0,$D360<=3.5)),$E360,IF($C359<LataProjekcji,IF((SUM($J361:P361)+$C361)<$C360,$C361,$C360-SUM($J361:P361)),0)),0)","v":0},{"$f":"ROUND(IF(OR(AND($C359=LataProjekcji,$E359>0),AND($C359=LataProjekcji,$E359=0,$D360<=3.5)),$E360,IF($C359<LataProjekcji,IF((SUM($J361:Q361)+$C361)<$C360,$C361,$C360-SUM($J361:Q361)),0)),0)","v":0},{"$f":"ROUND(IF(OR(AND($C359=LataProjekcji,$E359>0),AND($C359=LataProjekcji,$E359=0,$D360<=3.5)),$E360,IF($C359<LataProjekcji,IF((SUM($J361:R361)+$C361)<$C360,$C361,$C360-SUM($J361:R361)),0)),0)","v":0},{"$f":"ROUND(IF(OR(AND($C359=LataProjekcji,$E359>0),AND($C359=LataProjekcji,$E359=0,$D360<=3.5)),$E360,IF($C359<LataProjekcji,IF((SUM($J361:S361)+$C361)<$C360,$C361,$C360-SUM($J361:S361)),0)),0)","v":0},{"$f":"ROUND(IF(OR(AND($C359=LataProjekcji,$E359>0),AND($C359=LataProjekcji,$E359=0,$D360<=3.5)),$E360,IF($C359<LataProjekcji,IF((SUM($J361:T361)+$C361)<$C360,$C361,$C360-SUM($J361:T361)),0)),0)","v":0},{"$f":"ROUND(IF(OR(AND($C359=LataProjekcji,$E359>0),AND($C359=LataProjekcji,$E359=0,$D360<=3.5)),$E360,IF($C359<LataProjekcji,IF((SUM($J361:U361)+$C361)<$C360,$C361,$C360-SUM($J361:U361)),0)),0)","v":0},{"$f":"ROUND(IF(OR(AND($C359=LataProjekcji,$E359>0),AND($C359=LataProjekcji,$E359=0,$D360<=3.5)),$E360,IF($C359<LataProjekcji,IF((SUM($J361:V361)+$C361)<$C360,$C361,$C360-SUM($J361:V361)),0)),0)","v":0}]
[null,"umorzenie",null,null,null,null,null,null,null,{"$f":"ROUND(J361,0)","v":0},{"$f":"ROUND(J362+K361,0)","v":0},{"$f":"ROUND(K362+L361,0)","v":0},{"$f":"ROUND(L362+M361,0)","v":0},{"$f":"ROUND(M362+N361,0)","v":0},{"$f":"ROUND(N362+O361,0)","v":0},{"$f":"ROUND(O362+P361,0)","v":0},{"$f":"ROUND(P362+Q361,0)","v":0},{"$f":"ROUND(Q362+R361,0)","v":0},{"$f":"ROUND(R362+S361,0)","v":0},{"$f":"ROUND(S362+T361,0)","v":0},{"$f":"ROUND(T362+U361,0)","v":0},{"$f":"ROUND(U362+V361,0)","v":0},{"$f":"ROUND(V362+W361,0)","v":0}]
[null,"wartość netto",null,null,null,null,null,null,null,{"$f":"IF($C359=LataProjekcji,ROUND($C360-J362,0),ROUND(IF(J361=0,0,$C360-J362),0))","v":0},0,0,0,0,0,0,0,0,0,0,0,0,0]
[]
[null,"środki transportu "]
[null,"rok zakupu",{"$f":"IFERROR(YEAR(D337),0)","v":0},{"$f":"IFERROR(MONTH(D337),0)","v":0},{"$f":"12-$D366","v":12}]
[null,"wartość netto",{"$f":"IF(F337<0,0,F337)","v":0},{"$f":"C337","v":""},{"$f":"IF($C337>3.5,ROUND(($C368/12)*$E366,0),$C367)","v":0}]
[null,"amortyzacja roczna",{"$f":"IF(ISBLANK(D337),0,IF(C337>3.5,ROUND(C367*am_transport,0),IF(C367<0,0,C367)))","v":0},null,null,null,null,null,null,{"$f":"ROUND(IF($C366=LataProjekcji,$E367,IF($C366=LataProjekcji,$C368,0)),0)","v":0},{"$f":"ROUND(IF(OR(AND($C366=LataProjekcji,$E366>0),AND($C366=LataProjekcji,$E366=0,$D367<=3.5)),$E367,IF($C366<LataProjekcji,IF((SUM($J368:J368)+$C368)<$C367,$C368,$C367-SUM($J368:J368)),0)),0)","v":0},{"$f":"ROUND(IF(OR(AND($C366=LataProjekcji,$E366>0),AND($C366=LataProjekcji,$E366=0,$D367<=3.5)),$E367,IF($C366<LataProjekcji,IF((SUM($J368:K368)+$C368)<$C367,$C368,$C367-SUM($J368:K368)),0)),0)","v":0},{"$f":"ROUND(IF(OR(AND($C366=LataProjekcji,$E366>0),AND($C366=LataProjekcji,$E366=0,$D367<=3.5)),$E367,IF($C366<LataProjekcji,IF((SUM($J368:L368)+$C368)<$C367,$C368,$C367-SUM($J368:L368)),0)),0)","v":0},{"$f":"ROUND(IF(OR(AND($C366=LataProjekcji,$E366>0),AND($C366=LataProjekcji,$E366=0,$D367<=3.5)),$E367,IF($C366<LataProjekcji,IF((SUM($J368:M368)+$C368)<$C367,$C368,$C367-SUM($J368:M368)),0)),0)","v":0},{"$f":"ROUND(IF(OR(AND($C366=LataProjekcji,$E366>0),AND($C366=LataProjekcji,$E366=0,$D367<=3.5)),$E367,IF($C366<LataProjekcji,IF((SUM($J368:N368)+$C368)<$C367,$C368,$C367-SUM($J368:N368)),0)),0)","v":0},{"$f":"ROUND(IF(OR(AND($C366=LataProjekcji,$E366>0),AND($C366=LataProjekcji,$E366=0,$D367<=3.5)),$E367,IF($C366<LataProjekcji,IF((SUM($J368:O368)+$C368)<$C367,$C368,$C367-SUM($J368:O368)),0)),0)","v":0},{"$f":"ROUND(IF(OR(AND($C366=LataProjekcji,$E366>0),AND($C366=LataProjekcji,$E366=0,$D367<=3.5)),$E367,IF($C366<LataProjekcji,IF((SUM($J368:P368)+$C368)<$C367,$C368,$C367-SUM($J368:P368)),0)),0)","v":0},{"$f":"ROUND(IF(OR(AND($C366=LataProjekcji,$E366>0),AND($C366=LataProjekcji,$E366=0,$D367<=3.5)),$E367,IF($C366<LataProjekcji,IF((SUM($J368:Q368)+$C368)<$C367,$C368,$C367-SUM($J368:Q368)),0)),0)","v":0},{"$f":"ROUND(IF(OR(AND($C366=LataProjekcji,$E366>0),AND($C366=LataProjekcji,$E366=0,$D367<=3.5)),$E367,IF($C366<LataProjekcji,IF((SUM($J368:R368)+$C368)<$C367,$C368,$C367-SUM($J368:R368)),0)),0)","v":0},{"$f":"ROUND(IF(OR(AND($C366=LataProjekcji,$E366>0),AND($C366=LataProjekcji,$E366=0,$D367<=3.5)),$E367,IF($C366<LataProjekcji,IF((SUM($J368:S368)+$C368)<$C367,$C368,$C367-SUM($J368:S368)),0)),0)","v":0},{"$f":"ROUND(IF(OR(AND($C366=LataProjekcji,$E366>0),AND($C366=LataProjekcji,$E366=0,$D367<=3.5)),$E367,IF($C366<LataProjekcji,IF((SUM($J368:T368)+$C368)<$C367,$C368,$C367-SUM($J368:T368)),0)),0)","v":0},{"$f":"ROUND(IF(OR(AND($C366=LataProjekcji,$E366>0),AND($C366=LataProjekcji,$E366=0,$D367<=3.5)),$E367,IF($C366<LataProjekcji,IF((SUM($J368:U368)+$C368)<$C367,$C368,$C367-SUM($J368:U368)),0)),0)","v":0},{"$f":"ROUND(IF(OR(AND($C366=LataProjekcji,$E366>0),AND($C366=LataProjekcji,$E366=0,$D367<=3.5)),$E367,IF($C366<LataProjekcji,IF((SUM($J368:V368)+$C368)<$C367,$C368,$C367-SUM($J368:V368)),0)),0)","v":0}]
[null,"umorzenie",null,null,null,null,null,null,null,{"$f":"ROUND(J368,0)","v":0},{"$f":"ROUND(J369+K368,0)","v":0},{"$f":"ROUND(K369+L368,0)","v":0},{"$f":"ROUND(L369+M368,0)","v":0},{"$f":"ROUND(M369+N368,0)","v":0},{"$f":"ROUND(N369+O368,0)","v":0},{"$f":"ROUND(O369+P368,0)","v":0},{"$f":"ROUND(P369+Q368,0)","v":0},{"$f":"ROUND(Q369+R368,0)","v":0},{"$f":"ROUND(R369+S368,0)","v":0},{"$f":"ROUND(S369+T368,0)","v":0},{"$f":"ROUND(T369+U368,0)","v":0},{"$f":"ROUND(U369+V368,0)","v":0},{"$f":"ROUND(V369+W368,0)","v":0}]
[null,"wartość netto",null,null,null,null,null,null,null,{"$f":"IF($C366=LataProjekcji,ROUND($C367-J369,0),ROUND(IF(J368=0,0,$C367-J369),0))","v":0},0,0,0,0,0,0,0,0,0,0,0,0,0]
[]
[null,"środki transportu "]
[null,"rok zakupu",{"$f":"IFERROR(YEAR(D338),0)","v":0},{"$f":"IFERROR(MONTH(D338),0)","v":0},{"$f":"12-$D373","v":12}]
[null,"wartość netto",{"$f":"IF(F338<0,0,F338)","v":0},{"$f":"C338","v":""},{"$f":"IF($C338>3.5,ROUND(($C375/12)*$E373,0),$C374)","v":0}]
[null,"amortyzacja roczna",{"$f":"IF(ISBLANK(D338),0,IF(C338>3.5,ROUND(C374*am_transport,0),IF(C374<0,0,C374)))","v":0},null,null,null,null,null,null,{"$f":"ROUND(IF($C373=LataProjekcji,$E374,IF($C373=LataProjekcji,$C375,0)),0)","v":0},{"$f":"ROUND(IF(OR(AND($C373=LataProjekcji,$E373>0),AND($C373=LataProjekcji,$E373=0,$D374<=3.5)),$E374,IF($C373<LataProjekcji,IF((SUM($J375:J375)+$C375)<$C374,$C375,$C374-SUM($J375:J375)),0)),0)","v":0},{"$f":"ROUND(IF(OR(AND($C373=LataProjekcji,$E373>0),AND($C373=LataProjekcji,$E373=0,$D374<=3.5)),$E374,IF($C373<LataProjekcji,IF((SUM($J375:K375)+$C375)<$C374,$C375,$C374-SUM($J375:K375)),0)),0)","v":0},{"$f":"ROUND(IF(OR(AND($C373=LataProjekcji,$E373>0),AND($C373=LataProjekcji,$E373=0,$D374<=3.5)),$E374,IF($C373<LataProjekcji,IF((SUM($J375:L375)+$C375)<$C374,$C375,$C374-SUM($J375:L375)),0)),0)","v":0},{"$f":"ROUND(IF(OR(AND($C373=LataProjekcji,$E373>0),AND($C373=LataProjekcji,$E373=0,$D374<=3.5)),$E374,IF($C373<LataProjekcji,IF((SUM($J375:M375)+$C375)<$C374,$C375,$C374-SUM($J375:M375)),0)),0)","v":0},{"$f":"ROUND(IF(OR(AND($C373=LataProjekcji,$E373>0),AND($C373=LataProjekcji,$E373=0,$D374<=3.5)),$E374,IF($C373<LataProjekcji,IF((SUM($J375:N375)+$C375)<$C374,$C375,$C374-SUM($J375:N375)),0)),0)","v":0},{"$f":"ROUND(IF(OR(AND($C373=LataProjekcji,$E373>0),AND($C373=LataProjekcji,$E373=0,$D374<=3.5)),$E374,IF($C373<LataProjekcji,IF((SUM($J375:O375)+$C375)<$C374,$C375,$C374-SUM($J375:O375)),0)),0)","v":0},{"$f":"ROUND(IF(OR(AND($C373=LataProjekcji,$E373>0),AND($C373=LataProjekcji,$E373=0,$D374<=3.5)),$E374,IF($C373<LataProjekcji,IF((SUM($J375:P375)+$C375)<$C374,$C375,$C374-SUM($J375:P375)),0)),0)","v":0},{"$f":"ROUND(IF(OR(AND($C373=LataProjekcji,$E373>0),AND($C373=LataProjekcji,$E373=0,$D374<=3.5)),$E374,IF($C373<LataProjekcji,IF((SUM($J375:Q375)+$C375)<$C374,$C375,$C374-SUM($J375:Q375)),0)),0)","v":0},{"$f":"ROUND(IF(OR(AND($C373=LataProjekcji,$E373>0),AND($C373=LataProjekcji,$E373=0,$D374<=3.5)),$E374,IF($C373<LataProjekcji,IF((SUM($J375:R375)+$C375)<$C374,$C375,$C374-SUM($J375:R375)),0)),0)","v":0},{"$f":"ROUND(IF(OR(AND($C373=LataProjekcji,$E373>0),AND($C373=LataProjekcji,$E373=0,$D374<=3.5)),$E374,IF($C373<LataProjekcji,IF((SUM($J375:S375)+$C375)<$C374,$C375,$C374-SUM($J375:S375)),0)),0)","v":0},{"$f":"ROUND(IF(OR(AND($C373=LataProjekcji,$E373>0),AND($C373=LataProjekcji,$E373=0,$D374<=3.5)),$E374,IF($C373<LataProjekcji,IF((SUM($J375:T375)+$C375)<$C374,$C375,$C374-SUM($J375:T375)),0)),0)","v":0},{"$f":"ROUND(IF(OR(AND($C373=LataProjekcji,$E373>0),AND($C373=LataProjekcji,$E373=0,$D374<=3.5)),$E374,IF($C373<LataProjekcji,IF((SUM($J375:U375)+$C375)<$C374,$C375,$C374-SUM($J375:U375)),0)),0)","v":0},{"$f":"ROUND(IF(OR(AND($C373=LataProjekcji,$E373>0),AND($C373=LataProjekcji,$E373=0,$D374<=3.5)),$E374,IF($C373<LataProjekcji,IF((SUM($J375:V375)+$C375)<$C374,$C375,$C374-SUM($J375:V375)),0)),0)","v":0}]
[null,"umorzenie",null,null,null,null,null,null,null,{"$f":"ROUND(J375,0)","v":0},{"$f":"ROUND(J376+K375,0)","v":0},{"$f":"ROUND(K376+L375,0)","v":0},{"$f":"ROUND(L376+M375,0)","v":0},{"$f":"ROUND(M376+N375,0)","v":0},{"$f":"ROUND(N376+O375,0)","v":0},{"$f":"ROUND(O376+P375,0)","v":0},{"$f":"ROUND(P376+Q375,0)","v":0},{"$f":"ROUND(Q376+R375,0)","v":0},{"$f":"ROUND(R376+S375,0)","v":0},{"$f":"ROUND(S376+T375,0)","v":0},{"$f":"ROUND(T376+U375,0)","v":0},{"$f":"ROUND(U376+V375,0)","v":0},{"$f":"ROUND(V376+W375,0)","v":0}]
[null,"wartość netto",null,null,null,null,null,null,null,{"$f":"IF($C373=LataProjekcji,ROUND($C374-J376,0),ROUND(IF(J375=0,0,$C374-J376),0))","v":0},0,0,0,0,0,0,0,0,0,0,0,0,0]
[null,"inne środki trwałe ","wartość netto","rok i miesiąc zakupu","dofinansowanie %","dofinansowanie PLN",null,null,null,{"$f":"LataProjekcji","v":"Uzupełnij dane"},"","","","","","","","","","","","",""]
[null,{"$f":"IF(ISBLANK('Środki trwałe'!B495),\"\",'Środki trwałe'!B495)","v":""},{"$f":"IF(ISBLANK('Środki trwałe'!C495),\"\",'Środki trwałe'!C495)","v":""},{"$f":"IF(ISBLANK('Środki trwałe'!D495),\"\",'Środki trwałe'!D495)","v":""},{"$f":"IF(ISBLANK('Środki trwałe'!E495),\"\",'Środki trwałe'!E495)","v":""},{"$f":"IFERROR(IF(E379=0,0,ROUND(E379*C379,0)),0)","v":0},null,null,null,{"$f":"IFERROR(ROUND(IF(AND(YEAR($D379)=LataProjekcji,$F379>0),$F379,0),0),0)","v":0},0,0,0,0,0,0,0,0,0,0,0,0,0]
[null,{"$f":"IF(ISBLANK('Środki trwałe'!B496),\"\",'Środki trwałe'!B496)","v":""},{"$f":"IF(ISBLANK('Środki trwałe'!C496),\"\",'Środki trwałe'!C496)","v":""},{"$f":"IF(ISBLANK('Środki trwałe'!D496),\"\",'Środki trwałe'!D496)","v":""},{"$f":"IF(ISBLANK('Środki trwałe'!E496),\"\",'Środki trwałe'!E496)","v":""},{"$f":"IFERROR(IF(E380=0,0,ROUND(E380*C380,0)),0)","v":0},null,null,null,0,0,0,0,0,0,0,0,0,0,0,0,0,0]
[null,{"$f":"IF(ISBLANK('Środki trwałe'!B497),\"\",'Środki trwałe'!B497)","v":""},{"$f":"IF(ISBLANK('Środki trwałe'!C497),\"\",'Środki trwałe'!C497)","v":""},{"$f":"IF(ISBLANK('Środki trwałe'!D497),\"\",'Środki trwałe'!D497)","v":""},{"$f":"IF(ISBLANK('Środki trwałe'!E497),\"\",'Środki trwałe'!E497)","v":""},{"$f":"IFERROR(IF(E381=0,0,ROUND(E381*C381,0)),0)","v":0},null,null,null,0,0,0,0,0,0,0,0,0,0,0,0,0,0]
[null,{"$f":"IF(ISBLANK('Środki trwałe'!B498),\"\",'Środki trwałe'!B498)","v":""},{"$f":"IF(ISBLANK('Środki trwałe'!C498),\"\",'Środki trwałe'!C498)","v":""},{"$f":"IF(ISBLANK('Środki trwałe'!D498),\"\",'Środki trwałe'!D498)","v":""},{"$f":"IF(ISBLANK('Środki trwałe'!E498),\"\",'Środki trwałe'!E498)","v":""},{"$f":"IFERROR(IF(E382=0,0,ROUND(E382*C382,0)),0)","v":0},null,null,null,0,0,0,0,0,0,0,0,0,0,0,0,0,0]
[null,{"$f":"IF(ISBLANK('Środki trwałe'!B499),\"\",'Środki trwałe'!B499)","v":""},{"$f":"IF(ISBLANK('Środki trwałe'!C499),\"\",'Środki trwałe'!C499)","v":""},{"$f":"IF(ISBLANK('Środki trwałe'!D499),\"\",'Środki trwałe'!D499)","v":""},{"$f":"IF(ISBLANK('Środki trwałe'!E499),\"\",'Środki trwałe'!E499)","v":""},{"$f":"IFERROR(IF(E383=0,0,ROUND(E383*C383,0)),0)","v":0},null,null,null,0,0,0,0,0,0,0,0,0,0,0,0,0,0]
[null,"Razem",{"$f":"SUM(C379:C383)","v":0},null,null,{"$f":"SUM(F379:F383)","v":0},null,null,null,{"$f":"ROUND(SUM(J379:J383),0)","v":0},0,0,0,0,0,0,0,0,0,0,0,0,0]
[null,"     - dotacja w okresie (pozostałe przychody)",null,null,null,null,null,null,null,{"$f":"ROUND(J392+J399+J406+J413+J420,0)","v":0},{"$f":"ROUND(K392+K399+K406+K413+K420,0)","v":0},0,0,0,0,0,0,0,0,0,0,0,0]
[null,"     - dotacja narastająco",null,null,null,null,null,null,null,{"$f":"ROUND(J393+J400+J407+J414+J421,0)","v":0},{"$f":"ROUND(K393+K400+K407+K414+K421,0)","v":0},0,0,0,0,0,0,0,0,0,0,0,0]
[null,"     - rozliczenia międzyokresowe bierne",null,null,null,null,null,null,null,{"$f":"ROUND(J394+J401+J408+J415+J422,0)","v":0},{"$f":"ROUND(K394+K401+K408+K415+K422,0)","v":0},0,0,0,0,0,0,0,0,0,0,0,0]
[]
[null,"inne środki trwałe ",null,null,"ile miesiący do końca roku",null,"niekwalifikowalne","spr"]
[null,"rok zakupu",{"$f":"IFERROR(YEAR(D379),0)","v":0},{"$f":"IFERROR(MONTH(D379),0)","v":0},{"$f":"12-$D390","v":12},null,{"$f":"C384-F390","v":0},{"$f":"C384-F390-G390","v":0}]
[null,"wartość netto",{"$f":"IF(F379<0,0,F379)","v":0},{"$f":"C379","v":""},{"$f":"IF($C379>3.5,ROUND(($C392/12)*$E390,0),$C391)","v":0},"<- am. Do końca roku"]
[null,"amortyzacja roczna",{"$f":"IF(ISBLANK(D379),0,IF(C379>3.5,ROUND(C391*am_inneST,0),IF(C391<0,0,C391)))","v":0},null,null,null,null,null,null,{"$f":"ROUND(IF($C390=LataProjekcji,$E391,IF($C390=LataProjekcji,$C392,0)),0)","v":0},{"$f":"ROUND(IF(OR(AND($C390=LataProjekcji,$E390>0),AND($C390=LataProjekcji,$E390=0,$D391<=3.5)),$E391,IF($C390<LataProjekcji,IF((SUM($J392:J392)+$C392)<$C391,$C392,$C391-SUM($J392:J392)),0)),0)","v":0},{"$f":"ROUND(IF(OR(AND($C390=LataProjekcji,$E390>0),AND($C390=LataProjekcji,$E390=0,$D391<=3.5)),$E391,IF($C390<LataProjekcji,IF((SUM($J392:K392)+$C392)<$C391,$C392,$C391-SUM($J392:K392)),0)),0)","v":0},{"$f":"ROUND(IF(OR(AND($C390=LataProjekcji,$E390>0),AND($C390=LataProjekcji,$E390=0,$D391<=3.5)),$E391,IF($C390<LataProjekcji,IF((SUM($J392:L392)+$C392)<$C391,$C392,$C391-SUM($J392:L392)),0)),0)","v":0},{"$f":"ROUND(IF(OR(AND($C390=LataProjekcji,$E390>0),AND($C390=LataProjekcji,$E390=0,$D391<=3.5)),$E391,IF($C390<LataProjekcji,IF((SUM($J392:M392)+$C392)<$C391,$C392,$C391-SUM($J392:M392)),0)),0)","v":0},{"$f":"ROUND(IF(OR(AND($C390=LataProjekcji,$E390>0),AND($C390=LataProjekcji,$E390=0,$D391<=3.5)),$E391,IF($C390<LataProjekcji,IF((SUM($J392:N392)+$C392)<$C391,$C392,$C391-SUM($J392:N392)),0)),0)","v":0},{"$f":"ROUND(IF(OR(AND($C390=LataProjekcji,$E390>0),AND($C390=LataProjekcji,$E390=0,$D391<=3.5)),$E391,IF($C390<LataProjekcji,IF((SUM($J392:O392)+$C392)<$C391,$C392,$C391-SUM($J392:O392)),0)),0)","v":0},{"$f":"ROUND(IF(OR(AND($C390=LataProjekcji,$E390>0),AND($C390=LataProjekcji,$E390=0,$D391<=3.5)),$E391,IF($C390<LataProjekcji,IF((SUM($J392:P392)+$C392)<$C391,$C392,$C391-SUM($J392:P392)),0)),0)","v":0},{"$f":"ROUND(IF(OR(AND($C390=LataProjekcji,$E390>0),AND($C390=LataProjekcji,$E390=0,$D391<=3.5)),$E391,IF($C390<LataProjekcji,IF((SUM($J392:Q392)+$C392)<$C391,$C392,$C391-SUM($J392:Q392)),0)),0)","v":0},{"$f":"ROUND(IF(OR(AND($C390=LataProjekcji,$E390>0),AND($C390=LataProjekcji,$E390=0,$D391<=3.5)),$E391,IF($C390<LataProjekcji,IF((SUM($J392:R392)+$C392)<$C391,$C392,$C391-SUM($J392:R392)),0)),0)","v":0},{"$f":"ROUND(IF(OR(AND($C390=LataProjekcji,$E390>0),AND($C390=LataProjekcji,$E390=0,$D391<=3.5)),$E391,IF($C390<LataProjekcji,IF((SUM($J392:S392)+$C392)<$C391,$C392,$C391-SUM($J392:S392)),0)),0)","v":0},{"$f":"ROUND(IF(OR(AND($C390=LataProjekcji,$E390>0),AND($C390=LataProjekcji,$E390=0,$D391<=3.5)),$E391,IF($C390<LataProjekcji,IF((SUM($J392:T392)+$C392)<$C391,$C392,$C391-SUM($J392:T392)),0)),0)","v":0},{"$f":"ROUND(IF(OR(AND($C390=LataProjekcji,$E390>0),AND($C390=LataProjekcji,$E390=0,$D391<=3.5)),$E391,IF($C390<LataProjekcji,IF((SUM($J392:U392)+$C392)<$C391,$C392,$C391-SUM($J392:U392)),0)),0)","v":0},{"$f":"ROUND(IF(OR(AND($C390=LataProjekcji,$E390>0),AND($C390=LataProjekcji,$E390=0,$D391<=3.5)),$E391,IF($C390<LataProjekcji,IF((SUM($J392:V392)+$C392)<$C391,$C392,$C391-SUM($J392:V392)),0)),0)","v":0}]
[null,"umorzenie",null,null,null,null,null,null,null,{"$f":"ROUND(J392,0)","v":0},{"$f":"ROUND(J393+K392,0)","v":0},{"$f":"ROUND(K393+L392,0)","v":0},{"$f":"ROUND(L393+M392,0)","v":0},{"$f":"ROUND(M393+N392,0)","v":0},{"$f":"ROUND(N393+O392,0)","v":0},{"$f":"ROUND(O393+P392,0)","v":0},{"$f":"ROUND(P393+Q392,0)","v":0},{"$f":"ROUND(Q393+R392,0)","v":0},{"$f":"ROUND(R393+S392,0)","v":0},{"$f":"ROUND(S393+T392,0)","v":0},{"$f":"ROUND(T393+U392,0)","v":0},{"$f":"ROUND(U393+V392,0)","v":0},{"$f":"ROUND(V393+W392,0)","v":0}]
[null,"wartość netto",null,null,null,null,null,null,null,{"$f":"IF($C390=LataProjekcji,ROUND($C391-J393,0),ROUND(IF(J392=0,0,$C391-J393),0))","v":0},0,0,0,0,0,0,0,0,0,0,0,0,0]
[]
[null,"inne środki trwałe "]
[null,"rok zakupu",{"$f":"IFERROR(YEAR(D380),0)","v":0},{"$f":"IFERROR(MONTH(D380),0)","v":0},{"$f":"12-$D397","v":12}]
[null,"wartość netto",{"$f":"IF(F380<0,0,F380)","v":0},{"$f":"C380","v":""},{"$f":"IF($C380>3.5,ROUND(($C399/12)*$E397,0),$C398)","v":0}]
[null,"amortyzacja roczna",{"$f":"IF(ISBLANK(D380),0,IF(C380>3.5,ROUND(C398*am_inneST,0),IF(C398<0,0,C398)))","v":0},null,null,null,null,null,null,{"$f":"ROUND(IF($C397=LataProjekcji,$E398,IF($C397=LataProjekcji,$C399,0)),0)","v":0},{"$f":"ROUND(IF(OR(AND($C397=LataProjekcji,$E397>0),AND($C397=LataProjekcji,$E397=0,$D398<=3.5)),$E398,IF($C397<LataProjekcji,IF((SUM($J399:J399)+$C399)<$C398,$C399,$C398-SUM($J399:J399)),0)),0)","v":0},{"$f":"ROUND(IF(OR(AND($C397=LataProjekcji,$E397>0),AND($C397=LataProjekcji,$E397=0,$D398<=3.5)),$E398,IF($C397<LataProjekcji,IF((SUM($J399:K399)+$C399)<$C398,$C399,$C398-SUM($J399:K399)),0)),0)","v":0},{"$f":"ROUND(IF(OR(AND($C397=LataProjekcji,$E397>0),AND($C397=LataProjekcji,$E397=0,$D398<=3.5)),$E398,IF($C397<LataProjekcji,IF((SUM($J399:L399)+$C399)<$C398,$C399,$C398-SUM($J399:L399)),0)),0)","v":0},{"$f":"ROUND(IF(OR(AND($C397=LataProjekcji,$E397>0),AND($C397=LataProjekcji,$E397=0,$D398<=3.5)),$E398,IF($C397<LataProjekcji,IF((SUM($J399:M399)+$C399)<$C398,$C399,$C398-SUM($J399:M399)),0)),0)","v":0},{"$f":"ROUND(IF(OR(AND($C397=LataProjekcji,$E397>0),AND($C397=LataProjekcji,$E397=0,$D398<=3.5)),$E398,IF($C397<LataProjekcji,IF((SUM($J399:N399)+$C399)<$C398,$C399,$C398-SUM($J399:N399)),0)),0)","v":0},{"$f":"ROUND(IF(OR(AND($C397=LataProjekcji,$E397>0),AND($C397=LataProjekcji,$E397=0,$D398<=3.5)),$E398,IF($C397<LataProjekcji,IF((SUM($J399:O399)+$C399)<$C398,$C399,$C398-SUM($J399:O399)),0)),0)","v":0},{"$f":"ROUND(IF(OR(AND($C397=LataProjekcji,$E397>0),AND($C397=LataProjekcji,$E397=0,$D398<=3.5)),$E398,IF($C397<LataProjekcji,IF((SUM($J399:P399)+$C399)<$C398,$C399,$C398-SUM($J399:P399)),0)),0)","v":0},{"$f":"ROUND(IF(OR(AND($C397=LataProjekcji,$E397>0),AND($C397=LataProjekcji,$E397=0,$D398<=3.5)),$E398,IF($C397<LataProjekcji,IF((SUM($J399:Q399)+$C399)<$C398,$C399,$C398-SUM($J399:Q399)),0)),0)","v":0},{"$f":"ROUND(IF(OR(AND($C397=LataProjekcji,$E397>0),AND($C397=LataProjekcji,$E397=0,$D398<=3.5)),$E398,IF($C397<LataProjekcji,IF((SUM($J399:R399)+$C399)<$C398,$C399,$C398-SUM($J399:R399)),0)),0)","v":0},{"$f":"ROUND(IF(OR(AND($C397=LataProjekcji,$E397>0),AND($C397=LataProjekcji,$E397=0,$D398<=3.5)),$E398,IF($C397<LataProjekcji,IF((SUM($J399:S399)+$C399)<$C398,$C399,$C398-SUM($J399:S399)),0)),0)","v":0},{"$f":"ROUND(IF(OR(AND($C397=LataProjekcji,$E397>0),AND($C397=LataProjekcji,$E397=0,$D398<=3.5)),$E398,IF($C397<LataProjekcji,IF((SUM($J399:T399)+$C399)<$C398,$C399,$C398-SUM($J399:T399)),0)),0)","v":0},{"$f":"ROUND(IF(OR(AND($C397=LataProjekcji,$E397>0),AND($C397=LataProjekcji,$E397=0,$D398<=3.5)),$E398,IF($C397<LataProjekcji,IF((SUM($J399:U399)+$C399)<$C398,$C399,$C398-SUM($J399:U399)),0)),0)","v":0},{"$f":"ROUND(IF(OR(AND($C397=LataProjekcji,$E397>0),AND($C397=LataProjekcji,$E397=0,$D398<=3.5)),$E398,IF($C397<LataProjekcji,IF((SUM($J399:V399)+$C399)<$C398,$C399,$C398-SUM($J399:V399)),0)),0)","v":0}]
[null,"umorzenie",null,null,null,null,null,null,null,{"$f":"ROUND(J399,0)","v":0},{"$f":"ROUND(J400+K399,0)","v":0},{"$f":"ROUND(K400+L399,0)","v":0},{"$f":"ROUND(L400+M399,0)","v":0},{"$f":"ROUND(M400+N399,0)","v":0},{"$f":"ROUND(N400+O399,0)","v":0},{"$f":"ROUND(O400+P399,0)","v":0},{"$f":"ROUND(P400+Q399,0)","v":0},{"$f":"ROUND(Q400+R399,0)","v":0},{"$f":"ROUND(R400+S399,0)","v":0},{"$f":"ROUND(S400+T399,0)","v":0},{"$f":"ROUND(T400+U399,0)","v":0},{"$f":"ROUND(U400+V399,0)","v":0},{"$f":"ROUND(V400+W399,0)","v":0}]
[null,"wartość netto",null,null,null,null,null,null,null,{"$f":"IF($C397=LataProjekcji,ROUND($C398-J400,0),ROUND(IF(J399=0,0,$C398-J400),0))","v":0},0,0,0,0,0,0,0,0,0,0,0,0,0]
[]
[null,"inne środki trwałe "]
[null,"rok zakupu",{"$f":"IFERROR(YEAR(D381),0)","v":0},{"$f":"IFERROR(MONTH(D381),0)","v":0},{"$f":"12-$D404","v":12}]
[null,"wartość netto",{"$f":"IF(F381<0,0,F381)","v":0},{"$f":"C381","v":""},{"$f":"IF($C381>3.5,ROUND(($C406/12)*$E404,0),$C405)","v":0}]
[null,"amortyzacja roczna",{"$f":"IF(ISBLANK(D381),0,IF(C381>3.5,ROUND(C405*am_inneST,0),IF(C405<0,0,C405)))","v":0},null,null,null,null,null,null,{"$f":"ROUND(IF($C404=LataProjekcji,$E405,IF($C404=LataProjekcji,$C406,0)),0)","v":0},{"$f":"ROUND(IF(OR(AND($C404=LataProjekcji,$E404>0),AND($C404=LataProjekcji,$E404=0,$D405<=3.5)),$E405,IF($C404<LataProjekcji,IF((SUM($J406:J406)+$C406)<$C405,$C406,$C405-SUM($J406:J406)),0)),0)","v":0},{"$f":"ROUND(IF(OR(AND($C404=LataProjekcji,$E404>0),AND($C404=LataProjekcji,$E404=0,$D405<=3.5)),$E405,IF($C404<LataProjekcji,IF((SUM($J406:K406)+$C406)<$C405,$C406,$C405-SUM($J406:K406)),0)),0)","v":0},{"$f":"ROUND(IF(OR(AND($C404=LataProjekcji,$E404>0),AND($C404=LataProjekcji,$E404=0,$D405<=3.5)),$E405,IF($C404<LataProjekcji,IF((SUM($J406:L406)+$C406)<$C405,$C406,$C405-SUM($J406:L406)),0)),0)","v":0},{"$f":"ROUND(IF(OR(AND($C404=LataProjekcji,$E404>0),AND($C404=LataProjekcji,$E404=0,$D405<=3.5)),$E405,IF($C404<LataProjekcji,IF((SUM($J406:M406)+$C406)<$C405,$C406,$C405-SUM($J406:M406)),0)),0)","v":0},{"$f":"ROUND(IF(OR(AND($C404=LataProjekcji,$E404>0),AND($C404=LataProjekcji,$E404=0,$D405<=3.5)),$E405,IF($C404<LataProjekcji,IF((SUM($J406:N406)+$C406)<$C405,$C406,$C405-SUM($J406:N406)),0)),0)","v":0},{"$f":"ROUND(IF(OR(AND($C404=LataProjekcji,$E404>0),AND($C404=LataProjekcji,$E404=0,$D405<=3.5)),$E405,IF($C404<LataProjekcji,IF((SUM($J406:O406)+$C406)<$C405,$C406,$C405-SUM($J406:O406)),0)),0)","v":0},{"$f":"ROUND(IF(OR(AND($C404=LataProjekcji,$E404>0),AND($C404=LataProjekcji,$E404=0,$D405<=3.5)),$E405,IF($C404<LataProjekcji,IF((SUM($J406:P406)+$C406)<$C405,$C406,$C405-SUM($J406:P406)),0)),0)","v":0},{"$f":"ROUND(IF(OR(AND($C404=LataProjekcji,$E404>0),AND($C404=LataProjekcji,$E404=0,$D405<=3.5)),$E405,IF($C404<LataProjekcji,IF((SUM($J406:Q406)+$C406)<$C405,$C406,$C405-SUM($J406:Q406)),0)),0)","v":0},{"$f":"ROUND(IF(OR(AND($C404=LataProjekcji,$E404>0),AND($C404=LataProjekcji,$E404=0,$D405<=3.5)),$E405,IF($C404<LataProjekcji,IF((SUM($J406:R406)+$C406)<$C405,$C406,$C405-SUM($J406:R406)),0)),0)","v":0},{"$f":"ROUND(IF(OR(AND($C404=LataProjekcji,$E404>0),AND($C404=LataProjekcji,$E404=0,$D405<=3.5)),$E405,IF($C404<LataProjekcji,IF((SUM($J406:S406)+$C406)<$C405,$C406,$C405-SUM($J406:S406)),0)),0)","v":0},{"$f":"ROUND(IF(OR(AND($C404=LataProjekcji,$E404>0),AND($C404=LataProjekcji,$E404=0,$D405<=3.5)),$E405,IF($C404<LataProjekcji,IF((SUM($J406:T406)+$C406)<$C405,$C406,$C405-SUM($J406:T406)),0)),0)","v":0},{"$f":"ROUND(IF(OR(AND($C404=LataProjekcji,$E404>0),AND($C404=LataProjekcji,$E404=0,$D405<=3.5)),$E405,IF($C404<LataProjekcji,IF((SUM($J406:U406)+$C406)<$C405,$C406,$C405-SUM($J406:U406)),0)),0)","v":0},{"$f":"ROUND(IF(OR(AND($C404=LataProjekcji,$E404>0),AND($C404=LataProjekcji,$E404=0,$D405<=3.5)),$E405,IF($C404<LataProjekcji,IF((SUM($J406:V406)+$C406)<$C405,$C406,$C405-SUM($J406:V406)),0)),0)","v":0}]
[null,"umorzenie",null,null,null,null,null,null,null,{"$f":"ROUND(J406,0)","v":0},{"$f":"ROUND(J407+K406,0)","v":0},{"$f":"ROUND(K407+L406,0)","v":0},{"$f":"ROUND(L407+M406,0)","v":0},{"$f":"ROUND(M407+N406,0)","v":0},{"$f":"ROUND(N407+O406,0)","v":0},{"$f":"ROUND(O407+P406,0)","v":0},{"$f":"ROUND(P407+Q406,0)","v":0},{"$f":"ROUND(Q407+R406,0)","v":0},{"$f":"ROUND(R407+S406,0)","v":0},{"$f":"ROUND(S407+T406,0)","v":0},{"$f":"ROUND(T407+U406,0)","v":0},{"$f":"ROUND(U407+V406,0)","v":0},{"$f":"ROUND(V407+W406,0)","v":0}]
[null,"wartość netto",null,null,null,null,null,null,null,{"$f":"IF($C404=LataProjekcji,ROUND($C405-J407,0),ROUND(IF(J406=0,0,$C405-J407),0))","v":0},0,0,0,0,0,0,0,0,0,0,0,0,0]
[]
[null,"inne środki trwałe "]
[null,"rok zakupu",{"$f":"IFERROR(YEAR(D382),0)","v":0},{"$f":"IFERROR(MONTH(D382),0)","v":0},{"$f":"12-$D411","v":12}]
[null,"wartość netto",{"$f":"IF(F382<0,0,F382)","v":0},{"$f":"C382","v":""},{"$f":"IF($C382>3.5,ROUND(($C413/12)*$E411,0),$C412)","v":0}]
[null,"amortyzacja roczna",{"$f":"IF(ISBLANK(D382),0,IF(C382>3.5,ROUND(C412*am_inneST,0),IF(C412<0,0,C412)))","v":0},null,null,null,null,null,null,{"$f":"ROUND(IF($C411=LataProjekcji,$E412,IF($C411=LataProjekcji,$C413,0)),0)","v":0},{"$f":"ROUND(IF(OR(AND($C411=LataProjekcji,$E411>0),AND($C411=LataProjekcji,$E411=0,$D412<=3.5)),$E412,IF($C411<LataProjekcji,IF((SUM($J413:J413)+$C413)<$C412,$C413,$C412-SUM($J413:J413)),0)),0)","v":0},{"$f":"ROUND(IF(OR(AND($C411=LataProjekcji,$E411>0),AND($C411=LataProjekcji,$E411=0,$D412<=3.5)),$E412,IF($C411<LataProjekcji,IF((SUM($J413:K413)+$C413)<$C412,$C413,$C412-SUM($J413:K413)),0)),0)","v":0},{"$f":"ROUND(IF(OR(AND($C411=LataProjekcji,$E411>0),AND($C411=LataProjekcji,$E411=0,$D412<=3.5)),$E412,IF($C411<LataProjekcji,IF((SUM($J413:L413)+$C413)<$C412,$C413,$C412-SUM($J413:L413)),0)),0)","v":0},{"$f":"ROUND(IF(OR(AND($C411=LataProjekcji,$E411>0),AND($C411=LataProjekcji,$E411=0,$D412<=3.5)),$E412,IF($C411<LataProjekcji,IF((SUM($J413:M413)+$C413)<$C412,$C413,$C412-SUM($J413:M413)),0)),0)","v":0},{"$f":"ROUND(IF(OR(AND($C411=LataProjekcji,$E411>0),AND($C411=LataProjekcji,$E411=0,$D412<=3.5)),$E412,IF($C411<LataProjekcji,IF((SUM($J413:N413)+$C413)<$C412,$C413,$C412-SUM($J413:N413)),0)),0)","v":0},{"$f":"ROUND(IF(OR(AND($C411=LataProjekcji,$E411>0),AND($C411=LataProjekcji,$E411=0,$D412<=3.5)),$E412,IF($C411<LataProjekcji,IF((SUM($J413:O413)+$C413)<$C412,$C413,$C412-SUM($J413:O413)),0)),0)","v":0},{"$f":"ROUND(IF(OR(AND($C411=LataProjekcji,$E411>0),AND($C411=LataProjekcji,$E411=0,$D412<=3.5)),$E412,IF($C411<LataProjekcji,IF((SUM($J413:P413)+$C413)<$C412,$C413,$C412-SUM($J413:P413)),0)),0)","v":0},{"$f":"ROUND(IF(OR(AND($C411=LataProjekcji,$E411>0),AND($C411=LataProjekcji,$E411=0,$D412<=3.5)),$E412,IF($C411<LataProjekcji,IF((SUM($J413:Q413)+$C413)<$C412,$C413,$C412-SUM($J413:Q413)),0)),0)","v":0},{"$f":"ROUND(IF(OR(AND($C411=LataProjekcji,$E411>0),AND($C411=LataProjekcji,$E411=0,$D412<=3.5)),$E412,IF($C411<LataProjekcji,IF((SUM($J413:R413)+$C413)<$C412,$C413,$C412-SUM($J413:R413)),0)),0)","v":0},{"$f":"ROUND(IF(OR(AND($C411=LataProjekcji,$E411>0),AND($C411=LataProjekcji,$E411=0,$D412<=3.5)),$E412,IF($C411<LataProjekcji,IF((SUM($J413:S413)+$C413)<$C412,$C413,$C412-SUM($J413:S413)),0)),0)","v":0},{"$f":"ROUND(IF(OR(AND($C411=LataProjekcji,$E411>0),AND($C411=LataProjekcji,$E411=0,$D412<=3.5)),$E412,IF($C411<LataProjekcji,IF((SUM($J413:T413)+$C413)<$C412,$C413,$C412-SUM($J413:T413)),0)),0)","v":0},{"$f":"ROUND(IF(OR(AND($C411=LataProjekcji,$E411>0),AND($C411=LataProjekcji,$E411=0,$D412<=3.5)),$E412,IF($C411<LataProjekcji,IF((SUM($J413:U413)+$C413)<$C412,$C413,$C412-SUM($J413:U413)),0)),0)","v":0},{"$f":"ROUND(IF(OR(AND($C411=LataProjekcji,$E411>0),AND($C411=LataProjekcji,$E411=0,$D412<=3.5)),$E412,IF($C411<LataProjekcji,IF((SUM($J413:V413)+$C413)<$C412,$C413,$C412-SUM($J413:V413)),0)),0)","v":0}]
[null,"umorzenie",null,null,null,null,null,null,null,{"$f":"ROUND(J413,0)","v":0},{"$f":"ROUND(J414+K413,0)","v":0},{"$f":"ROUND(K414+L413,0)","v":0},{"$f":"ROUND(L414+M413,0)","v":0},{"$f":"ROUND(M414+N413,0)","v":0},{"$f":"ROUND(N414+O413,0)","v":0},{"$f":"ROUND(O414+P413,0)","v":0},{"$f":"ROUND(P414+Q413,0)","v":0},{"$f":"ROUND(Q414+R413,0)","v":0},{"$f":"ROUND(R414+S413,0)","v":0},{"$f":"ROUND(S414+T413,0)","v":0},{"$f":"ROUND(T414+U413,0)","v":0},{"$f":"ROUND(U414+V413,0)","v":0},{"$f":"ROUND(V414+W413,0)","v":0}]
[null,"wartość netto",null,null,null,null,null,null,null,{"$f":"IF($C411=LataProjekcji,ROUND($C412-J414,0),ROUND(IF(J413=0,0,$C412-J414),0))","v":0},0,0,0,0,0,0,0,0,0,0,0,0,0]
[]
[null,"inne środki trwałe "]
[null,"rok zakupu",{"$f":"IFERROR(YEAR(D383),0)","v":0},{"$f":"IFERROR(MONTH(D383),0)","v":0},{"$f":"12-$D418","v":12}]
[null,"wartość netto",{"$f":"IF(F383<0,0,F383)","v":0},{"$f":"C383","v":""},{"$f":"IF($C383>3.5,ROUND(($C420/12)*$E418,0),$C419)","v":0}]
[null,"amortyzacja roczna",{"$f":"IF(ISBLANK(D383),0,IF(C383>3.5,ROUND(C419*am_inneST,0),IF(C419<0,0,C419)))","v":0},null,null,null,null,null,null,{"$f":"ROUND(IF($C418=LataProjekcji,$E419,IF($C418=LataProjekcji,$C420,0)),0)","v":0},{"$f":"ROUND(IF(OR(AND($C418=LataProjekcji,$E418>0),AND($C418=LataProjekcji,$E418=0,$D419<=3.5)),$E419,IF($C418<LataProjekcji,IF((SUM($J420:J420)+$C420)<$C419,$C420,$C419-SUM($J420:J420)),0)),0)","v":0},{"$f":"ROUND(IF(OR(AND($C418=LataProjekcji,$E418>0),AND($C418=LataProjekcji,$E418=0,$D419<=3.5)),$E419,IF($C418<LataProjekcji,IF((SUM($J420:K420)+$C420)<$C419,$C420,$C419-SUM($J420:K420)),0)),0)","v":0},{"$f":"ROUND(IF(OR(AND($C418=LataProjekcji,$E418>0),AND($C418=LataProjekcji,$E418=0,$D419<=3.5)),$E419,IF($C418<LataProjekcji,IF((SUM($J420:L420)+$C420)<$C419,$C420,$C419-SUM($J420:L420)),0)),0)","v":0},{"$f":"ROUND(IF(OR(AND($C418=LataProjekcji,$E418>0),AND($C418=LataProjekcji,$E418=0,$D419<=3.5)),$E419,IF($C418<LataProjekcji,IF((SUM($J420:M420)+$C420)<$C419,$C420,$C419-SUM($J420:M420)),0)),0)","v":0},{"$f":"ROUND(IF(OR(AND($C418=LataProjekcji,$E418>0),AND($C418=LataProjekcji,$E418=0,$D419<=3.5)),$E419,IF($C418<LataProjekcji,IF((SUM($J420:N420)+$C420)<$C419,$C420,$C419-SUM($J420:N420)),0)),0)","v":0},{"$f":"ROUND(IF(OR(AND($C418=LataProjekcji,$E418>0),AND($C418=LataProjekcji,$E418=0,$D419<=3.5)),$E419,IF($C418<LataProjekcji,IF((SUM($J420:O420)+$C420)<$C419,$C420,$C419-SUM($J420:O420)),0)),0)","v":0},{"$f":"ROUND(IF(OR(AND($C418=LataProjekcji,$E418>0),AND($C418=LataProjekcji,$E418=0,$D419<=3.5)),$E419,IF($C418<LataProjekcji,IF((SUM($J420:P420)+$C420)<$C419,$C420,$C419-SUM($J420:P420)),0)),0)","v":0},{"$f":"ROUND(IF(OR(AND($C418=LataProjekcji,$E418>0),AND($C418=LataProjekcji,$E418=0,$D419<=3.5)),$E419,IF($C418<LataProjekcji,IF((SUM($J420:Q420)+$C420)<$C419,$C420,$C419-SUM($J420:Q420)),0)),0)","v":0},{"$f":"ROUND(IF(OR(AND($C418=LataProjekcji,$E418>0),AND($C418=LataProjekcji,$E418=0,$D419<=3.5)),$E419,IF($C418<LataProjekcji,IF((SUM($J420:R420)+$C420)<$C419,$C420,$C419-SUM($J420:R420)),0)),0)","v":0},{"$f":"ROUND(IF(OR(AND($C418=LataProjekcji,$E418>0),AND($C418=LataProjekcji,$E418=0,$D419<=3.5)),$E419,IF($C418<LataProjekcji,IF((SUM($J420:S420)+$C420)<$C419,$C420,$C419-SUM($J420:S420)),0)),0)","v":0},{"$f":"ROUND(IF(OR(AND($C418=LataProjekcji,$E418>0),AND($C418=LataProjekcji,$E418=0,$D419<=3.5)),$E419,IF($C418<LataProjekcji,IF((SUM($J420:T420)+$C420)<$C419,$C420,$C419-SUM($J420:T420)),0)),0)","v":0},{"$f":"ROUND(IF(OR(AND($C418=LataProjekcji,$E418>0),AND($C418=LataProjekcji,$E418=0,$D419<=3.5)),$E419,IF($C418<LataProjekcji,IF((SUM($J420:U420)+$C420)<$C419,$C420,$C419-SUM($J420:U420)),0)),0)","v":0},{"$f":"ROUND(IF(OR(AND($C418=LataProjekcji,$E418>0),AND($C418=LataProjekcji,$E418=0,$D419<=3.5)),$E419,IF($C418<LataProjekcji,IF((SUM($J420:V420)+$C420)<$C419,$C420,$C419-SUM($J420:V420)),0)),0)","v":0}]
[null,"umorzenie",null,null,null,null,null,null,null,{"$f":"ROUND(J420,0)","v":0},{"$f":"ROUND(J421+K420,0)","v":0},{"$f":"ROUND(K421+L420,0)","v":0},{"$f":"ROUND(L421+M420,0)","v":0},{"$f":"ROUND(M421+N420,0)","v":0},{"$f":"ROUND(N421+O420,0)","v":0},{"$f":"ROUND(O421+P420,0)","v":0},{"$f":"ROUND(P421+Q420,0)","v":0},{"$f":"ROUND(Q421+R420,0)","v":0},{"$f":"ROUND(R421+S420,0)","v":0},{"$f":"ROUND(S421+T420,0)","v":0},{"$f":"ROUND(T421+U420,0)","v":0},{"$f":"ROUND(U421+V420,0)","v":0},{"$f":"ROUND(V421+W420,0)","v":0}]
[null,"wartość netto",null,null,null,null,null,null,null,{"$f":"IF($C418=LataProjekcji,ROUND($C419-J421,0),ROUND(IF(J420=0,0,$C419-J421),0))","v":0},0,0,0,0,0,0,0,0,0,0,0,0,0]
[]
[]
[null,"Dotacja w okresie środki trwałe (pozostałe przychody operacyjne)",null,null,null,null,null,null,null,{"$f":"ROUND(J385+J340+J260+J174+J124+J79+J34,0)","v":0},0,0,{"$f":"ROUND(M385+M340+M260+M174+M124+M79+M34,0)","v":0},0,0,0,0,0,0,0,0,0,0]
[null,"Dotacja w okresie koszty operacyjne nie będące B+R (pozostałe przychody operacyjne)",null,null,null,null,null,null,null,{"$f":"ROUND('Koszty operacyjne'!J945,0)","v":0},{"$f":"ROUND('Koszty operacyjne'!K945,0)","v":0},{"$f":"ROUND('Koszty operacyjne'!L945,0)","v":0},{"$f":"ROUND('Koszty operacyjne'!M945,0)","v":0},{"$f":"ROUND('Koszty operacyjne'!N945,0)","v":0},{"$f":"ROUND('Koszty operacyjne'!O945,0)","v":0},{"$f":"ROUND('Koszty operacyjne'!P945,0)","v":0},{"$f":"ROUND('Koszty operacyjne'!Q945,0)","v":0},{"$f":"ROUND('Koszty operacyjne'!R945,0)","v":0},{"$f":"ROUND('Koszty operacyjne'!S945,0)","v":0},{"$f":"ROUND('Koszty operacyjne'!T945,0)","v":0},{"$f":"ROUND('Koszty operacyjne'!U945,0)","v":0},{"$f":"ROUND('Koszty operacyjne'!V945,0)","v":0},{"$f":"ROUND('Koszty operacyjne'!W945,0)","v":0}]
[null,"Dotacja w okresie (RZiS, pozostałe przychody operacyjne)",null,null,null,null,null,null,null,{"$f":"IF(LataProjekcji<=Koniec,SUM(J425:J426),0)","v":0},0,0,{"$f":"IF(LataProjekcji<=Koniec,SUM(M425:M426),0)","v":0},0,0,0,0,0,0,0,0,0,0]
[]
[]
[null,"Dotacja do rozliczenia środki trwałe (rozliczenia międzyokresowe)",null,null,null,null,null,null,null,{"$f":"ROUND(J387+J342+J262+J176+J126+J81+J36,0)","v":0},0,0,0,0,0,0,0,0,0,0,0,0,0]
[null,"Dotacja do rozliczenia środki trwałe w budowie (rozliczenia międzyokresowe)",null,null,null,null,null,null,null,{"$f":"ROUND(IF(LataProjekcji<Koniec_Projekt,'Środki trwałe'!J772,0),0)","v":0},{"$f":"ROUND(IF(LataProjekcji<Koniec_Projekt,'Środki trwałe'!K772,0),0)","v":0},{"$f":"ROUND(IF(LataProjekcji<Koniec_Projekt,'Środki trwałe'!L772,0),0)","v":0},{"$f":"ROUND(IF(LataProjekcji<Koniec_Projekt,'Środki trwałe'!M772,0),0)","v":0},{"$f":"ROUND(IF(LataProjekcji<Koniec_Projekt,'Środki trwałe'!N772,0),0)","v":0},{"$f":"ROUND(IF(LataProjekcji<Koniec_Projekt,'Środki trwałe'!O772,0),0)","v":0},{"$f":"ROUND(IF(LataProjekcji<Koniec_Projekt,'Środki trwałe'!P772,0),0)","v":0},{"$f":"ROUND(IF(LataProjekcji<Koniec_Projekt,'Środki trwałe'!Q772,0),0)","v":0},{"$f":"ROUND(IF(LataProjekcji<Koniec_Projekt,'Środki trwałe'!R772,0),0)","v":0},{"$f":"ROUND(IF(LataProjekcji<Koniec_Projekt,'Środki trwałe'!S772,0),0)","v":0},{"$f":"ROUND(IF(LataProjekcji<Koniec_Projekt,'Środki trwałe'!T772,0),0)","v":0},{"$f":"ROUND(IF(LataProjekcji<Koniec_Projekt,'Środki trwałe'!U772,0),0)","v":0},{"$f":"ROUND(IF(LataProjekcji<Koniec_Projekt,'Środki trwałe'!V772,0),0)","v":0},{"$f":"ROUND(IF(LataProjekcji<Koniec_Projekt,'Środki trwałe'!W772,0),0)","v":0}]
[null,"Dotacja do rozliczenia prace B+R (rozliczenia międzyokresowe)",null,null,null,null,null,null,null,{"$f":"ROUND(IF(LataProjekcji<Koniec_Projekt,'Koszty operacyjne'!J804,0),0)","v":0},{"$f":"ROUND(IF(LataProjekcji<Koniec_Projekt,'Koszty operacyjne'!K804,0),0)","v":0},{"$f":"ROUND(IF(LataProjekcji<Koniec_Projekt,'Koszty operacyjne'!L804,0),0)","v":0},{"$f":"ROUND(IF(LataProjekcji<Koniec_Projekt,'Koszty operacyjne'!M804,0),0)","v":0},{"$f":"ROUND(IF(LataProjekcji<Koniec_Projekt,'Koszty operacyjne'!N804,0),0)","v":0},{"$f":"ROUND(IF(LataProjekcji<Koniec_Projekt,'Koszty operacyjne'!O804,0),0)","v":0},{"$f":"ROUND(IF(LataProjekcji<Koniec_Projekt,'Koszty operacyjne'!P804,0),0)","v":0},{"$f":"ROUND(IF(LataProjekcji<Koniec_Projekt,'Koszty operacyjne'!Q804,0),0)","v":0},{"$f":"ROUND(IF(LataProjekcji<Koniec_Projekt,'Koszty operacyjne'!R804,0),0)","v":0},{"$f":"ROUND(IF(LataProjekcji<Koniec_Projekt,'Koszty operacyjne'!S804,0),0)","v":0},{"$f":"ROUND(IF(LataProjekcji<Koniec_Projekt,'Koszty operacyjne'!T804,0),0)","v":0},{"$f":"ROUND(IF(LataProjekcji<Koniec_Projekt,'Koszty operacyjne'!U804,0),0)","v":0},{"$f":"ROUND(IF(LataProjekcji<Koniec_Projekt,'Koszty operacyjne'!V804,0),0)","v":0},{"$f":"ROUND(IF(LataProjekcji<Koniec_Projekt,'Koszty operacyjne'!W804,0),0)","v":0}]
[null,"Dotacje do rozliczenia (rozliczenia międzyokresowe, PASYWA)",null,null,null,null,null,null,null,{"$f":"IF(LataProjekcji<=Koniec,ROUND(SUM(J430:J432),0),0)","v":0},0,0,0,0,0,0,0,0,0,0,0,0,0]
[]
[]
[null,"Rozliczenie dotacji w środkach trwałych i WNiP"]
[null,"Wartości niematerialne i prawne",null,null,null,null,null,null,null,{"$f":"ROUND(SUM(J438:J439),0)","v":0},{"$f":"ROUND(SUM(K438:K439),0)","v":0},0,0,0,0,0,0,0,0,0,0,0,0]
[null,"   a) koszty zakończonych prac rozwojowych",null,null,null,null,null,null,null,{"$f":"ROUND(J36,0)","v":0},0,0,0,0,0,0,0,0,0,0,0,0,0]
[null,"   c) inne wartości niematerialne i prawne",null,null,null,null,null,null,null,{"$f":"ROUND(J81,0)","v":0},0,0,0,0,0,0,0,0,0,0,0,0,0]
[null,"Środki trwałe",null,null,null,null,null,null,null,{"$f":"ROUND(SUM(J441:J445),0)","v":0},{"$f":"ROUND(SUM(K441:K445),0)","v":0},0,0,0,0,0,0,0,0,0,0,0,0]
[null,"   a) grunty",null,null,null,null,null,null,null,{"$f":"ROUND(J126,0)","v":0},0,0,0,0,0,0,0,0,0,0,0,0,0]
[null,"   b) budynki i budowle ",null,null,null,null,null,null,null,{"$f":"ROUND(J176,0)","v":0},0,0,0,0,0,0,0,0,0,0,0,0,0]
[null,"   c) urządzenia techniczne i maszyny ",null,null,null,null,null,null,null,{"$f":"ROUND(J262,0)","v":0},0,0,0,0,0,0,0,0,0,0,0,0,0]
[null,"   d) środki transportu ",null,null,null,null,null,null,null,{"$f":"ROUND(J342,0)","v":0},0,0,0,0,0,0,0,0,0,0,0,0,0]
[null,"   e) inne środki trwałe ",null,null,null,null,null,null,null,{"$f":"ROUND(J387,0)","v":0},0,0,0,0,0,0,0,0,0,0,0,0,0]
[]
[]
[null,"Poziom dotacji"]
[null,"Wartości niematerialne i prawne",null,null,null,null,null,null,null,{"$f":"ROUND(SUM(J450:J451),0)","v":0},{"$f":"ROUND(SUM(K450:K451),0)","v":0},0,0,0,0,0,0,0,0,0,0,0,0]
[null,"   a) koszty zakończonych prac rozwojowych",null,null,null,null,null,null,null,{"$f":"ROUND(J33,0)","v":0},0,0,0,0,0,0,0,0,0,0,0,0,0]
[null,"   c) inne wartości niematerialne i prawne",null,null,null,null,null,null,null,{"$f":"ROUND(J78,0)","v":0},0,0,0,0,0,0,0,0,0,0,0,0,0]
[null,"Środki trwałe",null,null,null,null,null,null,null,{"$f":"ROUND(SUM(J453:J457),0)","v":0},{"$f":"ROUND(SUM(K453:K457),0)","v":0},0,0,0,0,0,0,0,0,0,0,0,0]
[null,"   a) grunty",null,null,null,null,null,null,null,{"$f":"ROUND(J123,0)","v":0},0,0,0,0,0,0,0,0,0,0,0,0,0]
[null,"   b) budynki i budowle ",null,null,null,null,null,null,null,{"$f":"ROUND(J173,)","v":0},0,0,0,0,0,0,0,0,0,0,0,0,0]
[null,"   c) urządzenia techniczne i maszyny ",null,null,null,null,null,null,null,{"$f":"ROUND(J259,0)","v":0},0,0,0,0,0,0,0,0,0,0,0,0,0]
[null,"   d) środki transportu ",null,null,null,null,null,null,null,{"$f":"ROUND(J339,0)","v":0},0,0,0,0,0,0,0,0,0,0,0,0,0]
[null,"   e) inne środki trwałe ",null,null,null,null,null,null,null,{"$f":"ROUND(J384,0)","v":0},0,0,0,0,0,0,0,0,0,0,0,0,0]
[null,"Razem Dotacja",null,null,null,null,null,null,null,{"$f":"ROUND(J452+J449,0)","v":0},{"$f":"ROUND(K452+K449,0)","v":0},0,0,0,0,0,0,0,0,0,0,0,0]
[]
[null,"Dotacja, z tego:"]
[null,"  - zakup WNiP",null,null,null,null,null,null,null,{"$f":"J449","v":0},{"$f":"K449","v":0},0,0,0,0,0,0,0,0,0,0,0,0]
[null,"  - zakup środków trwałych",null,null,null,null,null,null,null,{"$f":"J452","v":0},0,0,0,0,0,0,0,0,0,0,0,0,0]
[null,"  - dofinansowanie kosztów operacyjnych nie rozliczanych w czasie",null,null,null,null,null,null,null,{"$f":"J426","v":0},0,0,0,0,0,0,0,0,0,0,0,0,0]
[null,"Razem",null,null,null,null,null,null,null,{"$f":"SUM(J461:J463)","v":0},{"$f":"SUM(K461:K463)","v":0},0,{"$f":"SUM(M461:M463)","v":0},0,0,0,0,0,0,0,0,0,0]
[]
[]
[]
[null,"Komentarz"]

{"sheet":"Kapitał pracujący","index":8,"n_rows":173,"n_cols":23,"rows_kept":173,"cut":false,"hidden":false,"merged":[[1,1,2,9]]}
[]
[null,{"$f":"'Rozliczenie dotacji'!$B$2:$E$3","v":"Wstaw nazwę firmy"}]
[]
[]
[]
[]
[]
[]
[]
[]
[null,null,null,null,null,null,null,null,null,{"$f":"Założenia!J25","v":0},{"$f":"Założenia!K25","v":1},{"$f":"Założenia!L25","v":2},{"$f":"Założenia!M25","v":3},{"$f":"Założenia!N25","v":4},{"$f":"Założenia!O25","v":5},{"$f":"Założenia!P25","v":6},{"$f":"Założenia!Q25","v":7},{"$f":"Założenia!R25","v":8},{"$f":"Założenia!S25","v":9},{"$f":"Założenia!T25","v":10},{"$f":"Założenia!U25","v":11},{"$f":"Założenia!V25","v":12},{"$f":"Założenia!W25","v":13}]
[null,"Dotychczasowa działalność (bez Projektu)",null,null,null,{"$f":"LataProjekcji","v":0},0,0,"","Uzupełnij dane","","","","","","","","","","","","",""]
[]
[null,"Zapasy"]
[]
[null,"   Kalkulacja z modelu",null,null,null,{"$f":"ROUND(IFERROR('Ocena kondycji finansowej'!F66,0),0)","v":0},{"$f":"ROUND(IFERROR('Ocena kondycji finansowej'!G66,0),0)","v":0},{"$f":"ROUND(IFERROR('Ocena kondycji finansowej'!H66,0),0)","v":0},{"$f":"ROUND(IFERROR('Ocena kondycji finansowej'!I66,0),0)","v":0},{"$f":"IF($F$165=1,IFERROR(ROUND((J171/J18)*J19,0),0),0)","v":0},0,0,0,0,0,0,0,0,0,0,0,0,0]
[null,"     Rotacja zapasów",null,null,null,{"$f":"'Ocena kondycji finansowej'!F145","v":"bd."},{"$f":"'Ocena kondycji finansowej'!G145","v":"bd."},{"$f":"'Ocena kondycji finansowej'!H145","v":"bd."},{"$f":"'Ocena kondycji finansowej'!I145","v":"bd."},{"$f":"IF($F$165=1,'Ocena kondycji finansowej'!J145,0)","v":"bd."},{"$f":"IF($F$165=1,'Ocena kondycji finansowej'!K145,0)","v":"bd."},{"$f":"IF($F$165=1,'Ocena kondycji finansowej'!L145,0)","v":"bd."},{"$f":"IF($F$165=1,'Ocena kondycji finansowej'!M145,0)","v":"bd."},{"$f":"IF($F$165=1,'Ocena kondycji finansowej'!N145,0)","v":"bd."},{"$f":"IF($F$165=1,'Ocena kondycji finansowej'!O145,0)","v":"bd."},{"$f":"IF($F$165=1,'Ocena kondycji finansowej'!P145,0)","v":"bd."},{"$f":"IF($F$165=1,'Ocena kondycji finansowej'!Q145,0)","v":"bd."},{"$f":"IF($F$165=1,'Ocena kondycji finansowej'!R145,0)","v":"bd."},{"$f":"IF($F$165=1,'Ocena kondycji finansowej'!S145,0)","v":"bd."},{"$f":"IF($F$165=1,'Ocena kondycji finansowej'!T145,0)","v":"bd."},{"$f":"IF($F$165=1,'Ocena kondycji finansowej'!U145,0)","v":"bd."},{"$f":"IF($F$165=1,'Ocena kondycji finansowej'!V145,0)","v":"bd."},{"$f":"IF($F$165=1,'Ocena kondycji finansowej'!W145,0)","v":"bd."}]
[null,"     Ilość dni w okresie",null,null,null,{"$f":"dni","v":365},365,365,"","","","","","","","","","","","","","",""]
[null,"     Koszty działalności operacyjnej",null,null,null,{"$f":"ROUND('Ocena kondycji finansowej'!F20,0)","v":0},{"$f":"ROUND('Ocena kondycji finansowej'!G20,0)","v":0},{"$f":"ROUND('Ocena kondycji finansowej'!H20,0)","v":0},{"$f":"ROUND('Ocena kondycji finansowej'!I20,0)","v":0},{"$f":"ROUND('Ocena kondycji finansowej'!J20,0)","v":0},{"$f":"ROUND('Ocena kondycji finansowej'!K20,0)","v":0},{"$f":"ROUND('Ocena kondycji finansowej'!L20,0)","v":0},{"$f":"ROUND('Ocena kondycji finansowej'!M20,0)","v":0},{"$f":"ROUND('Ocena kondycji finansowej'!N20,0)","v":0},{"$f":"ROUND('Ocena kondycji finansowej'!O20,0)","v":0},{"$f":"ROUND('Ocena kondycji finansowej'!P20,0)","v":0},{"$f":"ROUND('Ocena kondycji finansowej'!Q20,0)","v":0},{"$f":"ROUND('Ocena kondycji finansowej'!R20,0)","v":0},{"$f":"ROUND('Ocena kondycji finansowej'!S20,0)","v":0},{"$f":"ROUND('Ocena kondycji finansowej'!T20,0)","v":0},{"$f":"ROUND('Ocena kondycji finansowej'!U20,0)","v":0},{"$f":"ROUND('Ocena kondycji finansowej'!V20,0)","v":0},{"$f":"ROUND('Ocena kondycji finansowej'!W20,0)","v":0}]
[]
[null,"   Kalkulacja własna",null,null,null,{"$f":"ROUND(F16,0)","v":0},{"$f":"ROUND(G16,0)","v":0},{"$f":"ROUND(H16,0)","v":0},{"$f":"ROUND(I16,0)","v":0},{"$f":"IF($F$165=2,IFERROR(ROUND((J22/J23)*(SUM(J24:J24)),0),0),0)","v":0},0,0,0,0,0,0,0,0,0,0,0,0,0]
[null,"     Rotacja zapasów",null,null,null,{"$f":"F17","v":"bd."},{"$f":"G17","v":"bd."},{"$f":"H17","v":"bd."},{"$f":"I17","v":"bd."}]
[null,"     Ilość dni w okresie",null,null,null,{"$f":"F18","v":365},{"$f":"G18","v":365},365,"","","","","","","","","","","","","","",""]
[null,"     Koszty działalności operacyjnej",null,null,null,{"$f":"F19","v":0},{"$f":"G19","v":0},0,0,0,0,0,0,0,0,0,0,0,0,0,0,0,0]
[]
[null,"Zapasy do bilansu",null,null,null,{"$f":"ROUND(F16,0)","v":0},{"$f":"ROUND(G16,0)","v":0},{"$f":"ROUND(H16,0)","v":0},{"$f":"ROUND(I16,0)","v":0},{"$f":"ROUND(IF($F$165=1,J16,J21),0)","v":0},{"$f":"ROUND(IF($F$165=1,K16,K21),0)","v":0},0,0,0,0,0,0,0,0,0,0,0,0]
[]
[]
[null,"Należności",null,null,null,{"$f":"LataProjekcji","v":0},0,0,"","Uzupełnij dane","","","","","","","","","","","","",""]
[]
[null,"   Kalkulacja z modelu",null,null,null,{"$f":"ROUND('Ocena kondycji finansowej'!F67,0)","v":0},{"$f":"ROUND('Ocena kondycji finansowej'!G67,0)","v":0},{"$f":"ROUND('Ocena kondycji finansowej'!H67,0)","v":0},{"$f":"ROUND('Ocena kondycji finansowej'!I67,0)","v":0},{"$f":"IF($F$166=1,IFERROR(ROUND((J172/J33)*(J34),0),0),0)","v":0},0,0,0,0,0,0,0,0,0,0,0,0,0]
[null,"     Rotacja należności",null,null,null,{"$f":"'Ocena kondycji finansowej'!F146","v":"bd."},{"$f":"'Ocena kondycji finansowej'!G146","v":"bd."},{"$f":"'Ocena kondycji finansowej'!H146","v":"bd."},{"$f":"'Ocena kondycji finansowej'!I146","v":"bd."},{"$f":"IF($F$166=1,'Ocena kondycji finansowej'!J146,0)","v":"bd."},{"$f":"IF($F$166=1,'Ocena kondycji finansowej'!K146,0)","v":"bd."},{"$f":"IF($F$166=1,'Ocena kondycji finansowej'!L146,0)","v":"bd."},{"$f":"IF($F$166=1,'Ocena kondycji finansowej'!M146,0)","v":"bd."},{"$f":"IF($F$166=1,'Ocena kondycji finansowej'!N146,0)","v":"bd."},{"$f":"IF($F$166=1,'Ocena kondycji finansowej'!O146,0)","v":"bd."},{"$f":"IF($F$166=1,'Ocena kondycji finansowej'!P146,0)","v":"bd."},{"$f":"IF($F$166=1,'Ocena kondycji finansowej'!Q146,0)","v":"bd."},{"$f":"IF($F$166=1,'Ocena kondycji finansowej'!R146,0)","v":"bd."},{"$f":"IF($F$166=1,'Ocena kondycji finansowej'!S146,0)","v":"bd."},{"$f":"IF($F$166=1,'Ocena kondycji finansowej'!T146,0)","v":"bd."},{"$f":"IF($F$166=1,'Ocena kondycji finansowej'!U146,0)","v":"bd."},{"$f":"IF($F$166=1,'Ocena kondycji finansowej'!V146,0)","v":"bd."},{"$f":"IF($F$166=1,'Ocena kondycji finansowej'!W146,0)","v":"bd."}]
[null,"     Ilość dni w okresie",null,null,null,{"$f":"dni","v":365},365,365,"","","","","","","","","","","","","","",""]
[null,"     Przychody ze sprzedaży",null,null,null,{"$f":"'Ocena kondycji finansowej'!F15","v":0},{"$f":"'Ocena kondycji finansowej'!G15","v":0},{"$f":"'Ocena kondycji finansowej'!H15","v":0},{"$f":"'Ocena kondycji finansowej'!I15","v":0},{"$f":"'Ocena kondycji finansowej'!J15","v":0},{"$f":"'Ocena kondycji finansowej'!K15","v":0},{"$f":"'Ocena kondycji finansowej'!L15","v":0},{"$f":"'Ocena kondycji finansowej'!M15","v":0},{"$f":"'Ocena kondycji finansowej'!N15","v":0},{"$f":"'Ocena kondycji finansowej'!O15","v":0},{"$f":"'Ocena kondycji finansowej'!P15","v":0},{"$f":"'Ocena kondycji finansowej'!Q15","v":0},{"$f":"'Ocena kondycji finansowej'!R15","v":0},{"$f":"'Ocena kondycji finansowej'!S15","v":0},{"$f":"'Ocena kondycji finansowej'!T15","v":0},{"$f":"'Ocena kondycji finansowej'!U15","v":0},{"$f":"'Ocena kondycji finansowej'!V15","v":0},{"$f":"'Ocena kondycji finansowej'!W15","v":0}]
[]
[null,"   Kalkulacja własna",null,null,null,{"$f":"ROUND(F31,0)","v":0},{"$f":"ROUND(G31,0)","v":0},{"$f":"ROUND(H31,0)","v":0},{"$f":"ROUND(I31,0)","v":0},{"$f":"IF($F$166=2,IFERROR(ROUND((J37/J38)*(J39),0),0),0)","v":0},{"$f":"IF($F$166=2,IFERROR(ROUND((K37/K38)*(K39),0),0),0)","v":0},0,0,0,0,0,0,0,0,0,0,0,0]
[null,"     Rotacja należności",null,null,null,{"$f":"F32","v":"bd."},"bd.","bd.","bd."]
[null,"     Ilość dni w okresie",null,null,null,365,365,365,"",{"$f":"J33","v":""},"","","","","","","","","","","","",""]
[null,"     Przychody ze sprzedaży",null,null,null,{"$f":"F34","v":0},{"$f":"G34","v":0},0,0,0,0,0,0,0,0,0,0,0,0,0,0,0,0]
[]
[null,"Należności do bilansu",null,null,null,{"$f":"ROUND(F31,0)","v":0},{"$f":"ROUND(G31,0)","v":0},{"$f":"ROUND(H31,0)","v":0},{"$f":"ROUND(I31,0)","v":0},{"$f":"ROUND(IF($F$166=1,J31,J36),0)","v":0},0,0,0,0,0,0,0,0,0,0,0,0,0]
[]
[]
[null,"Zobowiązania",null,null,null,{"$f":"LataProjekcji","v":0},0,0,"","Uzupełnij dane","","","","","","","","","","","","",""]
[]
[null,"   Kalkulacja z modelu",null,null,null,{"$f":"ROUND('Ocena kondycji finansowej'!F88,0)","v":0},{"$f":"ROUND('Ocena kondycji finansowej'!G88,0)","v":0},{"$f":"ROUND('Ocena kondycji finansowej'!H88,0)","v":0},{"$f":"ROUND('Ocena kondycji finansowej'!I88,0)","v":0},{"$f":"IF($F$167=1,IFERROR(ROUND((J173*J49)/J48,0),0),0)","v":0},0,0,0,0,0,0,0,0,0,0,0,0,0]
[null,"     Rotacja zobowiązań",null,null,null,{"$f":"'Ocena kondycji finansowej'!F147","v":"bd."},{"$f":"'Ocena kondycji finansowej'!G147","v":"bd."},{"$f":"'Ocena kondycji finansowej'!H147","v":"bd."},{"$f":"'Ocena kondycji finansowej'!I147","v":"bd."},{"$f":"IF($F$167=1,'Ocena kondycji finansowej'!J147,0)","v":0},{"$f":"IF($F$167=1,'Ocena kondycji finansowej'!K147,0)","v":0},{"$f":"IF($F$167=1,'Ocena kondycji finansowej'!L147,0)","v":0},{"$f":"IF($F$167=1,'Ocena kondycji finansowej'!M147,0)","v":0},{"$f":"IF($F$167=1,'Ocena kondycji finansowej'!N147,0)","v":0},{"$f":"IF($F$167=1,'Ocena kondycji finansowej'!O147,0)","v":0},{"$f":"IF($F$167=1,'Ocena kondycji finansowej'!P147,0)","v":0},{"$f":"IF($F$167=1,'Ocena kondycji finansowej'!Q147,0)","v":0},{"$f":"IF($F$167=1,'Ocena kondycji finansowej'!R147,0)","v":0},{"$f":"IF($F$167=1,'Ocena kondycji finansowej'!S147,0)","v":0},{"$f":"IF($F$167=1,'Ocena kondycji finansowej'!T147,0)","v":0},{"$f":"IF($F$167=1,'Ocena kondycji finansowej'!U147,0)","v":0},{"$f":"IF($F$167=1,'Ocena kondycji finansowej'!V147,0)","v":0},{"$f":"IF($F$167=1,'Ocena kondycji finansowej'!W147,0)","v":0}]
[null,"     Ilość dni w okresie",null,null,null,{"$f":"dni","v":365},365,365,"","","","","","","","","","","","","","",""]
[null,"     Koszty działalności operacyjnej",null,null,null,{"$f":"'Ocena kondycji finansowej'!F20","v":0},{"$f":"'Ocena kondycji finansowej'!G20","v":0},{"$f":"'Ocena kondycji finansowej'!H20","v":0},{"$f":"'Ocena kondycji finansowej'!I20","v":0},{"$f":"'Ocena kondycji finansowej'!J20","v":0},{"$f":"'Ocena kondycji finansowej'!K20","v":0},{"$f":"'Ocena kondycji finansowej'!L20","v":0},{"$f":"'Ocena kondycji finansowej'!M20","v":0},{"$f":"'Ocena kondycji finansowej'!N20","v":0},{"$f":"'Ocena kondycji finansowej'!O20","v":0},{"$f":"'Ocena kondycji finansowej'!P20","v":0},{"$f":"'Ocena kondycji finansowej'!Q20","v":0},{"$f":"'Ocena kondycji finansowej'!R20","v":0},{"$f":"'Ocena kondycji finansowej'!S20","v":0},{"$f":"'Ocena kondycji finansowej'!T20","v":0},{"$f":"'Ocena kondycji finansowej'!U20","v":0},{"$f":"'Ocena kondycji finansowej'!V20","v":0},{"$f":"'Ocena kondycji finansowej'!W20","v":0}]
[]
[null,"   Kalkulacja własna",null,null,null,{"$f":"ROUND(F46,0)","v":0},{"$f":"ROUND(G46,0)","v":0},{"$f":"ROUND(H46,0)","v":0},{"$f":"ROUND(I46,0)","v":0},{"$f":"IF($F$167=2,IFERROR(ROUND(J52*(SUM(J54:J54))/J53,0),0),)","v":0},0,0,0,0,0,0,0,0,0,0,0,0,0]
[null,"     Rotacja zobowiązań",null,null,null,{"$f":"F47","v":"bd."},{"$f":"G47","v":"bd."},{"$f":"H47","v":"bd."},{"$f":"I47","v":"bd."}]
[null,"     Ilość dni w okresie",null,null,null,{"$f":"F48","v":365},{"$f":"G48","v":365},365,"","","","","","","","","","","","","","",""]
[null,"     Koszty działalności operacyjnej",null,null,null,{"$f":"F49","v":0},{"$f":"G49","v":0},0,0,0,0,0,0,0,0,0,0,0,0,0,0,0,0]
[]
[null,"Zobowiązania do bilansu",null,null,null,{"$f":"ROUND(F46,0)","v":0},{"$f":"ROUND(G46,0)","v":0},{"$f":"ROUND(H46,0)","v":0},{"$f":"ROUND(I46,0)","v":0},{"$f":"ROUND(IF($F$167=1,J46,J51),0)","v":0},0,0,0,0,0,0,0,0,0,0,0,0,0]
[]
[]
[null,"Kapitał pracujący",null,null,null,{"$f":"ROUND(F26+F41-F56,0)","v":0},0,0,0,0,0,0,0,0,0,0,0,0,0,0,0,0,0]
[null,"Zmiana kapitału pracującego",null,null,null,null,{"$f":"ROUND(F59-G59,0)","v":0},{"$f":"ROUND(G59-H59,0)","v":0},{"$f":"IF(Rok_n=\"\",0,ROUND(H59-I59,0))","v":0},{"$f":"ROUND(I59-J59,0)","v":0},{"$f":"ROUND(J59-K59,0)","v":0},0,0,0,0,0,0,0,0,0,0,0,0]
[]
[]
[null,"Projekt",null,null,null,{"$f":"LataProjekcji","v":0},0,0,"","Uzupełnij dane","","","","","","","","","","","","",""]
[]
[null,"Zapasy"]
[null,"   Kalkulacja z modelu",null,null,null,null,null,null,null,{"$f":"IFERROR(ROUND((J67/J68)*J69,0),0)","v":0},{"$f":"IFERROR(ROUND((K67/K68)*K69,0),0)","v":0},0,0,0,0,0,0,0,0,0,0,0,0]
[null,"     Rotacja zapasów",null,null,null,null,null,null,null,{"$f":"IF(ISBLANK(Założenia!J42),\"\",Założenia!J42)","v":""},{"$f":"IF(ISBLANK(Założenia!K42),\"\",Założenia!K42)","v":""},{"$f":"IF(ISBLANK(Założenia!L42),\"\",Założenia!L42)","v":""},{"$f":"IF(ISBLANK(Założenia!M42),\"\",Założenia!M42)","v":""},{"$f":"IF(ISBLANK(Założenia!N42),\"\",Założenia!N42)","v":""},{"$f":"IF(ISBLANK(Założenia!O42),\"\",Założenia!O42)","v":""},{"$f":"IF(ISBLANK(Założenia!P42),\"\",Założenia!P42)","v":""},{"$f":"IF(ISBLANK(Założenia!Q42),\"\",Założenia!Q42)","v":""},{"$f":"IF(ISBLANK(Założenia!R42),\"\",Założenia!R42)","v":""},{"$f":"IF(ISBLANK(Założenia!S42),\"\",Założenia!S42)","v":""},{"$f":"IF(ISBLANK(Założenia!T42),\"\",Założenia!T42)","v":""},{"$f":"IF(ISBLANK(Założenia!U42),\"\",Założenia!U42)","v":""},{"$f":"IF(ISBLANK(Założenia!V42),\"\",Założenia!V42)","v":""},{"$f":"IF(ISBLANK(Założenia!W42),\"\",Założenia!W42)","v":""}]
[null,"     Ilość dni w okresie",null,null,null,null,null,null,null,{"$f":"dni","v":""},"","","","","","","","","","","","",""]
[null,"     Koszty działalności operacyjnej",null,null,null,null,null,null,null,{"$f":"ROUND('Ocena kondycji finansowej'!J164,0)","v":0},{"$f":"ROUND('Ocena kondycji finansowej'!K164,0)","v":0},{"$f":"ROUND('Ocena kondycji finansowej'!L164,0)","v":0},{"$f":"ROUND('Ocena kondycji finansowej'!M164,0)","v":0},{"$f":"ROUND('Ocena kondycji finansowej'!N164,0)","v":0},{"$f":"ROUND('Ocena kondycji finansowej'!O164,0)","v":0},{"$f":"ROUND('Ocena kondycji finansowej'!P164,0)","v":0},{"$f":"ROUND('Ocena kondycji finansowej'!Q164,0)","v":0},{"$f":"ROUND('Ocena kondycji finansowej'!R164,0)","v":0},{"$f":"ROUND('Ocena kondycji finansowej'!S164,0)","v":0},{"$f":"ROUND('Ocena kondycji finansowej'!T164,0)","v":0},{"$f":"ROUND('Ocena kondycji finansowej'!U164,0)","v":0},{"$f":"ROUND('Ocena kondycji finansowej'!V164,0)","v":0},{"$f":"ROUND('Ocena kondycji finansowej'!W164,0)","v":0}]
[]
[null,"Zapasy do bilansu",null,null,null,null,null,null,null,{"$f":"ROUND(J66,0)","v":0},{"$f":"ROUND(K66,0)","v":0},0,0,0,0,0,0,0,0,0,0,0,0]
[]
[]
[null,"Należności",null,null,null,{"$f":"LataProjekcji","v":0},0,0,"","Uzupełnij dane","","","","","","","","","","","","",""]
[null,"   Kalkulacja z modelu",null,null,null,null,null,null,null,{"$f":"IFERROR(ROUND((J76/J77)*J78,0),0)","v":0},{"$f":"IFERROR(ROUND((K76/K77)*K78,0),0)","v":0},0,0,0,0,0,0,0,0,0,0,0,0]
[null,"     Rotacja należności",null,null,null,null,null,null,null,{"$f":"IF(ISBLANK(Założenia!J41),\"\",Założenia!J41)","v":""},{"$f":"IF(ISBLANK(Założenia!K41),\"\",Założenia!K41)","v":""},{"$f":"IF(ISBLANK(Założenia!L41),\"\",Założenia!L41)","v":""},{"$f":"IF(ISBLANK(Założenia!M41),\"\",Założenia!M41)","v":""},{"$f":"IF(ISBLANK(Założenia!N41),\"\",Założenia!N41)","v":""},{"$f":"IF(ISBLANK(Założenia!O41),\"\",Założenia!O41)","v":""},{"$f":"IF(ISBLANK(Założenia!P41),\"\",Założenia!P41)","v":""},{"$f":"IF(ISBLANK(Założenia!Q41),\"\",Założenia!Q41)","v":""},{"$f":"IF(ISBLANK(Założenia!R41),\"\",Założenia!R41)","v":""},{"$f":"IF(ISBLANK(Założenia!S41),\"\",Założenia!S41)","v":""},{"$f":"IF(ISBLANK(Założenia!T41),\"\",Założenia!T41)","v":""},{"$f":"IF(ISBLANK(Założenia!U41),\"\",Założenia!U41)","v":""},{"$f":"IF(ISBLANK(Założenia!V41),\"\",Założenia!V41)","v":""},{"$f":"IF(ISBLANK(Założenia!W41),\"\",Założenia!W41)","v":""}]
[null,"     Ilość dni w okresie",null,null,null,null,null,null,null,{"$f":"dni","v":""},"","","","","","","","","","","","",""]
[null,"     Przychody ze sprzedaży",null,null,null,null,null,null,null,{"$f":"ROUND('Ocena kondycji finansowej'!J159,0)","v":0},{"$f":"ROUND('Ocena kondycji finansowej'!K159,0)","v":0},{"$f":"ROUND('Ocena kondycji finansowej'!L159,0)","v":0},{"$f":"ROUND('Ocena kondycji finansowej'!M159,0)","v":0},{"$f":"ROUND('Ocena kondycji finansowej'!N159,0)","v":0},{"$f":"ROUND('Ocena kondycji finansowej'!O159,0)","v":0},{"$f":"ROUND('Ocena kondycji finansowej'!P159,0)","v":0},{"$f":"ROUND('Ocena kondycji finansowej'!Q159,0)","v":0},{"$f":"ROUND('Ocena kondycji finansowej'!R159,0)","v":0},{"$f":"ROUND('Ocena kondycji finansowej'!S159,0)","v":0},{"$f":"ROUND('Ocena kondycji finansowej'!T159,0)","v":0},{"$f":"ROUND('Ocena kondycji finansowej'!U159,0)","v":0},{"$f":"ROUND('Ocena kondycji finansowej'!V159,0)","v":0},{"$f":"ROUND('Ocena kondycji finansowej'!W159,0)","v":0}]
[]
[null,"Należności do bilansu",null,null,null,null,null,null,null,{"$f":"ROUND(J75,0)","v":0},{"$f":"ROUND(K75,0)","v":0},0,0,0,0,0,0,0,0,0,0,0,0]
[]
[]
[null,"Zobowiązania",null,null,null,{"$f":"LataProjekcji","v":0},0,0,"","Uzupełnij dane","","","","","","","","","","","","",""]
[null,"   Kalkulacja z modelu",null,null,null,null,null,null,null,{"$f":"IFERROR(ROUND((J85/J86)*J87,0),0)","v":0},{"$f":"IFERROR(ROUND((K85/K86)*K87,0),0)","v":0},0,0,0,0,0,0,0,0,0,0,0,0]
[null,"     Rotacja zobowiązań",null,null,null,null,null,null,null,{"$f":"IF(ISBLANK(Założenia!J43),\"\",Założenia!J43)","v":""},{"$f":"IF(ISBLANK(Założenia!K43),\"\",Założenia!K43)","v":""},{"$f":"IF(ISBLANK(Założenia!L43),\"\",Założenia!L43)","v":""},{"$f":"IF(ISBLANK(Założenia!M43),\"\",Założenia!M43)","v":""},{"$f":"IF(ISBLANK(Założenia!N43),\"\",Założenia!N43)","v":""},{"$f":"IF(ISBLANK(Założenia!O43),\"\",Założenia!O43)","v":""},{"$f":"IF(ISBLANK(Założenia!P43),\"\",Założenia!P43)","v":""},{"$f":"IF(ISBLANK(Założenia!Q43),\"\",Założenia!Q43)","v":""},{"$f":"IF(ISBLANK(Założenia!R43),\"\",Założenia!R43)","v":""},{"$f":"IF(ISBLANK(Założenia!S43),\"\",Założenia!S43)","v":""},{"$f":"IF(ISBLANK(Założenia!T43),\"\",Założenia!T43)","v":""},{"$f":"IF(ISBLANK(Założenia!U43),\"\",Założenia!U43)","v":""},{"$f":"IF(ISBLANK(Założenia!V43),\"\",Założenia!V43)","v":""},{"$f":"IF(ISBLANK(Założenia!W43),\"\",Założenia!W43)","v":""}]
[null,"     Ilość dni w okresie",null,null,null,null,null,null,null,{"$f":"dni","v":""},"","","","","","","","","","","","",""]
[null,"     Koszty działalności operacyjnej",null,null,null,null,null,null,null,{"$f":"ROUND('Ocena kondycji finansowej'!J164,0)","v":0},{"$f":"ROUND('Ocena kondycji finansowej'!K164,0)","v":0},{"$f":"ROUND('Ocena kondycji finansowej'!L164,0)","v":0},{"$f":"ROUND('Ocena kondycji finansowej'!M164,0)","v":0},{"$f":"ROUND('Ocena kondycji finansowej'!N164,0)","v":0},{"$f":"ROUND('Ocena kondycji finansowej'!O164,0)","v":0},{"$f":"ROUND('Ocena kondycji finansowej'!P164,0)","v":0},{"$f":"ROUND('Ocena kondycji finansowej'!Q164,0)","v":0},{"$f":"ROUND('Ocena kondycji finansowej'!R164,0)","v":0},{"$f":"ROUND('Ocena kondycji finansowej'!S164,0)","v":0},{"$f":"ROUND('Ocena kondycji finansowej'!T164,0)","v":0},{"$f":"ROUND('Ocena kondycji finansowej'!U164,0)","v":0},{"$f":"ROUND('Ocena kondycji finansowej'!V164,0)","v":0},{"$f":"ROUND('Ocena kondycji finansowej'!W164,0)","v":0}]
[]
[null,"Zobowiązania do bilansu",null,null,null,null,null,null,null,{"$f":"ROUND(J84,0)","v":0},{"$f":"ROUND(K84,0)","v":0},0,0,0,0,0,0,0,0,0,0,0,0]
[]
[]
[null,"Kapitał pracujący",null,null,null,null,null,null,null,{"$f":"ROUND(J71+J80-J89,0)","v":0},{"$f":"ROUND(K71+K80-K89,0)","v":0},0,0,0,0,0,0,0,0,0,0,0,{"$f":"ROUND(W71+W80-W89,0)","v":0}]
[null,"Zmiana kapitału pracującego",null,null,null,null,null,null,null,{"$f":"ROUND(I92-J92,0)","v":0},0,0,0,0,0,0,0,0,0,0,0,0,0]
[]
[]
[null,"Działalność dotychczasowa i Projekt",null,null,null,{"$f":"LataProjekcji","v":0},0,0,"","Uzupełnij dane","","","","","","","","","","","","",""]
[]
[null,"Zapasy"]
[null,"   Kalkulacja z modelu",null,null,null,null,null,null,null,{"$f":"IFERROR(ROUND(J71+J26,0),0)","v":0},{"$f":"IFERROR(ROUND(K71+K26,0),0)","v":0},0,0,0,0,0,0,0,0,0,0,0,0]
[null,"     Rotacja zapasów",null,null,null,null,null,null,null,{"$f":"IFERROR((J99/J102)*J101,0)","v":0},{"$f":"IFERROR((K99/K102)*K101,0)","v":0},0,0,0,0,0,0,0,0,0,0,0,0]
[null,"     Ilość dni w okresie",null,null,null,null,null,null,null,{"$f":"dni","v":""},"","","","","","","","","","","","",""]
[null,"     Koszty działalności operacyjnej",null,null,null,null,null,null,null,{"$f":"ROUND(IFERROR(IF($F$165=1,(J69+J19),(J24+J69)),0),0)","v":0},0,0,0,0,0,0,0,0,0,0,0,0,0]
[]
[null,"Zapasy do bilansu",null,null,null,{"$f":"F26","v":0},{"$f":"G26","v":0},{"$f":"H26","v":0},{"$f":"I26","v":0},{"$f":"J99","v":0},0,0,0,0,0,0,0,0,0,0,0,0,0]
[]
[]
[null,"Należności",null,null,null,{"$f":"LataProjekcji","v":0},0,0,"","Uzupełnij dane","","","","","","","","","","","","",""]
[null,"   Kalkulacja z modelu",null,null,null,null,null,null,null,{"$f":"IFERROR(J80+J41,0)","v":0},{"$f":"IFERROR(K80+K41,0)","v":0},0,0,0,0,0,0,0,0,0,0,0,0]
[null,"     Rotacja należności",null,null,null,null,null,null,null,{"$f":"IFERROR((J108/J111)*J110,0)","v":0},{"$f":"IFERROR((K108/K111)*K110,0)","v":0},0,0,0,0,0,0,0,0,0,0,0,0]
[null,"     Ilość dni w okresie",null,null,null,null,null,null,null,{"$f":"dni","v":""},"","","","","","","","","","","","",""]
[null,"     Przychody ze sprzedaży produktów",null,null,null,null,null,null,null,{"$f":"ROUND(IF($F$166=1,J78+J34,J78+J39),0)","v":0},{"$f":"ROUND(IF($F$166=1,K78+K34,K78+K39),0)","v":0},0,0,0,0,0,0,0,0,0,0,0,0]
[]
[null,"Należności do bilansu",null,null,null,{"$f":"F41","v":0},{"$f":"G41","v":0},{"$f":"H41","v":0},{"$f":"I41","v":0},{"$f":"ROUND(J108,0)","v":0},{"$f":"ROUND(K108,0)","v":0},0,0,0,0,0,0,0,0,0,0,0,0]
[]
[]
[null,"Zobowiązania",null,null,null,{"$f":"LataProjekcji","v":0},0,0,"","Uzupełnij dane","","","","","","","","","","","","",""]
[null,"   Kalkulacja z modelu",null,null,null,null,null,null,null,{"$f":"IFERROR(ROUND(J89+J56,0),0)","v":0},{"$f":"IFERROR(ROUND(K89+K56,0),0)","v":0},0,0,0,0,0,0,0,0,0,0,0,0]
[null,"     Rotacja zobowiązań",null,null,null,null,null,null,null,{"$f":"IFERROR((J117/J120)*J119,0)","v":0},{"$f":"IFERROR((K117/K120)*K119,0)","v":0},0,0,0,0,0,0,0,0,0,0,0,0]
[null,"     Ilość dni w okresie",null,null,null,null,null,null,null,{"$f":"dni","v":""},"","","","","","","","","","","","",""]
[null,"     Koszty działalności operacyjnej",null,null,null,null,null,null,null,{"$f":"ROUND(IFERROR(IF($F$167=1,J87+J49,J87+J54),0),0)","v":0},{"$f":"ROUND(IFERROR(IF($F$167=1,K87+K49,K87+K54),0),0)","v":0},0,0,0,0,0,0,0,0,0,0,0,0]
[]
[null,"Zobowiązania do bilansu",null,null,null,{"$f":"F56","v":0},{"$f":"G56","v":0},{"$f":"H56","v":0},{"$f":"I56","v":0},{"$f":"J117","v":0},{"$f":"K117","v":0},0,0,0,0,0,0,0,0,0,0,0,0]
[]
[]
[null,"Kapitał pracujący",null,null,null,{"$f":"ROUND(F104+F113-F122,0)","v":0},{"$f":"ROUND(G104+G113-G122,0)","v":0},{"$f":"ROUND(H104+H113-H122,0)","v":0},{"$f":"ROUND(I104+I113-I122,0)","v":0},{"$f":"ROUND(J104+J113-J122,0)","v":0},{"$f":"ROUND(K104+K113-K122,0)","v":0},0,0,0,0,0,0,0,0,0,0,0,0]
[null,"Zmiana kapitału pracującego",null,null,null,{"$f":"ROUND(E125-F125,0)","v":0},{"$f":"ROUND(F125-G125,0)","v":0},{"$f":"ROUND(G125-H125,0)","v":0},{"$f":"IF(Rok_n=\"\",0,ROUND(H125-I125,0))","v":0},{"$f":"ROUND(H125-J125,0)","v":0},{"$f":"ROUND(J125-K125,0)","v":0},0,0,0,0,0,0,0,0,0,0,0,0]
[]
[]
[null,"Komentarz"]
[]
[]
[]
[]
[]
[]
[]
[]
[]
[]
[]
[]
[]
[]
[]
[]
[]
[]
[]
[]
[]
[]
[]
[]
[]
[]
[]
[]
[]
[]
[]
[]
[]
[]
[]
[null,"Zapasy",null,null,null,1]
[null,"Należności",null,null,null,1]
[null,"Zobowiązania",null,null,null,2]
[]
[]
[null,"Kalkulacja z modelu"]
[null,"Rotacja zapasów",null,null,null,{"$f":"F17","v":"bd."},{"$f":"G17","v":"bd."},{"$f":"H17","v":"bd."},{"$f":"I17","v":"bd."},{"$f":"IFERROR(ROUND(AVERAGE(F171:H171),0),0)","v":0},{"$f":"IFERROR(ROUND(AVERAGE(G171:H171,J171),0),0)","v":0},{"$f":"IFERROR(ROUND(AVERAGE(H171,J171:K171),0),0)","v":0},{"$f":"IFERROR(ROUND(AVERAGE(J171:L171),0),0)","v":0},{"$f":"IFERROR(ROUND(AVERAGE(K171:M171),0),0)","v":0},0,0,0,0,0,0,0,0,0]
[null,"Rotacja należności",null,null,null,{"$f":"F32","v":"bd."},{"$f":"G32","v":"bd."},{"$f":"H32","v":"bd."},{"$f":"I32","v":"bd."},{"$f":"IFERROR(ROUND(AVERAGE(F172:H172),0),0)","v":0},{"$f":"IFERROR(ROUND(AVERAGE(G172:H172,J172),0),0)","v":0},{"$f":"IFERROR(ROUND(AVERAGE(H172,J172:K172),0),0)","v":0},{"$f":"IFERROR(ROUND(AVERAGE(J172:L172),0),0)","v":0},{"$f":"IFERROR(ROUND(AVERAGE(K172:M172),0),0)","v":0},0,0,0,0,0,0,0,0,0]
[null,"Rotacja zobowiązań",null,null,null,{"$f":"F47","v":"bd."},{"$f":"G47","v":"bd."},{"$f":"H47","v":"bd."},{"$f":"I47","v":"bd."},{"$f":"IFERROR(ROUND(AVERAGE(F173:H173),0),0)","v":0},{"$f":"IFERROR(ROUND(AVERAGE(G173:H173,J173),0),0)","v":0},{"$f":"IFERROR(ROUND(AVERAGE(H173,J173:K173),0),0)","v":0},{"$f":"IFERROR(ROUND(AVERAGE(J173:L173),0),0)","v":0},0,0,0,0,0,0,0,0,0,0]

{"sheet":"Finansowanie","index":9,"n_rows":140,"n_cols":23,"rows_kept":140,"cut":false,"hidden":false,"merged":[[1,1,2,11]]}
[]
[null,{"$f":"IF(ISBLANK(Firma),\"Wstaw nazwę firmy\",Firma)","v":"Wstaw nazwę firmy"}]
[]
[]
[]
[]
[]
[]
[]
[]
[null,null,null,null,null,null,null,null,null,{"$f":"Założenia!J25","v":0},{"$f":"Założenia!K25","v":1},{"$f":"Założenia!L25","v":2},{"$f":"Założenia!M25","v":3},{"$f":"Założenia!N25","v":4},{"$f":"Założenia!O25","v":5},{"$f":"Założenia!P25","v":6},{"$f":"Założenia!Q25","v":7},{"$f":"Założenia!R25","v":8},{"$f":"Założenia!S25","v":9},{"$f":"Założenia!T25","v":10},{"$f":"Założenia!U25","v":11},{"$f":"Założenia!V25","v":12},{"$f":"Założenia!W25","v":13}]
[null,"Działalność dotychczasowa (bez Projektu)",null,null,null,null,null,null,{"$f":"LataProjekcji","v":""},"Uzupełnij dane","","","","","","","","","","","","",""]
[]
[null,"Kapitał własny"]
[null,"Kapitał bilans otwarcia",null,null,null,null,null,null,null,{"$f":"I17","v":0},0,0,0,0,0,0,0,0,0,0,0,0,0]
[null,"Dopłaty do kapitału"]
[null,"Kapitał bilans zamknięcia",null,null,null,null,null,null,{"$f":"IF(OR(ISBLANK(DaneBiezace),Rok_n=\"\"),'Ocena kondycji finansowej'!H77,'Ocena kondycji finansowej'!I77)","v":0},{"$f":"J15+J16","v":0},{"$f":"K15+K16","v":0},0,0,0,0,0,0,0,0,0,0,0,0]
[]
[]
[null,"Dywidenda",null,null,null,null,null,null,null,{"$f":"LataProjekcji","v":"Uzupełnij dane"},"","","","","","","","","","","","",""]
[null,"Zysk netto do podziału z roku poprzedniego",null,null,null,null,null,null,null,{"$f":"IF(Rok_n=\"\",'Ocena kondycji finansowej'!H81,IF(Założenia!I30=12,'Ocena kondycji finansowej'!I81+'Ocena kondycji finansowej'!I80,'Ocena kondycji finansowej'!I80))","v":0},{"$f":"J23+'Ocena kondycji finansowej'!J81","v":0},{"$f":"K23+'Ocena kondycji finansowej'!K81","v":0},{"$f":"L23+'Ocena kondycji finansowej'!L81","v":0},{"$f":"M23+'Ocena kondycji finansowej'!M81","v":0},{"$f":"N23+'Ocena kondycji finansowej'!N81","v":0},{"$f":"O23+'Ocena kondycji finansowej'!O81","v":0},{"$f":"P23+'Ocena kondycji finansowej'!P81","v":0},{"$f":"Q23+'Ocena kondycji finansowej'!Q81","v":0},{"$f":"R23+'Ocena kondycji finansowej'!R81","v":0},{"$f":"S23+'Ocena kondycji finansowej'!S81","v":0},{"$f":"T23+'Ocena kondycji finansowej'!T81","v":0},{"$f":"U23+'Ocena kondycji finansowej'!U81","v":0},{"$f":"V23+'Ocena kondycji finansowej'!V81","v":0}]
[null,"Wypłata dywidendy"]
[null,"Zysk netto z lat poprzednich",null,null,null,null,null,null,null,{"$f":"J21-J22","v":0},{"$f":"K21-K22","v":0},0,0,0,0,0,0,0,0,0,0,0,0]
[]
[]
[null,"Środki pieniężne",null,null,null,null,null,null,null,{"$f":"LataProjekcji","v":"Uzupełnij dane"},"","","","","","","","","","","","",""]
[null,"Stan środków pieniężnych na koniec roku z CF",null,null,null,null,null,null,null,{"$f":"IF(ISBLANK(DaneBiezace),IF('Ocena kondycji finansowej'!H70>0,'Ocena kondycji finansowej'!H70,0),IF('Ocena kondycji finansowej'!I70>0,'Ocena kondycji finansowej'!I70,0))","v":0},{"$f":"IF('Ocena kondycji finansowej'!J70>0,'Ocena kondycji finansowej'!J70,0)","v":0},{"$f":"IF('Ocena kondycji finansowej'!K70>0,'Ocena kondycji finansowej'!K70,0)","v":0},{"$f":"IF('Ocena kondycji finansowej'!L70>0,'Ocena kondycji finansowej'!L70,0)","v":0},{"$f":"IF('Ocena kondycji finansowej'!M70>0,'Ocena kondycji finansowej'!M70,0)","v":0},{"$f":"IF('Ocena kondycji finansowej'!N70>0,'Ocena kondycji finansowej'!N70,0)","v":0},{"$f":"IF('Ocena kondycji finansowej'!O70>0,'Ocena kondycji finansowej'!O70,0)","v":0},{"$f":"IF('Ocena kondycji finansowej'!P70>0,'Ocena kondycji finansowej'!P70,0)","v":0},{"$f":"IF('Ocena kondycji finansowej'!Q70>0,'Ocena kondycji finansowej'!Q70,0)","v":0},{"$f":"IF('Ocena kondycji finansowej'!R70>0,'Ocena kondycji finansowej'!R70,0)","v":0},{"$f":"IF('Ocena kondycji finansowej'!S70>0,'Ocena kondycji finansowej'!S70,0)","v":0},{"$f":"IF('Ocena kondycji finansowej'!T70>0,'Ocena kondycji finansowej'!T70,0)","v":0},{"$f":"IF('Ocena kondycji finansowej'!U70>0,'Ocena kondycji finansowej'!U70,0)","v":0},{"$f":"IF('Ocena kondycji finansowej'!V70>0,'Ocena kondycji finansowej'!V70,0)","v":0}]
[null,"Oprocentowanie środków pienieżnych",null,null,null,null,null,null,null,{"$f":"Założenia!J$60","v":0},{"$f":"Założenia!K$60","v":0},{"$f":"Założenia!L$60","v":0},{"$f":"Założenia!M$60","v":0},{"$f":"Założenia!N$60","v":0},{"$f":"Założenia!O$60","v":0},{"$f":"Założenia!P$60","v":0},{"$f":"Założenia!Q$60","v":0},{"$f":"Założenia!R$60","v":0},{"$f":"Założenia!S$60","v":0},{"$f":"Założenia!T$60","v":0},{"$f":"Założenia!U$60","v":0},{"$f":"Założenia!V$60","v":0},{"$f":"Założenia!W$60","v":0}]
[null,"Przychody finansowe",null,null,null,null,null,null,null,{"$f":"ROUND(J28*J27,0)","v":0},{"$f":"ROUND((K28*((K27+J27)/2)),0)","v":0},{"$f":"ROUND((L28*((L27+K27)/2)),0)","v":0},0,0,0,0,0,0,0,0,0,0,0]
[]
[]
[null,"Depozyty bankowe",null,null,null,null,null,null,null,{"$f":"LataProjekcji","v":"Uzupełnij dane"},"","","","","","","","","","","","",""]
[null,"Bilans otwarcia",null,null,null,null,null,null,null,{"$f":"IF(ISBLANK(DaneBiezace),'Ocena kondycji finansowej'!H71,'Ocena kondycji finansowej'!I71)","v":0},{"$f":"J37","v":0},0,0,0,0,0,0,0,0,0,0,0,0]
[null,"Wpływy"]
[null,"Wypłaty"]
[null,"Oprocentowanie",null,null,null,null,null,null,null,{"$f":"Założenia!J$61","v":0},{"$f":"Założenia!K$61","v":0},{"$f":"Założenia!L$61","v":0},{"$f":"Założenia!M$61","v":0},{"$f":"Założenia!N$61","v":0},{"$f":"Założenia!O$61","v":0},{"$f":"Założenia!P$61","v":0},{"$f":"Założenia!Q$61","v":0},{"$f":"Założenia!R$61","v":0},{"$f":"Założenia!S$61","v":0},{"$f":"Założenia!T$61","v":0},{"$f":"Założenia!U$61","v":0},{"$f":"Założenia!V$61","v":0},{"$f":"Założenia!W$61","v":0}]
[null,"Saldo",null,null,null,null,null,null,null,{"$f":"J33+J34-J35","v":0},{"$f":"K33+K34-K35","v":0},0,0,0,0,0,0,0,0,0,0,0,0]
[null,"Przychody finansowe",null,null,null,null,null,null,null,{"$f":"ROUND(((J37+J33)/2)*J36,0)","v":0},{"$f":"ROUND(((K37+J37)/2)*K36,0)","v":0},{"$f":"ROUND(((L37+K37)/2)*L36,0)","v":0},{"$f":"ROUND(((M37+L37)/2)*M36,0)","v":0},{"$f":"ROUND(((N37+M37)/2)*N36,0)","v":0},{"$f":"ROUND(((O37+N37)/2)*O36,0)","v":0},{"$f":"ROUND(((P37+O37)/2)*P36,0)","v":0},{"$f":"ROUND(((Q37+P37)/2)*Q36,0)","v":0},{"$f":"ROUND(((R37+Q37)/2)*R36,0)","v":0},{"$f":"ROUND(((S37+R37)/2)*S36,0)","v":0},{"$f":"ROUND(((T37+S37)/2)*T36,0)","v":0},{"$f":"ROUND(((U37+T37)/2)*U36,0)","v":0},{"$f":"ROUND(((V37+U37)/2)*V36,0)","v":0},{"$f":"ROUND(((W37+V37)/2)*W36,0)","v":0}]
[]
[]
[null,"Pożyczki od udziałowców (długoterminowe)",null,null,null,null,null,null,null,{"$f":"LataProjekcji","v":"Uzupełnij dane"},"","","","","","","","","","","","",""]
[null,"Bilans otwarcia",null,null,null,null,null,null,null,{"$f":"I42","v":0},{"$f":"IF(J46<0,0,J46)","v":0},{"$f":"IF(K46<0,0,K46)","v":0},0,0,0,0,0,0,0,0,0,0,0]
[null,"Wpływy"]
[null,"Spłaty"]
[null,"Oprocentowanie",null,null,null,null,null,null,null,{"$f":"Założenia!J$57","v":0},{"$f":"Założenia!K$57","v":0},{"$f":"Założenia!L$57","v":0},{"$f":"Założenia!M$57","v":0},{"$f":"Założenia!N$57","v":0},{"$f":"Założenia!O$57","v":0},{"$f":"Założenia!P$57","v":0},{"$f":"Założenia!Q$57","v":0},{"$f":"Założenia!R$57","v":0},{"$f":"Założenia!S$57","v":0},{"$f":"Założenia!T$57","v":0},{"$f":"Założenia!U$57","v":0},{"$f":"Założenia!V$57","v":0},{"$f":"Założenia!W$57","v":0}]
[null,"Saldo",null,null,null,null,null,null,null,{"$f":"J42+J43-J44","v":0},{"$f":"K42+K43-K44","v":0},0,0,0,0,0,0,0,0,0,0,0,0]
[null,"Koszty finansowe",null,null,null,null,null,null,null,{"$f":"ROUND(((J46+I42)/2)*J45,0)","v":0},{"$f":"ROUND(((K46+J46)/2)*K45,0)","v":0},{"$f":"ROUND(((L46+K46)/2)*L45,0)","v":0},{"$f":"ROUND(((M46+L46)/2)*M45,0)","v":0},{"$f":"ROUND(((N46+M46)/2)*N45,0)","v":0},{"$f":"ROUND(((O46+N46)/2)*O45,0)","v":0},{"$f":"ROUND(((P46+O46)/2)*P45,0)","v":0},{"$f":"ROUND(((Q46+P46)/2)*Q45,0)","v":0},{"$f":"ROUND(((R46+Q46)/2)*R45,0)","v":0},{"$f":"ROUND(((S46+R46)/2)*S45,0)","v":0},{"$f":"ROUND(((T46+S46)/2)*T45,0)","v":0},{"$f":"ROUND(((U46+T46)/2)*U45,0)","v":0},{"$f":"ROUND(((V46+U46)/2)*V45,0)","v":0},{"$f":"ROUND(((W46+V46)/2)*W45,0)","v":0}]
[]
[]
[null,"Kredyty długoterminowe",null,null,null,null,null,null,null,{"$f":"LataProjekcji","v":"Uzupełnij dane"},"","","","","","","","","","","","",""]
[null,"Bilans otwarcia",null,null,null,null,null,null,{"$f":"IF(ISBLANK(DaneBiezace),'Ocena kondycji finansowej'!H85,'Ocena kondycji finansowej'!I85)","v":0},{"$f":"I51","v":0},{"$f":"IF(J55<0,0,J55)","v":0},{"$f":"IF(K55<0,0,K55)","v":0},0,0,0,0,0,0,0,0,0,0,0]
[null,"Wpływy"]
[null,"Spłaty"]
[null,"Oprocentowanie",null,null,null,null,null,null,null,{"$f":"Założenia!J$59","v":0},{"$f":"Założenia!K$59","v":0},{"$f":"Założenia!L$59","v":0},{"$f":"Założenia!M$59","v":0},{"$f":"Założenia!N$59","v":0},{"$f":"Założenia!O$59","v":0},{"$f":"Założenia!P$59","v":0},{"$f":"Założenia!Q$59","v":0},{"$f":"Założenia!R$59","v":0},{"$f":"Założenia!S$59","v":0},{"$f":"Założenia!T$59","v":0},{"$f":"Założenia!U$59","v":0},{"$f":"Założenia!V$59","v":0},{"$f":"Założenia!W$59","v":0}]
[null,"Saldo",null,null,null,null,null,null,null,{"$f":"J51+J52-J53","v":0},{"$f":"K51+K52-K53","v":0},0,0,0,0,0,0,0,0,0,0,0,0]
[null,"Koszty finansowe",null,null,null,null,null,null,null,{"$f":"ROUND(((J55+I51)/2)*J54,0)","v":0},{"$f":"ROUND(((K55+J55)/2)*K54,0)","v":0},{"$f":"ROUND(((L55+K55)/2)*L54,0)","v":0},0,0,0,0,0,0,0,0,0,0,0]
[]
[]
[null,"Kredyty krótkoterminowe",null,null,null,null,null,null,null,{"$f":"LataProjekcji","v":"Uzupełnij dane"},"","","","","","","","","","","","",""]
[null,"Bilans otwarcia",null,null,null,null,null,null,{"$f":"IF(ISBLANK(DaneBiezace),'Ocena kondycji finansowej'!H89,'Ocena kondycji finansowej'!I89)","v":0},{"$f":"I60","v":0},{"$f":"IF(J60+J61-J62<0,0,J60+J61-J62)","v":0},{"$f":"IF(K60+K61-K62<0,0,K60+K61-K62)","v":0},0,0,0,0,0,0,0,0,0,0,0]
[null,"Wpływy"]
[null,"Spłaty"]
[null,"Oprocentowanie",null,null,null,null,null,null,null,{"$f":"Założenia!J$58","v":0},{"$f":"Założenia!K$58","v":0},{"$f":"Założenia!L$58","v":0},{"$f":"Założenia!M$58","v":0},{"$f":"Założenia!N$58","v":0},{"$f":"Założenia!O$58","v":0},{"$f":"Założenia!P$58","v":0},{"$f":"Założenia!Q$58","v":0},{"$f":"Założenia!R$58","v":0},{"$f":"Założenia!S$58","v":0},{"$f":"Założenia!T$58","v":0},{"$f":"Założenia!U$58","v":0},{"$f":"Założenia!V$58","v":0},{"$f":"Założenia!W$58","v":0}]
[null,"Saldo",null,null,null,null,null,null,null,{"$f":"J60+J61-J62+K53+K44","v":0},0,0,0,0,0,0,0,0,0,0,0,0,0]
[null,"Koszty finansowe",null,null,null,null,null,null,null,{"$f":"ROUND(((J64+I60)/2)*J63,0)","v":0},{"$f":"ROUND(((K64+J64)/2)*K63,0)","v":0},{"$f":"ROUND(((L64+K64)/2)*L63,0)","v":0},{"$f":"ROUND(((M64+L64)/2)*M63,0)","v":0},{"$f":"ROUND(((N64+M64)/2)*N63,0)","v":0},{"$f":"ROUND(((O64+N64)/2)*O63,0)","v":0},{"$f":"ROUND(((P64+O64)/2)*P63,0)","v":0},{"$f":"ROUND(((Q64+P64)/2)*Q63,0)","v":0},{"$f":"ROUND(((R64+Q64)/2)*R63,0)","v":0},{"$f":"ROUND(((S64+R64)/2)*S63,0)","v":0},{"$f":"ROUND(((T64+S64)/2)*T63,0)","v":0},{"$f":"ROUND(((U64+T64)/2)*U63,0)","v":0},{"$f":"ROUND(((V64+U64)/2)*V63,0)","v":0},{"$f":"ROUND(((W64+V64)/2)*W63,0)","v":0}]
[]
[]
[]
[]
[null,"Projekt",null,null,null,{"$f":"'Kapitał pracujący'!F$63","v":0},{"$f":"'Kapitał pracujący'!G$63","v":0},{"$f":"'Kapitał pracujący'!H$63","v":0},null,{"$f":"LataProjekcji","v":"Uzupełnij dane"},"","","","","","","","","","","","",""]
[]
[null,"Kapitał własny"]
[null,"Kapitał bilans otwarcia",null,null,null,null,null,null,null,null,{"$f":"J75","v":0},0,0,0,0,0,0,0,0,0,0,0,0]
[null,"Dopłaty do kapitału"]
[null,"Kapitał bilans zamknięcia",null,null,null,null,null,null,null,{"$f":"J73+J74","v":0},{"$f":"K73+K74","v":0},0,0,0,0,0,0,0,0,0,0,0,0]
[]
[]
[null,"Środki własne z działalności dotychczasowej na finansowanie Projektu"]
[null,"Środki pieniężne z działalności dotychczasowej (poprzedni okres)",null,null,null,null,null,null,null,{"$f":"IF(Rok_n=\"\",'Ocena kondycji finansowej'!H70,'Ocena kondycji finansowej'!I70)","v":0},{"$f":"'Ocena kondycji finansowej'!J70","v":0},{"$f":"'Ocena kondycji finansowej'!K70","v":0},{"$f":"'Ocena kondycji finansowej'!L70","v":0},{"$f":"'Ocena kondycji finansowej'!M70","v":0},{"$f":"'Ocena kondycji finansowej'!N70","v":0},{"$f":"'Ocena kondycji finansowej'!O70","v":0},{"$f":"'Ocena kondycji finansowej'!P70","v":0},{"$f":"'Ocena kondycji finansowej'!Q70","v":0},{"$f":"'Ocena kondycji finansowej'!R70","v":0},{"$f":"'Ocena kondycji finansowej'!S70","v":0},{"$f":"'Ocena kondycji finansowej'!T70","v":0},{"$f":"'Ocena kondycji finansowej'!U70","v":0},{"$f":"'Ocena kondycji finansowej'!V70","v":0}]
[null,"Dopłaty ze środków własnych do Projektu"]
[null,"Razem dopłaty z dotychczasowej działalności",null,null,null,null,null,null,null,{"$f":"IF((J79-J80)>=0,J80,0)","v":0},{"$f":"IF((K79-K80)>=0,J81+K80,0)","v":0},{"$f":"K81+L80","v":0},{"$f":"L81+M80","v":0},0,0,0,0,0,0,0,0,0,0]
[]
[]
[null,"Dywidenda",null,null,null,null,null,null,null,{"$f":"LataProjekcji","v":"Uzupełnij dane"},"","","","","","","","","","","","",""]
[null,"Zysk netto do podziału z roku poprzedniego",null,null,null,null,null,null,null,{"$f":"'Ocena kondycji finansowej'!I225","v":0},{"$f":"'Ocena kondycji finansowej'!J225","v":0},{"$f":"'Ocena kondycji finansowej'!K225","v":0},{"$f":"'Ocena kondycji finansowej'!L225","v":0},{"$f":"'Ocena kondycji finansowej'!M225","v":0},{"$f":"'Ocena kondycji finansowej'!N225","v":0},{"$f":"'Ocena kondycji finansowej'!O225","v":0},{"$f":"'Ocena kondycji finansowej'!P225","v":0},{"$f":"'Ocena kondycji finansowej'!Q225","v":0},{"$f":"'Ocena kondycji finansowej'!R225","v":0},{"$f":"'Ocena kondycji finansowej'!S225","v":0},{"$f":"'Ocena kondycji finansowej'!T225","v":0},{"$f":"'Ocena kondycji finansowej'!U225","v":0},{"$f":"'Ocena kondycji finansowej'!V225","v":0}]
[null,"Wypłata dywidendy"]
[null,"Zysk netto z lat poprzednich",null,null,null,null,null,null,null,{"$f":"J85-J86","v":0},{"$f":"J87+K85-K86","v":0},{"$f":"K87+L85-L86","v":0},0,0,0,0,0,0,0,0,0,0,0]
[]
[]
[null,"Środki pieniężne",null,null,null,null,null,null,null,{"$f":"LataProjekcji","v":"Uzupełnij dane"},"","","","","","","","","","","","",""]
[null,"Stan środków pieniężnych na koniec roku z CF",null,null,null,null,null,null,null,{"$f":"IF('Ocena kondycji finansowej'!I214>0,'Ocena kondycji finansowej'!I214,0)","v":0},{"$f":"IF('Ocena kondycji finansowej'!J214>0,'Ocena kondycji finansowej'!J214,0)","v":0},{"$f":"IF('Ocena kondycji finansowej'!K214>0,'Ocena kondycji finansowej'!K214,0)","v":0},{"$f":"IF('Ocena kondycji finansowej'!L214>0,'Ocena kondycji finansowej'!L214,0)","v":0},{"$f":"IF('Ocena kondycji finansowej'!M214>0,'Ocena kondycji finansowej'!M214,0)","v":0},{"$f":"IF('Ocena kondycji finansowej'!N214>0,'Ocena kondycji finansowej'!N214,0)","v":0},{"$f":"IF('Ocena kondycji finansowej'!O214>0,'Ocena kondycji finansowej'!O214,0)","v":0},{"$f":"IF('Ocena kondycji finansowej'!P214>0,'Ocena kondycji finansowej'!P214,0)","v":0},{"$f":"IF('Ocena kondycji finansowej'!Q214>0,'Ocena kondycji finansowej'!Q214,0)","v":0},{"$f":"IF('Ocena kondycji finansowej'!R214>0,'Ocena kondycji finansowej'!R214,0)","v":0},{"$f":"IF('Ocena kondycji finansowej'!S214>0,'Ocena kondycji finansowej'!S214,0)","v":0},{"$f":"IF('Ocena kondycji finansowej'!T214>0,'Ocena kondycji finansowej'!T214,0)","v":0},{"$f":"IF('Ocena kondycji finansowej'!U214>0,'Ocena kondycji finansowej'!U214,0)","v":0},{"$f":"IF('Ocena kondycji finansowej'!V214>0,'Ocena kondycji finansowej'!V214,0)","v":0}]
[null,"Oprocentowanie środków pienieżnych",null,null,null,null,null,null,null,{"$f":"Założenia!J$60","v":0},{"$f":"Założenia!K$60","v":0},{"$f":"Założenia!L$60","v":0},{"$f":"Założenia!M$60","v":0},{"$f":"Założenia!N$60","v":0},{"$f":"Założenia!O$60","v":0},{"$f":"Założenia!P$60","v":0},{"$f":"Założenia!Q$60","v":0},{"$f":"Założenia!R$60","v":0},{"$f":"Założenia!S$60","v":0},{"$f":"Założenia!T$60","v":0},{"$f":"Założenia!U$60","v":0},{"$f":"Założenia!V$60","v":0},{"$f":"Założenia!W$60","v":0}]
[null,"Przychody finansowe",null,null,null,null,null,null,null,{"$f":"ROUND(J92*J91,0)","v":0},{"$f":"ROUND(K92*((K91+J91)/2),0)","v":0},{"$f":"ROUND(L92*((L91+K91)/2),0)","v":0},0,0,0,0,0,0,0,0,0,0,0]
[]
[]
[null,"Depozyty bankowe",null,null,null,null,null,null,null,{"$f":"LataProjekcji","v":"Uzupełnij dane"},"","","","","","","","","","","","",""]
[null,"Bilans otwarcia",null,null,null,null,null,null,null,null,{"$f":"J101","v":0},0,0,0,0,0,0,0,0,0,0,0,0]
[null,"Wpływy"]
[null,"Wypłaty"]
[null,"Oprocentowanie",null,null,null,null,null,null,null,{"$f":"Założenia!J$61","v":0},{"$f":"Założenia!K$61","v":0},{"$f":"Założenia!L$61","v":0},{"$f":"Założenia!M$61","v":0},{"$f":"Założenia!N$61","v":0},{"$f":"Założenia!O$61","v":0},{"$f":"Założenia!P$61","v":0},{"$f":"Założenia!Q$61","v":0},{"$f":"Założenia!R$61","v":0},{"$f":"Założenia!S$61","v":0},{"$f":"Założenia!T$61","v":0},{"$f":"Założenia!U$61","v":0},{"$f":"Założenia!V$61","v":0},{"$f":"Założenia!W$61","v":0}]
[null,"Saldo",null,null,null,null,null,null,null,{"$f":"J97+J98-J99","v":0},{"$f":"K97+K98-K99","v":0},0,0,0,0,0,0,0,0,0,0,0,0]
[null,"Przychody finansowe",null,null,null,null,null,null,null,{"$f":"ROUND(((J101+J98)/2)*J100,0)","v":0},{"$f":"ROUND(((K101+J101)/2)*K100,0)","v":0},{"$f":"ROUND(((L101+K101)/2)*L100,0)","v":0},0,0,0,0,0,0,0,0,0,0,0]
[]
[]
[null,"Pożyczki od udziałowców (długoterminowe)",null,null,null,null,null,null,null,{"$f":"LataProjekcji","v":"Uzupełnij dane"},"","","","","","","","","","","","",""]
[null,"Bilans otwarcia",null,null,null,null,null,null,null,null,{"$f":"IF(J110<0,0,J110)","v":0},{"$f":"IF(K110<0,0,K110)","v":0},0,0,0,0,0,0,0,0,0,0,0]
[null,"Wpływy"]
[null,"Spłaty"]
[null,"Oprocentowanie",null,null,null,null,null,null,null,{"$f":"Założenia!J$57","v":0},{"$f":"Założenia!K$57","v":0},{"$f":"Założenia!L$57","v":0},{"$f":"Założenia!M$57","v":0},{"$f":"Założenia!N$57","v":0},{"$f":"Założenia!O$57","v":0},{"$f":"Założenia!P$57","v":0},{"$f":"Założenia!Q$57","v":0},{"$f":"Założenia!R$57","v":0},{"$f":"Założenia!S$57","v":0},{"$f":"Założenia!T$57","v":0},{"$f":"Założenia!U$57","v":0},{"$f":"Założenia!V$57","v":0},{"$f":"Założenia!W$57","v":0}]
[null,"Saldo",null,null,null,null,null,null,null,{"$f":"J106+J107-J108","v":0},{"$f":"K106+K107-K108","v":0},0,0,0,0,0,0,0,0,0,0,0,0]
[null,"Koszty finansowe",null,null,null,null,null,null,null,{"$f":"ROUND(((J107))*J109,0)","v":0},{"$f":"ROUND(((K110+J110)/2)*K109,0)","v":0},{"$f":"ROUND(((L110+K110)/2)*L109,0)","v":0},0,0,0,0,0,0,0,0,0,0,0]
[]
[]
[null,"Kredyty długoterminowe",null,null,null,null,null,null,null,{"$f":"LataProjekcji","v":"Uzupełnij dane"},"","","","","","","","","","","","",""]
[null,"Bilans otwarcia",null,null,null,null,null,null,null,null,{"$f":"IF(J119<0,0,J119)","v":0},{"$f":"IF(K119<0,0,K119)","v":0},0,0,0,0,0,0,0,0,0,0,0]
[null,"Wpływy"]
[null,"Spłaty"]
[null,"Oprocentowanie",null,null,null,null,null,null,null,{"$f":"Założenia!J$59","v":0},{"$f":"Założenia!K$59","v":0},{"$f":"Założenia!L$59","v":0},{"$f":"Założenia!M$59","v":0},{"$f":"Założenia!N$59","v":0},{"$f":"Założenia!O$59","v":0},{"$f":"Założenia!P$59","v":0},{"$f":"Założenia!Q$59","v":0},{"$f":"Założenia!R$59","v":0},{"$f":"Założenia!S$59","v":0},{"$f":"Założenia!T$59","v":0},{"$f":"Założenia!U$59","v":0},{"$f":"Założenia!V$59","v":0},{"$f":"Założenia!W$59","v":0}]
[null,"Saldo",null,null,null,null,null,null,null,{"$f":"J115+J116-J117","v":0},{"$f":"K115+K116-K117","v":0},0,0,0,0,0,0,0,0,0,0,0,0]
[null,"Koszty finansowe",null,null,null,null,null,null,null,{"$f":"ROUND(((J119+J116)/2)*J118,0)","v":0},{"$f":"ROUND(((K119+J119)/2)*K118,0)","v":0},{"$f":"ROUND(((L119+K119)/2)*L118,0)","v":0},0,0,0,0,0,0,0,0,0,0,0]
[]
[]
[null,"Kredyty krótkoterminowe",null,null,null,null,null,null,null,{"$f":"LataProjekcji","v":"Uzupełnij dane"},"","","","","","","","","","","","",""]
[null,"Bilans otwarcia",null,null,null,null,null,null,null,null,{"$f":"IF(J125-J126<0,0,J125-J126)","v":0},{"$f":"IF(K124+K125-K126<0,0,K124+K125-K126)","v":0},{"$f":"IF(L124+L125-L126<0,0,L124+L125-L126)","v":0},0,0,0,0,0,0,0,0,0,0]
[null,"Wpływy"]
[null,"Spłaty"]
[null,"Oprocentowanie",null,null,null,null,null,null,null,{"$f":"Założenia!J$58","v":0},{"$f":"Założenia!K$58","v":0},{"$f":"Założenia!L$58","v":0},{"$f":"Założenia!M$58","v":0},{"$f":"Założenia!N$58","v":0},{"$f":"Założenia!O$58","v":0},{"$f":"Założenia!P$58","v":0},{"$f":"Założenia!Q$58","v":0},{"$f":"Założenia!R$58","v":0},{"$f":"Założenia!S$58","v":0},{"$f":"Założenia!T$58","v":0},{"$f":"Założenia!U$58","v":0},{"$f":"Założenia!V$58","v":0},{"$f":"Założenia!W$58","v":0}]
[null,"Saldo",null,null,null,null,null,null,null,{"$f":"J124+J125-J126+K117+K108","v":0},0,0,0,0,0,0,0,0,0,0,0,0,0]
[null,"Koszty finansowe",null,null,null,null,null,null,null,{"$f":"ROUND(((J128+J125)/2)*J127,0)","v":0},{"$f":"ROUND(((K128+J128)/2)*K127,0)","v":0},{"$f":"ROUND(((L128+K128)/2)*L127,0)","v":0},0,0,0,0,0,0,0,0,0,0,0]
[]
[]
[null,"Leasing finansowy",null,null,null,null,null,null,null,{"$f":"LataProjekcji","v":"Uzupełnij dane"},"","","","","","","","","","","","",""]
[null,"Bilans otwarcia",null,null,null,null,null,null,null,null,{"$f":"IF(J136<0,0,J136)","v":0},{"$f":"IF(K136<0,0,K136)","v":0},0,0,0,0,0,0,0,0,0,0,0]
[null,"Wpływy"]
[null,"Spłaty"]
[null,"Saldo",null,null,null,null,null,null,null,{"$f":"J133+J134-J135","v":0},{"$f":"K133+K134-K135","v":0},0,0,0,0,0,0,0,0,0,0,0,0]
[null,"Koszty finansowe"]
[]
[]
[null,"Komentarz"]

{"sheet":"Ocena kondycji finansowej","index":10,"n_rows":482,"n_cols":23,"rows_kept":482,"cut":false,"hidden":false,"merged":[[1,1,2,5]]}
[]
[null,{"$f":"IF(ISBLANK(Firma),\"Wstaw nazwę firmy\",Firma)","v":"Wstaw nazwę firmy"}]
[]
[]
[]
[]
[]
[]
[]
[]
[null,null,null,null,null,null,null,null,null,{"$f":"Założenia!J25","v":0},{"$f":"Założenia!K25","v":1},{"$f":"Założenia!L25","v":2},{"$f":"Założenia!M25","v":3},{"$f":"Założenia!N25","v":4},{"$f":"Założenia!O25","v":5},{"$f":"Założenia!P25","v":6},{"$f":"Założenia!Q25","v":7},{"$f":"Założenia!R25","v":8},{"$f":"Założenia!S25","v":9},{"$f":"Założenia!T25","v":10},{"$f":"Założenia!U25","v":11},{"$f":"Założenia!V25","v":12},{"$f":"Założenia!W25","v":13}]
[null,"Działalność dotychczasowa (bez Projektu)",null,null,null,{"$f":"LataProjekcji","v":0},0,0,"","Uzupełnij dane","","","","","","","","","","","","",""]
[]
[null,"Rachunek zysków i strat"]
[null,"A. Przychody netto ze sprzedaży ","RP",null,null,{"$f":"SUM(F16:F19)","v":0},{"$f":"SUM(G16:G19)","v":0},0,0,0,0,0,0,0,0,0,0,0,0,0,0,0,0]
[null," I. Przychody netto ze sprzedaży produktów ",null,null,null,{"$f":"'Sprawozdania finansowe'!C152","v":0},{"$f":"'Sprawozdania finansowe'!D152","v":0},{"$f":"'Sprawozdania finansowe'!E152","v":0},{"$f":"IF(Rok_n=\"\",0,'Sprawozdania finansowe'!F152)","v":0},{"$f":"Przychody!J114","v":0},{"$f":"Przychody!K114","v":0},{"$f":"Przychody!L114","v":0},{"$f":"Przychody!M114","v":0},{"$f":"Przychody!N114","v":0},{"$f":"Przychody!O114","v":0},{"$f":"Przychody!P114","v":0},{"$f":"Przychody!Q114","v":0},{"$f":"Przychody!R114","v":0},{"$f":"Przychody!S114","v":0},{"$f":"Przychody!T114","v":0},{"$f":"Przychody!U114","v":0},{"$f":"Przychody!V114","v":0},{"$f":"Przychody!W114","v":0}]
[null," II. Zmiana stanu produktów ([+] zwiększenie / [-] zmniejszenie)",null,null,null,{"$f":"'Sprawozdania finansowe'!C153","v":0},{"$f":"'Sprawozdania finansowe'!D153","v":0},{"$f":"'Sprawozdania finansowe'!E153","v":0},{"$f":"IF(Rok_n=\"\",0,'Sprawozdania finansowe'!F153)","v":0},{"$f":"Przychody!J115","v":0},{"$f":"Przychody!K115","v":0},{"$f":"Przychody!L115","v":0},{"$f":"Przychody!M115","v":0},{"$f":"Przychody!N115","v":0},{"$f":"Przychody!O115","v":0},{"$f":"Przychody!P115","v":0},{"$f":"Przychody!Q115","v":0},{"$f":"Przychody!R115","v":0},{"$f":"Przychody!S115","v":0},{"$f":"Przychody!T115","v":0},{"$f":"Przychody!U115","v":0},{"$f":"Przychody!V115","v":0},{"$f":"Przychody!W115","v":0}]
[null," III. Koszt wytworzenia produktów na własne potrzeby jednostki",null,null,null,{"$f":"'Sprawozdania finansowe'!C154","v":0},{"$f":"'Sprawozdania finansowe'!D154","v":0},{"$f":"'Sprawozdania finansowe'!E154","v":0},{"$f":"IF(Rok_n=\"\",0,'Sprawozdania finansowe'!F154)","v":0},{"$f":"Przychody!J116","v":0},{"$f":"Przychody!K116","v":0},{"$f":"Przychody!L116","v":0},{"$f":"Przychody!M116","v":0},{"$f":"Przychody!N116","v":0},{"$f":"Przychody!O116","v":0},{"$f":"Przychody!P116","v":0},{"$f":"Przychody!Q116","v":0},{"$f":"Przychody!R116","v":0},{"$f":"Przychody!S116","v":0},{"$f":"Przychody!T116","v":0},{"$f":"Przychody!U116","v":0},{"$f":"Przychody!V116","v":0},{"$f":"Przychody!W116","v":0}]
[null," IV. Przychody netto ze sprzedaży towarów i materiałów ",null,null,null,{"$f":"'Sprawozdania finansowe'!C155","v":0},{"$f":"'Sprawozdania finansowe'!D155","v":0},{"$f":"'Sprawozdania finansowe'!E155","v":0},{"$f":"IF(Rok_n=\"\",0,'Sprawozdania finansowe'!F155)","v":0},{"$f":"Przychody!J117","v":0},{"$f":"Przychody!K117","v":0},{"$f":"Przychody!L117","v":0},{"$f":"Przychody!M117","v":0},{"$f":"Przychody!N117","v":0},{"$f":"Przychody!O117","v":0},{"$f":"Przychody!P117","v":0},{"$f":"Przychody!Q117","v":0},{"$f":"Przychody!R117","v":0},{"$f":"Przychody!S117","v":0},{"$f":"Przychody!T117","v":0},{"$f":"Przychody!U117","v":0},{"$f":"Przychody!V117","v":0},{"$f":"Przychody!W117","v":0}]
[null,"B. Koszty działalności operacyjnej","RKDO",null,null,{"$f":"SUM(F21:F28)","v":0},{"$f":"SUM(G21:G28)","v":0},{"$f":"SUM(H21:H28)","v":0},{"$f":"SUM(I21:I28)","v":0},{"$f":"SUM(J21:J28)","v":0},0,0,0,0,0,0,0,0,0,0,0,0,0]
[null," I. Amortyzacja","RKDOA",null,null,{"$f":"'Sprawozdania finansowe'!C157","v":0},{"$f":"'Sprawozdania finansowe'!D157","v":0},{"$f":"'Sprawozdania finansowe'!E157","v":0},{"$f":"IF(Rok_n=\"\",0,'Sprawozdania finansowe'!F157)","v":0},{"$f":"'Środki trwałe'!J83","v":0},{"$f":"'Środki trwałe'!K83","v":0},{"$f":"'Środki trwałe'!L83","v":0},{"$f":"'Środki trwałe'!M83","v":0},{"$f":"'Środki trwałe'!N83","v":0},{"$f":"'Środki trwałe'!O83","v":0},{"$f":"'Środki trwałe'!P83","v":0},{"$f":"'Środki trwałe'!Q83","v":0},{"$f":"'Środki trwałe'!R83","v":0},{"$f":"'Środki trwałe'!S83","v":0},{"$f":"'Środki trwałe'!T83","v":0},{"$f":"'Środki trwałe'!U83","v":0},{"$f":"'Środki trwałe'!V83","v":0},{"$f":"'Środki trwałe'!W83","v":0}]
[null," II. Zużycie materiałów i energii",null,null,null,{"$f":"'Sprawozdania finansowe'!C158","v":0},{"$f":"'Sprawozdania finansowe'!D158","v":0},{"$f":"'Sprawozdania finansowe'!E158","v":0},{"$f":"IF(Rok_n=\"\",0,'Sprawozdania finansowe'!F158)","v":0},{"$f":"'Koszty operacyjne'!J102","v":0},{"$f":"'Koszty operacyjne'!K102","v":0},{"$f":"'Koszty operacyjne'!L102","v":0},{"$f":"'Koszty operacyjne'!M102","v":0},{"$f":"'Koszty operacyjne'!N102","v":0},{"$f":"'Koszty operacyjne'!O102","v":0},{"$f":"'Koszty operacyjne'!P102","v":0},{"$f":"'Koszty operacyjne'!Q102","v":0},{"$f":"'Koszty operacyjne'!R102","v":0},{"$f":"'Koszty operacyjne'!S102","v":0},{"$f":"'Koszty operacyjne'!T102","v":0},{"$f":"'Koszty operacyjne'!U102","v":0},{"$f":"'Koszty operacyjne'!V102","v":0},{"$f":"'Koszty operacyjne'!W102","v":0}]
[null," III. Usługi obce",null,null,null,{"$f":"'Sprawozdania finansowe'!C159","v":0},{"$f":"'Sprawozdania finansowe'!D159","v":0},{"$f":"'Sprawozdania finansowe'!E159","v":0},{"$f":"IF(Rok_n=\"\",0,'Sprawozdania finansowe'!F159)","v":0},{"$f":"'Koszty operacyjne'!J103","v":0},{"$f":"'Koszty operacyjne'!K103","v":0},{"$f":"'Koszty operacyjne'!L103","v":0},{"$f":"'Koszty operacyjne'!M103","v":0},{"$f":"'Koszty operacyjne'!N103","v":0},{"$f":"'Koszty operacyjne'!O103","v":0},{"$f":"'Koszty operacyjne'!P103","v":0},{"$f":"'Koszty operacyjne'!Q103","v":0},{"$f":"'Koszty operacyjne'!R103","v":0},{"$f":"'Koszty operacyjne'!S103","v":0},{"$f":"'Koszty operacyjne'!T103","v":0},{"$f":"'Koszty operacyjne'!U103","v":0},{"$f":"'Koszty operacyjne'!V103","v":0},{"$f":"'Koszty operacyjne'!W103","v":0}]
[null," IV. Podatki i opłaty",null,null,null,{"$f":"'Sprawozdania finansowe'!C160","v":0},{"$f":"'Sprawozdania finansowe'!D160","v":0},{"$f":"'Sprawozdania finansowe'!E160","v":0},{"$f":"IF(Rok_n=\"\",0,'Sprawozdania finansowe'!F160)","v":0},{"$f":"'Koszty operacyjne'!J104","v":0},{"$f":"'Koszty operacyjne'!K104","v":0},{"$f":"'Koszty operacyjne'!L104","v":0},{"$f":"'Koszty operacyjne'!M104","v":0},{"$f":"'Koszty operacyjne'!N104","v":0},{"$f":"'Koszty operacyjne'!O104","v":0},{"$f":"'Koszty operacyjne'!P104","v":0},{"$f":"'Koszty operacyjne'!Q104","v":0},{"$f":"'Koszty operacyjne'!R104","v":0},{"$f":"'Koszty operacyjne'!S104","v":0},{"$f":"'Koszty operacyjne'!T104","v":0},{"$f":"'Koszty operacyjne'!U104","v":0},{"$f":"'Koszty operacyjne'!V104","v":0},{"$f":"'Koszty operacyjne'!W104","v":0}]
[null," V. Wynagrodzenia",null,null,null,{"$f":"'Sprawozdania finansowe'!C162","v":0},{"$f":"'Sprawozdania finansowe'!D162","v":0},{"$f":"'Sprawozdania finansowe'!E162","v":0},{"$f":"IF(Rok_n=\"\",0,'Sprawozdania finansowe'!F162)","v":0},{"$f":"'Koszty operacyjne'!J105","v":0},{"$f":"'Koszty operacyjne'!K105","v":0},{"$f":"'Koszty operacyjne'!L105","v":0},{"$f":"'Koszty operacyjne'!M105","v":0},{"$f":"'Koszty operacyjne'!N105","v":0},{"$f":"'Koszty operacyjne'!O105","v":0},{"$f":"'Koszty operacyjne'!P105","v":0},{"$f":"'Koszty operacyjne'!Q105","v":0},{"$f":"'Koszty operacyjne'!R105","v":0},{"$f":"'Koszty operacyjne'!S105","v":0},{"$f":"'Koszty operacyjne'!T105","v":0},{"$f":"'Koszty operacyjne'!U105","v":0},{"$f":"'Koszty operacyjne'!V105","v":0},{"$f":"'Koszty operacyjne'!W105","v":0}]
[null," VI. Ubezpieczenia społeczne i inne świadczenia",null,null,null,{"$f":"'Sprawozdania finansowe'!C163","v":0},{"$f":"'Sprawozdania finansowe'!D163","v":0},{"$f":"'Sprawozdania finansowe'!E163","v":0},{"$f":"IF(Rok_n=\"\",0,'Sprawozdania finansowe'!F163)","v":0},{"$f":"'Koszty operacyjne'!J106","v":0},{"$f":"'Koszty operacyjne'!K106","v":0},{"$f":"'Koszty operacyjne'!L106","v":0},{"$f":"'Koszty operacyjne'!M106","v":0},{"$f":"'Koszty operacyjne'!N106","v":0},{"$f":"'Koszty operacyjne'!O106","v":0},{"$f":"'Koszty operacyjne'!P106","v":0},{"$f":"'Koszty operacyjne'!Q106","v":0},{"$f":"'Koszty operacyjne'!R106","v":0},{"$f":"'Koszty operacyjne'!S106","v":0},{"$f":"'Koszty operacyjne'!T106","v":0},{"$f":"'Koszty operacyjne'!U106","v":0},{"$f":"'Koszty operacyjne'!V106","v":0},{"$f":"'Koszty operacyjne'!W106","v":0}]
[null," VII. Pozostałe koszty rodzajowe",null,null,null,{"$f":"'Sprawozdania finansowe'!C164","v":0},{"$f":"'Sprawozdania finansowe'!D164","v":0},{"$f":"'Sprawozdania finansowe'!E164","v":0},{"$f":"IF(Rok_n=\"\",0,'Sprawozdania finansowe'!F164)","v":0},{"$f":"'Koszty operacyjne'!J107","v":0},{"$f":"'Koszty operacyjne'!K107","v":0},{"$f":"'Koszty operacyjne'!L107","v":0},{"$f":"'Koszty operacyjne'!M107","v":0},{"$f":"'Koszty operacyjne'!N107","v":0},{"$f":"'Koszty operacyjne'!O107","v":0},{"$f":"'Koszty operacyjne'!P107","v":0},{"$f":"'Koszty operacyjne'!Q107","v":0},{"$f":"'Koszty operacyjne'!R107","v":0},{"$f":"'Koszty operacyjne'!S107","v":0},{"$f":"'Koszty operacyjne'!T107","v":0},{"$f":"'Koszty operacyjne'!U107","v":0},{"$f":"'Koszty operacyjne'!V107","v":0},{"$f":"'Koszty operacyjne'!W107","v":0}]
[null," VIII. Wartość sprzedanych towarów i materiałów",null,null,null,{"$f":"'Sprawozdania finansowe'!C165","v":0},{"$f":"'Sprawozdania finansowe'!D165","v":0},{"$f":"'Sprawozdania finansowe'!E165","v":0},{"$f":"IF(Rok_n=\"\",0,'Sprawozdania finansowe'!F165)","v":0},{"$f":"'Koszty operacyjne'!J108","v":0},{"$f":"'Koszty operacyjne'!K108","v":0},{"$f":"'Koszty operacyjne'!L108","v":0},{"$f":"'Koszty operacyjne'!M108","v":0},{"$f":"'Koszty operacyjne'!N108","v":0},{"$f":"'Koszty operacyjne'!O108","v":0},{"$f":"'Koszty operacyjne'!P108","v":0},{"$f":"'Koszty operacyjne'!Q108","v":0},{"$f":"'Koszty operacyjne'!R108","v":0},{"$f":"'Koszty operacyjne'!S108","v":0},{"$f":"'Koszty operacyjne'!T108","v":0},{"$f":"'Koszty operacyjne'!U108","v":0},{"$f":"'Koszty operacyjne'!V108","v":0},{"$f":"'Koszty operacyjne'!W108","v":0}]
[null,"C. Zysk (strata) ze sprzedaży",null,null,null,{"$f":"F15-F20","v":0},{"$f":"G15-G20","v":0},{"$f":"H15-H20","v":0},{"$f":"I15-I20","v":0},{"$f":"J15-J20","v":0},0,0,0,0,0,0,0,0,0,0,0,0,0]
[null,"D. Pozostałe przychody operacyjne",null,null,null,{"$f":"'Sprawozdania finansowe'!C167","v":0},{"$f":"'Sprawozdania finansowe'!D167","v":0},{"$f":"'Sprawozdania finansowe'!E167","v":0},{"$f":"IF(Rok_n=\"\",0,'Sprawozdania finansowe'!F167)","v":0},{"$f":"Przychody!J120","v":0},{"$f":"Przychody!K120","v":0},{"$f":"Przychody!L120","v":0},{"$f":"Przychody!M120","v":0},{"$f":"Przychody!N120","v":0},{"$f":"Przychody!O120","v":0},{"$f":"Przychody!P120","v":0},{"$f":"Przychody!Q120","v":0},{"$f":"Przychody!R120","v":0},{"$f":"Przychody!S120","v":0},{"$f":"Przychody!T120","v":0},{"$f":"Przychody!U120","v":0},{"$f":"Przychody!V120","v":0},{"$f":"Przychody!W120","v":0}]
[null,"  w tym dotacja",null,null,null,{"$f":"'Sprawozdania finansowe'!C169","v":0},{"$f":"'Sprawozdania finansowe'!D169","v":0},{"$f":"'Sprawozdania finansowe'!E169","v":0},{"$f":"IF(Rok_n=\"\",0,'Sprawozdania finansowe'!F169)","v":0},{"$f":"Przychody!J100","v":0},{"$f":"Przychody!K100","v":0},{"$f":"Przychody!L100","v":0},{"$f":"Przychody!M100","v":0},{"$f":"Przychody!N100","v":0},{"$f":"Przychody!O100","v":0},{"$f":"Przychody!P100","v":0},{"$f":"Przychody!Q100","v":0},{"$f":"Przychody!R100","v":0},{"$f":"Przychody!S100","v":0},{"$f":"Przychody!T100","v":0},{"$f":"Przychody!U100","v":0},{"$f":"Przychody!V100","v":0},{"$f":"Przychody!W100","v":0}]
[null,"E. Pozostałe koszty operacyjne",null,null,null,{"$f":"'Sprawozdania finansowe'!C171","v":0},{"$f":"'Sprawozdania finansowe'!D171","v":0},{"$f":"'Sprawozdania finansowe'!E171","v":0},{"$f":"IF(Rok_n=\"\",0,'Sprawozdania finansowe'!F171)","v":0},{"$f":"'Koszty operacyjne'!J110","v":0},{"$f":"'Koszty operacyjne'!K110","v":0},{"$f":"'Koszty operacyjne'!L110","v":0},{"$f":"'Koszty operacyjne'!M110","v":0},{"$f":"'Koszty operacyjne'!N110","v":0},{"$f":"'Koszty operacyjne'!O110","v":0},{"$f":"'Koszty operacyjne'!P110","v":0},{"$f":"'Koszty operacyjne'!Q110","v":0},{"$f":"'Koszty operacyjne'!R110","v":0},{"$f":"'Koszty operacyjne'!S110","v":0},{"$f":"'Koszty operacyjne'!T110","v":0},{"$f":"'Koszty operacyjne'!U110","v":0},{"$f":"'Koszty operacyjne'!V110","v":0},{"$f":"'Koszty operacyjne'!W110","v":0}]
[null,"F. Zysk (strata) z działalności operacyjnej ","EBIT",null,null,{"$f":"F29+F30-F32","v":0},{"$f":"G29+G30-G32","v":0},{"$f":"H29+H30-H32","v":0},{"$f":"I29+I30-I32","v":0},{"$f":"J29+J30-J32","v":0},0,0,0,0,0,0,0,0,0,0,0,0,0]
[null,"G. Przychody finansowe",null,null,null,{"$f":"'Sprawozdania finansowe'!C176","v":0},{"$f":"'Sprawozdania finansowe'!D176","v":0},{"$f":"'Sprawozdania finansowe'!E176","v":0},{"$f":"IF(Rok_n=\"\",0,'Sprawozdania finansowe'!F176)","v":0},{"$f":"Przychody!J121","v":0},{"$f":"Przychody!K121","v":0},{"$f":"Przychody!L121","v":0},{"$f":"Przychody!M121","v":0},{"$f":"Przychody!N121","v":0},{"$f":"Przychody!O121","v":0},{"$f":"Przychody!P121","v":0},{"$f":"Przychody!Q121","v":0},{"$f":"Przychody!R121","v":0},{"$f":"Przychody!S121","v":0},{"$f":"Przychody!T121","v":0},{"$f":"Przychody!U121","v":0},{"$f":"Przychody!V121","v":0},{"$f":"Przychody!W121","v":0}]
[null,"H. Koszty finansowe",null,null,null,{"$f":"'Sprawozdania finansowe'!C184","v":0},{"$f":"'Sprawozdania finansowe'!D184","v":0},{"$f":"'Sprawozdania finansowe'!E184","v":0},{"$f":"IF(Rok_n=\"\",0,'Sprawozdania finansowe'!F184)","v":0},{"$f":"ROUND('Koszty operacyjne'!J111,0)","v":0},{"$f":"ROUND('Koszty operacyjne'!K111,0)","v":0},{"$f":"ROUND('Koszty operacyjne'!L111,0)","v":0},{"$f":"ROUND('Koszty operacyjne'!M111,0)","v":0},{"$f":"ROUND('Koszty operacyjne'!N111,0)","v":0},{"$f":"ROUND('Koszty operacyjne'!O111,0)","v":0},{"$f":"ROUND('Koszty operacyjne'!P111,0)","v":0},{"$f":"ROUND('Koszty operacyjne'!Q111,0)","v":0},{"$f":"ROUND('Koszty operacyjne'!R111,0)","v":0},{"$f":"ROUND('Koszty operacyjne'!S111,0)","v":0},{"$f":"ROUND('Koszty operacyjne'!T111,0)","v":0},{"$f":"ROUND('Koszty operacyjne'!U111,0)","v":0},{"$f":"ROUND('Koszty operacyjne'!V111,0)","v":0},{"$f":"ROUND('Koszty operacyjne'!W111,0)","v":0}]
[null,"  w tym odsetki","RKFO",null,null,{"$f":"'Sprawozdania finansowe'!C185","v":0},{"$f":"'Sprawozdania finansowe'!D185","v":0},{"$f":"'Sprawozdania finansowe'!E185","v":0},{"$f":"IF(Rok_n=\"\",0,'Sprawozdania finansowe'!F185)","v":0},{"$f":"ROUND('Koszty operacyjne'!J92,0)","v":0},{"$f":"ROUND('Koszty operacyjne'!K92,0)","v":0},{"$f":"ROUND('Koszty operacyjne'!L92,0)","v":0},{"$f":"ROUND('Koszty operacyjne'!M92,0)","v":0},{"$f":"ROUND('Koszty operacyjne'!N92,0)","v":0},{"$f":"ROUND('Koszty operacyjne'!O92,0)","v":0},{"$f":"ROUND('Koszty operacyjne'!P92,0)","v":0},{"$f":"ROUND('Koszty operacyjne'!Q92,0)","v":0},{"$f":"ROUND('Koszty operacyjne'!R92,0)","v":0},{"$f":"ROUND('Koszty operacyjne'!S92,0)","v":0},{"$f":"ROUND('Koszty operacyjne'!T92,0)","v":0},{"$f":"ROUND('Koszty operacyjne'!U92,0)","v":0},{"$f":"ROUND('Koszty operacyjne'!V92,0)","v":0},{"$f":"ROUND('Koszty operacyjne'!W92,0)","v":0}]
[null,"I. Zysk (strata) na działalności gospodarczej",null,null,null,{"$f":"F33+F34-F35","v":0},{"$f":"G33+G34-G35","v":0},{"$f":"H33+H34-H35","v":0},{"$f":"I33+I34-I35","v":0},{"$f":"J33+J34-J35","v":0},0,0,0,0,0,0,0,0,0,0,0,0,0]
[null,"J. Wynik zdarzeń nadzwyczajnych",null,null,null,{"$f":"'Sprawozdania finansowe'!C191","v":0},{"$f":"'Sprawozdania finansowe'!D191","v":0},{"$f":"'Sprawozdania finansowe'!E191","v":0},{"$f":"IF(Rok_n=\"\",0,'Sprawozdania finansowe'!F191)","v":0},0,0,0,0,0,0,0,0,0,0,0,0,0,0]
[null,"K. Zysk (strata) brutto",null,null,null,{"$f":"F37+F38","v":0},{"$f":"G37+G38","v":0},0,0,0,0,0,0,0,0,0,0,0,0,0,0,0,0]
[null,"L. Podatek dochodowy",null,"podatek",null,{"$f":"'Sprawozdania finansowe'!C195","v":0},{"$f":"'Sprawozdania finansowe'!D195","v":0},{"$f":"'Sprawozdania finansowe'!E195","v":0},{"$f":"IF(Rok_n=\"\",0,'Sprawozdania finansowe'!F195)","v":0},{"$f":"IF(J39<=0,0,ROUND(J39*CIT,0))","v":0},0,0,0,0,0,0,0,0,0,0,0,0,0]
[null,"M. Pozostałe obowiązkowe zmniejszenia zysku (zwiększenia straty)",null,"podatek",null,{"$f":"'Sprawozdania finansowe'!C196","v":0},{"$f":"'Sprawozdania finansowe'!D196","v":0},{"$f":"'Sprawozdania finansowe'!E196","v":0},{"$f":"IF(Rok_n=\"\",0,'Sprawozdania finansowe'!F196)","v":0},0,0,0,0,0,0,0,0,0,0,0,0,0,0]
[null,"N. Zysk (strata) netto ",null,null,null,{"$f":"F39-F40-F41","v":0},0,0,0,0,0,0,{"$f":"M39-M40-M41","v":0},0,0,0,0,0,0,0,0,0,0]
[]
[]
[null,"Bilans"]
[null,"Aktywa",null,null,null,{"$f":"LataProjekcji","v":0},0,0,"","Uzupełnij dane","","","","","","","","","","","","",""]
[null,"A. Aktywa trwałe",null,null,null,{"$f":"F48+F53+F62+F63+F64","v":0},{"$f":"G48+G53+G62+G63+G64","v":0},{"$f":"H48+H53+H62+H63+H64","v":0},{"$f":"I48+I53+I62+I63+I64","v":0},{"$f":"J48+J53+J62+J63+J64","v":0},0,0,0,0,0,0,0,0,0,0,0,0,0]
[null," I. Wartości niematerialne i prawne ",null,null,null,{"$f":"SUM(F49:F52)","v":0},{"$f":"SUM(G49:G52)","v":0},{"$f":"SUM(H49:H52)","v":0},{"$f":"SUM(I49:I52)","v":0},{"$f":"SUM(J49:J52)","v":0},{"$f":"SUM(K49:K52)","v":0},0,0,0,0,0,0,0,0,0,0,0,0]
[null,"  1. Koszty zakończonych prac rozwojowych",null,null,null,{"$f":"'Sprawozdania finansowe'!C15","v":0},{"$f":"'Sprawozdania finansowe'!D15","v":0},{"$f":"'Sprawozdania finansowe'!E15","v":0},{"$f":"IF(Rok_n=\"\",0,'Sprawozdania finansowe'!F15)","v":0},{"$f":"'Środki trwałe'!J73","v":0},{"$f":"'Środki trwałe'!K73","v":0},{"$f":"'Środki trwałe'!L73","v":0},{"$f":"'Środki trwałe'!M73","v":0},{"$f":"'Środki trwałe'!N73","v":0},{"$f":"'Środki trwałe'!O73","v":0},{"$f":"'Środki trwałe'!P73","v":0},{"$f":"'Środki trwałe'!Q73","v":0},{"$f":"'Środki trwałe'!R73","v":0},{"$f":"'Środki trwałe'!S73","v":0},{"$f":"'Środki trwałe'!T73","v":0},{"$f":"'Środki trwałe'!U73","v":0},{"$f":"'Środki trwałe'!V73","v":0},{"$f":"'Środki trwałe'!W73","v":0}]
[null,"  2. Wartość firmy",null,null,null,{"$f":"'Sprawozdania finansowe'!C16","v":0},{"$f":"'Sprawozdania finansowe'!D16","v":0},{"$f":"'Sprawozdania finansowe'!E16","v":0},{"$f":"IF(Rok_n=\"\",0,'Sprawozdania finansowe'!F16)","v":0},{"$f":"'Środki trwałe'!J74","v":0},{"$f":"'Środki trwałe'!K74","v":0},{"$f":"'Środki trwałe'!L74","v":0},{"$f":"'Środki trwałe'!M74","v":0},{"$f":"'Środki trwałe'!N74","v":0},{"$f":"'Środki trwałe'!O74","v":0},{"$f":"'Środki trwałe'!P74","v":0},{"$f":"'Środki trwałe'!Q74","v":0},{"$f":"'Środki trwałe'!R74","v":0},{"$f":"'Środki trwałe'!S74","v":0},{"$f":"'Środki trwałe'!T74","v":0},{"$f":"'Środki trwałe'!U74","v":0},{"$f":"'Środki trwałe'!V74","v":0},{"$f":"'Środki trwałe'!W74","v":0}]
[null,"  3. Inne wartości niematerialne i prawne",null,null,null,{"$f":"'Sprawozdania finansowe'!C17","v":0},{"$f":"'Sprawozdania finansowe'!D17","v":0},{"$f":"'Sprawozdania finansowe'!E17","v":0},{"$f":"IF(Rok_n=\"\",0,'Sprawozdania finansowe'!F17)","v":0},{"$f":"'Środki trwałe'!J75","v":0},{"$f":"'Środki trwałe'!K75","v":0},{"$f":"'Środki trwałe'!L75","v":0},{"$f":"'Środki trwałe'!M75","v":0},{"$f":"'Środki trwałe'!N75","v":0},{"$f":"'Środki trwałe'!O75","v":0},{"$f":"'Środki trwałe'!P75","v":0},{"$f":"'Środki trwałe'!Q75","v":0},{"$f":"'Środki trwałe'!R75","v":0},{"$f":"'Środki trwałe'!S75","v":0},{"$f":"'Środki trwałe'!T75","v":0},{"$f":"'Środki trwałe'!U75","v":0},{"$f":"'Środki trwałe'!V75","v":0},{"$f":"'Środki trwałe'!W75","v":0}]
[null,"  4. Zaliczki na wartości niematerialne i prawne",null,null,null,{"$f":"'Sprawozdania finansowe'!C18","v":0},{"$f":"'Sprawozdania finansowe'!D18","v":0},{"$f":"'Sprawozdania finansowe'!E18","v":0},{"$f":"IF(Rok_n=\"\",0,'Sprawozdania finansowe'!F18)","v":0}]
[null," II. Rzeczowe aktywa trwałe ",null,null,null,{"$f":"SUM(F54+F60+F61)","v":0},{"$f":"SUM(G54+G60+G61)","v":0},{"$f":"SUM(H54+H60+H61)","v":0},{"$f":"SUM(I54+I60+I61)","v":0},{"$f":"SUM(J54+J60+J61)","v":0},0,0,0,0,0,0,0,0,0,0,0,0,0]
[null,"  1. Środki trwałe",null,null,null,{"$f":"SUM(F55:F59)","v":0},{"$f":"SUM(G55:G59)","v":0},{"$f":"SUM(H55:H59)","v":0},{"$f":"SUM(I55:I59)","v":0},{"$f":"SUM(J55:J59)","v":0},0,0,0,0,0,0,0,0,0,0,0,0,0]
[null,"   a) grunty (w tym prawo użytkowania wieczystego gruntu) ",null,null,null,{"$f":"'Sprawozdania finansowe'!C21","v":0},{"$f":"'Sprawozdania finansowe'!D21","v":0},{"$f":"'Sprawozdania finansowe'!E21","v":0},{"$f":"IF(Rok_n=\"\",0,'Sprawozdania finansowe'!F21)","v":0},{"$f":"'Środki trwałe'!J77","v":0},{"$f":"'Środki trwałe'!K77","v":0},{"$f":"'Środki trwałe'!L77","v":0},{"$f":"'Środki trwałe'!M77","v":0},{"$f":"'Środki trwałe'!N77","v":0},{"$f":"'Środki trwałe'!O77","v":0},{"$f":"'Środki trwałe'!P77","v":0},{"$f":"'Środki trwałe'!Q77","v":0},{"$f":"'Środki trwałe'!R77","v":0},{"$f":"'Środki trwałe'!S77","v":0},{"$f":"'Środki trwałe'!T77","v":0},{"$f":"'Środki trwałe'!U77","v":0},{"$f":"'Środki trwałe'!V77","v":0},{"$f":"'Środki trwałe'!W77","v":0}]
[null,"   b) budynki i budowle ",null,null,null,{"$f":"'Sprawozdania finansowe'!C22","v":0},{"$f":"'Sprawozdania finansowe'!D22","v":0},{"$f":"'Sprawozdania finansowe'!E22","v":0},{"$f":"IF(Rok_n=\"\",0,'Sprawozdania finansowe'!F22)","v":0},{"$f":"'Środki trwałe'!J78","v":0},{"$f":"'Środki trwałe'!K78","v":0},{"$f":"'Środki trwałe'!L78","v":0},{"$f":"'Środki trwałe'!M78","v":0},{"$f":"'Środki trwałe'!N78","v":0},{"$f":"'Środki trwałe'!O78","v":0},{"$f":"'Środki trwałe'!P78","v":0},{"$f":"'Środki trwałe'!Q78","v":0},{"$f":"'Środki trwałe'!R78","v":0},{"$f":"'Środki trwałe'!S78","v":0},{"$f":"'Środki trwałe'!T78","v":0},{"$f":"'Środki trwałe'!U78","v":0},{"$f":"'Środki trwałe'!V78","v":0},{"$f":"'Środki trwałe'!W78","v":0}]
[null,"   c) urządzenia techniczne i maszyny ",null,null,null,{"$f":"'Sprawozdania finansowe'!C23","v":0},{"$f":"'Sprawozdania finansowe'!D23","v":0},{"$f":"'Sprawozdania finansowe'!E23","v":0},{"$f":"IF(Rok_n=\"\",0,'Sprawozdania finansowe'!F23)","v":0},{"$f":"'Środki trwałe'!J79","v":0},{"$f":"'Środki trwałe'!K79","v":0},{"$f":"'Środki trwałe'!L79","v":0},{"$f":"'Środki trwałe'!M79","v":0},{"$f":"'Środki trwałe'!N79","v":0},{"$f":"'Środki trwałe'!O79","v":0},{"$f":"'Środki trwałe'!P79","v":0},{"$f":"'Środki trwałe'!Q79","v":0},{"$f":"'Środki trwałe'!R79","v":0},{"$f":"'Środki trwałe'!S79","v":0},{"$f":"'Środki trwałe'!T79","v":0},{"$f":"'Środki trwałe'!U79","v":0},{"$f":"'Środki trwałe'!V79","v":0},{"$f":"'Środki trwałe'!W79","v":0}]
[null,"   d) środki transportu ",null,null,null,{"$f":"'Sprawozdania finansowe'!C24","v":0},{"$f":"'Sprawozdania finansowe'!D24","v":0},{"$f":"'Sprawozdania finansowe'!E24","v":0},{"$f":"IF(Rok_n=\"\",0,'Sprawozdania finansowe'!F24)","v":0},{"$f":"'Środki trwałe'!J80","v":0},{"$f":"'Środki trwałe'!K80","v":0},{"$f":"'Środki trwałe'!L80","v":0},{"$f":"'Środki trwałe'!M80","v":0},{"$f":"'Środki trwałe'!N80","v":0},{"$f":"'Środki trwałe'!O80","v":0},{"$f":"'Środki trwałe'!P80","v":0},{"$f":"'Środki trwałe'!Q80","v":0},{"$f":"'Środki trwałe'!R80","v":0},{"$f":"'Środki trwałe'!S80","v":0},{"$f":"'Środki trwałe'!T80","v":0},{"$f":"'Środki trwałe'!U80","v":0},{"$f":"'Środki trwałe'!V80","v":0},{"$f":"'Środki trwałe'!W80","v":0}]
[null,"   e) inne środki trwałe ",null,null,null,{"$f":"'Sprawozdania finansowe'!C25","v":0},{"$f":"'Sprawozdania finansowe'!D25","v":0},{"$f":"'Sprawozdania finansowe'!E25","v":0},{"$f":"IF(Rok_n=\"\",0,'Sprawozdania finansowe'!F25)","v":0},{"$f":"'Środki trwałe'!J81","v":0},{"$f":"'Środki trwałe'!K81","v":0},{"$f":"'Środki trwałe'!L81","v":0},{"$f":"'Środki trwałe'!M81","v":0},{"$f":"'Środki trwałe'!N81","v":0},{"$f":"'Środki trwałe'!O81","v":0},{"$f":"'Środki trwałe'!P81","v":0},{"$f":"'Środki trwałe'!Q81","v":0},{"$f":"'Środki trwałe'!R81","v":0},{"$f":"'Środki trwałe'!S81","v":0},{"$f":"'Środki trwałe'!T81","v":0},{"$f":"'Środki trwałe'!U81","v":0},{"$f":"'Środki trwałe'!V81","v":0},{"$f":"'Środki trwałe'!W81","v":0}]
[null,"  2. Środki trwałe w budowie",null,null,null,{"$f":"'Sprawozdania finansowe'!C26","v":0},{"$f":"'Sprawozdania finansowe'!D26","v":0},{"$f":"'Sprawozdania finansowe'!E26","v":0},{"$f":"IF(Rok_n=\"\",0,'Sprawozdania finansowe'!F26)","v":0}]
[null,"  3. Zaliczki na środki trwałe w budowie",null,null,null,{"$f":"'Sprawozdania finansowe'!C27","v":0},{"$f":"'Sprawozdania finansowe'!D27","v":0},{"$f":"'Sprawozdania finansowe'!E27","v":0},{"$f":"IF(Rok_n=\"\",0,'Sprawozdania finansowe'!F27)","v":0}]
[null," III. Należności długoterminowe",null,null,null,{"$f":"'Sprawozdania finansowe'!C28","v":0},{"$f":"'Sprawozdania finansowe'!D28","v":0},{"$f":"'Sprawozdania finansowe'!E28","v":0},{"$f":"IF(Rok_n=\"\",0,'Sprawozdania finansowe'!F28)","v":0}]
[null," IV. Inwestycje długoterminowe",null,null,null,{"$f":"'Sprawozdania finansowe'!C31","v":0},{"$f":"'Sprawozdania finansowe'!D31","v":0},{"$f":"'Sprawozdania finansowe'!E31","v":0},{"$f":"IF(Rok_n=\"\",0,'Sprawozdania finansowe'!F31)","v":0}]
[null," V. Długoterminowe rozliczenia międzyokresowe",null,null,null,{"$f":"'Sprawozdania finansowe'!C46","v":0},{"$f":"'Sprawozdania finansowe'!D46","v":0},{"$f":"'Sprawozdania finansowe'!E46","v":0},{"$f":"IF(Rok_n=\"\",0,'Sprawozdania finansowe'!F46)","v":0}]
[null,"B. Aktywa obrotowe","BAO",null,null,{"$f":"F66+F67+F69+F72","v":0},{"$f":"G66+G67+G69+G72","v":0},{"$f":"H66+H67+H69+H72","v":0},{"$f":"I66+I67+I69+I72","v":0},{"$f":"J66+J67+J69+J72","v":0},0,0,0,0,0,0,0,0,0,0,0,0,0]
[null," I. Zapasy ","BAOZ",null,null,{"$f":"'Sprawozdania finansowe'!C50","v":0},{"$f":"'Sprawozdania finansowe'!D50","v":0},{"$f":"'Sprawozdania finansowe'!E50","v":0},{"$f":"IF(Rok_n=\"\",0,'Sprawozdania finansowe'!F50)","v":0},{"$f":"'Kapitał pracujący'!J26","v":0},{"$f":"'Kapitał pracujący'!K26","v":0},{"$f":"'Kapitał pracujący'!L26","v":0},{"$f":"'Kapitał pracujący'!M26","v":0},{"$f":"'Kapitał pracujący'!N26","v":0},{"$f":"'Kapitał pracujący'!O26","v":0},{"$f":"'Kapitał pracujący'!P26","v":0},{"$f":"'Kapitał pracujący'!Q26","v":0},{"$f":"'Kapitał pracujący'!R26","v":0},{"$f":"'Kapitał pracujący'!S26","v":0},{"$f":"'Kapitał pracujący'!T26","v":0},{"$f":"'Kapitał pracujący'!U26","v":0},{"$f":"'Kapitał pracujący'!V26","v":0},{"$f":"'Kapitał pracujący'!W26","v":0}]
[null," II. Należności krótkoterminowe ",null,null,null,{"$f":"'Sprawozdania finansowe'!C56","v":0},{"$f":"'Sprawozdania finansowe'!D56","v":0},{"$f":"'Sprawozdania finansowe'!E56","v":0},{"$f":"IF(Rok_n=\"\",0,'Sprawozdania finansowe'!F56)","v":0},{"$f":"J68","v":0},{"$f":"K68","v":0},0,0,0,0,0,0,0,0,0,0,0,0]
[null,"  1. należności z tytułu dostaw i usług","BAONDU",null,null,{"$f":"'Sprawozdania finansowe'!C64","v":0},{"$f":"'Sprawozdania finansowe'!D64","v":0},{"$f":"'Sprawozdania finansowe'!E64","v":0},{"$f":"IF(Rok_n=\"\",0,'Sprawozdania finansowe'!F64)","v":0},{"$f":"'Kapitał pracujący'!J41","v":0},{"$f":"'Kapitał pracujący'!K41","v":0},{"$f":"'Kapitał pracujący'!L41","v":0},{"$f":"'Kapitał pracujący'!M41","v":0},{"$f":"'Kapitał pracujący'!N41","v":0},{"$f":"'Kapitał pracujący'!O41","v":0},{"$f":"'Kapitał pracujący'!P41","v":0},{"$f":"'Kapitał pracujący'!Q41","v":0},{"$f":"'Kapitał pracujący'!R41","v":0},{"$f":"'Kapitał pracujący'!S41","v":0},{"$f":"'Kapitał pracujący'!T41","v":0},{"$f":"'Kapitał pracujący'!U41","v":0},{"$f":"'Kapitał pracujący'!V41","v":0},{"$f":"'Kapitał pracujący'!W41","v":0}]
[null," III. Inwestycje krótkoterminowe",null,null,null,{"$f":"F70+F71","v":0},{"$f":"G70+G71","v":0},{"$f":"H70+H71","v":0},{"$f":"I70+I71","v":0},{"$f":"J70+J71","v":0},0,0,0,0,0,0,0,0,0,0,0,0,0]
[null,"  1. środki pieniężne",null,null,null,{"$f":"'Sprawozdania finansowe'!C81","v":0},{"$f":"'Sprawozdania finansowe'!D81","v":0},{"$f":"'Sprawozdania finansowe'!E81","v":0},{"$f":"IF(Rok_n=\"\",0,'Sprawozdania finansowe'!F81)","v":0},{"$f":"J123-J71","v":0},0,0,0,0,0,0,0,0,0,0,0,0,0]
[null,"  2. pozostałe inwestycje krótkoterminowe",null,null,null,{"$f":"'Sprawozdania finansowe'!C69-'Sprawozdania finansowe'!C81","v":0},{"$f":"'Sprawozdania finansowe'!D69-'Sprawozdania finansowe'!D81","v":0},{"$f":"'Sprawozdania finansowe'!E69-'Sprawozdania finansowe'!E81","v":0},{"$f":"IF(Rok_n=\"\",0,'Sprawozdania finansowe'!F69-'Sprawozdania finansowe'!F81)","v":0},{"$f":"Finansowanie!J37","v":0},{"$f":"Finansowanie!K37","v":0},{"$f":"Finansowanie!L37","v":0},{"$f":"Finansowanie!M37","v":0},{"$f":"Finansowanie!N37","v":0},{"$f":"Finansowanie!O37","v":0},{"$f":"Finansowanie!P37","v":0},{"$f":"Finansowanie!Q37","v":0},{"$f":"Finansowanie!R37","v":0},{"$f":"Finansowanie!S37","v":0},{"$f":"Finansowanie!T37","v":0},{"$f":"Finansowanie!U37","v":0},{"$f":"Finansowanie!V37","v":0},{"$f":"Finansowanie!W37","v":0}]
[null,"IV. Krótkoterminowe rozliczenia międzyokresowe",null,null,null,{"$f":"'Sprawozdania finansowe'!C86","v":0},{"$f":"'Sprawozdania finansowe'!D86","v":0},{"$f":"'Sprawozdania finansowe'!E86","v":0},{"$f":"IF(Rok_n=\"\",0,'Sprawozdania finansowe'!F86)","v":0}]
[null,"Aktywa razem",null,null,null,{"$f":"F65+F47","v":0},{"$f":"G65+G47","v":0},{"$f":"H65+H47","v":0},{"$f":"I65+I47","v":0},{"$f":"J65+J47","v":0},0,0,0,0,0,0,0,0,0,0,0,0,0]
[]
[null,"Pasywa ",null,null,null,{"$f":"LataProjekcji","v":0},0,0,"","Uzupełnij dane","","","","","","","","","","","","",""]
[null,"C. Kapitał własny","BKW",null,null,{"$f":"SUM(F77:F81)","v":0},{"$f":"SUM(G77:G81)","v":0},{"$f":"SUM(H77:H81)","v":0},{"$f":"SUM(I77:I81)","v":0},{"$f":"SUM(J77:J81)","v":0},0,0,0,0,0,0,0,0,0,0,0,0,0]
[null," I. Kapitał podstawowy",null,null,null,{"$f":"'Sprawozdania finansowe'!C95","v":0},{"$f":"'Sprawozdania finansowe'!D95","v":0},{"$f":"'Sprawozdania finansowe'!E95","v":0},{"$f":"IF(Rok_n=\"\",0,'Sprawozdania finansowe'!F95)","v":0},{"$f":"Finansowanie!J17","v":0},{"$f":"Finansowanie!K17","v":0},{"$f":"Finansowanie!L17","v":0},{"$f":"Finansowanie!M17","v":0},{"$f":"Finansowanie!N17","v":0},{"$f":"Finansowanie!O17","v":0},{"$f":"Finansowanie!P17","v":0},{"$f":"Finansowanie!Q17","v":0},{"$f":"Finansowanie!R17","v":0},{"$f":"Finansowanie!S17","v":0},{"$f":"Finansowanie!T17","v":0},{"$f":"Finansowanie!U17","v":0},{"$f":"Finansowanie!V17","v":0},{"$f":"Finansowanie!W17","v":0}]
[null," Ia. Środki własne na finansowanie Projektu",null,null,null,null,null,null,null,{"$f":"-Finansowanie!J81","v":0},{"$f":"-Finansowanie!K81","v":0},{"$f":"-Finansowanie!L81","v":0},{"$f":"-Finansowanie!M81","v":0},{"$f":"-Finansowanie!N81","v":0},{"$f":"-Finansowanie!O81","v":0},{"$f":"-Finansowanie!P81","v":0},{"$f":"-Finansowanie!Q81","v":0},{"$f":"-Finansowanie!R81","v":0},{"$f":"-Finansowanie!S81","v":0},{"$f":"-Finansowanie!T81","v":0},{"$f":"-Finansowanie!U81","v":0},{"$f":"-Finansowanie!V81","v":0},{"$f":"-Finansowanie!W81","v":0}]
[null," II. Pozostały kapitał (zapasowy + rezerwowy+z aktualizacji wyceny)",null,null,null,{"$f":"'Sprawozdania finansowe'!C96+'Sprawozdania finansowe'!C97+'Sprawozdania finansowe'!C98+'Sprawozdania finansowe'!C99+'Sprawozdania finansowe'!C100+'Sprawozdania finansowe'!C103","v":0},{"$f":"'Sprawozdania finansowe'!D96+'Sprawozdania finansowe'!D97+'Sprawozdania finansowe'!D98+'Sprawozdania finansowe'!D99+'Sprawozdania finansowe'!D100+'Sprawozdania finansowe'!D103","v":0},{"$f":"'Sprawozdania finansowe'!E96+'Sprawozdania finansowe'!E97+'Sprawozdania finansowe'!E98+'Sprawozdania finansowe'!E99+'Sprawozdania finansowe'!E100+'Sprawozdania finansowe'!E103","v":0},{"$f":"IF(Rok_n=\"\",0,'Sprawozdania finansowe'!F96+'Sprawozdania finansowe'!F97+'Sprawozdania finansowe'!F98+'Sprawozdania finansowe'!F99+'Sprawozdania finansowe'!F100+'Sprawozdania finansowe'!F103)","v":0},{"$f":"IF(Rok_n=\"\",H79,I79)","v":0},{"$f":"J79","v":0},0,0,0,0,0,0,0,0,0,0,0,0]
[null," III. Zysk (strata) z okresów poprzednich",null,null,null,{"$f":"'Sprawozdania finansowe'!C101","v":0},{"$f":"'Sprawozdania finansowe'!D101","v":0},{"$f":"'Sprawozdania finansowe'!E101","v":0},{"$f":"IF(Rok_n=\"\",0,'Sprawozdania finansowe'!F101)","v":0},{"$f":"Finansowanie!J23","v":0},{"$f":"Finansowanie!K23","v":0},{"$f":"Finansowanie!L23","v":0},{"$f":"Finansowanie!M23","v":0},{"$f":"Finansowanie!N23","v":0},{"$f":"Finansowanie!O23","v":0},{"$f":"Finansowanie!P23","v":0},{"$f":"Finansowanie!Q23","v":0},{"$f":"Finansowanie!R23","v":0},{"$f":"Finansowanie!S23","v":0},{"$f":"Finansowanie!T23","v":0},{"$f":"Finansowanie!U23","v":0},{"$f":"Finansowanie!V23","v":0},{"$f":"Finansowanie!W23","v":0}]
[null," IV. Zysk (strata) netto",null,null,null,{"$f":"F42","v":0},{"$f":"G42","v":0},{"$f":"H42","v":0},{"$f":"I42","v":0},{"$f":"J42","v":0},{"$f":"K42","v":0},0,0,0,0,0,0,0,0,0,0,0,0]
[null,"B. Zobowiązania i rezerwy na zobowiązania ","BZIR",null,null,{"$f":"F83+F84+F87+F91","v":0},0,0,0,0,0,0,0,0,0,0,0,0,0,0,0,0,0]
[null," I. Rezerwy na zobowiązania ",null,null,null,{"$f":"'Sprawozdania finansowe'!C105","v":0},{"$f":"'Sprawozdania finansowe'!D105","v":0},{"$f":"'Sprawozdania finansowe'!E105","v":0},{"$f":"IF(Rok_n=\"\",0,'Sprawozdania finansowe'!F105)","v":0}]
[null," II. Zobowiązania długoterminowe ",null,null,null,{"$f":"SUM(F85:F86)","v":0},{"$f":"SUM(G85:G86)","v":0},{"$f":"SUM(H85:H86)","v":0},{"$f":"SUM(I85:I86)","v":0},{"$f":"SUM(J85:J86)","v":0},0,0,0,0,0,0,0,0,0,0,0,0,0]
[null,"  1. Kredyty i pożyczki",null,null,null,{"$f":"'Sprawozdania finansowe'!C116","v":0},{"$f":"'Sprawozdania finansowe'!D116","v":0},{"$f":"'Sprawozdania finansowe'!E116","v":0},{"$f":"IF(Rok_n=\"\",0,'Sprawozdania finansowe'!F116)","v":0},{"$f":"IF((Finansowanie!J46+Finansowanie!J55-Finansowanie!K44-Finansowanie!K53)<0,0,Finansowanie!J46+Finansowanie!J55-Finansowanie!K44-Finansowanie!K53)","v":0},{"$f":"IF((Finansowanie!K46+Finansowanie!K55-Finansowanie!L44-Finansowanie!L53)<0,0,Finansowanie!K46+Finansowanie!K55-Finansowanie!L44-Finansowanie!L53)","v":0},{"$f":"IF((Finansowanie!L46+Finansowanie!L55-Finansowanie!M44-Finansowanie!M53)<0,0,Finansowanie!L46+Finansowanie!L55-Finansowanie!M44-Finansowanie!M53)","v":0},{"$f":"IF((Finansowanie!M46+Finansowanie!M55-Finansowanie!N44-Finansowanie!N53)<0,0,Finansowanie!M46+Finansowanie!M55-Finansowanie!N44-Finansowanie!N53)","v":0},{"$f":"IF((Finansowanie!N46+Finansowanie!N55-Finansowanie!O44-Finansowanie!O53)<0,0,Finansowanie!N46+Finansowanie!N55-Finansowanie!O44-Finansowanie!O53)","v":0},{"$f":"IF((Finansowanie!O46+Finansowanie!O55-Finansowanie!P44-Finansowanie!P53)<0,0,Finansowanie!O46+Finansowanie!O55-Finansowanie!P44-Finansowanie!P53)","v":0},{"$f":"IF((Finansowanie!P46+Finansowanie!P55-Finansowanie!Q44-Finansowanie!Q53)<0,0,Finansowanie!P46+Finansowanie!P55-Finansowanie!Q44-Finansowanie!Q53)","v":0},{"$f":"IF((Finansowanie!Q46+Finansowanie!Q55-Finansowanie!R44-Finansowanie!R53)<0,0,Finansowanie!Q46+Finansowanie!Q55-Finansowanie!R44-Finansowanie!R53)","v":0},{"$f":"IF((Finansowanie!R46+Finansowanie!R55-Finansowanie!S44-Finansowanie!S53)<0,0,Finansowanie!R46+Finansowanie!R55-Finansowanie!S44-Finansowanie!S53)","v":0},{"$f":"IF((Finansowanie!S46+Finansowanie!S55-Finansowanie!T44-Finansowanie!T53)<0,0,Finansowanie!S46+Finansowanie!S55-Finansowanie!T44-Finansowanie!T53)","v":0},{"$f":"IF((Finansowanie!T46+Finansowanie!T55-Finansowanie!U44-Finansowanie!U53)<0,0,Finansowanie!T46+Finansowanie!T55-Finansowanie!U44-Finansowanie!U53)","v":0},{"$f":"IF((Finansowanie!U46+Finansowanie!U55-Finansowanie!V44-Finansowanie!V53)<0,0,Finansowanie!U46+Finansowanie!U55-Finansowanie!V44-Finansowanie!V53)","v":0},{"$f":"IF((Finansowanie!V46+Finansowanie!V55-Finansowanie!W44-Finansowanie!W53)<0,0,Finansowanie!V46+Finansowanie!V55-Finansowanie!W44-Finansowanie!W53)","v":0},{"$f":"IF((Finansowanie!W46+Finansowanie!W55-Finansowanie!X44-Finansowanie!X53)<0,0,Finansowanie!W46+Finansowanie!W55-Finansowanie!X44-Finansowanie!X53)","v":0}]
[null,"  2. Pozostałe",null,null,null,{"$f":"'Sprawozdania finansowe'!C113-'Sprawozdania finansowe'!C116","v":0},{"$f":"'Sprawozdania finansowe'!D113-'Sprawozdania finansowe'!D116","v":0},{"$f":"'Sprawozdania finansowe'!E113-'Sprawozdania finansowe'!E116","v":0},{"$f":"IF(Rok_n=\"\",0,'Sprawozdania finansowe'!F113-'Sprawozdania finansowe'!F116)","v":0}]
[null," III. Zobowiązania krótkoterminowe ",null,null,null,{"$f":"'Sprawozdania finansowe'!C120","v":0},{"$f":"'Sprawozdania finansowe'!D120","v":0},{"$f":"'Sprawozdania finansowe'!E120","v":0},{"$f":"IF(Rok_n=\"\",0,'Sprawozdania finansowe'!F120)","v":0},{"$f":"SUM(J88:J90)","v":0},0,0,0,0,0,0,0,0,0,0,0,0,0]
[null,"  1. Z tytułu dostaw i usług","BZKDU",null,null,{"$f":"'Sprawozdania finansowe'!C122+'Sprawozdania finansowe'!C130","v":0},{"$f":"'Sprawozdania finansowe'!D122+'Sprawozdania finansowe'!D130","v":0},{"$f":"'Sprawozdania finansowe'!E122+'Sprawozdania finansowe'!E130","v":0},{"$f":"IF(Rok_n=\"\",0,'Sprawozdania finansowe'!F122+'Sprawozdania finansowe'!F130)","v":0},{"$f":"'Kapitał pracujący'!J56","v":0},{"$f":"'Kapitał pracujący'!K56","v":0},{"$f":"'Kapitał pracujący'!L56","v":0},{"$f":"'Kapitał pracujący'!M56","v":0},{"$f":"'Kapitał pracujący'!N56","v":0},{"$f":"'Kapitał pracujący'!O56","v":0},{"$f":"'Kapitał pracujący'!P56","v":0},{"$f":"'Kapitał pracujący'!Q56","v":0},{"$f":"'Kapitał pracujący'!R56","v":0},{"$f":"'Kapitał pracujący'!S56","v":0},{"$f":"'Kapitał pracujący'!T56","v":0},{"$f":"'Kapitał pracujący'!U56","v":0},{"$f":"'Kapitał pracujący'!V56","v":0},{"$f":"'Kapitał pracujący'!W56","v":0}]
[null,"  2. Kredyty i pożyczki",null,null,null,{"$f":"'Sprawozdania finansowe'!C127","v":0},{"$f":"'Sprawozdania finansowe'!D127","v":0},{"$f":"'Sprawozdania finansowe'!E127","v":0},{"$f":"IF(Rok_n=\"\",0,'Sprawozdania finansowe'!F127)","v":0},{"$f":"IF(Finansowanie!J64<0,0,Finansowanie!J64)","v":0},{"$f":"IF(Finansowanie!K64<0,0,Finansowanie!K64)","v":0},{"$f":"IF(Finansowanie!L64<0,0,Finansowanie!L64)","v":0},{"$f":"IF(Finansowanie!M64<0,0,Finansowanie!M64)","v":0},{"$f":"IF(Finansowanie!N64<0,0,Finansowanie!N64)","v":0},{"$f":"IF(Finansowanie!O64<0,0,Finansowanie!O64)","v":0},{"$f":"IF(Finansowanie!P64<0,0,Finansowanie!P64)","v":0},{"$f":"IF(Finansowanie!Q64<0,0,Finansowanie!Q64)","v":0},{"$f":"IF(Finansowanie!R64<0,0,Finansowanie!R64)","v":0},{"$f":"IF(Finansowanie!S64<0,0,Finansowanie!S64)","v":0},{"$f":"IF(Finansowanie!T64<0,0,Finansowanie!T64)","v":0},{"$f":"IF(Finansowanie!U64<0,0,Finansowanie!U64)","v":0},{"$f":"IF(Finansowanie!V64<0,0,Finansowanie!V64)","v":0},{"$f":"IF(Finansowanie!W64<0,0,Finansowanie!W64)","v":0}]
[null,"  3. Pozostałe",null,null,null,{"$f":"'Sprawozdania finansowe'!C120-F88-F89","v":0},{"$f":"'Sprawozdania finansowe'!D120-G88-G89","v":0},{"$f":"'Sprawozdania finansowe'!E120-H88-H89","v":0},{"$f":"IF(Rok_n=\"\",0,'Sprawozdania finansowe'!F120-I88-I89)","v":0}]
[null," IV. Rozliczenia międzyokresowe",null,null,null,{"$f":"F92+F93","v":0},{"$f":"G92+G93","v":0},{"$f":"H92+H93","v":0},{"$f":"I92+I93","v":0},{"$f":"J92+J93","v":0},0,0,0,0,0,0,0,0,0,0,0,0,0]
[null,"  1. Dotacje",null,null,null,{"$f":"'Sprawozdania finansowe'!C141","v":0},{"$f":"'Sprawozdania finansowe'!D141","v":0},{"$f":"'Sprawozdania finansowe'!E141","v":0},{"$f":"IF(Rok_n=\"\",0,'Sprawozdania finansowe'!F141)","v":0},{"$f":"'Rozliczenie dotacji'!J22","v":0},{"$f":"'Rozliczenie dotacji'!K22","v":0},{"$f":"'Rozliczenie dotacji'!L22","v":0},{"$f":"'Rozliczenie dotacji'!M22","v":0},{"$f":"'Rozliczenie dotacji'!N22","v":0},{"$f":"'Rozliczenie dotacji'!O22","v":0},{"$f":"'Rozliczenie dotacji'!P22","v":0},{"$f":"'Rozliczenie dotacji'!Q22","v":0},{"$f":"'Rozliczenie dotacji'!R22","v":0},{"$f":"'Rozliczenie dotacji'!S22","v":0},{"$f":"'Rozliczenie dotacji'!T22","v":0},{"$f":"'Rozliczenie dotacji'!U22","v":0},{"$f":"'Rozliczenie dotacji'!V22","v":0},{"$f":"'Rozliczenie dotacji'!W22","v":0}]
[null,"  2. Pozostałe",null,null,null,{"$f":"'Sprawozdania finansowe'!C140","v":0},{"$f":"'Sprawozdania finansowe'!D140","v":0},{"$f":"'Sprawozdania finansowe'!E140","v":0},{"$f":"IF(Rok_n=\"\",0,'Sprawozdania finansowe'!F140)","v":0}]
[null,"Pasywa razem",null,null,null,{"$f":"F82+F76","v":0},0,0,0,0,0,0,0,0,0,0,0,0,0,0,0,0,0]
[null,"sprawdzenie",null,null,null,{"$f":"F94=F73","v":true},true,true,true,true,true,true,true,true,true,true,true,true,true,true,true,true,true]
[null,null,null,null,null,{"$f":"F73-F94","v":0},{"$f":"G73-G94","v":0},{"$f":"H73-H94","v":0},{"$f":"I73-I94","v":0},{"$f":"J73-J94","v":0},0,0,0,0,0,0,0,0,0,0,0,0,0]
[]
[null,"Rachunek przepływów pieniężnych",null,null,null,{"$f":"LataProjekcji","v":0},0,0,"","Uzupełnij dane","","","","","","","","","","","","",""]
[null,"I. Przepływy środków pieniężnych z działalności operacyjnej",null,null,null,{"$f":"ROUND(SUM(F100:F106),0)","v":0},{"$f":"ROUND(SUM(G100:G106),0)","v":0},{"$f":"ROUND(SUM(H100:H106),0)","v":0},{"$f":"ROUND(SUM(I100:I106),0)","v":0},{"$f":"ROUND(SUM(J100:J106),0)","v":0},{"$f":"ROUND(SUM(K100:K106),0)","v":0},0,0,0,0,0,0,0,0,0,0,0,0]
[null,"  1. Zysk (strata) netto ",null,null,null,{"$f":"F42","v":0},0,0,{"$f":"IF(Rok_n=\"\",0,I42)","v":0},0,0,0,0,0,0,0,0,0,0,0,0,0,0]
[null,"  2. Amortyzacja ",null,null,null,{"$f":"F21","v":0},0,0,{"$f":"IF(Rok_n=\"\",0,I21)","v":0},0,0,0,0,0,0,0,0,0,0,0,0,0,0]
[null,"  3. Zmiana stanu zapasów ",null,null,null,{"$f":"E66-F66","v":0},{"$f":"F66-G66","v":0},0,{"$f":"IF(Rok_n=\"\",0,H66-I66)","v":0},{"$f":"IF(Założenia!$I$30=12,I66-J66,H66-J66)","v":0},0,0,0,0,0,0,0,0,0,0,0,0,0]
[null,"  4. Zmiana stanu należności ",null,null,null,{"$f":"E67-F67","v":0},{"$f":"F67-G67","v":0},0,{"$f":"IF(Rok_n=\"\",0,H67-I67)","v":0},{"$f":"IF(Założenia!$I$30=12,I67-J67,H67-J67)","v":0},0,0,0,0,0,0,0,0,0,0,0,0,0]
[null,"  5. Zmiana stanu zobowiązań krótkoterminowych, z wyjątkiem pożyczek i kredytów ",null,null,null,{"$f":"(F87-E87)-(F89-E89)","v":0},{"$f":"(G87-F87)-(G89-F89)","v":0},{"$f":"(H87-G87)-(H89-G89)","v":0},{"$f":"IF(Rok_n=\"\",0,(I87-H87)-(I89-H89))","v":0},{"$f":"IF(Założenia!$I$30=12,(J87-I87)-(J89-I89),(J87-H87)-(J89-H89))","v":0},{"$f":"(K87-J87)-(K89-J89)","v":0},{"$f":"(L87-K87)-(L89-K89)","v":0},0,0,0,0,0,0,0,0,0,0,0]
[null,"  6. Zmiana stanu rozliczeń międzyokresowych",null,null,null,{"$f":"(E64-F64)+(E72-F72)+(F91-E91)-F117","v":0},{"$f":"(F64-G64)+(F72-G72)+(G91-F91)-G117","v":0},{"$f":"(G64-H64)+(G72-H72)+(H91-G91)-H117","v":0},{"$f":"IF(Rok_n=\"\",0,(H64-I64)+(H72-I72)+(I91-H91)-I117)","v":0},{"$f":"IF(Założenia!$I$30=12,(I64-J64)+(I72-J72)+(J91-I91)-J117,(H64-J64)+(H72-J72)+(J91-H91)-J117)","v":0},{"$f":"(J64-K64)+(J72-K72)+(K91-J91)-K117","v":0},0,0,0,0,0,0,0,0,0,0,0,0]
[null,"  7. Inne korekty ",null,null,null,0,0,0,0,0,0,0,0,0,0,0,0,0,0,0,0,0,0]
[]
[null,"II. Przepływy środków pieniężnych z działalności inwestycyjnej",null,null,null,{"$f":"ROUND(SUM(F109:F110),0)","v":0},{"$f":"ROUND(SUM(G109:G110),0)","v":0},{"$f":"ROUND(SUM(H109:H110),0)","v":0},{"$f":"ROUND(SUM(I109:I110),0)","v":0},{"$f":"ROUND(SUM(J109:J110),0)","v":0},{"$f":"ROUND(SUM(K109:K110),0)","v":0},0,0,0,0,0,0,0,0,0,0,0,0]
[null,"  1. Rzeczowe aktywa trwałe i WNiP",null,null,null,{"$f":"(E48+E53)-(F48+F53)-F21","v":0},{"$f":"(F48+F53)-(G48+G53)-G21","v":0},{"$f":"(G48+G53)-(H48+H53)-H21","v":0},{"$f":"IF(Rok_n=\"\",0,(H48+H53)-(I48+I53)-I21)","v":0},{"$f":"IF(Założenia!$I$30=12,(I48+I53)-(J48+J53)-J21,(H48+H53)-(J48+J53)-J21)","v":0},{"$f":"(J48+J53)-(K48+K53)-K21","v":0},{"$f":"(K48+K53)-(L48+L53)-L21","v":0},0,0,0,0,0,0,0,0,0,0,0]
[null,"  2. Pozostałe aktywa trwałe ",null,null,null,{"$f":"(E62+E63)-(F62+F63)","v":0},{"$f":"(F62+F63)-(G62+G63)","v":0},{"$f":"(G62+G63)-(H62+H63)","v":0},{"$f":"IF(Rok_n=\"\",0,(H62+H63)-(I62+I63))","v":0},{"$f":"IF(Założenia!$I$30=12,(I62+I63)-(J62+J63),(H62+H63)-(J62+J63))","v":0},{"$f":"(J62+J63)-(K62+K63)","v":0},{"$f":"(K62+K63)-(L62+L63)","v":0},0,0,0,0,0,0,0,0,0,0,0]
[]
[null,"III. Przepływy środków pieniężnych z działalności finansowej",null,null,null,{"$f":"ROUND(F118+F117+F116+F115+F114+F113,0)","v":0},0,0,0,{"$f":"ROUND(J118+J117+J116+J115+J114+J113+J119,0)","v":0},{"$f":"ROUND(K118+K117+K116+K115+K114+K113+K119,0)","v":0},0,0,0,0,0,0,0,0,0,0,0,0]
[null,"  1. Kredyty i pożyczki krótkoterminowe ",null,null,null,{"$f":"(F89-E89)","v":0},{"$f":"(G89-F89)","v":0},{"$f":"(H89-G89)","v":0},{"$f":"IF(Rok_n=\"\",0,(I89-H89))","v":0},{"$f":"IF(Założenia!$I$30=12,(J89-I89),(J89-H89))","v":0},{"$f":"(K89-J89)","v":0},{"$f":"(L89-K89)","v":0},0,0,0,0,0,0,0,0,0,0,0]
[null,"  2. Kredyty i pożyczki długoterminowe",null,null,null,{"$f":"F85","v":0},{"$f":"G85-F85","v":0},{"$f":"H85-G85","v":0},{"$f":"IF(Rok_n=\"\",0,I85-H85)","v":0},{"$f":"IF(Założenia!$I$30=12,J85-I85,J85-H85)","v":0},{"$f":"K85-J85","v":0},0,0,0,0,0,0,0,0,0,0,0,0]
[null,"  3. Dywidendy",null,null,null,null,{"$f":"IF((SUM('Sprawozdania finansowe'!D95:D101,'Sprawozdania finansowe'!D103)-SUM('Sprawozdania finansowe'!C95:C103))<0,(SUM('Sprawozdania finansowe'!D95:D101,'Sprawozdania finansowe'!D103)-SUM('Sprawozdania finansowe'!C95:C103)),0)","v":0},{"$f":"IF((SUM('Sprawozdania finansowe'!E95:E101,'Sprawozdania finansowe'!E103)-SUM('Sprawozdania finansowe'!D95:D103))<0,(SUM('Sprawozdania finansowe'!E95:E101,'Sprawozdania finansowe'!E103)-SUM('Sprawozdania finansowe'!D95:D103)),0)","v":0},{"$f":"IF(Rok_n=\"\",0,IF((SUM('Sprawozdania finansowe'!F95:F101,'Sprawozdania finansowe'!F103)-SUM('Sprawozdania finansowe'!E95:E103))<0,(SUM('Sprawozdania finansowe'!F95:F101,'Sprawozdania finansowe'!F103)-SUM('Sprawozdania finansowe'!E95:E103)),0))","v":0},{"$f":"IF(Rok_n=\"\",-Finansowanie!J22,IF(Założenia!I30=12,-Finansowanie!J22,I115-Finansowanie!J22))","v":0},{"$f":"-Finansowanie!K22","v":0},{"$f":"-Finansowanie!L22","v":0},{"$f":"-Finansowanie!M22","v":0},{"$f":"-Finansowanie!N22","v":0},{"$f":"-Finansowanie!O22","v":0},{"$f":"-Finansowanie!P22","v":0},{"$f":"-Finansowanie!Q22","v":0},{"$f":"-Finansowanie!R22","v":0},{"$f":"-Finansowanie!S22","v":0},{"$f":"-Finansowanie!T22","v":0},{"$f":"-Finansowanie!U22","v":0},{"$f":"-Finansowanie!V22","v":0},{"$f":"-Finansowanie!W22","v":0}]
[null,"  4. Dopłaty do kapitału własnego",null,null,null,{"$f":"IF((SUM('Sprawozdania finansowe'!C95:C101,'Sprawozdania finansowe'!C103)-SUM('Sprawozdania finansowe'!B95:B103))>0,(SUM('Sprawozdania finansowe'!C95:C101,'Sprawozdania finansowe'!C103)-SUM('Sprawozdania finansowe'!B95:B103)),0)","v":0},{"$f":"IF((SUM('Sprawozdania finansowe'!D95:D101,'Sprawozdania finansowe'!D103)-SUM('Sprawozdania finansowe'!C95:C103))>0,(SUM('Sprawozdania finansowe'!D95:D101,'Sprawozdania finansowe'!D103)-SUM('Sprawozdania finansowe'!C95:C103)),0)","v":0},{"$f":"IF((SUM('Sprawozdania finansowe'!E95:E101,'Sprawozdania finansowe'!E103)-SUM('Sprawozdania finansowe'!D95:D103))>0,(SUM('Sprawozdania finansowe'!E95:E101,'Sprawozdania finansowe'!E103)-SUM('Sprawozdania finansowe'!D95:D103)),0)","v":0},{"$f":"IF(Rok_n=\"\",0,IF(Założenia!I30<=12,IF((SUM('Sprawozdania finansowe'!F95:F101,'Sprawozdania finansowe'!F103)-SUM('Sprawozdania finansowe'!E95:E103))>0,(SUM('Sprawozdania finansowe'!F95:F101,'Sprawozdania finansowe'!F103)-SUM('Sprawozdania finansowe'!E95:E103)),0),0))","v":0},{"$f":"IF(Rok_n=\"\",Finansowanie!J16,IF(Założenia!$I$30=12,Finansowanie!J16,I116+Finansowanie!J16))","v":0},{"$f":"Finansowanie!K16","v":0},{"$f":"Finansowanie!L16","v":0},{"$f":"Finansowanie!M16","v":0},{"$f":"Finansowanie!N16","v":0},{"$f":"Finansowanie!O16","v":0},{"$f":"Finansowanie!P16","v":0},{"$f":"Finansowanie!Q16","v":0},{"$f":"Finansowanie!R16","v":0},{"$f":"Finansowanie!S16","v":0},{"$f":"Finansowanie!T16","v":0},{"$f":"Finansowanie!U16","v":0},{"$f":"Finansowanie!V16","v":0},{"$f":"Finansowanie!W16","v":0}]
[null,"  5. Dotacje",null,null,null,null,null,null,null,0,0,0,0,0,0,0,0,0,0,0,0,0,0]
[null,"  6. Pozostałe",null,null,null,{"$f":"(F83-E83)+(F84-E84)-(F85-E85)","v":0},{"$f":"(G83-F83)+(G84-F84)-(G85-F85)","v":0},{"$f":"(H83-G83)+(H84-G84)-(H85-G85)","v":0},{"$f":"IF(Rok_n=\"\",0,(I83-H83)+(I84-H84)-(I85-H85))","v":0},{"$f":"IF(Założenia!$I$30=12,(J83-I83)+(J84-I84)-(J85-I85),(J83-H83)+(J84-H84)-(J85-H85))","v":0},{"$f":"(K83-J83)+(K84-J84)-(K85-J85)","v":0},0,0,0,0,0,0,0,0,0,0,0,0]
[null,"  7. Środki własne na finansowanie Projektu",null,null,null,null,null,null,null,{"$f":"-Finansowanie!J80","v":0},{"$f":"-Finansowanie!K80","v":0},{"$f":"-Finansowanie!L80","v":0},{"$f":"-Finansowanie!M80","v":0},{"$f":"-Finansowanie!N80","v":0},{"$f":"-Finansowanie!O80","v":0},{"$f":"-Finansowanie!P80","v":0},{"$f":"-Finansowanie!Q80","v":0},{"$f":"-Finansowanie!R80","v":0},{"$f":"-Finansowanie!S80","v":0},{"$f":"-Finansowanie!T80","v":0},{"$f":"-Finansowanie!U80","v":0},{"$f":"-Finansowanie!V80","v":0},{"$f":"-Finansowanie!W80","v":0}]
[]
[null,"Przepływy pieniężne netto razem ",null,null,null,{"$f":"F99+F108+F112","v":0},0,0,0,0,0,0,0,0,0,0,0,0,0,0,0,0,0]
[null,"Środki pieniężne na początek okresu",null,null,null,null,{"$f":"F123","v":0},{"$f":"G123","v":0},{"$f":"IF(Rok_n=\"\",0,H123)","v":0},{"$f":"IF(Rok_n=\"\",H123,IF(Założenia!$I$30=12,'Ocena kondycji finansowej'!I123,'Ocena kondycji finansowej'!H123))","v":0},0,0,0,0,0,0,0,0,0,0,0,0,0]
[null,"Środki pieniężne na koniec okresu ",null,null,null,{"$f":"F121+F122","v":0},{"$f":"G121+G122","v":0},{"$f":"H121+H122","v":0},0,0,0,0,0,0,0,0,0,0,0,0,0,0,0]
[null,null,null,null,null,{"$f":"F123=F69","v":true},true,true,true,true,true,true,true,true,true,true,true,true,true,true,true,true,true]
[null,null,null,null,null,{"$f":"F123-F69","v":0},0,0,0,0,0,0,0,0,0,0,0,0,0,0,0,0,0]
[]
[null,"Ocena wskaźnikowa dotychczasowej działalności",null,null,null,{"$f":"LataProjekcji","v":0},0,0,"","Uzupełnij dane","","","","","","","","","","","","",""]
[]
[null,"I. Wskaźniki rentowności"]
[null,"  1. rentowność sprzedaży (ROS)",">=1,50%","<0%",null,{"$f":"IFERROR(ROUND((F29/F15),4),\"bd.\")","v":"bd."},"bd.","bd.","bd.","bd.","bd.","bd.","bd.","bd.","bd.","bd.","bd.","bd.","bd.","bd.","bd.","bd.","bd."]
[null,"  2. rentowność netto",">=1,00%","<0%",null,{"$f":"IFERROR(ROUND((F42/F15),4),\"bd.\")","v":"bd."},"bd.","bd.","bd.","bd.","bd.","bd.","bd.","bd.","bd.","bd.","bd.","bd.","bd.","bd.","bd.","bd.","bd."]
[null,"  3. zwrot na aktywach (ROA)",">=10,00%","<=3%",null,{"$f":"IFERROR(ROUND((F42/F73),4),\"bd.\")","v":"bd."},"bd.","bd.","bd.","bd.","bd.","bd.","bd.","bd.","bd.","bd.","bd.","bd.","bd.","bd.","bd.","bd.","bd."]
[]
[null,"II. Wskaźniki struktury pasywów i obsługi zadłużenia"]
[null,"  1. wskaźnik udziału kapitałów własnych",">=50%","<20%",null,{"$f":"IFERROR(ROUND(F76/F94,4),\"bd.\")","v":"bd."},"bd.","bd.","bd.","bd.","bd.","bd.","bd.","bd.","bd.","bd.","bd.","bd.","bd.","bd.","bd.","bd.","bd."]
[null,"  2. pokrycie majątku trwałego kapitałem stałym",">=100%","<=80%",null,{"$f":"IFERROR(ROUND((F76+F84+F83+F91)/F47,4),\"bd.\")","v":"bd."},"bd.","bd.","bd.","bd.","bd.","bd.","bd.","bd.","bd.","bd.","bd.","bd.","bd.","bd.","bd.","bd.","bd."]
[null,"  3. wskaźnik zadłużenia","50-70%","<=80%",null,{"$f":"IFERROR(ROUND(F82/F94,4),\"bd.\")","v":"bd."},"bd.","bd.","bd.","bd.","bd.","bd.","bd.","bd.","bd.","bd.","bd.","bd.","bd.","bd.","bd.","bd.","bd."]
[null,"  4. wskaźnik obsługi długu",">=1,3","<1,0",null,{"$f":"IFERROR(ROUND((F42+F21+F36+F40)/(F36+Finansowanie!F44+Finansowanie!F53+Finansowanie!F62),4),\"bd.\")","v":"bd."},{"$f":"IFERROR(ROUND((G42+G21+G36+G40)/(G36+Finansowanie!G44+Finansowanie!G53+Finansowanie!G62),4),\"bd.\")","v":"bd."},{"$f":"IFERROR(ROUND((H42+H21+H36+H40)/(H36+Finansowanie!H44+Finansowanie!H53+Finansowanie!H62),4),\"bd.\")","v":"bd."},{"$f":"IFERROR(ROUND((I42+I21+I36+I40)/(I36+Finansowanie!I44+Finansowanie!I53+Finansowanie!I62),4),\"bd.\")","v":"bd."},{"$f":"IFERROR(ROUND((J42+J21+J36+J40)/(J36+Finansowanie!J44+Finansowanie!J53+Finansowanie!J62),4),\"bd.\")","v":"bd."},{"$f":"IFERROR(ROUND((K42+K21+K36+K40)/(K36+Finansowanie!K44+Finansowanie!K53+Finansowanie!K62),4),\"bd.\")","v":"bd."},{"$f":"IFERROR(ROUND((L42+L21+L36+L40)/(L36+Finansowanie!L44+Finansowanie!L53+Finansowanie!L62),4),\"bd.\")","v":"bd."},{"$f":"IFERROR(ROUND((M42+M21+M36+M40)/(M36+Finansowanie!M44+Finansowanie!M53+Finansowanie!M62),4),\"bd.\")","v":"bd."},{"$f":"IFERROR(ROUND((N42+N21+N36+N40)/(N36+Finansowanie!N44+Finansowanie!N53+Finansowanie!N62),4),\"bd.\")","v":"bd."},{"$f":"IFERROR(ROUND((O42+O21+O36+O40)/(O36+Finansowanie!O44+Finansowanie!O53+Finansowanie!O62),4),\"bd.\")","v":"bd."},{"$f":"IFERROR(ROUND((P42+P21+P36+P40)/(P36+Finansowanie!P44+Finansowanie!P53+Finansowanie!P62),4),\"bd.\")","v":"bd."},{"$f":"IFERROR(ROUND((Q42+Q21+Q36+Q40)/(Q36+Finansowanie!Q44+Finansowanie!Q53+Finansowanie!Q62),4),\"bd.\")","v":"bd."},{"$f":"IFERROR(ROUND((R42+R21+R36+R40)/(R36+Finansowanie!R44+Finansowanie!R53+Finansowanie!R62),4),\"bd.\")","v":"bd."},{"$f":"IFERROR(ROUND((S42+S21+S36+S40)/(S36+Finansowanie!S44+Finansowanie!S53+Finansowanie!S62),4),\"bd.\")","v":"bd."},{"$f":"IFERROR(ROUND((T42+T21+T36+T40)/(T36+Finansowanie!T44+Finansowanie!T53+Finansowanie!T62),4),\"bd.\")","v":"bd."},{"$f":"IFERROR(ROUND((U42+U21+U36+U40)/(U36+Finansowanie!U44+Finansowanie!U53+Finansowanie!U62),4),\"bd.\")","v":"bd."},{"$f":"IFERROR(ROUND((V42+V21+V36+V40)/(V36+Finansowanie!V44+Finansowanie!V53+Finansowanie!V62),4),\"bd.\")","v":"bd."},{"$f":"IFERROR(ROUND((W42+W21+W36+W40)/(W36+Finansowanie!W44+Finansowanie!W53+Finansowanie!W62),4),\"bd.\")","v":"bd."}]
[]
[null,"III. Wskaźniki płynności"]
[null,"  1. płynność bieżąca","1,2-1,5","<1,0",null,{"$f":"IFERROR(ROUND(F65/F87,4),\"bd.\")","v":"bd."},"bd.","bd.","bd.","bd.","bd.","bd.","bd.","bd.","bd.","bd.","bd.","bd.","bd.","bd.","bd.","bd.","bd."]
[null,"  2. płynność szybka","1,0-1,2","<0,8",null,{"$f":"IFERROR(ROUND((F65-F66)/F87,4),\"bd.\")","v":"bd."},"bd.","bd.","bd.","bd.","bd.","bd.","bd.","bd.","bd.","bd.","bd.","bd.","bd.","bd.","bd.","bd.","bd."]
[]
[null,"IV. Wskaźniki rotacji majątku"]
[null,"  1. cykl rotacji zapasów",null,null,null,{"$f":"IFERROR(ROUND((F66/F20)*dni,0),\"bd.\")","v":"bd."},{"$f":"IFERROR(ROUND((G66/G20)*dni,0),\"bd.\")","v":"bd."},{"$f":"IFERROR(ROUND((H66/H20)*dni,0),\"bd.\")","v":"bd."},{"$f":"IFERROR(ROUND((I66/I20)*dni,0),\"bd.\")","v":"bd."},{"$f":"IFERROR(IF('Kapitał pracujący'!$F$165=1,ROUND((J66/J20)*dni,0),'Kapitał pracujący'!J22),\"bd.\")","v":"bd."},{"$f":"IFERROR(IF('Kapitał pracujący'!$F$165=1,ROUND((K66/K20)*dni,0),'Kapitał pracujący'!K22),\"bd.\")","v":"bd."},{"$f":"IFERROR(IF('Kapitał pracujący'!$F$165=1,ROUND((L66/L20)*dni,0),'Kapitał pracujący'!L22),\"bd.\")","v":"bd."},{"$f":"IFERROR(IF('Kapitał pracujący'!$F$165=1,ROUND((M66/M20)*dni,0),'Kapitał pracujący'!M22),\"bd.\")","v":"bd."},{"$f":"IFERROR(IF('Kapitał pracujący'!$F$165=1,ROUND((N66/N20)*dni,0),'Kapitał pracujący'!N22),\"bd.\")","v":"bd."},{"$f":"IFERROR(IF('Kapitał pracujący'!$F$165=1,ROUND((O66/O20)*dni,0),'Kapitał pracujący'!O22),\"bd.\")","v":"bd."},{"$f":"IFERROR(IF('Kapitał pracujący'!$F$165=1,ROUND((P66/P20)*dni,0),'Kapitał pracujący'!P22),\"bd.\")","v":"bd."},{"$f":"IFERROR(IF('Kapitał pracujący'!$F$165=1,ROUND((Q66/Q20)*dni,0),'Kapitał pracujący'!Q22),\"bd.\")","v":"bd."},{"$f":"IFERROR(IF('Kapitał pracujący'!$F$165=1,ROUND((R66/R20)*dni,0),'Kapitał pracujący'!R22),\"bd.\")","v":"bd."},{"$f":"IFERROR(IF('Kapitał pracujący'!$F$165=1,ROUND((S66/S20)*dni,0),'Kapitał pracujący'!S22),\"bd.\")","v":"bd."},{"$f":"IFERROR(IF('Kapitał pracujący'!$F$165=1,ROUND((T66/T20)*dni,0),'Kapitał pracujący'!T22),\"bd.\")","v":"bd."},{"$f":"IFERROR(IF('Kapitał pracujący'!$F$165=1,ROUND((U66/U20)*dni,0),'Kapitał pracujący'!U22),\"bd.\")","v":"bd."},{"$f":"IFERROR(IF('Kapitał pracujący'!$F$165=1,ROUND((V66/V20)*dni,0),'Kapitał pracujący'!V22),\"bd.\")","v":"bd."},{"$f":"IFERROR(IF('Kapitał pracujący'!$F$165=1,ROUND((W66/W20)*dni,0),'Kapitał pracujący'!W22),\"bd.\")","v":"bd."}]
[null,"  2. cykl rotacji należności",null,null,null,{"$f":"IFERROR(ROUND((F68/F15)*dni,0),\"bd.\")","v":"bd."},{"$f":"IFERROR(ROUND((G68/G15)*dni,0),\"bd.\")","v":"bd."},{"$f":"IFERROR(ROUND((H68/H15)*dni,0),\"bd.\")","v":"bd."},{"$f":"IFERROR(ROUND((I68/I15)*dni,0),\"bd.\")","v":"bd."},{"$f":"IFERROR(IF('Kapitał pracujący'!$F$166=1,ROUND((J68/J15)*dni,0),'Kapitał pracujący'!J37),\"bd.\")","v":"bd."},{"$f":"IFERROR(IF('Kapitał pracujący'!$F$166=1,ROUND((K68/K15)*dni,0),'Kapitał pracujący'!K37),\"bd.\")","v":"bd."},{"$f":"IFERROR(IF('Kapitał pracujący'!$F$166=1,ROUND((L68/L15)*dni,0),'Kapitał pracujący'!L37),\"bd.\")","v":"bd."},{"$f":"IFERROR(IF('Kapitał pracujący'!$F$166=1,ROUND((M68/M15)*dni,0),'Kapitał pracujący'!M37),\"bd.\")","v":"bd."},{"$f":"IFERROR(IF('Kapitał pracujący'!$F$166=1,ROUND((N68/N15)*dni,0),'Kapitał pracujący'!N37),\"bd.\")","v":"bd."},{"$f":"IFERROR(IF('Kapitał pracujący'!$F$166=1,ROUND((O68/O15)*dni,0),'Kapitał pracujący'!O37),\"bd.\")","v":"bd."},{"$f":"IFERROR(IF('Kapitał pracujący'!$F$166=1,ROUND((P68/P15)*dni,0),'Kapitał pracujący'!P37),\"bd.\")","v":"bd."},{"$f":"IFERROR(IF('Kapitał pracujący'!$F$166=1,ROUND((Q68/Q15)*dni,0),'Kapitał pracujący'!Q37),\"bd.\")","v":"bd."},{"$f":"IFERROR(IF('Kapitał pracujący'!$F$166=1,ROUND((R68/R15)*dni,0),'Kapitał pracujący'!R37),\"bd.\")","v":"bd."},{"$f":"IFERROR(IF('Kapitał pracujący'!$F$166=1,ROUND((S68/S15)*dni,0),'Kapitał pracujący'!S37),\"bd.\")","v":"bd."},{"$f":"IFERROR(IF('Kapitał pracujący'!$F$166=1,ROUND((T68/T15)*dni,0),'Kapitał pracujący'!T37),\"bd.\")","v":"bd."},{"$f":"IFERROR(IF('Kapitał pracujący'!$F$166=1,ROUND((U68/U15)*dni,0),'Kapitał pracujący'!U37),\"bd.\")","v":"bd."},{"$f":"IFERROR(IF('Kapitał pracujący'!$F$166=1,ROUND((V68/V15)*dni,0),'Kapitał pracujący'!V37),\"bd.\")","v":"bd."},{"$f":"IFERROR(IF('Kapitał pracujący'!$F$166=1,ROUND((W68/W15)*dni,0),'Kapitał pracujący'!W37),\"bd.\")","v":"bd."}]
[null,"  3. cykl rotacji zobowiązań",null,null,null,{"$f":"IFERROR(ROUND((F88/F20)*dni,0),\"bd.\")","v":"bd."},{"$f":"IFERROR(ROUND((G88/G20)*dni,0),\"bd.\")","v":"bd."},{"$f":"IFERROR(ROUND((H88/H20)*dni,0),\"bd.\")","v":"bd."},{"$f":"IFERROR(ROUND((I88/I20)*dni,0),\"bd.\")","v":"bd."},{"$f":"IFERROR(IF('Kapitał pracujący'!$F$167=1,ROUND((J88/J20)*dni,0),'Kapitał pracujący'!J52),\"bd.\")","v":0},{"$f":"IFERROR(IF('Kapitał pracujący'!$F$167=1,ROUND((K88/K20)*dni,0),'Kapitał pracujący'!K52),\"bd.\")","v":0},{"$f":"IFERROR(IF('Kapitał pracujący'!$F$167=1,ROUND((L88/L20)*dni,0),'Kapitał pracujący'!L52),\"bd.\")","v":0},{"$f":"IFERROR(IF('Kapitał pracujący'!$F$167=1,ROUND((M88/M20)*dni,0),'Kapitał pracujący'!M52),\"bd.\")","v":0},{"$f":"IFERROR(IF('Kapitał pracujący'!$F$167=1,ROUND((N88/N20)*dni,0),'Kapitał pracujący'!N52),\"bd.\")","v":0},{"$f":"IFERROR(IF('Kapitał pracujący'!$F$167=1,ROUND((O88/O20)*dni,0),'Kapitał pracujący'!O52),\"bd.\")","v":0},{"$f":"IFERROR(IF('Kapitał pracujący'!$F$167=1,ROUND((P88/P20)*dni,0),'Kapitał pracujący'!P52),\"bd.\")","v":0},{"$f":"IFERROR(IF('Kapitał pracujący'!$F$167=1,ROUND((Q88/Q20)*dni,0),'Kapitał pracujący'!Q52),\"bd.\")","v":0},{"$f":"IFERROR(IF('Kapitał pracujący'!$F$167=1,ROUND((R88/R20)*dni,0),'Kapitał pracujący'!R52),\"bd.\")","v":0},{"$f":"IFERROR(IF('Kapitał pracujący'!$F$167=1,ROUND((S88/S20)*dni,0),'Kapitał pracujący'!S52),\"bd.\")","v":0},{"$f":"IFERROR(IF('Kapitał pracujący'!$F$167=1,ROUND((T88/T20)*dni,0),'Kapitał pracujący'!T52),\"bd.\")","v":0},{"$f":"IFERROR(IF('Kapitał pracujący'!$F$167=1,ROUND((U88/U20)*dni,0),'Kapitał pracujący'!U52),\"bd.\")","v":0},{"$f":"IFERROR(IF('Kapitał pracujący'!$F$167=1,ROUND((V88/V20)*dni,0),'Kapitał pracujący'!V52),\"bd.\")","v":0},{"$f":"IFERROR(IF('Kapitał pracujący'!$F$167=1,ROUND((W88/W20)*dni,0),'Kapitał pracujący'!W52),\"bd.\")","v":0}]
[]
[null,"V. Dodatkowe wskaźniki (przedsiębiorstwa inne niż MSP)"]
[null,"  1. księgowy stosunek kapitału obcego do kapitału własnego","<=1,0",">7,5",null,{"$f":"IF(Założenia!$C$148=TRUE,\"n/d\",IFERROR(ROUND(F82/F76,1),\"bd.\"))","v":"bd."},{"$f":"IF(Założenia!$C$148=TRUE,\"n/d\",IFERROR(ROUND(G82/G76,1),\"bd.\"))","v":"bd."},{"$f":"IF(Założenia!$C$148=TRUE,\"n/d\",IFERROR(ROUND(H82/H76,1),\"bd.\"))","v":"bd."},{"$f":"IF(Założenia!$C$148=TRUE,\"n/d\",IFERROR(ROUND(I82/I76,1),\"bd.\"))","v":"bd."},{"$f":"IF(Założenia!$C$148=TRUE,\"n/d\",IFERROR(ROUND(J82/J76,1),\"bd.\"))","v":"bd."},{"$f":"IF(Założenia!$C$148=TRUE,\"n/d\",IFERROR(ROUND(K82/K76,1),\"bd.\"))","v":"bd."},{"$f":"IF(Założenia!$C$148=TRUE,\"n/d\",IFERROR(ROUND(L82/L76,1),\"bd.\"))","v":"bd."},{"$f":"IF(Założenia!$C$148=TRUE,\"n/d\",IFERROR(ROUND(M82/M76,1),\"bd.\"))","v":"bd."},{"$f":"IF(Założenia!$C$148=TRUE,\"n/d\",IFERROR(ROUND(N82/N76,1),\"bd.\"))","v":"bd."},{"$f":"IF(Założenia!$C$148=TRUE,\"n/d\",IFERROR(ROUND(O82/O76,1),\"bd.\"))","v":"bd."},{"$f":"IF(Założenia!$C$148=TRUE,\"n/d\",IFERROR(ROUND(P82/P76,1),\"bd.\"))","v":"bd."},{"$f":"IF(Założenia!$C$148=TRUE,\"n/d\",IFERROR(ROUND(Q82/Q76,1),\"bd.\"))","v":"bd."},{"$f":"IF(Założenia!$C$148=TRUE,\"n/d\",IFERROR(ROUND(R82/R76,1),\"bd.\"))","v":"bd."},{"$f":"IF(Założenia!$C$148=TRUE,\"n/d\",IFERROR(ROUND(S82/S76,1),\"bd.\"))","v":"bd."},{"$f":"IF(Założenia!$C$148=TRUE,\"n/d\",IFERROR(ROUND(T82/T76,1),\"bd.\"))","v":"bd."},{"$f":"IF(Założenia!$C$148=TRUE,\"n/d\",IFERROR(ROUND(U82/U76,1),\"bd.\"))","v":"bd."},{"$f":"IF(Założenia!$C$148=TRUE,\"n/d\",IFERROR(ROUND(V82/V76,1),\"bd.\"))","v":"bd."},{"$f":"IF(Założenia!$C$148=TRUE,\"n/d\",IFERROR(ROUND(W82/W76,1),\"bd.\"))","v":"bd."}]
[null,"  2. wskaźnik relacji pokrycia odsetek do EBITDA",">=3,0","<1,0",null,{"$f":"IF(Założenia!$C$148=TRUE,\"n/d\",IFERROR(ROUND((F33+F21)/F36,1),\"bd.\"))","v":"bd."},{"$f":"IF(Założenia!$C$148=TRUE,\"n/d\",IFERROR(ROUND((G33+G21)/G36,1),\"bd.\"))","v":"bd."},{"$f":"IF(Założenia!$C$148=TRUE,\"n/d\",IFERROR(ROUND((H33+H21)/H36,1),\"bd.\"))","v":"bd."},{"$f":"IF(Założenia!$C$148=TRUE,\"n/d\",IFERROR(ROUND((I33+I21)/I36,1),\"bd.\"))","v":"bd."},{"$f":"IF(Założenia!$C$148=TRUE,\"n/d\",IFERROR(ROUND((J33+J21)/J36,1),\"bd.\"))","v":"bd."},{"$f":"IF(Założenia!$C$148=TRUE,\"n/d\",IFERROR(ROUND((K33+K21)/K36,1),\"bd.\"))","v":"bd."},{"$f":"IF(Założenia!$C$148=TRUE,\"n/d\",IFERROR(ROUND((L33+L21)/L36,1),\"bd.\"))","v":"bd."},{"$f":"IF(Założenia!$C$148=TRUE,\"n/d\",IFERROR(ROUND((M33+M21)/M36,1),\"bd.\"))","v":"bd."},{"$f":"IF(Założenia!$C$148=TRUE,\"n/d\",IFERROR(ROUND((N33+N21)/N36,1),\"bd.\"))","v":"bd."},{"$f":"IF(Założenia!$C$148=TRUE,\"n/d\",IFERROR(ROUND((O33+O21)/O36,1),\"bd.\"))","v":"bd."},{"$f":"IF(Założenia!$C$148=TRUE,\"n/d\",IFERROR(ROUND((P33+P21)/P36,1),\"bd.\"))","v":"bd."},{"$f":"IF(Założenia!$C$148=TRUE,\"n/d\",IFERROR(ROUND((Q33+Q21)/Q36,1),\"bd.\"))","v":"bd."},{"$f":"IF(Założenia!$C$148=TRUE,\"n/d\",IFERROR(ROUND((R33+R21)/R36,1),\"bd.\"))","v":"bd."},{"$f":"IF(Założenia!$C$148=TRUE,\"n/d\",IFERROR(ROUND((S33+S21)/S36,1),\"bd.\"))","v":"bd."},{"$f":"IF(Założenia!$C$148=TRUE,\"n/d\",IFERROR(ROUND((T33+T21)/T36,1),\"bd.\"))","v":"bd."},{"$f":"IF(Założenia!$C$148=TRUE,\"n/d\",IFERROR(ROUND((U33+U21)/U36,1),\"bd.\"))","v":"bd."},{"$f":"IF(Założenia!$C$148=TRUE,\"n/d\",IFERROR(ROUND((V33+V21)/V36,1),\"bd.\"))","v":"bd."},{"$f":"IF(Założenia!$C$148=TRUE,\"n/d\",IFERROR(ROUND((W33+W21)/W36,1),\"bd.\"))","v":"bd."}]
[]
[]
[]
[]
[null,"Projekt",null,null,null,{"$f":"LataProjekcji","v":0},0,0,"","Uzupełnij dane","","","","","","","","","","","","",""]
[]
[null,"Rachunek zysków i strat"]
[null,"A. Przychody netto ze sprzedaży ","RP",null,null,null,null,null,null,{"$f":"SUM(J160:J163)","v":0},{"$f":"SUM(K160:K163)","v":0},0,0,0,0,0,0,0,0,0,0,0,0]
[null," I. Przychody netto ze sprzedaży produktów ",null,null,null,null,null,null,null,{"$f":"Przychody!J226","v":0},{"$f":"Przychody!K226","v":0},{"$f":"Przychody!L226","v":0},{"$f":"Przychody!M226","v":0},{"$f":"Przychody!N226","v":0},{"$f":"Przychody!O226","v":0},{"$f":"Przychody!P226","v":0},{"$f":"Przychody!Q226","v":0},{"$f":"Przychody!R226","v":0},{"$f":"Przychody!S226","v":0},{"$f":"Przychody!T226","v":0},{"$f":"Przychody!U226","v":0},{"$f":"Przychody!V226","v":0},{"$f":"Przychody!W226","v":0}]
[null," II. Zmiana stanu produktów ([+] zwiększenie / [-] zmniejszenie)",null,null,null,null,null,null,null,{"$f":"Przychody!J227","v":0},{"$f":"Przychody!K227","v":0},{"$f":"Przychody!L227","v":0},{"$f":"Przychody!M227","v":0},{"$f":"Przychody!N227","v":0},{"$f":"Przychody!O227","v":0},{"$f":"Przychody!P227","v":0},{"$f":"Przychody!Q227","v":0},{"$f":"Przychody!R227","v":0},{"$f":"Przychody!S227","v":0},{"$f":"Przychody!T227","v":0},{"$f":"Przychody!U227","v":0},{"$f":"Przychody!V227","v":0},{"$f":"Przychody!W227","v":0}]
[null," III. Koszt wytworzenia produktów na własne potrzeby jednostki",null,null,null,null,null,null,null,{"$f":"Przychody!J228","v":0},{"$f":"Przychody!K228","v":0},{"$f":"Przychody!L228","v":0},{"$f":"Przychody!M228","v":0},{"$f":"Przychody!N228","v":0},{"$f":"Przychody!O228","v":0},{"$f":"Przychody!P228","v":0},{"$f":"Przychody!Q228","v":0},{"$f":"Przychody!R228","v":0},{"$f":"Przychody!S228","v":0},{"$f":"Przychody!T228","v":0},{"$f":"Przychody!U228","v":0},{"$f":"Przychody!V228","v":0},{"$f":"Przychody!W228","v":0}]
[null," IV. Przychody netto ze sprzedaży towarów i materiałów ",null,null,null,null,null,null,null,{"$f":"Przychody!J229","v":0},{"$f":"Przychody!K229","v":0},{"$f":"Przychody!L229","v":0},{"$f":"Przychody!M229","v":0},{"$f":"Przychody!N229","v":0},{"$f":"Przychody!O229","v":0},{"$f":"Przychody!P229","v":0},{"$f":"Przychody!Q229","v":0},{"$f":"Przychody!R229","v":0},{"$f":"Przychody!S229","v":0},{"$f":"Przychody!T229","v":0},{"$f":"Przychody!U229","v":0},{"$f":"Przychody!V229","v":0},{"$f":"Przychody!W229","v":0}]
[null,"B. Koszty działalności operacyjnej","RKDO",null,null,null,null,null,null,{"$f":"SUM(J165:J172)","v":0},0,0,0,0,0,0,0,0,0,0,0,0,0]
[null," I. Amortyzacja","RKDOA",null,null,null,null,null,null,{"$f":"'Środki trwałe'!J554","v":0},{"$f":"'Środki trwałe'!K554","v":0},{"$f":"'Środki trwałe'!L554","v":0},{"$f":"'Środki trwałe'!M554","v":0},{"$f":"'Środki trwałe'!N554","v":0},{"$f":"'Środki trwałe'!O554","v":0},{"$f":"'Środki trwałe'!P554","v":0},{"$f":"'Środki trwałe'!Q554","v":0},{"$f":"'Środki trwałe'!R554","v":0},{"$f":"'Środki trwałe'!S554","v":0},{"$f":"'Środki trwałe'!T554","v":0},{"$f":"'Środki trwałe'!U554","v":0},{"$f":"'Środki trwałe'!V554","v":0},{"$f":"'Środki trwałe'!W554","v":0}]
[null," II. Zużycie materiałów i energii",null,null,null,null,null,null,null,{"$f":"'Koszty operacyjne'!J331","v":0},{"$f":"'Koszty operacyjne'!K331","v":0},{"$f":"'Koszty operacyjne'!L331","v":0},{"$f":"'Koszty operacyjne'!M331","v":0},{"$f":"'Koszty operacyjne'!N331","v":0},{"$f":"'Koszty operacyjne'!O331","v":0},{"$f":"'Koszty operacyjne'!P331","v":0},{"$f":"'Koszty operacyjne'!Q331","v":0},{"$f":"'Koszty operacyjne'!R331","v":0},{"$f":"'Koszty operacyjne'!S331","v":0},{"$f":"'Koszty operacyjne'!T331","v":0},{"$f":"'Koszty operacyjne'!U331","v":0},{"$f":"'Koszty operacyjne'!V331","v":0},{"$f":"'Koszty operacyjne'!W331","v":0}]
[null," III. Usługi obce",null,null,null,null,null,null,null,{"$f":"'Koszty operacyjne'!J332","v":0},{"$f":"'Koszty operacyjne'!K332","v":0},{"$f":"'Koszty operacyjne'!L332","v":0},{"$f":"'Koszty operacyjne'!M332","v":0},{"$f":"'Koszty operacyjne'!N332","v":0},{"$f":"'Koszty operacyjne'!O332","v":0},{"$f":"'Koszty operacyjne'!P332","v":0},{"$f":"'Koszty operacyjne'!Q332","v":0},{"$f":"'Koszty operacyjne'!R332","v":0},{"$f":"'Koszty operacyjne'!S332","v":0},{"$f":"'Koszty operacyjne'!T332","v":0},{"$f":"'Koszty operacyjne'!U332","v":0},{"$f":"'Koszty operacyjne'!V332","v":0},{"$f":"'Koszty operacyjne'!W332","v":0}]
[null," IV. Podatki i opłaty",null,null,null,null,null,null,null,{"$f":"'Koszty operacyjne'!J333","v":0},{"$f":"'Koszty operacyjne'!K333","v":0},{"$f":"'Koszty operacyjne'!L333","v":0},{"$f":"'Koszty operacyjne'!M333","v":0},{"$f":"'Koszty operacyjne'!N333","v":0},{"$f":"'Koszty operacyjne'!O333","v":0},{"$f":"'Koszty operacyjne'!P333","v":0},{"$f":"'Koszty operacyjne'!Q333","v":0},{"$f":"'Koszty operacyjne'!R333","v":0},{"$f":"'Koszty operacyjne'!S333","v":0},{"$f":"'Koszty operacyjne'!T333","v":0},{"$f":"'Koszty operacyjne'!U333","v":0},{"$f":"'Koszty operacyjne'!V333","v":0},{"$f":"'Koszty operacyjne'!W333","v":0}]
[null," V. Wynagrodzenia",null,null,null,null,null,null,null,{"$f":"'Koszty operacyjne'!J334","v":0},{"$f":"'Koszty operacyjne'!K334","v":0},{"$f":"'Koszty operacyjne'!L334","v":0},{"$f":"'Koszty operacyjne'!M334","v":0},{"$f":"'Koszty operacyjne'!N334","v":0},{"$f":"'Koszty operacyjne'!O334","v":0},{"$f":"'Koszty operacyjne'!P334","v":0},{"$f":"'Koszty operacyjne'!Q334","v":0},{"$f":"'Koszty operacyjne'!R334","v":0},{"$f":"'Koszty operacyjne'!S334","v":0},{"$f":"'Koszty operacyjne'!T334","v":0},{"$f":"'Koszty operacyjne'!U334","v":0},{"$f":"'Koszty operacyjne'!V334","v":0},{"$f":"'Koszty operacyjne'!W334","v":0}]
[null," VI. Ubezpieczenia społeczne i inne świadczenia",null,null,null,null,null,null,null,{"$f":"'Koszty operacyjne'!J335","v":0},{"$f":"'Koszty operacyjne'!K335","v":0},{"$f":"'Koszty operacyjne'!L335","v":0},{"$f":"'Koszty operacyjne'!M335","v":0},{"$f":"'Koszty operacyjne'!N335","v":0},{"$f":"'Koszty operacyjne'!O335","v":0},{"$f":"'Koszty operacyjne'!P335","v":0},{"$f":"'Koszty operacyjne'!Q335","v":0},{"$f":"'Koszty operacyjne'!R335","v":0},{"$f":"'Koszty operacyjne'!S335","v":0},{"$f":"'Koszty operacyjne'!T335","v":0},{"$f":"'Koszty operacyjne'!U335","v":0},{"$f":"'Koszty operacyjne'!V335","v":0},{"$f":"'Koszty operacyjne'!W335","v":0}]
[null," VII. Pozostałe koszty rodzajowe",null,null,null,null,null,null,null,{"$f":"'Koszty operacyjne'!J336","v":0},{"$f":"'Koszty operacyjne'!K336","v":0},{"$f":"'Koszty operacyjne'!L336","v":0},{"$f":"'Koszty operacyjne'!M336","v":0},{"$f":"'Koszty operacyjne'!N336","v":0},{"$f":"'Koszty operacyjne'!O336","v":0},{"$f":"'Koszty operacyjne'!P336","v":0},{"$f":"'Koszty operacyjne'!Q336","v":0},{"$f":"'Koszty operacyjne'!R336","v":0},{"$f":"'Koszty operacyjne'!S336","v":0},{"$f":"'Koszty operacyjne'!T336","v":0},{"$f":"'Koszty operacyjne'!U336","v":0},{"$f":"'Koszty operacyjne'!V336","v":0},{"$f":"'Koszty operacyjne'!W336","v":0}]
[null," VIII. Wartość sprzedanych towarów i materiałów",null,null,null,null,null,null,null,{"$f":"'Koszty operacyjne'!J337","v":0},{"$f":"'Koszty operacyjne'!K337","v":0},{"$f":"'Koszty operacyjne'!L337","v":0},{"$f":"'Koszty operacyjne'!M337","v":0},{"$f":"'Koszty operacyjne'!N337","v":0},{"$f":"'Koszty operacyjne'!O337","v":0},{"$f":"'Koszty operacyjne'!P337","v":0},{"$f":"'Koszty operacyjne'!Q337","v":0},{"$f":"'Koszty operacyjne'!R337","v":0},{"$f":"'Koszty operacyjne'!S337","v":0},{"$f":"'Koszty operacyjne'!T337","v":0},{"$f":"'Koszty operacyjne'!U337","v":0},{"$f":"'Koszty operacyjne'!V337","v":0},{"$f":"'Koszty operacyjne'!W337","v":0}]
[null,"C. Zysk (strata) ze sprzedaży",null,null,null,null,null,null,null,{"$f":"J159-J164","v":0},0,0,0,0,0,0,0,0,0,0,0,0,0]
[null,"D. Pozostałe przychody operacyjne",null,null,null,null,null,null,null,{"$f":"Przychody!J232","v":0},{"$f":"Przychody!K232","v":0},{"$f":"Przychody!L232","v":0},{"$f":"Przychody!M232","v":0},{"$f":"Przychody!N232","v":0},{"$f":"Przychody!O232","v":0},{"$f":"Przychody!P232","v":0},{"$f":"Przychody!Q232","v":0},{"$f":"Przychody!R232","v":0},{"$f":"Przychody!S232","v":0},{"$f":"Przychody!T232","v":0},{"$f":"Przychody!U232","v":0},{"$f":"Przychody!V232","v":0},{"$f":"Przychody!W232","v":0}]
[null,"  w tym dotacja",null,null,null,null,null,null,null,{"$f":"ROUND('Rozliczenie dotacji'!J427,0)","v":0},{"$f":"ROUND('Rozliczenie dotacji'!K427,0)","v":0},{"$f":"ROUND('Rozliczenie dotacji'!L427,0)","v":0},{"$f":"ROUND('Rozliczenie dotacji'!M427,0)","v":0},{"$f":"ROUND('Rozliczenie dotacji'!N427,0)","v":0},{"$f":"ROUND('Rozliczenie dotacji'!O427,0)","v":0},{"$f":"ROUND('Rozliczenie dotacji'!P427,0)","v":0},{"$f":"ROUND('Rozliczenie dotacji'!Q427,0)","v":0},{"$f":"ROUND('Rozliczenie dotacji'!R427,0)","v":0},{"$f":"ROUND('Rozliczenie dotacji'!S427,0)","v":0},{"$f":"ROUND('Rozliczenie dotacji'!T427,0)","v":0},{"$f":"ROUND('Rozliczenie dotacji'!U427,0)","v":0},{"$f":"ROUND('Rozliczenie dotacji'!V427,0)","v":0},{"$f":"ROUND('Rozliczenie dotacji'!W427,0)","v":0}]
[null,"E. Pozostałe koszty operacyjne",null,null,null,null,null,null,null,{"$f":"'Koszty operacyjne'!J338","v":0},{"$f":"'Koszty operacyjne'!K338","v":0},{"$f":"'Koszty operacyjne'!L338","v":0},{"$f":"'Koszty operacyjne'!M338","v":0},{"$f":"'Koszty operacyjne'!N338","v":0},{"$f":"'Koszty operacyjne'!O338","v":0},{"$f":"'Koszty operacyjne'!P338","v":0},{"$f":"'Koszty operacyjne'!Q338","v":0},{"$f":"'Koszty operacyjne'!R338","v":0},{"$f":"'Koszty operacyjne'!S338","v":0},{"$f":"'Koszty operacyjne'!T338","v":0},{"$f":"'Koszty operacyjne'!U338","v":0},{"$f":"'Koszty operacyjne'!V338","v":0},{"$f":"'Koszty operacyjne'!W338","v":0}]
[null,"F. Zysk (strata) z działalności operacyjnej ","EBIT",null,null,null,null,null,null,{"$f":"J173+J174-J176","v":0},0,0,0,0,0,0,0,0,0,0,0,0,0]
[null,"G. Przychody finansowe",null,null,null,null,null,null,null,{"$f":"Przychody!J233","v":0},{"$f":"Przychody!K233","v":0},{"$f":"Przychody!L233","v":0},{"$f":"Przychody!M233","v":0},{"$f":"Przychody!N233","v":0},{"$f":"Przychody!O233","v":0},{"$f":"Przychody!P233","v":0},{"$f":"Przychody!Q233","v":0},{"$f":"Przychody!R233","v":0},{"$f":"Przychody!S233","v":0},{"$f":"Przychody!T233","v":0},{"$f":"Przychody!U233","v":0},{"$f":"Przychody!V233","v":0},{"$f":"Przychody!W233","v":0}]
[null,"H. Koszty finansowe",null,null,null,null,null,null,null,{"$f":"ROUND('Koszty operacyjne'!J339,0)","v":0},{"$f":"ROUND('Koszty operacyjne'!K339,0)","v":0},{"$f":"ROUND('Koszty operacyjne'!L339,0)","v":0},{"$f":"ROUND('Koszty operacyjne'!M339,0)","v":0},{"$f":"ROUND('Koszty operacyjne'!N339,0)","v":0},{"$f":"ROUND('Koszty operacyjne'!O339,0)","v":0},{"$f":"ROUND('Koszty operacyjne'!P339,0)","v":0},{"$f":"ROUND('Koszty operacyjne'!Q339,0)","v":0},{"$f":"ROUND('Koszty operacyjne'!R339,0)","v":0},{"$f":"ROUND('Koszty operacyjne'!S339,0)","v":0},{"$f":"ROUND('Koszty operacyjne'!T339,0)","v":0},{"$f":"ROUND('Koszty operacyjne'!U339,0)","v":0},{"$f":"ROUND('Koszty operacyjne'!V339,0)","v":0},{"$f":"ROUND('Koszty operacyjne'!W339,0)","v":0}]
[null,"  w tym odsetki","RKFO",null,null,null,null,null,null,{"$f":"ROUND('Koszty operacyjne'!J308,0)","v":0},{"$f":"ROUND('Koszty operacyjne'!K308,0)","v":0},{"$f":"ROUND('Koszty operacyjne'!L308,0)","v":0},{"$f":"ROUND('Koszty operacyjne'!M308,0)","v":0},{"$f":"ROUND('Koszty operacyjne'!N308,0)","v":0},{"$f":"ROUND('Koszty operacyjne'!O308,0)","v":0},{"$f":"ROUND('Koszty operacyjne'!P308,0)","v":0},{"$f":"ROUND('Koszty operacyjne'!Q308,0)","v":0},{"$f":"ROUND('Koszty operacyjne'!R308,0)","v":0},{"$f":"ROUND('Koszty operacyjne'!S308,0)","v":0},{"$f":"ROUND('Koszty operacyjne'!T308,0)","v":0},{"$f":"ROUND('Koszty operacyjne'!U308,0)","v":0},{"$f":"ROUND('Koszty operacyjne'!V308,0)","v":0},{"$f":"ROUND('Koszty operacyjne'!W308,0)","v":0}]
[null,"I. Zysk (strata) na działalności gospodarczej",null,null,null,null,null,null,null,{"$f":"J177+J178-J179","v":0},0,0,0,0,0,0,0,0,0,0,0,0,0]
[null,"J. Wynik zdarzeń nadzwyczajnych",null,null,null,null,null,null,null,0,0,0,0,0,0,0,0,0,0,0,0,0,0]
[null,"K. Zysk (strata) brutto",null,null,null,null,null,null,null,{"$f":"J181+J182","v":0},0,0,0,0,0,0,0,0,0,0,0,0,0]
[null,"L. Podatek dochodowy",null,"podatek",null,null,null,null,null,{"$f":"IF(J183<=0,0,ROUND(J183*CIT,0))","v":0},0,0,0,0,0,0,0,0,0,0,0,0,0]
[null,"M. Pozostałe obowiązkowe zmniejszenia zysku (zwiększenia straty)",null,"podatek",null,null,null,null,null,0,0,0,0,0,0,0,0,0,0,0,0,0,0]
[null,"N. Zysk (strata) netto ",null,null,null,null,null,null,null,{"$f":"J183-J184-J185","v":0},{"$f":"K183-K184-K185","v":0},0,0,0,0,0,0,0,0,0,0,0,0]
[]
[]
[null,"Bilans"]
[null,"Aktywa",null,null,null,{"$f":"LataProjekcji","v":0},0,0,"","Uzupełnij dane","","","","","","","","","","","","",""]
[null,"A. Aktywa trwałe",null,null,null,null,null,null,null,{"$f":"J192+J197+J206+J207+J208","v":0},0,0,0,0,0,0,0,0,0,0,0,0,0]
[null," I. Wartości niematerialne i prawne ",null,null,null,null,null,null,null,{"$f":"SUM(J193:J196)","v":0},0,0,0,0,0,0,0,0,0,0,0,0,0]
[null,"  1. Koszty zakończonych prac rozwojowych",null,null,null,null,null,null,null,{"$f":"IF(LataProjekcji<=Koniec,'Środki trwałe'!J544,0)","v":0},{"$f":"IF(LataProjekcji<=Koniec,'Środki trwałe'!K544,0)","v":0},{"$f":"IF(LataProjekcji<=Koniec,'Środki trwałe'!L544,0)","v":0},{"$f":"IF(LataProjekcji<=Koniec,'Środki trwałe'!M544,0)","v":0},{"$f":"IF(LataProjekcji<=Koniec,'Środki trwałe'!N544,0)","v":0},{"$f":"IF(LataProjekcji<=Koniec,'Środki trwałe'!O544,0)","v":0},{"$f":"IF(LataProjekcji<=Koniec,'Środki trwałe'!P544,0)","v":0},{"$f":"IF(LataProjekcji<=Koniec,'Środki trwałe'!Q544,0)","v":0},{"$f":"IF(LataProjekcji<=Koniec,'Środki trwałe'!R544,0)","v":0},{"$f":"IF(LataProjekcji<=Koniec,'Środki trwałe'!S544,0)","v":0},{"$f":"IF(LataProjekcji<=Koniec,'Środki trwałe'!T544,0)","v":0},{"$f":"IF(LataProjekcji<=Koniec,'Środki trwałe'!U544,0)","v":0},{"$f":"IF(LataProjekcji<=Koniec,'Środki trwałe'!V544,0)","v":0},{"$f":"IF(LataProjekcji<=Koniec,'Środki trwałe'!W544,0)","v":0}]
[null,"  2. Wartość firmy",null,null,null,null,null,null,null,0,0,0,0,0,0,0,0,0,0,0,0,0,0]
[null,"  3. Inne wartości niematerialne i prawne",null,null,null,null,null,null,null,{"$f":"IF(LataProjekcji<=Koniec,'Środki trwałe'!J545,0)","v":0},{"$f":"IF(LataProjekcji<=Koniec,'Środki trwałe'!K545,0)","v":0},{"$f":"IF(LataProjekcji<=Koniec,'Środki trwałe'!L545,0)","v":0},{"$f":"IF(LataProjekcji<=Koniec,'Środki trwałe'!M545,0)","v":0},{"$f":"IF(LataProjekcji<=Koniec,'Środki trwałe'!N545,0)","v":0},{"$f":"IF(LataProjekcji<=Koniec,'Środki trwałe'!O545,0)","v":0},{"$f":"IF(LataProjekcji<=Koniec,'Środki trwałe'!P545,0)","v":0},{"$f":"IF(LataProjekcji<=Koniec,'Środki trwałe'!Q545,0)","v":0},{"$f":"IF(LataProjekcji<=Koniec,'Środki trwałe'!R545,0)","v":0},{"$f":"IF(LataProjekcji<=Koniec,'Środki trwałe'!S545,0)","v":0},{"$f":"IF(LataProjekcji<=Koniec,'Środki trwałe'!T545,0)","v":0},{"$f":"IF(LataProjekcji<=Koniec,'Środki trwałe'!U545,0)","v":0},{"$f":"IF(LataProjekcji<=Koniec,'Środki trwałe'!V545,0)","v":0},{"$f":"IF(LataProjekcji<=Koniec,'Środki trwałe'!W545,0)","v":0}]
[null,"  4. Zaliczki na wartości niematerialne i prawne",null,null,null,null,null,null,null,0,0,0,0,0,0,0,0,0,0,0,0,0,0]
[null," II. Rzeczowe aktywa trwałe ",null,null,null,null,null,null,null,{"$f":"SUM(J198+J204+J205)","v":0},0,0,0,0,0,0,0,0,0,0,0,0,0]
[null,"  1. Środki trwałe",null,null,null,null,null,null,null,{"$f":"SUM(J199:J203)","v":0},0,0,0,0,0,0,0,0,0,0,0,0,0]
[null,"   a) grunty (w tym prawo użytkowania wieczystego gruntu) ",null,null,null,null,null,null,null,{"$f":"IF(LataProjekcji<=Koniec,'Środki trwałe'!J547,0)","v":0},{"$f":"IF(LataProjekcji<=Koniec,'Środki trwałe'!K547,0)","v":0},{"$f":"IF(LataProjekcji<=Koniec,'Środki trwałe'!L547,0)","v":0},{"$f":"IF(LataProjekcji<=Koniec,'Środki trwałe'!M547,0)","v":0},{"$f":"IF(LataProjekcji<=Koniec,'Środki trwałe'!N547,0)","v":0},{"$f":"IF(LataProjekcji<=Koniec,'Środki trwałe'!O547,0)","v":0},{"$f":"IF(LataProjekcji<=Koniec,'Środki trwałe'!P547,0)","v":0},{"$f":"IF(LataProjekcji<=Koniec,'Środki trwałe'!Q547,0)","v":0},{"$f":"IF(LataProjekcji<=Koniec,'Środki trwałe'!R547,0)","v":0},{"$f":"IF(LataProjekcji<=Koniec,'Środki trwałe'!S547,0)","v":0},{"$f":"IF(LataProjekcji<=Koniec,'Środki trwałe'!T547,0)","v":0},{"$f":"IF(LataProjekcji<=Koniec,'Środki trwałe'!U547,0)","v":0},{"$f":"IF(LataProjekcji<=Koniec,'Środki trwałe'!V547,0)","v":0},{"$f":"IF(LataProjekcji<=Koniec,'Środki trwałe'!W547,0)","v":0}]
[null,"   b) budynki i budowle ",null,null,null,null,null,null,null,{"$f":"IF(LataProjekcji<=Koniec,'Środki trwałe'!J548,0)","v":0},{"$f":"IF(LataProjekcji<=Koniec,'Środki trwałe'!K548,0)","v":0},{"$f":"IF(LataProjekcji<=Koniec,'Środki trwałe'!L548,0)","v":0},{"$f":"IF(LataProjekcji<=Koniec,'Środki trwałe'!M548,0)","v":0},{"$f":"IF(LataProjekcji<=Koniec,'Środki trwałe'!N548,0)","v":0},{"$f":"IF(LataProjekcji<=Koniec,'Środki trwałe'!O548,0)","v":0},{"$f":"IF(LataProjekcji<=Koniec,'Środki trwałe'!P548,0)","v":0},{"$f":"IF(LataProjekcji<=Koniec,'Środki trwałe'!Q548,0)","v":0},{"$f":"IF(LataProjekcji<=Koniec,'Środki trwałe'!R548,0)","v":0},{"$f":"IF(LataProjekcji<=Koniec,'Środki trwałe'!S548,0)","v":0},{"$f":"IF(LataProjekcji<=Koniec,'Środki trwałe'!T548,0)","v":0},{"$f":"IF(LataProjekcji<=Koniec,'Środki trwałe'!U548,0)","v":0},{"$f":"IF(LataProjekcji<=Koniec,'Środki trwałe'!V548,0)","v":0},{"$f":"IF(LataProjekcji<=Koniec,'Środki trwałe'!W548,0)","v":0}]
[null,"   c) urządzenia techniczne i maszyny ",null,null,null,null,null,null,null,{"$f":"IF(LataProjekcji<=Koniec,'Środki trwałe'!J549,0)","v":0},{"$f":"IF(LataProjekcji<=Koniec,'Środki trwałe'!K549,0)","v":0},{"$f":"IF(LataProjekcji<=Koniec,'Środki trwałe'!L549,0)","v":0},{"$f":"IF(LataProjekcji<=Koniec,'Środki trwałe'!M549,0)","v":0},{"$f":"IF(LataProjekcji<=Koniec,'Środki trwałe'!N549,0)","v":0},{"$f":"IF(LataProjekcji<=Koniec,'Środki trwałe'!O549,0)","v":0},{"$f":"IF(LataProjekcji<=Koniec,'Środki trwałe'!P549,0)","v":0},{"$f":"IF(LataProjekcji<=Koniec,'Środki trwałe'!Q549,0)","v":0},{"$f":"IF(LataProjekcji<=Koniec,'Środki trwałe'!R549,0)","v":0},{"$f":"IF(LataProjekcji<=Koniec,'Środki trwałe'!S549,0)","v":0},{"$f":"IF(LataProjekcji<=Koniec,'Środki trwałe'!T549,0)","v":0},{"$f":"IF(LataProjekcji<=Koniec,'Środki trwałe'!U549,0)","v":0},{"$f":"IF(LataProjekcji<=Koniec,'Środki trwałe'!V549,0)","v":0},{"$f":"IF(LataProjekcji<=Koniec,'Środki trwałe'!W549,0)","v":0}]
[null,"   d) środki transportu ",null,null,null,null,null,null,null,{"$f":"IF(LataProjekcji<=Koniec,'Środki trwałe'!J550,0)","v":0},{"$f":"IF(LataProjekcji<=Koniec,'Środki trwałe'!K550,0)","v":0},{"$f":"IF(LataProjekcji<=Koniec,'Środki trwałe'!L550,0)","v":0},{"$f":"IF(LataProjekcji<=Koniec,'Środki trwałe'!M550,0)","v":0},{"$f":"IF(LataProjekcji<=Koniec,'Środki trwałe'!N550,0)","v":0},{"$f":"IF(LataProjekcji<=Koniec,'Środki trwałe'!O550,0)","v":0},{"$f":"IF(LataProjekcji<=Koniec,'Środki trwałe'!P550,0)","v":0},{"$f":"IF(LataProjekcji<=Koniec,'Środki trwałe'!Q550,0)","v":0},{"$f":"IF(LataProjekcji<=Koniec,'Środki trwałe'!R550,0)","v":0},{"$f":"IF(LataProjekcji<=Koniec,'Środki trwałe'!S550,0)","v":0},{"$f":"IF(LataProjekcji<=Koniec,'Środki trwałe'!T550,0)","v":0},{"$f":"IF(LataProjekcji<=Koniec,'Środki trwałe'!U550,0)","v":0},{"$f":"IF(LataProjekcji<=Koniec,'Środki trwałe'!V550,0)","v":0},{"$f":"IF(LataProjekcji<=Koniec,'Środki trwałe'!W550,0)","v":0}]
[null,"   e) inne środki trwałe ",null,null,null,null,null,null,null,{"$f":"IF(LataProjekcji<=Koniec,'Środki trwałe'!J551,0)","v":0},{"$f":"IF(LataProjekcji<=Koniec,'Środki trwałe'!K551,0)","v":0},{"$f":"IF(LataProjekcji<=Koniec,'Środki trwałe'!L551,0)","v":0},{"$f":"IF(LataProjekcji<=Koniec,'Środki trwałe'!M551,0)","v":0},{"$f":"IF(LataProjekcji<=Koniec,'Środki trwałe'!N551,0)","v":0},{"$f":"IF(LataProjekcji<=Koniec,'Środki trwałe'!O551,0)","v":0},{"$f":"IF(LataProjekcji<=Koniec,'Środki trwałe'!P551,0)","v":0},{"$f":"IF(LataProjekcji<=Koniec,'Środki trwałe'!Q551,0)","v":0},{"$f":"IF(LataProjekcji<=Koniec,'Środki trwałe'!R551,0)","v":0},{"$f":"IF(LataProjekcji<=Koniec,'Środki trwałe'!S551,0)","v":0},{"$f":"IF(LataProjekcji<=Koniec,'Środki trwałe'!T551,0)","v":0},{"$f":"IF(LataProjekcji<=Koniec,'Środki trwałe'!U551,0)","v":0},{"$f":"IF(LataProjekcji<=Koniec,'Środki trwałe'!V551,0)","v":0},{"$f":"IF(LataProjekcji<=Koniec,'Środki trwałe'!W551,0)","v":0}]
[null,"  2. Środki trwałe w budowie",null,null,null,null,null,null,null,{"$f":"IF(LataProjekcji<=Koniec,'Środki trwałe'!J552,0)","v":0},{"$f":"IF(LataProjekcji<=Koniec,'Środki trwałe'!K552,0)","v":0},{"$f":"IF(LataProjekcji<=Koniec,'Środki trwałe'!L552,0)","v":0},{"$f":"IF(LataProjekcji<=Koniec,'Środki trwałe'!M552,0)","v":0},{"$f":"IF(LataProjekcji<=Koniec,'Środki trwałe'!N552,0)","v":0},{"$f":"IF(LataProjekcji<=Koniec,'Środki trwałe'!O552,0)","v":0},{"$f":"IF(LataProjekcji<=Koniec,'Środki trwałe'!P552,0)","v":0},{"$f":"IF(LataProjekcji<=Koniec,'Środki trwałe'!Q552,0)","v":0},{"$f":"IF(LataProjekcji<=Koniec,'Środki trwałe'!R552,0)","v":0},{"$f":"IF(LataProjekcji<=Koniec,'Środki trwałe'!S552,0)","v":0},{"$f":"IF(LataProjekcji<=Koniec,'Środki trwałe'!T552,0)","v":0},{"$f":"IF(LataProjekcji<=Koniec,'Środki trwałe'!U552,0)","v":0},{"$f":"IF(LataProjekcji<=Koniec,'Środki trwałe'!V552,0)","v":0},{"$f":"IF(LataProjekcji<=Koniec,'Środki trwałe'!W552,0)","v":0}]
[null,"  3. Zaliczki na środki trwałe w budowie",null,null,null,null,null,null,null,0,0,0,0,0,0,0,0,0,0,0,0,0,0]
[null," III. Należności długoterminowe",null,null,null,null,null,null,null,0,0,0,0,0,0,0,0,0,0,0,0,0,0]
[null," IV. Inwestycje długoterminowe",null,null,null,null,null,null,null,0,0,0,0,0,0,0,0,0,0,0,0,0,0]
[null," V. Długoterminowe rozliczenia międzyokresowe",null,null,null,null,null,null,null,{"$f":"IF(LataProjekcji<=Koniec,ROUND('Koszty operacyjne'!J518,0),0)","v":0},{"$f":"IF(LataProjekcji<=Koniec,ROUND('Koszty operacyjne'!K518,0),0)","v":0},{"$f":"IF(LataProjekcji<=Koniec,ROUND('Koszty operacyjne'!L518,0),0)","v":0},{"$f":"IF(LataProjekcji<=Koniec,ROUND('Koszty operacyjne'!M518,0),0)","v":0},{"$f":"IF(LataProjekcji<=Koniec,ROUND('Koszty operacyjne'!N518,0),0)","v":0},{"$f":"IF(LataProjekcji<=Koniec,ROUND('Koszty operacyjne'!O518,0),0)","v":0},{"$f":"IF(LataProjekcji<=Koniec,ROUND('Koszty operacyjne'!P518,0),0)","v":0},{"$f":"IF(LataProjekcji<=Koniec,ROUND('Koszty operacyjne'!Q518,0),0)","v":0},{"$f":"IF(LataProjekcji<=Koniec,ROUND('Koszty operacyjne'!R518,0),0)","v":0},{"$f":"IF(LataProjekcji<=Koniec,ROUND('Koszty operacyjne'!S518,0),0)","v":0},{"$f":"IF(LataProjekcji<=Koniec,ROUND('Koszty operacyjne'!T518,0),0)","v":0},{"$f":"IF(LataProjekcji<=Koniec,ROUND('Koszty operacyjne'!U518,0),0)","v":0},{"$f":"IF(LataProjekcji<=Koniec,ROUND('Koszty operacyjne'!V518,0),0)","v":0},{"$f":"IF(LataProjekcji<=Koniec,ROUND('Koszty operacyjne'!W518,0),0)","v":0}]
[null,"B. Aktywa obrotowe","BAO",null,null,null,null,null,null,{"$f":"J210+J211+J213+J216","v":0},0,0,0,0,0,0,0,0,0,0,0,0,0]
[null," I. Zapasy ","BAOZ",null,null,null,null,null,null,{"$f":"IF(LataProjekcji<=Koniec,'Kapitał pracujący'!J71,0)","v":0},{"$f":"IF(LataProjekcji<=Koniec,'Kapitał pracujący'!K71,0)","v":0},{"$f":"IF(LataProjekcji<=Koniec,'Kapitał pracujący'!L71,0)","v":0},{"$f":"IF(LataProjekcji<=Koniec,'Kapitał pracujący'!M71,0)","v":0},{"$f":"IF(LataProjekcji<=Koniec,'Kapitał pracujący'!N71,0)","v":0},{"$f":"IF(LataProjekcji<=Koniec,'Kapitał pracujący'!O71,0)","v":0},{"$f":"IF(LataProjekcji<=Koniec,'Kapitał pracujący'!P71,0)","v":0},{"$f":"IF(LataProjekcji<=Koniec,'Kapitał pracujący'!Q71,0)","v":0},{"$f":"IF(LataProjekcji<=Koniec,'Kapitał pracujący'!R71,0)","v":0},{"$f":"IF(LataProjekcji<=Koniec,'Kapitał pracujący'!S71,0)","v":0},{"$f":"IF(LataProjekcji<=Koniec,'Kapitał pracujący'!T71,0)","v":0},{"$f":"IF(LataProjekcji<=Koniec,'Kapitał pracujący'!U71,0)","v":0},{"$f":"IF(LataProjekcji<=Koniec,'Kapitał pracujący'!V71,0)","v":0},{"$f":"IF(LataProjekcji<=Koniec,'Kapitał pracujący'!W71,0)","v":0}]
[null," II. Należności krótkoterminowe ",null,null,null,null,null,null,null,{"$f":"J212","v":0},{"$f":"K212","v":0},0,0,0,0,0,0,0,0,0,0,0,0]
[null,"  1. należności z tytułu dostaw i usług","BAONDU",null,null,null,null,null,null,{"$f":"IF(LataProjekcji<=Koniec,'Kapitał pracujący'!J80,0)","v":0},{"$f":"IF(LataProjekcji<=Koniec,'Kapitał pracujący'!K80,0)","v":0},{"$f":"IF(LataProjekcji<=Koniec,'Kapitał pracujący'!L80,0)","v":0},{"$f":"IF(LataProjekcji<=Koniec,'Kapitał pracujący'!M80,0)","v":0},{"$f":"IF(LataProjekcji<=Koniec,'Kapitał pracujący'!N80,0)","v":0},{"$f":"IF(LataProjekcji<=Koniec,'Kapitał pracujący'!O80,0)","v":0},{"$f":"IF(LataProjekcji<=Koniec,'Kapitał pracujący'!P80,0)","v":0},{"$f":"IF(LataProjekcji<=Koniec,'Kapitał pracujący'!Q80,0)","v":0},{"$f":"IF(LataProjekcji<=Koniec,'Kapitał pracujący'!R80,0)","v":0},{"$f":"IF(LataProjekcji<=Koniec,'Kapitał pracujący'!S80,0)","v":0},{"$f":"IF(LataProjekcji<=Koniec,'Kapitał pracujący'!T80,0)","v":0},{"$f":"IF(LataProjekcji<=Koniec,'Kapitał pracujący'!U80,0)","v":0},{"$f":"IF(LataProjekcji<=Koniec,'Kapitał pracujący'!V80,0)","v":0},{"$f":"IF(LataProjekcji<=Koniec,'Kapitał pracujący'!W80,0)","v":0}]
[null," III. Inwestycje krótkoterminowe",null,null,null,null,null,null,null,{"$f":"J214+J215","v":0},0,0,0,0,0,0,0,0,0,0,0,0,0]
[null,"  1. środki pieniężne",null,null,null,null,null,null,null,{"$f":"IF(LataProjekcji<=Koniec,J267-J215,0)","v":0},0,0,0,0,0,0,0,0,0,0,0,0,0]
[null,"  2. pozostałe inwestycje krótkoterminowe",null,null,null,null,null,null,null,{"$f":"IF(LataProjekcji<=Koniec,Finansowanie!J101,0)","v":0},{"$f":"IF(LataProjekcji<=Koniec,Finansowanie!K101,0)","v":0},{"$f":"IF(LataProjekcji<=Koniec,Finansowanie!L101,0)","v":0},{"$f":"IF(LataProjekcji<=Koniec,Finansowanie!M101,0)","v":0},{"$f":"IF(LataProjekcji<=Koniec,Finansowanie!N101,0)","v":0},{"$f":"IF(LataProjekcji<=Koniec,Finansowanie!O101,0)","v":0},{"$f":"IF(LataProjekcji<=Koniec,Finansowanie!P101,0)","v":0},{"$f":"IF(LataProjekcji<=Koniec,Finansowanie!Q101,0)","v":0},{"$f":"IF(LataProjekcji<=Koniec,Finansowanie!R101,0)","v":0},{"$f":"IF(LataProjekcji<=Koniec,Finansowanie!S101,0)","v":0},{"$f":"IF(LataProjekcji<=Koniec,Finansowanie!T101,0)","v":0},{"$f":"IF(LataProjekcji<=Koniec,Finansowanie!U101,0)","v":0},{"$f":"IF(LataProjekcji<=Koniec,Finansowanie!V101,0)","v":0},{"$f":"IF(LataProjekcji<=Koniec,Finansowanie!W101,0)","v":0}]
[null,"IV. Krótkoterminowe rozliczenia międzyokresowe",null,null,null,null,null,null,null,0,0,0,0,0,0,0,0,0,0,0,0,0,0]
[null,"Aktywa razem",null,null,null,null,null,null,null,{"$f":"J209+J191","v":0},0,0,0,0,0,0,0,0,0,0,0,0,0]
[]
[null,"Pasywa ",null,null,null,{"$f":"LataProjekcji","v":0},0,0,"","Uzupełnij dane","","","","","","","","","","","","",""]
[null,"C. Kapitał własny","BKW",null,null,null,null,null,null,{"$f":"SUM(J221:J225)","v":0},0,0,0,0,0,0,0,0,0,0,0,0,0]
[null," I. Kapitał podstawowy",null,null,null,null,null,null,null,{"$f":"IF(LataProjekcji<=Koniec,Finansowanie!J75,0)","v":0},{"$f":"IF(LataProjekcji<=Koniec,Finansowanie!K75,0)","v":0},{"$f":"IF(LataProjekcji<=Koniec,Finansowanie!L75,0)","v":0},{"$f":"IF(LataProjekcji<=Koniec,Finansowanie!M75,0)","v":0},{"$f":"IF(LataProjekcji<=Koniec,Finansowanie!N75,0)","v":0},{"$f":"IF(LataProjekcji<=Koniec,Finansowanie!O75,0)","v":0},{"$f":"IF(LataProjekcji<=Koniec,Finansowanie!P75,0)","v":0},{"$f":"IF(LataProjekcji<=Koniec,Finansowanie!Q75,0)","v":0},{"$f":"IF(LataProjekcji<=Koniec,Finansowanie!R75,0)","v":0},{"$f":"IF(LataProjekcji<=Koniec,Finansowanie!S75,0)","v":0},{"$f":"IF(LataProjekcji<=Koniec,Finansowanie!T75,0)","v":0},{"$f":"IF(LataProjekcji<=Koniec,Finansowanie!U75,0)","v":0},{"$f":"IF(LataProjekcji<=Koniec,Finansowanie!V75,0)","v":0},{"$f":"IF(LataProjekcji<=Koniec,Finansowanie!W75,0)","v":0}]
[null," Ia. Środki własne na finansowanie Projektu",null,null,null,null,null,null,null,{"$f":"Finansowanie!J81","v":0},{"$f":"Finansowanie!K81","v":0},{"$f":"Finansowanie!L81","v":0},{"$f":"Finansowanie!M81","v":0},{"$f":"Finansowanie!N81","v":0},{"$f":"Finansowanie!O81","v":0},{"$f":"Finansowanie!P81","v":0},{"$f":"Finansowanie!Q81","v":0},{"$f":"Finansowanie!R81","v":0},{"$f":"Finansowanie!S81","v":0},{"$f":"Finansowanie!T81","v":0},{"$f":"Finansowanie!U81","v":0},{"$f":"Finansowanie!V81","v":0},{"$f":"Finansowanie!W81","v":0}]
[null," II. Pozostały kapitał (zapasowy + rezerwowy+z aktualizacji wyceny)",null,null,null,null,null,null,null,0,0,0,0,0,0,0,0,0,0,0,0,0,0]
[null," III. Zysk (strata) z okresów poprzednich",null,null,null,null,null,null,null,{"$f":"IF(LataProjekcji<=Koniec,Finansowanie!J87,0)","v":0},{"$f":"IF(LataProjekcji<=Koniec,Finansowanie!K87,0)","v":0},{"$f":"IF(LataProjekcji<=Koniec,Finansowanie!L87,0)","v":0},{"$f":"IF(LataProjekcji<=Koniec,Finansowanie!M87,0)","v":0},{"$f":"IF(LataProjekcji<=Koniec,Finansowanie!N87,0)","v":0},{"$f":"IF(LataProjekcji<=Koniec,Finansowanie!O87,0)","v":0},{"$f":"IF(LataProjekcji<=Koniec,Finansowanie!P87,0)","v":0},{"$f":"IF(LataProjekcji<=Koniec,Finansowanie!Q87,0)","v":0},{"$f":"IF(LataProjekcji<=Koniec,Finansowanie!R87,0)","v":0},{"$f":"IF(LataProjekcji<=Koniec,Finansowanie!S87,0)","v":0},{"$f":"IF(LataProjekcji<=Koniec,Finansowanie!T87,0)","v":0},{"$f":"IF(LataProjekcji<=Koniec,Finansowanie!U87,0)","v":0},{"$f":"IF(LataProjekcji<=Koniec,Finansowanie!V87,0)","v":0},{"$f":"IF(LataProjekcji<=Koniec,Finansowanie!W87,0)","v":0}]
[null," IV. Zysk (strata) netto",null,null,null,null,null,null,null,{"$f":"J186","v":0},0,0,0,0,0,0,0,0,0,0,0,0,0]
[null,"B. Zobowiązania i rezerwy na zobowiązania ","BZIR",null,null,null,null,null,null,{"$f":"J227+J228+J231+J235","v":0},0,0,0,0,0,0,0,0,0,0,0,0,0]
[null," I. Rezerwy na zobowiązania ",null,null,null,null,null,null,null,0,0,0,0,0,0,0,0,0,0,0,0,0,0]
[null," II. Zobowiązania długoterminowe ",null,null,null,null,null,null,null,{"$f":"SUM(J229:J230)","v":0},{"$f":"SUM(K229:K230)","v":0},0,0,0,0,0,0,0,0,0,0,0,0]
[null,"  1. Kredyty i pożyczki",null,null,null,null,null,null,null,{"$f":"IF(LataProjekcji<=Koniec,IF((Finansowanie!J110+Finansowanie!J119-Finansowanie!K108-Finansowanie!K117)<0,0,Finansowanie!J110+Finansowanie!J119-Finansowanie!K108-Finansowanie!K117),0)","v":0},{"$f":"IF(LataProjekcji<=Koniec,IF((Finansowanie!K110+Finansowanie!K119-Finansowanie!L108-Finansowanie!L117)<0,0,Finansowanie!K110+Finansowanie!K119-Finansowanie!L108-Finansowanie!L117),0)","v":0},{"$f":"IF(LataProjekcji<=Koniec,IF((Finansowanie!L110+Finansowanie!L119-Finansowanie!M108-Finansowanie!M117)<0,0,Finansowanie!L110+Finansowanie!L119-Finansowanie!M108-Finansowanie!M117),0)","v":0},{"$f":"IF(LataProjekcji<=Koniec,IF((Finansowanie!M110+Finansowanie!M119-Finansowanie!N108-Finansowanie!N117)<0,0,Finansowanie!M110+Finansowanie!M119-Finansowanie!N108-Finansowanie!N117),0)","v":0},{"$f":"IF(LataProjekcji<=Koniec,IF((Finansowanie!N110+Finansowanie!N119-Finansowanie!O108-Finansowanie!O117)<0,0,Finansowanie!N110+Finansowanie!N119-Finansowanie!O108-Finansowanie!O117),0)","v":0},{"$f":"IF(LataProjekcji<=Koniec,IF((Finansowanie!O110+Finansowanie!O119-Finansowanie!P108-Finansowanie!P117)<0,0,Finansowanie!O110+Finansowanie!O119-Finansowanie!P108-Finansowanie!P117),0)","v":0},{"$f":"IF(LataProjekcji<=Koniec,IF((Finansowanie!P110+Finansowanie!P119-Finansowanie!Q108-Finansowanie!Q117)<0,0,Finansowanie!P110+Finansowanie!P119-Finansowanie!Q108-Finansowanie!Q117),0)","v":0},{"$f":"IF(LataProjekcji<=Koniec,IF((Finansowanie!Q110+Finansowanie!Q119-Finansowanie!R108-Finansowanie!R117)<0,0,Finansowanie!Q110+Finansowanie!Q119-Finansowanie!R108-Finansowanie!R117),0)","v":0},{"$f":"IF(LataProjekcji<=Koniec,IF((Finansowanie!R110+Finansowanie!R119-Finansowanie!S108-Finansowanie!S117)<0,0,Finansowanie!R110+Finansowanie!R119-Finansowanie!S108-Finansowanie!S117),0)","v":0},{"$f":"IF(LataProjekcji<=Koniec,IF((Finansowanie!S110+Finansowanie!S119-Finansowanie!T108-Finansowanie!T117)<0,0,Finansowanie!S110+Finansowanie!S119-Finansowanie!T108-Finansowanie!T117),0)","v":0},{"$f":"IF(LataProjekcji<=Koniec,IF((Finansowanie!T110+Finansowanie!T119-Finansowanie!U108-Finansowanie!U117)<0,0,Finansowanie!T110+Finansowanie!T119-Finansowanie!U108-Finansowanie!U117),0)","v":0},{"$f":"IF(LataProjekcji<=Koniec,IF((Finansowanie!U110+Finansowanie!U119-Finansowanie!V108-Finansowanie!V117)<0,0,Finansowanie!U110+Finansowanie!U119-Finansowanie!V108-Finansowanie!V117),0)","v":0},{"$f":"IF(LataProjekcji<=Koniec,IF((Finansowanie!V110+Finansowanie!V119-Finansowanie!W108-Finansowanie!W117)<0,0,Finansowanie!V110+Finansowanie!V119-Finansowanie!W108-Finansowanie!W117),0)","v":0},{"$f":"IF(LataProjekcji<=Koniec,IF((Finansowanie!W110+Finansowanie!W119-Finansowanie!X108-Finansowanie!X117)<0,0,Finansowanie!W110+Finansowanie!W119-Finansowanie!X108-Finansowanie!X117),0)","v":0}]
[null,"  2. Pozostałe",null,null,null,null,null,null,null,{"$f":"IF(LataProjekcji<=Koniec,IF(Finansowanie!J136-Finansowanie!K135<0,0,Finansowanie!J136-Finansowanie!K135),0)","v":0},{"$f":"IF(LataProjekcji<=Koniec,IF(Finansowanie!K136-Finansowanie!L135<0,0,Finansowanie!K136-Finansowanie!L135),0)","v":0},{"$f":"IF(LataProjekcji<=Koniec,IF(Finansowanie!L136-Finansowanie!M135<0,0,Finansowanie!L136-Finansowanie!M135),0)","v":0},{"$f":"IF(LataProjekcji<=Koniec,IF(Finansowanie!M136-Finansowanie!N135<0,0,Finansowanie!M136-Finansowanie!N135),0)","v":0},{"$f":"IF(LataProjekcji<=Koniec,IF(Finansowanie!N136-Finansowanie!O135<0,0,Finansowanie!N136-Finansowanie!O135),0)","v":0},{"$f":"IF(LataProjekcji<=Koniec,IF(Finansowanie!O136-Finansowanie!P135<0,0,Finansowanie!O136-Finansowanie!P135),0)","v":0},{"$f":"IF(LataProjekcji<=Koniec,IF(Finansowanie!P136-Finansowanie!Q135<0,0,Finansowanie!P136-Finansowanie!Q135),0)","v":0},{"$f":"IF(LataProjekcji<=Koniec,IF(Finansowanie!Q136-Finansowanie!R135<0,0,Finansowanie!Q136-Finansowanie!R135),0)","v":0},{"$f":"IF(LataProjekcji<=Koniec,IF(Finansowanie!R136-Finansowanie!S135<0,0,Finansowanie!R136-Finansowanie!S135),0)","v":0},{"$f":"IF(LataProjekcji<=Koniec,IF(Finansowanie!S136-Finansowanie!T135<0,0,Finansowanie!S136-Finansowanie!T135),0)","v":0},{"$f":"IF(LataProjekcji<=Koniec,IF(Finansowanie!T136-Finansowanie!U135<0,0,Finansowanie!T136-Finansowanie!U135),0)","v":0},{"$f":"IF(LataProjekcji<=Koniec,IF(Finansowanie!U136-Finansowanie!V135<0,0,Finansowanie!U136-Finansowanie!V135),0)","v":0},{"$f":"IF(LataProjekcji<=Koniec,IF(Finansowanie!V136-Finansowanie!W135<0,0,Finansowanie!V136-Finansowanie!W135),0)","v":0},{"$f":"IF(LataProjekcji<=Koniec,IF(Finansowanie!W136-Finansowanie!X135<0,0,Finansowanie!W136-Finansowanie!X135),0)","v":0}]
[null," III. Zobowiązania krótkoterminowe ",null,null,null,null,null,null,null,{"$f":"SUM(J232:J234)","v":0},{"$f":"SUM(K232:K234)","v":0},0,0,0,0,0,0,0,0,0,0,0,0]
[null,"  1. Z tytułu dostaw i usług","BZKDU",null,null,null,null,null,null,{"$f":"IF(LataProjekcji<=Koniec,'Kapitał pracujący'!J89,0)","v":0},{"$f":"IF(LataProjekcji<=Koniec,'Kapitał pracujący'!K89,0)","v":0},{"$f":"IF(LataProjekcji<=Koniec,'Kapitał pracujący'!L89,0)","v":0},{"$f":"IF(LataProjekcji<=Koniec,'Kapitał pracujący'!M89,0)","v":0},{"$f":"IF(LataProjekcji<=Koniec,'Kapitał pracujący'!N89,0)","v":0},{"$f":"IF(LataProjekcji<=Koniec,'Kapitał pracujący'!O89,0)","v":0},{"$f":"IF(LataProjekcji<=Koniec,'Kapitał pracujący'!P89,0)","v":0},{"$f":"IF(LataProjekcji<=Koniec,'Kapitał pracujący'!Q89,0)","v":0},{"$f":"IF(LataProjekcji<=Koniec,'Kapitał pracujący'!R89,0)","v":0},{"$f":"IF(LataProjekcji<=Koniec,'Kapitał pracujący'!S89,0)","v":0},{"$f":"IF(LataProjekcji<=Koniec,'Kapitał pracujący'!T89,0)","v":0},{"$f":"IF(LataProjekcji<=Koniec,'Kapitał pracujący'!U89,0)","v":0},{"$f":"IF(LataProjekcji<=Koniec,'Kapitał pracujący'!V89,0)","v":0},{"$f":"IF(LataProjekcji<=Koniec,'Kapitał pracujący'!W89,0)","v":0}]
[null,"  2. Kredyty i pożyczki",null,null,null,null,null,null,null,{"$f":"IF(LataProjekcji<=Koniec,IF(Finansowanie!J128<0,0,Finansowanie!J128),0)","v":0},{"$f":"IF(LataProjekcji<=Koniec,IF(Finansowanie!K128<0,0,Finansowanie!K128),0)","v":0},{"$f":"IF(LataProjekcji<=Koniec,IF(Finansowanie!L128<0,0,Finansowanie!L128),0)","v":0},{"$f":"IF(LataProjekcji<=Koniec,IF(Finansowanie!M128<0,0,Finansowanie!M128),0)","v":0},{"$f":"IF(LataProjekcji<=Koniec,IF(Finansowanie!N128<0,0,Finansowanie!N128),0)","v":0},{"$f":"IF(LataProjekcji<=Koniec,IF(Finansowanie!O128<0,0,Finansowanie!O128),0)","v":0},{"$f":"IF(LataProjekcji<=Koniec,IF(Finansowanie!P128<0,0,Finansowanie!P128),0)","v":0},{"$f":"IF(LataProjekcji<=Koniec,IF(Finansowanie!Q128<0,0,Finansowanie!Q128),0)","v":0},{"$f":"IF(LataProjekcji<=Koniec,IF(Finansowanie!R128<0,0,Finansowanie!R128),0)","v":0},{"$f":"IF(LataProjekcji<=Koniec,IF(Finansowanie!S128<0,0,Finansowanie!S128),0)","v":0},{"$f":"IF(LataProjekcji<=Koniec,IF(Finansowanie!T128<0,0,Finansowanie!T128),0)","v":0},{"$f":"IF(LataProjekcji<=Koniec,IF(Finansowanie!U128<0,0,Finansowanie!U128),0)","v":0},{"$f":"IF(LataProjekcji<=Koniec,IF(Finansowanie!V128<0,0,Finansowanie!V128),0)","v":0},{"$f":"IF(LataProjekcji<=Koniec,IF(Finansowanie!W128<0,0,Finansowanie!W128),0)","v":0}]
[null,"  3. Pozostałe",null,null,null,null,null,null,null,{"$f":"IF(LataProjekcji<=Koniec,IF(OR(Finansowanie!J136<=0,Finansowanie!K135<0),0,Finansowanie!K135),0)","v":0},{"$f":"IF(LataProjekcji<=Koniec,IF(OR(Finansowanie!K136<=0,Finansowanie!L135<0),0,Finansowanie!L135),0)","v":0},{"$f":"IF(LataProjekcji<=Koniec,IF(OR(Finansowanie!L136<=0,Finansowanie!M135<0),0,Finansowanie!M135),0)","v":0},{"$f":"IF(LataProjekcji<=Koniec,IF(OR(Finansowanie!M136<=0,Finansowanie!N135<0),0,Finansowanie!N135),0)","v":0},{"$f":"IF(LataProjekcji<=Koniec,IF(OR(Finansowanie!N136<=0,Finansowanie!O135<0),0,Finansowanie!O135),0)","v":0},{"$f":"IF(LataProjekcji<=Koniec,IF(OR(Finansowanie!O136<=0,Finansowanie!P135<0),0,Finansowanie!P135),0)","v":0},{"$f":"IF(LataProjekcji<=Koniec,IF(OR(Finansowanie!P136<=0,Finansowanie!Q135<0),0,Finansowanie!Q135),0)","v":0},{"$f":"IF(LataProjekcji<=Koniec,IF(OR(Finansowanie!Q136<=0,Finansowanie!R135<0),0,Finansowanie!R135),0)","v":0},{"$f":"IF(LataProjekcji<=Koniec,IF(OR(Finansowanie!R136<=0,Finansowanie!S135<0),0,Finansowanie!S135),0)","v":0},{"$f":"IF(LataProjekcji<=Koniec,IF(OR(Finansowanie!S136<=0,Finansowanie!T135<0),0,Finansowanie!T135),0)","v":0},{"$f":"IF(LataProjekcji<=Koniec,IF(OR(Finansowanie!T136<=0,Finansowanie!U135<0),0,Finansowanie!U135),0)","v":0},{"$f":"IF(LataProjekcji<=Koniec,IF(OR(Finansowanie!U136<=0,Finansowanie!V135<0),0,Finansowanie!V135),0)","v":0},{"$f":"IF(LataProjekcji<=Koniec,IF(OR(Finansowanie!V136<=0,Finansowanie!W135<0),0,Finansowanie!W135),0)","v":0},{"$f":"IF(LataProjekcji<=Koniec,IF(OR(Finansowanie!W136<=0,Finansowanie!X135<0),0,Finansowanie!X135),0)","v":0}]
[null," IV. Rozliczenia międzyokresowe",null,null,null,null,null,null,null,{"$f":"J236+J237","v":0},0,0,0,0,0,0,0,0,0,0,0,0,0]
[null,"  1. Dotacje",null,null,null,null,null,null,null,{"$f":"IF(LataProjekcji<=Koniec,'Rozliczenie dotacji'!J433,0)","v":0},{"$f":"IF(LataProjekcji<=Koniec,'Rozliczenie dotacji'!K433,0)","v":0},{"$f":"IF(LataProjekcji<=Koniec,'Rozliczenie dotacji'!L433,0)","v":0},{"$f":"IF(LataProjekcji<=Koniec,'Rozliczenie dotacji'!M433,0)","v":0},{"$f":"IF(LataProjekcji<=Koniec,'Rozliczenie dotacji'!N433,0)","v":0},{"$f":"IF(LataProjekcji<=Koniec,'Rozliczenie dotacji'!O433,0)","v":0},{"$f":"IF(LataProjekcji<=Koniec,'Rozliczenie dotacji'!P433,0)","v":0},{"$f":"IF(LataProjekcji<=Koniec,'Rozliczenie dotacji'!Q433,0)","v":0},{"$f":"IF(LataProjekcji<=Koniec,'Rozliczenie dotacji'!R433,0)","v":0},{"$f":"IF(LataProjekcji<=Koniec,'Rozliczenie dotacji'!S433,0)","v":0},{"$f":"IF(LataProjekcji<=Koniec,'Rozliczenie dotacji'!T433,0)","v":0},{"$f":"IF(LataProjekcji<=Koniec,'Rozliczenie dotacji'!U433,0)","v":0},{"$f":"IF(LataProjekcji<=Koniec,'Rozliczenie dotacji'!V433,0)","v":0},{"$f":"IF(LataProjekcji<=Koniec,'Rozliczenie dotacji'!W433,0)","v":0}]
[null,"  2. Pozostałe",null,null,null,null,null,null,null,0,0,0,0,0,0,0,0,0,0,0,0,0,0]
[null,"Pasywa razem",null,null,null,null,null,null,null,{"$f":"J226+J220","v":0},0,0,0,0,0,0,0,0,0,0,0,0,0]
[null,"sprawdzenie",null,null,null,null,null,null,null,{"$f":"J238=J217","v":true},true,true,true,true,true,true,true,true,true,true,true,true,true]
[null,null,null,null,null,null,null,null,null,{"$f":"J217-J238","v":0},0,0,0,0,0,0,0,0,0,0,0,0,0]
[]
[null,"Rachunek przepływów pieniężnych",null,null,null,{"$f":"LataProjekcji","v":0},0,0,"","Uzupełnij dane","","","","","","","","","","","","",""]
[null,"I. Przepływy środków pieniężnych z działalności operacyjnej",null,null,null,null,null,null,null,{"$f":"ROUND(SUM(J244:J250),0)","v":0},{"$f":"ROUND(SUM(K244:K250),0)","v":0},0,0,0,0,0,0,0,0,0,0,0,0]
[null,"  1. Zysk (strata) netto ",null,null,null,null,null,null,null,{"$f":"IF(LataProjekcji<=Koniec,J186,0)","v":0},0,0,0,0,0,0,0,0,0,0,0,0,0]
[null,"  2. Amortyzacja ",null,null,null,null,null,null,null,{"$f":"IF(LataProjekcji<=Koniec,J165,0)","v":0},0,0,0,0,0,0,0,0,0,0,0,0,0]
[null,"  3. Zmiana stanu zapasów ",null,null,null,null,null,null,null,{"$f":"IF(LataProjekcji<=Koniec,I210-J210,0)","v":0},0,0,0,0,0,0,0,0,0,0,0,0,0]
[null,"  4. Zmiana stanu należności ",null,null,null,null,null,null,null,{"$f":"IF(LataProjekcji<=Koniec,I211-J211,0)","v":0},0,0,0,0,0,0,0,0,0,0,0,0,0]
[null,"  5. Zmiana stanu zobowiązań krótkoterminowych, z wyjątkiem pożyczek i kredytów ",null,null,null,null,null,null,null,{"$f":"IF(LataProjekcji<=Koniec,(J231-I231)-(J233-I233)-(J234-I234),0)","v":0},0,0,0,0,0,0,0,0,0,0,0,0,0]
[null,"  6. Zmiana stanu rozliczeń międzyokresowych",null,null,null,null,null,null,null,{"$f":"IF(LataProjekcji<=Koniec,(H216-J216)+(J235-H235)-J261,0)","v":0},{"$f":"IF(LataProjekcji<=Koniec,(J216-K216)+(K235-J235)-K261,0)","v":0},0,0,0,0,0,0,0,0,0,0,0,0]
[null,"  7. Inne korekty ",null,null,null,null,null,null,null,0,0,0,0,0,0,0,0,0,0,0,0,0,0]
[]
[null,"II. Przepływy środków pieniężnych z działalności inwestycyjnej",null,null,null,null,null,null,null,{"$f":"ROUND(SUM(J253:J254),0)","v":0},{"$f":"ROUND(SUM(K253:K254),0)","v":0},0,0,0,0,0,0,0,0,0,0,0,0]
[null,"  1. Rzeczowe aktywa trwałe i WNiP",null,null,null,null,null,null,null,{"$f":"-(NPV!J71+NPV!J95)","v":0},{"$f":"-(NPV!K71+NPV!K95)","v":0},{"$f":"-(NPV!L71+NPV!L95)","v":0},{"$f":"-(NPV!M71+NPV!M95)","v":0},{"$f":"-(NPV!N71+NPV!N95)","v":0},{"$f":"-(NPV!O71+NPV!O95)","v":0},{"$f":"-(NPV!P71+NPV!P95)","v":0},{"$f":"-(NPV!Q71+NPV!Q95)","v":0},{"$f":"-(NPV!R71+NPV!R95)","v":0},{"$f":"-(NPV!S71+NPV!S95)","v":0},{"$f":"-(NPV!T71+NPV!T95)","v":0},{"$f":"-(NPV!U71+NPV!U95)","v":0},{"$f":"-(NPV!V71+NPV!V95)","v":0},{"$f":"-(NPV!W71+NPV!W95)","v":0}]
[null,"  2. Pozostałe aktywa trwałe ",null,null,null,null,null,null,null,0,0,0,0,0,0,0,0,0,0,0,0,0,0]
[]
[null,"III. Przepływy środków pieniężnych z działalności finansowej",null,null,null,null,null,null,null,{"$f":"SUM(J257:J263)","v":0},{"$f":"SUM(K257:K263)","v":0},0,0,0,0,0,0,0,0,0,0,0,0]
[null,"  1. Kredyty i pożyczki krótkoterminowe ",null,null,null,null,null,null,null,{"$f":"(J233-H233)","v":0},{"$f":"(K233-J233)","v":0},{"$f":"(L233-K233)","v":0},0,0,0,0,0,0,0,0,0,0,0]
[null,"  2. Kredyty i pożyczki długoterminowe",null,null,null,null,null,null,null,{"$f":"J229-H229","v":0},{"$f":"K229-J229","v":0},{"$f":"L229-K229","v":0},0,0,0,0,0,0,0,0,0,0,0]
[null,"  3. Dywidendy",null,null,null,null,null,null,null,{"$f":"IF(LataProjekcji<=Koniec,-Finansowanie!J86,0)","v":0},{"$f":"IF(LataProjekcji<=Koniec,-Finansowanie!K86,0)","v":0},{"$f":"IF(LataProjekcji<=Koniec,-Finansowanie!L86,0)","v":0},{"$f":"IF(LataProjekcji<=Koniec,-Finansowanie!M86,0)","v":0},{"$f":"IF(LataProjekcji<=Koniec,-Finansowanie!N86,0)","v":0},{"$f":"IF(LataProjekcji<=Koniec,-Finansowanie!O86,0)","v":0},{"$f":"IF(LataProjekcji<=Koniec,-Finansowanie!P86,0)","v":0},{"$f":"IF(LataProjekcji<=Koniec,-Finansowanie!Q86,0)","v":0},{"$f":"IF(LataProjekcji<=Koniec,-Finansowanie!R86,0)","v":0},{"$f":"IF(LataProjekcji<=Koniec,-Finansowanie!S86,0)","v":0},{"$f":"IF(LataProjekcji<=Koniec,-Finansowanie!T86,0)","v":0},{"$f":"IF(LataProjekcji<=Koniec,-Finansowanie!U86,0)","v":0},{"$f":"IF(LataProjekcji<=Koniec,-Finansowanie!V86,0)","v":0},{"$f":"IF(LataProjekcji<=Koniec,-Finansowanie!W86,0)","v":0}]
[null,"  4. Dopłaty do kapitału własnego",null,null,null,null,null,null,null,{"$f":"IF(LataProjekcji<=Koniec,Finansowanie!J74,0)","v":0},{"$f":"IF(LataProjekcji<=Koniec,Finansowanie!K74,0)","v":0},{"$f":"IF(LataProjekcji<=Koniec,Finansowanie!L74,0)","v":0},{"$f":"IF(LataProjekcji<=Koniec,Finansowanie!M74,0)","v":0},{"$f":"IF(LataProjekcji<=Koniec,Finansowanie!N74,0)","v":0},{"$f":"IF(LataProjekcji<=Koniec,Finansowanie!O74,0)","v":0},{"$f":"IF(LataProjekcji<=Koniec,Finansowanie!P74,0)","v":0},{"$f":"IF(LataProjekcji<=Koniec,Finansowanie!Q74,0)","v":0},{"$f":"IF(LataProjekcji<=Koniec,Finansowanie!R74,0)","v":0},{"$f":"IF(LataProjekcji<=Koniec,Finansowanie!S74,0)","v":0},{"$f":"IF(LataProjekcji<=Koniec,Finansowanie!T74,0)","v":0},{"$f":"IF(LataProjekcji<=Koniec,Finansowanie!U74,0)","v":0},{"$f":"IF(LataProjekcji<=Koniec,Finansowanie!V74,0)","v":0},{"$f":"IF(LataProjekcji<=Koniec,Finansowanie!W74,0)","v":0}]
[null,"  5. Dotacje",null,null,null,null,null,null,null,{"$f":"IF(LataProjekcji<=Koniec,NPV!J18,0)","v":0},{"$f":"IF(LataProjekcji<=Koniec,NPV!K18,0)","v":0},{"$f":"IF(LataProjekcji<=Koniec,NPV!L18,0)","v":0},{"$f":"IF(LataProjekcji<=Koniec,NPV!M18,0)","v":0},{"$f":"IF(LataProjekcji<=Koniec,NPV!N18,0)","v":0},{"$f":"IF(LataProjekcji<=Koniec,NPV!O18,0)","v":0},{"$f":"IF(LataProjekcji<=Koniec,NPV!P18,0)","v":0},{"$f":"IF(LataProjekcji<=Koniec,NPV!Q18,0)","v":0},{"$f":"IF(LataProjekcji<=Koniec,NPV!R18,0)","v":0},{"$f":"IF(LataProjekcji<=Koniec,NPV!S18,0)","v":0},{"$f":"IF(LataProjekcji<=Koniec,NPV!T18,0)","v":0},{"$f":"IF(LataProjekcji<=Koniec,NPV!U18,0)","v":0},{"$f":"IF(LataProjekcji<=Koniec,NPV!V18,0)","v":0},{"$f":"IF(LataProjekcji<=Koniec,NPV!W18,0)","v":0}]
[null,"  6. Pozostałe",null,null,null,null,null,null,null,{"$f":"IF(LataProjekcji<=Koniec,IF(Finansowanie!J136<0,0,Finansowanie!J134-Finansowanie!J135),0)","v":0},{"$f":"IF(LataProjekcji<=Koniec,IF(Finansowanie!K136<0,0,Finansowanie!K134-Finansowanie!K135),0)","v":0},{"$f":"IF(LataProjekcji<=Koniec,IF(Finansowanie!L136<0,0,Finansowanie!L134-Finansowanie!L135),0)","v":0},{"$f":"IF(LataProjekcji<=Koniec,IF(Finansowanie!M136<0,0,Finansowanie!M134-Finansowanie!M135),0)","v":0},{"$f":"IF(LataProjekcji<=Koniec,IF(Finansowanie!N136<0,0,Finansowanie!N134-Finansowanie!N135),0)","v":0},{"$f":"IF(LataProjekcji<=Koniec,IF(Finansowanie!O136<0,0,Finansowanie!O134-Finansowanie!O135),0)","v":0},{"$f":"IF(LataProjekcji<=Koniec,IF(Finansowanie!P136<0,0,Finansowanie!P134-Finansowanie!P135),0)","v":0},{"$f":"IF(LataProjekcji<=Koniec,IF(Finansowanie!Q136<0,0,Finansowanie!Q134-Finansowanie!Q135),0)","v":0},{"$f":"IF(LataProjekcji<=Koniec,IF(Finansowanie!R136<0,0,Finansowanie!R134-Finansowanie!R135),0)","v":0},{"$f":"IF(LataProjekcji<=Koniec,IF(Finansowanie!S136<0,0,Finansowanie!S134-Finansowanie!S135),0)","v":0},{"$f":"IF(LataProjekcji<=Koniec,IF(Finansowanie!T136<0,0,Finansowanie!T134-Finansowanie!T135),0)","v":0},{"$f":"IF(LataProjekcji<=Koniec,IF(Finansowanie!U136<0,0,Finansowanie!U134-Finansowanie!U135),0)","v":0},{"$f":"IF(LataProjekcji<=Koniec,IF(Finansowanie!V136<0,0,Finansowanie!V134-Finansowanie!V135),0)","v":0},{"$f":"IF(LataProjekcji<=Koniec,IF(Finansowanie!W136<0,0,Finansowanie!W134-Finansowanie!W135),0)","v":0}]
[null,"  7. Środki własne na finansowanie Projektu",null,null,null,null,null,null,null,{"$f":"Finansowanie!J80","v":0},{"$f":"Finansowanie!K80","v":0},{"$f":"Finansowanie!L80","v":0},{"$f":"Finansowanie!M80","v":0},{"$f":"Finansowanie!N80","v":0},{"$f":"Finansowanie!O80","v":0},{"$f":"Finansowanie!P80","v":0},{"$f":"Finansowanie!Q80","v":0},{"$f":"Finansowanie!R80","v":0},{"$f":"Finansowanie!S80","v":0},{"$f":"Finansowanie!T80","v":0},{"$f":"Finansowanie!U80","v":0},{"$f":"Finansowanie!V80","v":0},{"$f":"Finansowanie!W80","v":0}]
[]
[null,"Przepływy pieniężne netto razem ",null,null,null,null,null,null,null,{"$f":"IF(LataProjekcji<=Koniec,J243+J252+J256,0)","v":0},{"$f":"K243+K252+K256","v":0},0,0,0,0,0,0,0,0,0,0,0,0]
[null,"Środki pieniężne na początek okresu",null,null,null,null,null,null,null,0,{"$f":"IF(LataProjekcji<=Koniec,J267,0)","v":0},0,0,0,0,0,0,0,0,0,0,0,0]
[null,"Środki pieniężne na koniec okresu ",null,null,null,null,null,null,null,{"$f":"IF(LataProjekcji<=Koniec,J265+J266,)","v":0},0,0,0,0,0,0,0,0,0,0,0,0,0]
[null,null,null,null,null,null,null,null,null,{"$f":"J267=J213","v":true},{"$f":"K267=K213","v":true},true,true,true,true,true,true,true,true,true,true,true,true]
[null,null,null,null,null,null,null,null,null,{"$f":"J267-J213","v":0},{"$f":"K267-K213","v":0},0,0,0,0,0,0,0,0,0,0,0,0]
[]
[null,"Ocena wskaźnikowa projektowanej działalności",null,null,null,{"$f":"LataProjekcji","v":0},0,0,"","Uzupełnij dane","","","","","","","","","","","","",""]
[]
[null,"I. Wskaźniki rentowności"]
[null,"  1. rentowność sprzedaży (ROS)",">=1,50%","<0%",null,null,null,null,null,{"$f":"IFERROR(ROUND((J173/J159),4),\"bd.\")","v":"bd."},"bd.","bd.","bd.","bd.","bd.","bd.","bd.","bd.","bd.","bd.","bd.","bd.","bd."]
[null,"  2. rentowność netto",">=1,00%","<0%",null,null,null,null,null,{"$f":"IFERROR(ROUND((J186/J159),4),\"bd.\")","v":"bd."},"bd.","bd.","bd.","bd.","bd.","bd.","bd.","bd.","bd.","bd.","bd.","bd.","bd."]
[null,"  3. zwrot na aktywach (ROA)",">=10,00%","<=3%",null,null,null,null,null,{"$f":"IFERROR(ROUND((J186/J217),4),\"bd.\")","v":"bd."},"bd.","bd.","bd.","bd.","bd.","bd.","bd.","bd.","bd.","bd.","bd.","bd.","bd."]
[]
[null,"II. Wskaźniki struktury pasywów i obsługi zadłużenia"]
[null,"  1. wskaźnik udziału kapitałów własnych",">=50%","<20%",null,null,null,null,null,{"$f":"IFERROR(ROUND(J220/J238,4),\"bd.\")","v":"bd."},"bd.","bd.","bd.","bd.","bd.","bd.","bd.","bd.","bd.","bd.","bd.","bd.","bd."]
[null,"  2. pokrycie majątku trwałego kapitałem stałym",">=100%","<=80%",null,null,null,null,null,{"$f":"IFERROR(ROUND((J220+J228+J227+J235)/J191,4),\"bd.\")","v":"bd."},"bd.","bd.","bd.","bd.","bd.","bd.","bd.","bd.","bd.","bd.","bd.","bd.","bd."]
[null,"  3. wskaźnik zadłużenia","50-70%","<=80%",null,null,null,null,null,{"$f":"IFERROR(ROUND(J226/J238,4),\"bd.\")","v":"bd."},"bd.","bd.","bd.","bd.","bd.","bd.","bd.","bd.","bd.","bd.","bd.","bd.","bd."]
[null,"  4. wskaźnik obsługi długu",">=1,3","<1,0",null,null,null,null,null,{"$f":"IFERROR(ROUND((J186+J165+J180+J184)/(J180+Finansowanie!J108+Finansowanie!J117+Finansowanie!J126),4),\"bd.\")","v":"bd."},{"$f":"IFERROR(ROUND((K186+K165+K180+K184)/(K180+Finansowanie!K108+Finansowanie!K117+Finansowanie!K126),4),\"bd.\")","v":"bd."},{"$f":"IFERROR(ROUND((L186+L165+L180+L184)/(L180+Finansowanie!L108+Finansowanie!L117+Finansowanie!L126),4),\"bd.\")","v":"bd."},{"$f":"IFERROR(ROUND((M186+M165+M180+M184)/(M180+Finansowanie!M108+Finansowanie!M117+Finansowanie!M126),4),\"bd.\")","v":"bd."},{"$f":"IFERROR(ROUND((N186+N165+N180+N184)/(N180+Finansowanie!N108+Finansowanie!N117+Finansowanie!N126),4),\"bd.\")","v":"bd."},{"$f":"IFERROR(ROUND((O186+O165+O180+O184)/(O180+Finansowanie!O108+Finansowanie!O117+Finansowanie!O126),4),\"bd.\")","v":"bd."},{"$f":"IFERROR(ROUND((P186+P165+P180+P184)/(P180+Finansowanie!P108+Finansowanie!P117+Finansowanie!P126),4),\"bd.\")","v":"bd."},{"$f":"IFERROR(ROUND((Q186+Q165+Q180+Q184)/(Q180+Finansowanie!Q108+Finansowanie!Q117+Finansowanie!Q126),4),\"bd.\")","v":"bd."},{"$f":"IFERROR(ROUND((R186+R165+R180+R184)/(R180+Finansowanie!R108+Finansowanie!R117+Finansowanie!R126),4),\"bd.\")","v":"bd."},{"$f":"IFERROR(ROUND((S186+S165+S180+S184)/(S180+Finansowanie!S108+Finansowanie!S117+Finansowanie!S126),4),\"bd.\")","v":"bd."},{"$f":"IFERROR(ROUND((T186+T165+T180+T184)/(T180+Finansowanie!T108+Finansowanie!T117+Finansowanie!T126),4),\"bd.\")","v":"bd."},{"$f":"IFERROR(ROUND((U186+U165+U180+U184)/(U180+Finansowanie!U108+Finansowanie!U117+Finansowanie!U126),4),\"bd.\")","v":"bd."},{"$f":"IFERROR(ROUND((V186+V165+V180+V184)/(V180+Finansowanie!V108+Finansowanie!V117+Finansowanie!V126),4),\"bd.\")","v":"bd."},{"$f":"IFERROR(ROUND((W186+W165+W180+W184)/(W180+Finansowanie!W108+Finansowanie!W117+Finansowanie!W126),4),\"bd.\")","v":"bd."}]
[]
[null,"III. Wskaźniki płynności"]
[null,"  1. płynność bieżąca","1,2-1,5","<1,0",null,null,null,null,null,{"$f":"IFERROR(ROUND(J209/J231,4),\"bd.\")","v":"bd."},"bd.","bd.","bd.","bd.","bd.","bd.","bd.","bd.","bd.","bd.","bd.","bd.","bd."]
[null,"  2. płynność szybka","1,0-1,2","<0,8",null,null,null,null,null,{"$f":"IFERROR(ROUND((J209-J210)/J231,4),\"bd.\")","v":"bd."},"bd.","bd.","bd.","bd.","bd.","bd.","bd.","bd.","bd.","bd.","bd.","bd.","bd."]
[]
[null,"IV. Wskaźniki rotacji majątku"]
[null,"  1. cykl rotacji zapasów",null,null,null,null,null,null,null,{"$f":"IFERROR(ROUND((J210/J164)*dni,0),\"bd.\")","v":"bd."},"bd.","bd.","bd.","bd.","bd.","bd.","bd.","bd.","bd.","bd.","bd.","bd.","bd."]
[null,"  2. cykl rotacji należności",null,null,null,null,null,null,null,{"$f":"IFERROR(ROUND((J212/J159)*dni,0),\"bd.\")","v":"bd."},"bd.","bd.","bd.","bd.","bd.","bd.","bd.","bd.","bd.","bd.","bd.","bd.","bd."]
[null,"  3. cykl rotacji zobowiązań",null,null,null,null,null,null,null,{"$f":"IFERROR(ROUND((J232/J164)*dni,0),\"bd.\")","v":"bd."},"bd.","bd.","bd.","bd.","bd.","bd.","bd.","bd.","bd.","bd.","bd.","bd.","bd."]
[]
[null,"V. Dodatkowe wskaźniki (przedsiębiorstwa inne niż MSP)"]
[null,"  1. księgowy stosunek kapitału obcego do kapitału własnego","<=1,0",">7,5",null,null,null,null,null,{"$f":"IF(Założenia!$C$148=TRUE,\"n/d\",IFERROR(ROUND(J226/J220,1),\"bd.\"))","v":"bd."},{"$f":"IF(Założenia!$C$148=TRUE,\"n/d\",IFERROR(ROUND(K226/K220,1),\"bd.\"))","v":"bd."},{"$f":"IF(Założenia!$C$148=TRUE,\"n/d\",IFERROR(ROUND(L226/L220,1),\"bd.\"))","v":"bd."},{"$f":"IF(Założenia!$C$148=TRUE,\"n/d\",IFERROR(ROUND(M226/M220,1),\"bd.\"))","v":"bd."},{"$f":"IF(Założenia!$C$148=TRUE,\"n/d\",IFERROR(ROUND(N226/N220,1),\"bd.\"))","v":"bd."},{"$f":"IF(Założenia!$C$148=TRUE,\"n/d\",IFERROR(ROUND(O226/O220,1),\"bd.\"))","v":"bd."},{"$f":"IF(Założenia!$C$148=TRUE,\"n/d\",IFERROR(ROUND(P226/P220,1),\"bd.\"))","v":"bd."},{"$f":"IF(Założenia!$C$148=TRUE,\"n/d\",IFERROR(ROUND(Q226/Q220,1),\"bd.\"))","v":"bd."},{"$f":"IF(Założenia!$C$148=TRUE,\"n/d\",IFERROR(ROUND(R226/R220,1),\"bd.\"))","v":"bd."},{"$f":"IF(Założenia!$C$148=TRUE,\"n/d\",IFERROR(ROUND(S226/S220,1),\"bd.\"))","v":"bd."},{"$f":"IF(Założenia!$C$148=TRUE,\"n/d\",IFERROR(ROUND(T226/T220,1),\"bd.\"))","v":"bd."},{"$f":"IF(Założenia!$C$148=TRUE,\"n/d\",IFERROR(ROUND(U226/U220,1),\"bd.\"))","v":"bd."},{"$f":"IF(Założenia!$C$148=TRUE,\"n/d\",IFERROR(ROUND(V226/V220,1),\"bd.\"))","v":"bd."},{"$f":"IF(Założenia!$C$148=TRUE,\"n/d\",IFERROR(ROUND(W226/W220,1),\"bd.\"))","v":"bd."}]
[null,"  2. wskaźnik relacji pokrycia odsetek do EBITDA",">=3,0","<1,0",null,null,null,null,null,{"$f":"IF(Założenia!$C$148=TRUE,\"n/d\",IFERROR(ROUND((J177+J165)/J180,1),\"bd.\"))","v":"bd."},{"$f":"IF(Założenia!$C$148=TRUE,\"n/d\",IFERROR(ROUND((K177+K165)/K180,1),\"bd.\"))","v":"bd."},{"$f":"IF(Założenia!$C$148=TRUE,\"n/d\",IFERROR(ROUND((L177+L165)/L180,1),\"bd.\"))","v":"bd."},{"$f":"IF(Założenia!$C$148=TRUE,\"n/d\",IFERROR(ROUND((M177+M165)/M180,1),\"bd.\"))","v":"bd."},{"$f":"IF(Założenia!$C$148=TRUE,\"n/d\",IFERROR(ROUND((N177+N165)/N180,1),\"bd.\"))","v":"bd."},{"$f":"IF(Założenia!$C$148=TRUE,\"n/d\",IFERROR(ROUND((O177+O165)/O180,1),\"bd.\"))","v":"bd."},{"$f":"IF(Założenia!$C$148=TRUE,\"n/d\",IFERROR(ROUND((P177+P165)/P180,1),\"bd.\"))","v":"bd."},{"$f":"IF(Założenia!$C$148=TRUE,\"n/d\",IFERROR(ROUND((Q177+Q165)/Q180,1),\"bd.\"))","v":"bd."},{"$f":"IF(Założenia!$C$148=TRUE,\"n/d\",IFERROR(ROUND((R177+R165)/R180,1),\"bd.\"))","v":"bd."},{"$f":"IF(Założenia!$C$148=TRUE,\"n/d\",IFERROR(ROUND((S177+S165)/S180,1),\"bd.\"))","v":"bd."},{"$f":"IF(Założenia!$C$148=TRUE,\"n/d\",IFERROR(ROUND((T177+T165)/T180,1),\"bd.\"))","v":"bd."},{"$f":"IF(Założenia!$C$148=TRUE,\"n/d\",IFERROR(ROUND((U177+U165)/U180,1),\"bd.\"))","v":"bd."},{"$f":"IF(Założenia!$C$148=TRUE,\"n/d\",IFERROR(ROUND((V177+V165)/V180,1),\"bd.\"))","v":"bd."},{"$f":"IF(Założenia!$C$148=TRUE,\"n/d\",IFERROR(ROUND((W177+W165)/W180,1),\"bd.\"))","v":"bd."}]
[]
[]
[]
[]
[null,"Działalność dotychczasowa i Projekt",null,null,null,{"$f":"LataProjekcji","v":0},0,0,"","Uzupełnij dane","","","","","","","","","","","","",""]
[]
[null,"Rachunek zysków i strat"]
[null,"A. Przychody netto ze sprzedaży ","RP",null,null,{"$f":"SUM(F304:F307)","v":0},{"$f":"SUM(G304:G307)","v":0},0,0,0,0,0,0,0,0,0,0,0,0,0,0,0,0]
[null," I. Przychody netto ze sprzedaży produktów ",null,null,null,{"$f":"F16+F160","v":0},0,0,0,0,0,0,0,0,0,0,0,0,0,0,0,0,0]
[null," II. Zmiana stanu produktów ([+] zwiększenie / [-] zmniejszenie)",null,null,null,{"$f":"F17+F161","v":0},0,0,0,0,0,0,0,0,0,0,0,0,0,0,0,0,0]
[null," III. Koszt wytworzenia produktów na własne potrzeby jednostki",null,null,null,{"$f":"F18+F162","v":0},0,0,0,0,0,0,0,0,0,0,0,0,0,0,0,0,0]
[null," IV. Przychody netto ze sprzedaży towarów i materiałów ",null,null,null,{"$f":"F19+F163","v":0},0,0,0,0,0,0,0,0,0,0,0,0,0,0,0,0,0]
[null,"B. Koszty działalności operacyjnej","RKDO",null,null,{"$f":"SUM(F309:F316)","v":0},{"$f":"SUM(G309:G316)","v":0},{"$f":"SUM(H309:H316)","v":0},{"$f":"SUM(I309:I316)","v":0},{"$f":"SUM(J309:J316)","v":0},{"$f":"SUM(K309:K316)","v":0},0,0,0,0,0,0,0,0,0,0,0,0]
[null," I. Amortyzacja","RKDOA",null,null,{"$f":"F21+F165","v":0},0,0,0,0,0,0,0,0,0,0,0,0,0,0,0,0,0]
[null," II. Zużycie materiałów i energii",null,null,null,{"$f":"F22+F166","v":0},0,0,0,0,0,0,0,0,0,0,0,0,0,0,0,0,0]
[null," III. Usługi obce",null,null,null,{"$f":"F23+F167","v":0},0,0,0,0,0,0,0,0,0,0,0,0,0,0,0,0,0]
[null," IV. Podatki i opłaty",null,null,null,{"$f":"F24+F168","v":0},0,0,0,0,0,0,0,0,0,0,0,0,0,0,0,0,0]
[null," V. Wynagrodzenia",null,null,null,{"$f":"F25+F169","v":0},0,0,0,0,0,0,0,0,0,0,0,0,0,0,0,0,0]
[null," VI. Ubezpieczenia społeczne i inne świadczenia",null,null,null,{"$f":"F26+F170","v":0},0,0,0,0,0,0,0,0,0,0,0,0,0,0,0,0,0]
[null," VII. Pozostałe koszty rodzajowe",null,null,null,{"$f":"F27+F171","v":0},0,0,0,0,0,0,0,0,0,0,0,0,0,0,0,0,0]
[null," VIII. Wartość sprzedanych towarów i materiałów",null,null,null,{"$f":"F28+F172","v":0},0,0,0,0,0,0,0,0,0,0,0,0,0,0,0,0,0]
[null,"C. Zysk (strata) ze sprzedaży",null,null,null,{"$f":"F303-F308","v":0},{"$f":"G303-G308","v":0},{"$f":"H303-H308","v":0},{"$f":"I303-I308","v":0},{"$f":"J303-J308","v":0},{"$f":"K303-K308","v":0},0,0,0,0,0,0,0,0,0,0,0,0]
[null,"D. Pozostałe przychody operacyjne",null,null,null,{"$f":"F30+F174","v":0},0,0,0,0,0,0,0,0,0,0,0,0,0,0,0,0,0]
[null,"  w tym dotacja",null,null,null,{"$f":"F31+F175","v":0},0,0,0,0,0,0,0,0,0,0,0,0,0,0,0,0,0]
[null,"E. Pozostałe koszty operacyjne",null,null,null,{"$f":"F32+F176","v":0},0,0,0,0,0,0,0,0,0,0,0,0,0,0,0,0,0]
[null,"F. Zysk (strata) z działalności operacyjnej ","EBIT",null,null,{"$f":"F317+F318-F320","v":0},{"$f":"G317+G318-G320","v":0},{"$f":"H317+H318-H320","v":0},{"$f":"I317+I318-I320","v":0},{"$f":"J317+J318-J320","v":0},{"$f":"K317+K318-K320","v":0},0,0,0,0,0,0,0,0,0,0,0,0]
[null,"G. Przychody finansowe",null,null,null,{"$f":"F34+F178","v":0},0,0,0,0,0,0,0,0,0,0,0,0,0,0,0,0,0]
[null,"H. Koszty finansowe",null,null,null,{"$f":"F35+F179","v":0},0,0,0,0,0,0,0,0,0,0,0,0,0,0,0,0,0]
[null,"  w tym odsetki","RKFO",null,null,{"$f":"F36+F180","v":0},0,0,0,0,0,0,0,0,0,0,0,0,0,0,0,0,0]
[null,"I. Zysk (strata) na działalności gospodarczej",null,null,null,{"$f":"F321+F322-F323","v":0},{"$f":"G321+G322-G323","v":0},{"$f":"H321+H322-H323","v":0},{"$f":"I321+I322-I323","v":0},{"$f":"J321+J322-J323","v":0},{"$f":"K321+K322-K323","v":0},0,0,0,0,0,0,0,0,0,0,0,0]
[null,"J. Wynik zdarzeń nadzwyczajnych",null,null,null,{"$f":"F38+F182","v":0},0,0,0,0,0,0,0,0,0,0,0,0,0,0,0,0,0]
[null,"K. Zysk (strata) brutto",null,null,null,{"$f":"F325+F326","v":0},{"$f":"G325+G326","v":0},{"$f":"H325+H326","v":0},{"$f":"I325+I326","v":0},{"$f":"J325+J326","v":0},{"$f":"K325+K326","v":0},0,0,0,0,0,0,0,0,0,0,0,0]
[null,"L. Podatek dochodowy",null,"podatek",null,{"$f":"F40","v":0},{"$f":"G40","v":0},{"$f":"H40","v":0},{"$f":"I40","v":0},{"$f":"IF(J327<=0,0,ROUND(J327*CIT,0))","v":0},0,0,0,0,0,0,0,0,0,0,0,0,0]
[null,"M. Pozostałe obowiązkowe zmniejszenia zysku (zwiększenia straty)",null,"podatek",null,{"$f":"F41+F185","v":0},0,0,0,0,0,0,0,0,0,0,0,0,0,0,0,0,0]
[null,"N. Zysk (strata) netto ",null,null,null,{"$f":"F327-F328-F329","v":0},{"$f":"G327-G328-G329","v":0},{"$f":"H327-H328-H329","v":0},{"$f":"I327-I328-I329","v":0},{"$f":"J327-J328-J329","v":0},{"$f":"K327-K328-K329","v":0},0,0,0,0,0,0,0,0,0,0,0,0]
[]
[]
[null,"Bilans"]
[null,"Aktywa",null,null,null,{"$f":"LataProjekcji","v":0},0,0,"","Uzupełnij dane","","","","","","","","","","","","",""]
[null,"A. Aktywa trwałe",null,null,null,{"$f":"F336+F341+F350+F351+F352","v":0},{"$f":"G336+G341+G350+G351+G352","v":0},{"$f":"H336+H341+H350+H351+H352","v":0},{"$f":"I336+I341+I350+I351+I352","v":0},{"$f":"J336+J341+J350+J351+J352","v":0},0,0,0,0,0,0,0,0,0,0,0,0,0]
[null," I. Wartości niematerialne i prawne ",null,null,null,{"$f":"SUM(F337:F340)","v":0},{"$f":"SUM(G337:G340)","v":0},{"$f":"SUM(H337:H340)","v":0},{"$f":"SUM(I337:I340)","v":0},{"$f":"SUM(J337:J340)","v":0},0,0,0,0,0,0,0,0,0,0,0,0,0]
[null,"  1. Koszty zakończonych prac rozwojowych",null,null,null,{"$f":"F49+F193","v":0},0,0,0,0,0,0,0,0,0,0,0,0,0,0,0,0,0]
[null,"  2. Wartość firmy",null,null,null,{"$f":"F50+F194","v":0},0,0,0,0,0,0,0,0,0,0,0,0,0,0,0,0,0]
[null,"  3. Inne wartości niematerialne i prawne",null,null,null,{"$f":"F51+F195","v":0},0,0,0,0,0,0,0,0,0,0,0,0,0,0,0,0,0]
[null,"  4. Zaliczki na wartości niematerialne i prawne",null,null,null,{"$f":"F52+F196","v":0},0,0,0,0,0,0,0,0,0,0,0,0,0,0,0,0,0]
[null," II. Rzeczowe aktywa trwałe ",null,null,null,{"$f":"SUM(F342+F348+F349)","v":0},{"$f":"SUM(G342+G348+G349)","v":0},{"$f":"SUM(H342+H348+H349)","v":0},{"$f":"SUM(I342+I348+I349)","v":0},{"$f":"SUM(J342+J348+J349)","v":0},0,0,0,0,0,0,0,0,0,0,0,0,0]
[null,"  1. Środki trwałe",null,null,null,{"$f":"SUM(F343:F347)","v":0},{"$f":"SUM(G343:G347)","v":0},{"$f":"SUM(H343:H347)","v":0},{"$f":"SUM(I343:I347)","v":0},{"$f":"SUM(J343:J347)","v":0},0,0,0,0,0,0,0,0,0,0,0,0,0]
[null,"   a) grunty (w tym prawo użytkowania wieczystego gruntu) ",null,null,null,{"$f":"F55+F199","v":0},0,0,0,0,0,0,0,0,0,0,0,0,0,0,0,0,0]
[null,"   b) budynki i budowle ",null,null,null,{"$f":"F56+F200","v":0},0,0,0,0,0,0,0,0,0,0,0,0,0,0,0,0,0]
[null,"   c) urządzenia techniczne i maszyny ",null,null,null,{"$f":"F57+F201","v":0},0,0,0,0,0,0,0,0,0,0,0,0,0,0,0,0,0]
[null,"   d) środki transportu ",null,null,null,{"$f":"F58+F202","v":0},0,0,0,0,0,0,0,0,0,0,0,0,0,0,0,0,0]
[null,"   e) inne środki trwałe ",null,null,null,{"$f":"F59+F203","v":0},0,0,0,0,0,0,0,0,0,0,0,0,0,0,0,0,0]
[null,"  2. Środki trwałe w budowie",null,null,null,{"$f":"F60+F204","v":0},0,0,0,0,0,0,0,0,0,0,0,0,0,0,0,0,0]
[null,"  3. Zaliczki na środki trwałe w budowie",null,null,null,{"$f":"F61+F205","v":0},0,0,0,0,0,0,0,0,0,0,0,0,0,0,0,0,0]
[null," III. Należności długoterminowe",null,null,null,{"$f":"F62+F206","v":0},0,0,0,0,0,0,0,0,0,0,0,0,0,0,0,0,0]
[null," IV. Inwestycje długoterminowe",null,null,null,{"$f":"F63+F207","v":0},0,0,0,0,0,0,0,0,0,0,0,0,0,0,0,0,0]
[null," V. Długoterminowe rozliczenia międzyokresowe",null,null,null,{"$f":"F64+F208","v":0},0,0,0,0,0,0,0,0,0,0,0,0,0,0,0,0,0]
[null,"B. Aktywa obrotowe","BAO",null,null,{"$f":"F354+F355+F357+F360","v":0},{"$f":"G354+G355+G357+G360","v":0},{"$f":"H354+H355+H357+H360","v":0},{"$f":"I354+I355+I357+I360","v":0},{"$f":"J354+J355+J357+J360","v":0},0,0,0,0,0,0,0,0,0,0,0,0,0]
[null," I. Zapasy ","BAOZ",null,null,{"$f":"'Kapitał pracujący'!F104","v":0},{"$f":"'Kapitał pracujący'!G104","v":0},{"$f":"'Kapitał pracujący'!H104","v":0},{"$f":"'Kapitał pracujący'!I104","v":0},{"$f":"'Kapitał pracujący'!J104","v":0},{"$f":"'Kapitał pracujący'!K104","v":0},{"$f":"'Kapitał pracujący'!L104","v":0},{"$f":"'Kapitał pracujący'!M104","v":0},{"$f":"'Kapitał pracujący'!N104","v":0},{"$f":"'Kapitał pracujący'!O104","v":0},{"$f":"'Kapitał pracujący'!P104","v":0},{"$f":"'Kapitał pracujący'!Q104","v":0},{"$f":"'Kapitał pracujący'!R104","v":0},{"$f":"'Kapitał pracujący'!S104","v":0},{"$f":"'Kapitał pracujący'!T104","v":0},{"$f":"'Kapitał pracujący'!U104","v":0},{"$f":"'Kapitał pracujący'!V104","v":0},{"$f":"'Kapitał pracujący'!W104","v":0}]
[null," II. Należności krótkoterminowe ",null,null,null,{"$f":"F356","v":0},{"$f":"G356","v":0},{"$f":"H356","v":0},{"$f":"I356","v":0},{"$f":"J356","v":0},{"$f":"K356","v":0},0,0,0,0,0,0,0,0,0,0,0,0]
[null,"  1. należności z tytułu dostaw i usług","BAONDU",null,null,{"$f":"'Kapitał pracujący'!F113","v":0},{"$f":"'Kapitał pracujący'!G113","v":0},{"$f":"'Kapitał pracujący'!H113","v":0},{"$f":"'Kapitał pracujący'!I113","v":0},{"$f":"'Kapitał pracujący'!J113","v":0},{"$f":"'Kapitał pracujący'!K113","v":0},{"$f":"'Kapitał pracujący'!L113","v":0},{"$f":"'Kapitał pracujący'!M113","v":0},{"$f":"'Kapitał pracujący'!N113","v":0},{"$f":"'Kapitał pracujący'!O113","v":0},{"$f":"'Kapitał pracujący'!P113","v":0},{"$f":"'Kapitał pracujący'!Q113","v":0},{"$f":"'Kapitał pracujący'!R113","v":0},{"$f":"'Kapitał pracujący'!S113","v":0},{"$f":"'Kapitał pracujący'!T113","v":0},{"$f":"'Kapitał pracujący'!U113","v":0},{"$f":"'Kapitał pracujący'!V113","v":0},{"$f":"'Kapitał pracujący'!W113","v":0}]
[null," III. Inwestycje krótkoterminowe",null,null,null,{"$f":"F358+F359","v":0},{"$f":"G358+G359","v":0},{"$f":"H358+H359","v":0},{"$f":"I358+I359","v":0},{"$f":"J358+J359","v":0},0,0,0,0,0,0,0,0,0,0,0,0,0]
[null,"  1. środki pieniężne",null,null,null,{"$f":"F409-F359","v":0},{"$f":"G409-G359","v":0},{"$f":"H409-H359","v":0},{"$f":"I409-I359","v":0},{"$f":"IF(LataProjekcji<=Koniec,J409-J359,0)","v":0},0,0,0,0,0,0,0,0,0,0,0,0,0]
[null,"  2. pozostałe inwestycje krótkoterminowe",null,null,null,{"$f":"F71+F215","v":0},0,0,0,0,0,0,0,0,0,0,0,0,0,0,0,0,0]
[null,"IV. Krótkoterminowe rozliczenia międzyokresowe",null,null,null,{"$f":"F72+F216","v":0},0,0,0,0,0,0,0,0,0,0,0,0,0,0,0,0,0]
[null,"Aktywa razem",null,null,null,{"$f":"F353+F335","v":0},{"$f":"G353+G335","v":0},{"$f":"H353+H335","v":0},{"$f":"I353+I335","v":0},{"$f":"J353+J335","v":0},0,0,0,0,0,0,0,0,0,0,0,0,0]
[]
[null,"Pasywa ",null,null,null,{"$f":"LataProjekcji","v":0},0,0,"","Uzupełnij dane","","","","","","","","","","","","",""]
[null,"C. Kapitał własny","BKW",null,null,{"$f":"SUM(F365:F368)","v":0},{"$f":"SUM(G365:G368)","v":0},{"$f":"SUM(H365:H368)","v":0},{"$f":"SUM(I365:I368)","v":0},{"$f":"SUM(J365:J368)","v":0},0,0,0,0,0,0,0,0,0,0,0,0,0]
[null," I. Kapitał podstawowy",null,null,null,{"$f":"F77+F221","v":0},0,0,0,0,0,0,0,0,0,0,0,0,0,0,0,0,0]
[null," II. Pozostały kapitał (zapasowy + rezerwowy+z aktualizacji wyceny)",null,null,null,{"$f":"F79+F223","v":0},0,0,0,0,0,0,0,0,0,0,0,0,0,0,0,0,0]
[null," III. Zysk (strata) z okresów poprzednich",null,null,null,{"$f":"F80+F224","v":0},{"$f":"G80+G224","v":0},{"$f":"H80+H224","v":0},{"$f":"I80+I224","v":0},{"$f":"IF(LataProjekcji<=Koniec,J482,0)","v":0},0,0,0,0,0,0,0,0,0,0,0,0,0]
[null," IV. Zysk (strata) netto",null,null,null,{"$f":"F330","v":0},{"$f":"G330","v":0},{"$f":"H330","v":0},{"$f":"I330","v":0},{"$f":"J330","v":0},0,0,0,0,0,0,0,0,0,0,0,0,0]
[null,"B. Zobowiązania i rezerwy na zobowiązania ","BZIR",null,null,{"$f":"F370+F371+F374+F378","v":0},0,0,0,0,0,0,0,0,0,0,0,0,0,0,0,0,0]
[null," I. Rezerwy na zobowiązania ",null,null,null,{"$f":"F227+F83","v":0},0,0,0,0,0,0,0,0,0,0,0,0,0,0,0,0,0]
[null," II. Zobowiązania długoterminowe ",null,null,null,{"$f":"SUM(F372:F373)","v":0},{"$f":"SUM(G372:G373)","v":0},{"$f":"SUM(H372:H373)","v":0},{"$f":"SUM(I372:I373)","v":0},{"$f":"SUM(J372:J373)","v":0},0,0,0,0,0,0,0,0,0,0,0,0,0]
[null,"  1. Kredyty i pożyczki",null,null,null,{"$f":"F229+F85","v":0},0,0,0,0,0,0,0,0,0,0,0,0,0,0,0,0,0]
[null,"  2. Pozostałe",null,null,null,{"$f":"F230+F86","v":0},0,0,0,0,0,0,0,0,0,0,0,0,0,0,0,0,0]
[null," III. Zobowiązania krótkoterminowe ",null,null,null,{"$f":"SUM(F375:F377)","v":0},0,0,0,0,0,0,0,0,0,0,0,0,0,0,0,0,0]
[null,"  1. Z tytułu dostaw i usług","BZKDU",null,null,{"$f":"'Kapitał pracujący'!F122","v":0},{"$f":"'Kapitał pracujący'!G122","v":0},{"$f":"'Kapitał pracujący'!H122","v":0},{"$f":"'Kapitał pracujący'!I122","v":0},{"$f":"'Kapitał pracujący'!J122","v":0},{"$f":"'Kapitał pracujący'!K122","v":0},{"$f":"'Kapitał pracujący'!L122","v":0},{"$f":"'Kapitał pracujący'!M122","v":0},{"$f":"'Kapitał pracujący'!N122","v":0},{"$f":"'Kapitał pracujący'!O122","v":0},{"$f":"'Kapitał pracujący'!P122","v":0},{"$f":"'Kapitał pracujący'!Q122","v":0},{"$f":"'Kapitał pracujący'!R122","v":0},{"$f":"'Kapitał pracujący'!S122","v":0},{"$f":"'Kapitał pracujący'!T122","v":0},{"$f":"'Kapitał pracujący'!U122","v":0},{"$f":"'Kapitał pracujący'!V122","v":0},{"$f":"'Kapitał pracujący'!W122","v":0}]
[null,"  2. Kredyty i pożyczki",null,null,null,{"$f":"F233+F89","v":0},0,0,0,0,0,0,0,0,0,0,0,0,0,0,0,0,0]
[null,"  3. Pozostałe",null,null,null,{"$f":"F234+F90","v":0},0,0,0,0,0,0,0,0,0,0,0,0,0,0,0,0,0]
[null," IV. Rozliczenia międzyokresowe",null,null,null,{"$f":"F379+F380","v":0},{"$f":"G379+G380","v":0},{"$f":"H379+H380","v":0},{"$f":"I379+I380","v":0},{"$f":"J379+J380","v":0},0,0,0,0,0,0,0,0,0,0,0,0,0]
[null,"  1. Dotacje",null,null,null,{"$f":"F92+F236","v":0},0,0,0,0,0,0,0,0,0,0,0,0,0,0,0,0,0]
[null,"  2. Pozostałe",null,null,null,{"$f":"F93+F237","v":0},0,0,0,0,0,0,0,0,0,0,0,0,0,0,0,0,0]
[null,"Pasywa razem",null,null,null,{"$f":"F369+F364","v":0},0,0,0,0,0,0,0,0,0,0,0,0,0,0,0,0,0]
[null,"sprawdzenie",null,null,null,{"$f":"F381=F361","v":true},true,true,true,true,true,true,true,true,true,true,true,true,true,true,true,true,true]
[null,null,null,null,null,{"$f":"F361-F381","v":0},{"$f":"G361-G381","v":0},{"$f":"H361-H381","v":0},{"$f":"I361-I381","v":0},{"$f":"J361-J381","v":0},0,0,0,0,0,0,0,0,0,0,0,0,0]
[]
[null,"Rachunek przepływów pieniężnych",null,null,null,{"$f":"LataProjekcji","v":0},0,0,"","Uzupełnij dane","","","","","","","","","","","","",""]
[null,"I. Przepływy środków pieniężnych z działalności operacyjnej",null,null,null,{"$f":"SUM(F387:F393)","v":0},{"$f":"SUM(G387:G393)","v":0},0,0,0,0,0,0,0,0,0,0,0,0,0,0,0,0]
[null,"  1. Zysk (strata) netto ",null,null,null,{"$f":"F330","v":0},0,0,{"$f":"IF(Rok_n=\"\",0,I330)","v":0},0,0,0,0,0,0,0,0,0,0,0,0,0,0]
[null,"  2. Amortyzacja ",null,null,null,{"$f":"F309","v":0},0,0,{"$f":"IF(Rok_n=\"\",0,I309)","v":0},0,0,0,0,0,0,0,0,0,0,0,0,0,0]
[null,"  3. Zmiana stanu zapasów ",null,null,null,{"$f":"E354-F354","v":0},0,0,{"$f":"IF(Rok_n=\"\",0,H354-I354)","v":0},{"$f":"IF(LataProjekcji<=Koniec,IF(Założenia!$I$30=12,I354-J354,H354-J354),0)","v":0},{"$f":"IF(LataProjekcji<=Koniec,J354-K354,0)","v":0},0,0,0,0,0,0,0,0,0,0,0,0]
[null,"  4. Zmiana stanu należności ",null,null,null,0,0,0,{"$f":"IF(Rok_n=\"\",0,H355-I355)","v":0},{"$f":"IF(LataProjekcji<=Koniec,IF(Założenia!$I$30=12,I355-J355,H355-J355),0)","v":0},{"$f":"IF(LataProjekcji<=Koniec,J355-K355,0)","v":0},0,0,0,0,0,0,0,0,0,0,0,0]
[null,"  5. Zmiana stanu zobowiązań krótkoterminowych, z wyjątkiem pożyczek i kredytów ",null,null,null,{"$f":"(F374-E374)-(F376-E376)","v":0},{"$f":"(G374-F374)-(G376-F376)","v":0},{"$f":"(H374-G374)-(H376-G376)","v":0},{"$f":"IF(Rok_n=\"\",0,(I374-H374)-(I376-H376))","v":0},{"$f":"IF(LataProjekcji<=Koniec,IF(Założenia!$I$30=12,(J374-I374)-(J376-I376),(J374-H374)-(J376-H376)),0)","v":0},{"$f":"IF(LataProjekcji<=Koniec,(K374-J374)-(K376-J376),0)","v":0},0,0,0,0,0,0,0,0,0,0,0,0]
[null,"  6. Zmiana stanu rozliczeń międzyokresowych",null,null,null,{"$f":"(E352-F352)+(E360-F360)+(F378-E378)-F404","v":0},{"$f":"(F352-G352)+(F360-G360)+(G378-F378)-G404","v":0},{"$f":"(G352-H352)+(G360-H360)+(H378-G378)-H404","v":0},{"$f":"IF(Rok_n=\"\",0,(H352-I352)+(H360-I360)+(I378-H378)-I404)","v":0},{"$f":"IF(LataProjekcji<=Koniec,(J249+J105),0)","v":0},0,0,0,0,0,0,0,0,0,0,0,0,0]
[null,"  7. Inne korekty ",null,null,null,{"$f":"F250+F106","v":0},0,0,{"$f":"IF(Rok_n=\"\",0,I250+I106)","v":0},0,0,0,0,0,0,0,0,0,0,0,0,0,0]
[]
[null,"II. Przepływy środków pieniężnych z działalności inwestycyjnej",null,null,null,{"$f":"SUM(F396:F397)","v":0},{"$f":"SUM(G396:G397)","v":0},0,0,0,0,0,0,0,0,0,0,0,0,0,0,0,0]
[null,"  1. Rzeczowe aktywa trwałe i WNiP",null,null,null,{"$f":"(E336+E341)-(F336+F341)-F309","v":0},{"$f":"(F336+F341)-(G336+G341)-G309","v":0},{"$f":"(G336+G341)-(H336+H341)-H309","v":0},{"$f":"IF(Rok_n=\"\",0,(H336+H341)-(I336+I341)-I309)","v":0},{"$f":"J253+J109","v":0},0,0,0,0,0,0,0,0,0,0,0,0,0]
[null,"  2. Pozostałe aktywa trwałe ",null,null,null,{"$f":"(E350+E351)-(F350+F351)","v":0},{"$f":"(F350+F351)-(G350+G351)","v":0},{"$f":"(G350+G351)-(H350+H351)","v":0},{"$f":"IF(Rok_n=\"\",0,(H350+H351)-(I350+I351))","v":0},{"$f":"J254+J110","v":0},0,0,0,0,0,0,0,0,0,0,0,0,0]
[]
[null,"III. Przepływy środków pieniężnych z działalności finansowej",null,null,null,{"$f":"SUM(F400:F405)","v":0},{"$f":"SUM(G400:G405)","v":0},0,0,0,0,0,0,0,0,0,0,0,0,0,0,0,0]
[null,"  1. Kredyty i pożyczki krótkoterminowe ",null,null,null,{"$f":"(F376-E376)","v":0},{"$f":"(G376-F376)","v":0},{"$f":"(H376-G376)","v":0},{"$f":"IF(Rok_n=\"\",0,(I376-H376))","v":0},{"$f":"J257+J113","v":0},0,0,0,0,0,0,0,0,0,0,0,0,0]
[null,"  2. Kredyty i pożyczki długoterminowe",null,null,null,{"$f":"F372","v":0},{"$f":"G372-F372","v":0},{"$f":"H372-G372","v":0},{"$f":"IF(Rok_n=\"\",0,I372-H372)","v":0},{"$f":"J258+J114","v":0},0,0,0,0,0,0,0,0,0,0,0,0,0]
[null,"  3. Dywidendy",null,null,null,{"$f":"F259+F115","v":0},0,0,{"$f":"IF(Rok_n=\"\",0,I259+I115)","v":0},0,0,0,0,0,0,0,0,0,0,0,0,{"$f":"V259+V115","v":0},0]
[null,"  4. Dopłaty do kapitału własnego",null,null,null,{"$f":"F260+F116","v":0},0,0,{"$f":"IF(Rok_n=\"\",0,I260+I116)","v":0},0,0,0,0,0,0,0,0,0,0,0,0,{"$f":"V260+V116","v":0},0]
[null,"  5. Dotacje",null,null,null,{"$f":"F261+F117","v":0},0,0,{"$f":"IF(Rok_n=\"\",0,I261+I117)","v":0},0,0,0,0,0,0,0,0,0,0,0,0,{"$f":"V261+V117","v":0},0]
[null,"  6. Pozostałe",null,null,null,{"$f":"(F370-E370)+(F371-E371)-(F372-E372)","v":0},{"$f":"(G370-F370)+(G371-F371)-(G372-F372)","v":0},{"$f":"(H370-G370)+(H371-G371)-(H372-G372)","v":0},{"$f":"IF(Rok_n=\"\",0,(I370-H370)+(I371-H371)-(I372-H372))","v":0},{"$f":"J262+J118","v":0},0,0,0,0,0,0,0,0,0,0,0,0,0]
[]
[null,"Przepływy pieniężne netto razem ",null,null,null,{"$f":"F386+F395+F399","v":0},{"$f":"G386+G395+G399","v":0},{"$f":"H386+H395+H399","v":0},{"$f":"I386+I395+I399","v":0},{"$f":"J386+J395+J399","v":0},{"$f":"IF(LataProjekcji<=Koniec,K386+K395+K399,0)","v":0},0,0,0,0,0,0,0,0,0,0,0,0]
[null,"Środki pieniężne na początek okresu",null,null,null,null,{"$f":"F409","v":0},{"$f":"G409","v":0},{"$f":"IF(Rok_n=\"\",0,H409)","v":0},{"$f":"IF(Rok_n=\"\",H409,IF(Założenia!$I$30=12,'Ocena kondycji finansowej'!I409,'Ocena kondycji finansowej'!H409))","v":0},{"$f":"IF(LataProjekcji<=Koniec,J409,0)","v":0},0,0,0,0,0,0,0,0,0,0,0,0]
[null,"Środki pieniężne na koniec okresu ",null,null,null,{"$f":"F407+F408","v":0},{"$f":"G407+G408","v":0},{"$f":"H407+H408","v":0},{"$f":"I407+I408","v":0},{"$f":"J407+J408","v":0},{"$f":"IF(LataProjekcji<=Koniec,K407+K408,0)","v":0},0,0,0,0,0,0,0,0,0,0,0,0]
[null,null,null,null,null,{"$f":"F409=F357","v":true},{"$f":"G409=G357","v":true},{"$f":"H409=H357","v":true},{"$f":"I409=I357","v":true},{"$f":"J409=J357","v":true},{"$f":"K409=K357","v":true},true,true,true,true,true,true,true,true,true,true,true,true]
[null,null,null,null,null,null,null,null,null,{"$f":"J409-J357","v":0},{"$f":"K409-K357","v":0},0,0,0,0,0,0,0,0,0,0,0,0]
[]
[null,"Ocena wskaźnikowa łącznej działalności",null,null,null,{"$f":"LataProjekcji","v":0},0,0,"","Uzupełnij dane","","","","","","","","","","","","",""]
[]
[null,"I. Wskaźniki rentowności"]
[null,"  1. rentowność sprzedaży (ROS)",">=1,50%","<0%",null,{"$f":"IFERROR(ROUND((F317/F303),4),\"bd.\")","v":"bd."},"bd.","bd.","bd.","bd.","bd.","bd.","bd.","bd.","bd.","bd.","bd.","bd.","bd.","bd.","bd.","bd.","bd."]
[null,"  2. rentowność netto",">=1,00%","<0%",null,{"$f":"IFERROR(ROUND((F330/F303),4),\"bd.\")","v":"bd."},"bd.","bd.","bd.","bd.","bd.","bd.","bd.","bd.","bd.","bd.","bd.","bd.","bd.","bd.","bd.","bd.","bd."]
[null,"  3. zwrot na aktywach (ROA)",">=10,00%","<=3%",null,{"$f":"IFERROR(ROUND((F330/F361),4),\"bd.\")","v":"bd."},"bd.","bd.","bd.","bd.","bd.","bd.","bd.","bd.","bd.","bd.","bd.","bd.","bd.","bd.","bd.","bd.","bd."]
[]
[null,"II. Wskaźniki struktury pasywów i obsługi zadłużenia"]
[null,"  1. wskaźnik udziału kapitałów własnych",">=50%","<20%",null,{"$f":"IFERROR(ROUND(F364/F381,4),\"bd.\")","v":"bd."},"bd.","bd.","bd.","bd.","bd.","bd.","bd.","bd.","bd.","bd.","bd.","bd.","bd.","bd.","bd.","bd.","bd."]
[null,"  2. pokrycie majątku trwałego kapitałem stałym",">=100%","<=80%",null,{"$f":"IFERROR(ROUND((F364+F371+F370+F378)/F335,4),\"bd.\")","v":"bd."},"bd.","bd.","bd.","bd.","bd.","bd.","bd.","bd.","bd.","bd.","bd.","bd.","bd.","bd.","bd.","bd.","bd."]
[null,"  3. wskaźnik zadłużenia","50-70%","<=80%",null,{"$f":"IFERROR(ROUND(F369/F381,4),\"bd.\")","v":"bd."},"bd.","bd.","bd.","bd.","bd.","bd.","bd.","bd.","bd.","bd.","bd.","bd.","bd.","bd.","bd.","bd.","bd."]
[null,"  4. wskaźnik obsługi długu",">=1,3","<1,0",null,{"$f":"IFERROR(ROUND((F330+F309+F324+F328)/(F324+Finansowanie!F108+Finansowanie!F117+Finansowanie!F126+Finansowanie!F62+Finansowanie!F53+Finansowanie!F44),4),\"bd.\")","v":"bd."},{"$f":"IFERROR(ROUND((G330+G309+G324+G328)/(G324+Finansowanie!G108+Finansowanie!G117+Finansowanie!G126+Finansowanie!G62+Finansowanie!G53+Finansowanie!G44),4),\"bd.\")","v":"bd."},{"$f":"IFERROR(ROUND((H330+H309+H324+H328)/(H324+Finansowanie!H108+Finansowanie!H117+Finansowanie!H126+Finansowanie!H62+Finansowanie!H53+Finansowanie!H44),4),\"bd.\")","v":"bd."},{"$f":"IFERROR(ROUND((I330+I309+I324+I328)/(I324+Finansowanie!I108+Finansowanie!I117+Finansowanie!I126+Finansowanie!I62+Finansowanie!I53+Finansowanie!I44),4),\"bd.\")","v":"bd."},{"$f":"IFERROR(ROUND((J330+J309+J324+J328)/(J324+Finansowanie!J108+Finansowanie!J117+Finansowanie!J126+Finansowanie!J62+Finansowanie!J53+Finansowanie!J44),4),\"bd.\")","v":"bd."},{"$f":"IFERROR(ROUND((K330+K309+K324+K328)/(K324+Finansowanie!K108+Finansowanie!K117+Finansowanie!K126+Finansowanie!K62+Finansowanie!K53+Finansowanie!K44),4),\"bd.\")","v":"bd."},{"$f":"IFERROR(ROUND((L330+L309+L324+L328)/(L324+Finansowanie!L108+Finansowanie!L117+Finansowanie!L126+Finansowanie!L62+Finansowanie!L53+Finansowanie!L44),4),\"bd.\")","v":"bd."},{"$f":"IFERROR(ROUND((M330+M309+M324+M328)/(M324+Finansowanie!M108+Finansowanie!M117+Finansowanie!M126+Finansowanie!M62+Finansowanie!M53+Finansowanie!M44),4),\"bd.\")","v":"bd."},{"$f":"IFERROR(ROUND((N330+N309+N324+N328)/(N324+Finansowanie!N108+Finansowanie!N117+Finansowanie!N126+Finansowanie!N62+Finansowanie!N53+Finansowanie!N44),4),\"bd.\")","v":"bd."},{"$f":"IFERROR(ROUND((O330+O309+O324+O328)/(O324+Finansowanie!O108+Finansowanie!O117+Finansowanie!O126+Finansowanie!O62+Finansowanie!O53+Finansowanie!O44),4),\"bd.\")","v":"bd."},{"$f":"IFERROR(ROUND((P330+P309+P324+P328)/(P324+Finansowanie!P108+Finansowanie!P117+Finansowanie!P126+Finansowanie!P62+Finansowanie!P53+Finansowanie!P44),4),\"bd.\")","v":"bd."},{"$f":"IFERROR(ROUND((Q330+Q309+Q324+Q328)/(Q324+Finansowanie!Q108+Finansowanie!Q117+Finansowanie!Q126+Finansowanie!Q62+Finansowanie!Q53+Finansowanie!Q44),4),\"bd.\")","v":"bd."},{"$f":"IFERROR(ROUND((R330+R309+R324+R328)/(R324+Finansowanie!R108+Finansowanie!R117+Finansowanie!R126+Finansowanie!R62+Finansowanie!R53+Finansowanie!R44),4),\"bd.\")","v":"bd."},{"$f":"IFERROR(ROUND((S330+S309+S324+S328)/(S324+Finansowanie!S108+Finansowanie!S117+Finansowanie!S126+Finansowanie!S62+Finansowanie!S53+Finansowanie!S44),4),\"bd.\")","v":"bd."},{"$f":"IFERROR(ROUND((T330+T309+T324+T328)/(T324+Finansowanie!T108+Finansowanie!T117+Finansowanie!T126+Finansowanie!T62+Finansowanie!T53+Finansowanie!T44),4),\"bd.\")","v":"bd."},{"$f":"IFERROR(ROUND((U330+U309+U324+U328)/(U324+Finansowanie!U108+Finansowanie!U117+Finansowanie!U126+Finansowanie!U62+Finansowanie!U53+Finansowanie!U44),4),\"bd.\")","v":"bd."},{"$f":"IFERROR(ROUND((V330+V309+V324+V328)/(V324+Finansowanie!V108+Finansowanie!V117+Finansowanie!V126+Finansowanie!V62+Finansowanie!V53+Finansowanie!V44),4),\"bd.\")","v":"bd."},{"$f":"IFERROR(ROUND((W330+W309+W324+W328)/(W324+Finansowanie!W108+Finansowanie!W117+Finansowanie!W126+Finansowanie!W62+Finansowanie!W53+Finansowanie!W44),4),\"bd.\")","v":"bd."}]
[]
[null,"III. Wskaźniki płynności"]
[null,"  1. płynność bieżąca","1,2-1,5","<1,0",null,{"$f":"IFERROR(ROUND(F353/F374,4),\"bd.\")","v":"bd."},"bd.","bd.","bd.","bd.","bd.","bd.","bd.","bd.","bd.","bd.","bd.","bd.","bd.","bd.","bd.","bd.","bd."]
[null,"  2. płynność szybka","1,0-1,2","<0,8",null,{"$f":"IFERROR(ROUND((F353-F354)/F374,4),\"bd.\")","v":"bd."},"bd.","bd.","bd.","bd.","bd.","bd.","bd.","bd.","bd.","bd.","bd.","bd.","bd.","bd.","bd.","bd.","bd."]
[]
[null,"IV. Wskaźniki rotacji majątku"]
[null,"  1. cykl rotacji zapasów",null,null,null,{"$f":"IFERROR(ROUND((F354/F308)*dni,0),\"bd.\")","v":"bd."},"bd.","bd.","bd.","bd.","bd.","bd.","bd.","bd.","bd.","bd.","bd.","bd.","bd.","bd.","bd.","bd.","bd."]
[null,"  2. cykl rotacji należności",null,null,null,{"$f":"IFERROR(ROUND((F356/F303)*dni,0),\"bd.\")","v":"bd."},"bd.","bd.","bd.","bd.","bd.","bd.","bd.","bd.","bd.","bd.","bd.","bd.","bd.","bd.","bd.","bd.","bd."]
[null,"  3. cykl rotacji zobowiązań",null,null,null,{"$f":"IFERROR(ROUND((F375/F308)*dni,0),\"bd.\")","v":"bd."},"bd.","bd.","bd.","bd.","bd.","bd.","bd.","bd.","bd.","bd.","bd.","bd.","bd.","bd.","bd.","bd.","bd."]
[]
[null,"V. Dodatkowe wskaźniki (przedsiębiorstwa inne niż MSP)"]
[null,"  1. księgowy stosunek kapitału obcego do kapitału własnego","<=1,0",">7,5",null,{"$f":"IF(Założenia!$C$148=TRUE,\"n/d\",IFERROR(ROUND(F369/F364,1),\"bd.\"))","v":"bd."},{"$f":"IF(Założenia!$C$148=TRUE,\"n/d\",IFERROR(ROUND(G369/G364,1),\"bd.\"))","v":"bd."},{"$f":"IF(Założenia!$C$148=TRUE,\"n/d\",IFERROR(ROUND(H369/H364,1),\"bd.\"))","v":"bd."},{"$f":"IF(Założenia!$C$148=TRUE,\"n/d\",IFERROR(ROUND(I369/I364,1),\"bd.\"))","v":"bd."},{"$f":"IF(Założenia!$C$148=TRUE,\"n/d\",IFERROR(ROUND(J369/J364,1),\"bd.\"))","v":"bd."},{"$f":"IF(Założenia!$C$148=TRUE,\"n/d\",IFERROR(ROUND(K369/K364,1),\"bd.\"))","v":"bd."},{"$f":"IF(Założenia!$C$148=TRUE,\"n/d\",IFERROR(ROUND(L369/L364,1),\"bd.\"))","v":"bd."},{"$f":"IF(Założenia!$C$148=TRUE,\"n/d\",IFERROR(ROUND(M369/M364,1),\"bd.\"))","v":"bd."},{"$f":"IF(Założenia!$C$148=TRUE,\"n/d\",IFERROR(ROUND(N369/N364,1),\"bd.\"))","v":"bd."},{"$f":"IF(Założenia!$C$148=TRUE,\"n/d\",IFERROR(ROUND(O369/O364,1),\"bd.\"))","v":"bd."},{"$f":"IF(Założenia!$C$148=TRUE,\"n/d\",IFERROR(ROUND(P369/P364,1),\"bd.\"))","v":"bd."},{"$f":"IF(Założenia!$C$148=TRUE,\"n/d\",IFERROR(ROUND(Q369/Q364,1),\"bd.\"))","v":"bd."},{"$f":"IF(Założenia!$C$148=TRUE,\"n/d\",IFERROR(ROUND(R369/R364,1),\"bd.\"))","v":"bd."},{"$f":"IF(Założenia!$C$148=TRUE,\"n/d\",IFERROR(ROUND(S369/S364,1),\"bd.\"))","v":"bd."},{"$f":"IF(Założenia!$C$148=TRUE,\"n/d\",IFERROR(ROUND(T369/T364,1),\"bd.\"))","v":"bd."},{"$f":"IF(Założenia!$C$148=TRUE,\"n/d\",IFERROR(ROUND(U369/U364,1),\"bd.\"))","v":"bd."},{"$f":"IF(Założenia!$C$148=TRUE,\"n/d\",IFERROR(ROUND(V369/V364,1),\"bd.\"))","v":"bd."},{"$f":"IF(Założenia!$C$148=TRUE,\"n/d\",IFERROR(ROUND(W369/W364,1),\"bd.\"))","v":"bd."}]
[null,"  2. wskaźnik relacji pokrycia odsetek do EBITDA",">=3,0","<1,0",null,{"$f":"IF(Założenia!$C$148=TRUE,\"n/d\",IFERROR(ROUND((F321+F309)/F324,1),\"bd.\"))","v":"bd."},{"$f":"IF(Założenia!$C$148=TRUE,\"n/d\",IFERROR(ROUND((G321+G309)/G324,1),\"bd.\"))","v":"bd."},{"$f":"IF(Założenia!$C$148=TRUE,\"n/d\",IFERROR(ROUND((H321+H309)/H324,1),\"bd.\"))","v":"bd."},{"$f":"IF(Założenia!$C$148=TRUE,\"n/d\",IFERROR(ROUND((I321+I309)/I324,1),\"bd.\"))","v":"bd."},{"$f":"IF(Założenia!$C$148=TRUE,\"n/d\",IFERROR(ROUND((J321+J309)/J324,1),\"bd.\"))","v":"bd."},{"$f":"IF(Założenia!$C$148=TRUE,\"n/d\",IFERROR(ROUND((K321+K309)/K324,1),\"bd.\"))","v":"bd."},{"$f":"IF(Założenia!$C$148=TRUE,\"n/d\",IFERROR(ROUND((L321+L309)/L324,1),\"bd.\"))","v":"bd."},{"$f":"IF(Założenia!$C$148=TRUE,\"n/d\",IFERROR(ROUND((M321+M309)/M324,1),\"bd.\"))","v":"bd."},{"$f":"IF(Założenia!$C$148=TRUE,\"n/d\",IFERROR(ROUND((N321+N309)/N324,1),\"bd.\"))","v":"bd."},{"$f":"IF(Założenia!$C$148=TRUE,\"n/d\",IFERROR(ROUND((O321+O309)/O324,1),\"bd.\"))","v":"bd."},{"$f":"IF(Założenia!$C$148=TRUE,\"n/d\",IFERROR(ROUND((P321+P309)/P324,1),\"bd.\"))","v":"bd."},{"$f":"IF(Założenia!$C$148=TRUE,\"n/d\",IFERROR(ROUND((Q321+Q309)/Q324,1),\"bd.\"))","v":"bd."},{"$f":"IF(Założenia!$C$148=TRUE,\"n/d\",IFERROR(ROUND((R321+R309)/R324,1),\"bd.\"))","v":"bd."},{"$f":"IF(Założenia!$C$148=TRUE,\"n/d\",IFERROR(ROUND((S321+S309)/S324,1),\"bd.\"))","v":"bd."},{"$f":"IF(Założenia!$C$148=TRUE,\"n/d\",IFERROR(ROUND((T321+T309)/T324,1),\"bd.\"))","v":"bd."},{"$f":"IF(Założenia!$C$148=TRUE,\"n/d\",IFERROR(ROUND((U321+U309)/U324,1),\"bd.\"))","v":"bd."},{"$f":"IF(Założenia!$C$148=TRUE,\"n/d\",IFERROR(ROUND((V321+V309)/V324,1),\"bd.\"))","v":"bd."},{"$f":"IF(Założenia!$C$148=TRUE,\"n/d\",IFERROR(ROUND((W321+W309)/W324,1),\"bd.\"))","v":"bd."}]
[]
[null,"Komentarz"]
[]
[]
[]
[]
[]
[]
[]
[]
[]
[]
[]
[]
[]
[]
[]
[]
[]
[]
[]
[]
[]
[]
[]
[]
[]
[]
[]
[]
[]
[]
[]
[]
[]
[]
[]
[]
[]
[null,"Łączna działalność",null,null,null,null,null,null,null,{"$f":"J$385","v":"Uzupełnij dane"},{"$f":"K$385","v":""},"","","","","","","","","","","",""]
[]
[null,"Zysk netto",null,null,null,null,null,null,null,{"$f":"J330","v":0},{"$f":"K330","v":0},0,0,0,0,0,0,0,0,0,0,0,0]
[null,"Dywidenda dotychczasowa działalność",null,null,null,null,null,null,null,{"$f":"Finansowanie!J22","v":0},{"$f":"Finansowanie!K22","v":0},{"$f":"Finansowanie!L22","v":0},{"$f":"Finansowanie!M22","v":0},{"$f":"Finansowanie!N22","v":0},{"$f":"Finansowanie!O22","v":0},{"$f":"Finansowanie!P22","v":0},{"$f":"Finansowanie!Q22","v":0},{"$f":"Finansowanie!R22","v":0},{"$f":"Finansowanie!S22","v":0},{"$f":"Finansowanie!T22","v":0},{"$f":"Finansowanie!U22","v":0},{"$f":"Finansowanie!V22","v":0},{"$f":"Finansowanie!W22","v":0}]
[null,"Dywidenda projekt",null,null,null,null,null,null,null,{"$f":"Finansowanie!J86","v":0},{"$f":"Finansowanie!K86","v":0},{"$f":"Finansowanie!L86","v":0},{"$f":"Finansowanie!M86","v":0},{"$f":"Finansowanie!N86","v":0},{"$f":"Finansowanie!O86","v":0},{"$f":"Finansowanie!P86","v":0},{"$f":"Finansowanie!Q86","v":0},{"$f":"Finansowanie!R86","v":0},{"$f":"Finansowanie!S86","v":0},{"$f":"Finansowanie!T86","v":0},{"$f":"Finansowanie!U86","v":0},{"$f":"Finansowanie!V86","v":0},{"$f":"Finansowanie!W86","v":0}]
[null,"Zysk/strata z lat poprzednich",null,null,null,null,null,null,null,{"$f":"IF(Rok_n=\"\",Finansowanie!J23,IF(Założenia!$I$30=12,Finansowanie!J23,(I80-J480-J481)))","v":0},{"$f":"J482+J479-K480-K481","v":0},0,0,0,0,0,0,0,0,0,0,0,0]

{"sheet":"NPV","index":11,"n_rows":331,"n_cols":23,"rows_kept":331,"cut":false,"hidden":false,"merged":[[1,1,2,11]]}
[]
[null,{"$f":"IF(ISBLANK(Firma),\"Wstaw nazwę firmy\",Firma)","v":"Wstaw nazwę firmy"}]
[]
[]
[]
[]
[]
[]
[]
[]
[null,null,null,null,null,null,null,null,null,{"$f":"Założenia!J25","v":0},{"$f":"Założenia!K25","v":1},{"$f":"Założenia!L25","v":2},{"$f":"Założenia!M25","v":3},{"$f":"Założenia!N25","v":4},{"$f":"Założenia!O25","v":5},{"$f":"Założenia!P25","v":6},{"$f":"Założenia!Q25","v":7},{"$f":"Założenia!R25","v":8},{"$f":"Założenia!S25","v":9},{"$f":"Założenia!T25","v":10},{"$f":"Założenia!U25","v":11},{"$f":"Założenia!V25","v":12},{"$f":"Założenia!W25","v":13}]
[null,"Projekt",null,null,null,{"$f":"Założenia!F26","v":0},{"$f":"Założenia!G26","v":0},{"$f":"Założenia!H26","v":0},{"$f":"Założenia!I26","v":""},{"$f":"LataProjekcji","v":"Uzupełnij dane"},"","","","","","","","","","","","",""]
[]
[null,"Przychody",null,null,null,null,null,null,null,{"$f":"IFERROR(IF(LataProjekcji<=Koniec,'Ocena kondycji finansowej'!J159,0),0)","v":0},{"$f":"IFERROR(IF(LataProjekcji<=Koniec,'Ocena kondycji finansowej'!K159,0),0)","v":0},{"$f":"IFERROR(IF(LataProjekcji<=Koniec,'Ocena kondycji finansowej'!L159,0),0)","v":0},{"$f":"IFERROR(IF(LataProjekcji<=Koniec,'Ocena kondycji finansowej'!M159,0),0)","v":0},{"$f":"IFERROR(IF(LataProjekcji<=Koniec,'Ocena kondycji finansowej'!N159,0),0)","v":0},{"$f":"IFERROR(IF(LataProjekcji<=Koniec,'Ocena kondycji finansowej'!O159,0),0)","v":0},{"$f":"IFERROR(IF(LataProjekcji<=Koniec,'Ocena kondycji finansowej'!P159,0),0)","v":0},{"$f":"IFERROR(IF(LataProjekcji<=Koniec,'Ocena kondycji finansowej'!Q159,0),0)","v":0},{"$f":"IFERROR(IF(LataProjekcji<=Koniec,'Ocena kondycji finansowej'!R159,0),0)","v":0},{"$f":"IFERROR(IF(LataProjekcji<=Koniec,'Ocena kondycji finansowej'!S159,0),0)","v":0},{"$f":"IFERROR(IF(LataProjekcji<=Koniec,'Ocena kondycji finansowej'!T159,0),0)","v":0},{"$f":"IFERROR(IF(LataProjekcji<=Koniec,'Ocena kondycji finansowej'!U159,0),0)","v":0},{"$f":"IFERROR(IF(LataProjekcji<=Koniec,'Ocena kondycji finansowej'!V159,0),0)","v":0},{"$f":"IFERROR(IF(LataProjekcji<=Koniec,'Ocena kondycji finansowej'!W159,0),0)","v":0}]
[null,"Koszty operacyjne",null,null,null,null,null,null,null,{"$f":"IFERROR(IF(LataProjekcji<=Koniec,J192+'Ocena kondycji finansowej'!J165,0),0)","v":0},{"$f":"IFERROR(IF(LataProjekcji<=Koniec,K192+'Ocena kondycji finansowej'!K165,0),0)","v":0},{"$f":"IFERROR(IF(LataProjekcji<=Koniec,L192+'Ocena kondycji finansowej'!L165,0),0)","v":0},{"$f":"IFERROR(IF(LataProjekcji<=Koniec,M192+'Ocena kondycji finansowej'!M165,0),0)","v":0},{"$f":"IFERROR(IF(LataProjekcji<=Koniec,N192+'Ocena kondycji finansowej'!N165,0),0)","v":0},{"$f":"IFERROR(IF(LataProjekcji<=Koniec,O192+'Ocena kondycji finansowej'!O165,0),0)","v":0},{"$f":"IFERROR(IF(LataProjekcji<=Koniec,P192+'Ocena kondycji finansowej'!P165,0),0)","v":0},{"$f":"IFERROR(IF(LataProjekcji<=Koniec,Q192+'Ocena kondycji finansowej'!Q165,0),0)","v":0},{"$f":"IFERROR(IF(LataProjekcji<=Koniec,R192+'Ocena kondycji finansowej'!R165,0),0)","v":0},{"$f":"IFERROR(IF(LataProjekcji<=Koniec,S192+'Ocena kondycji finansowej'!S165,0),0)","v":0},{"$f":"IFERROR(IF(LataProjekcji<=Koniec,T192+'Ocena kondycji finansowej'!T165,0),0)","v":0},{"$f":"IFERROR(IF(LataProjekcji<=Koniec,U192+'Ocena kondycji finansowej'!U165,0),0)","v":0},{"$f":"IFERROR(IF(LataProjekcji<=Koniec,V192+'Ocena kondycji finansowej'!V165,0),0)","v":0},{"$f":"IFERROR(IF(LataProjekcji<=Koniec,W192+'Ocena kondycji finansowej'!W165,0),0)","v":0}]
[null,"Amortyzacja",null,null,null,null,null,null,null,{"$f":"IFERROR(IF(LataProjekcji<=Koniec,'Ocena kondycji finansowej'!J165,0),0)","v":0},{"$f":"IFERROR(IF(LataProjekcji<=Koniec,'Ocena kondycji finansowej'!K165,0),0)","v":0},{"$f":"IFERROR(IF(LataProjekcji<=Koniec,'Ocena kondycji finansowej'!L165,0),0)","v":0},{"$f":"IFERROR(IF(LataProjekcji<=Koniec,'Ocena kondycji finansowej'!M165,0),0)","v":0},{"$f":"IFERROR(IF(LataProjekcji<=Koniec,'Ocena kondycji finansowej'!N165,0),0)","v":0},{"$f":"IFERROR(IF(LataProjekcji<=Koniec,'Ocena kondycji finansowej'!O165,0),0)","v":0},{"$f":"IFERROR(IF(LataProjekcji<=Koniec,'Ocena kondycji finansowej'!P165,0),0)","v":0},{"$f":"IFERROR(IF(LataProjekcji<=Koniec,'Ocena kondycji finansowej'!Q165,0),0)","v":0},{"$f":"IFERROR(IF(LataProjekcji<=Koniec,'Ocena kondycji finansowej'!R165,0),0)","v":0},{"$f":"IFERROR(IF(LataProjekcji<=Koniec,'Ocena kondycji finansowej'!S165,0),0)","v":0},{"$f":"IFERROR(IF(LataProjekcji<=Koniec,'Ocena kondycji finansowej'!T165,0),0)","v":0},{"$f":"IFERROR(IF(LataProjekcji<=Koniec,'Ocena kondycji finansowej'!U165,0),0)","v":0},{"$f":"IFERROR(IF(LataProjekcji<=Koniec,'Ocena kondycji finansowej'!V165,0),0)","v":0},{"$f":"IFERROR(IF(LataProjekcji<=Koniec,'Ocena kondycji finansowej'!W165,0),0)","v":0}]
[null,"Nakłady inwestycyjne (projektowe)",null,null,null,null,null,null,null,{"$f":"IFERROR(IF(LataProjekcji<=Koniec,J143,0),0)","v":0},0,0,0,0,0,0,0,0,0,0,0,0,0]
[null,"Dotacja",null,null,null,null,null,null,null,{"$f":"IFERROR(IF(LataProjekcji<=Koniec,J282,0),0)","v":0},{"$f":"IFERROR(IF(LataProjekcji<=Koniec,K282,0),0)","v":0},0,0,0,0,0,0,0,0,0,0,0,0]
[null,"Wartość rezydualna",null,null,null,null,null,null,null,{"$f":"IFERROR(IF(LataProjekcji<=Koniec,IF(LataProjekcji=Koniec,'Środki trwałe'!J572,0),0),0)","v":0},{"$f":"IFERROR(IF(LataProjekcji<=Koniec,IF(LataProjekcji=Koniec,'Środki trwałe'!K572,0),0),0)","v":0},{"$f":"IFERROR(IF(LataProjekcji<=Koniec,IF(LataProjekcji=Koniec,'Środki trwałe'!L572,0),0),0)","v":0},{"$f":"IFERROR(IF(LataProjekcji<=Koniec,IF(LataProjekcji=Koniec,'Środki trwałe'!M572,0),0),0)","v":0},{"$f":"IFERROR(IF(LataProjekcji<=Koniec,IF(LataProjekcji=Koniec,'Środki trwałe'!N572,0),0),0)","v":0},{"$f":"IFERROR(IF(LataProjekcji<=Koniec,IF(LataProjekcji=Koniec,'Środki trwałe'!O572,0),0),0)","v":0},{"$f":"IFERROR(IF(LataProjekcji<=Koniec,IF(LataProjekcji=Koniec,'Środki trwałe'!P572,0),0),0)","v":0},{"$f":"IFERROR(IF(LataProjekcji<=Koniec,IF(LataProjekcji=Koniec,'Środki trwałe'!Q572,0),0),0)","v":0},{"$f":"IFERROR(IF(LataProjekcji<=Koniec,IF(LataProjekcji=Koniec,'Środki trwałe'!R572,0),0),0)","v":0},{"$f":"IFERROR(IF(LataProjekcji<=Koniec,IF(LataProjekcji=Koniec,'Środki trwałe'!S572,0),0),0)","v":0},{"$f":"IFERROR(IF(LataProjekcji<=Koniec,IF(LataProjekcji=Koniec,'Środki trwałe'!T572,0),0),0)","v":0},{"$f":"IFERROR(IF(LataProjekcji<=Koniec,IF(LataProjekcji=Koniec,'Środki trwałe'!U572,0),0),0)","v":0},{"$f":"IFERROR(IF(LataProjekcji<=Koniec,IF(LataProjekcji=Koniec,'Środki trwałe'!V572,0),0),0)","v":0},{"$f":"IFERROR(IF(LataProjekcji<=Koniec,IF(LataProjekcji=Koniec,'Środki trwałe'!W572,0),0),0)","v":0}]
[null,"Zmiana w kapitale pracującym",null,null,null,null,null,null,null,{"$f":"IFERROR(IF(LataProjekcji<=Koniec,'Kapitał pracujący'!J93,0),0)","v":0},{"$f":"IFERROR(IF(LataProjekcji<=Koniec,'Kapitał pracujący'!K93,0),0)","v":0},{"$f":"IFERROR(IF(LataProjekcji<=Koniec,'Kapitał pracujący'!L93,0),0)","v":0},{"$f":"IFERROR(IF(LataProjekcji<=Koniec,'Kapitał pracujący'!M93,0),0)","v":0},{"$f":"IFERROR(IF(LataProjekcji<=Koniec,'Kapitał pracujący'!N93,0),0)","v":0},{"$f":"IFERROR(IF(LataProjekcji<=Koniec,'Kapitał pracujący'!O93,0),0)","v":0},{"$f":"IFERROR(IF(LataProjekcji<=Koniec,'Kapitał pracujący'!P93,0),0)","v":0},{"$f":"IFERROR(IF(LataProjekcji<=Koniec,'Kapitał pracujący'!Q93,0),0)","v":0},{"$f":"IFERROR(IF(LataProjekcji<=Koniec,'Kapitał pracujący'!R93,0),0)","v":0},{"$f":"IFERROR(IF(LataProjekcji<=Koniec,'Kapitał pracujący'!S93,0),0)","v":0},{"$f":"IFERROR(IF(LataProjekcji<=Koniec,'Kapitał pracujący'!T93,0),0)","v":0},{"$f":"IFERROR(IF(LataProjekcji<=Koniec,'Kapitał pracujący'!U93,0),0)","v":0},{"$f":"IFERROR(IF(LataProjekcji<=Koniec,'Kapitał pracujący'!V93,0),0)","v":0},{"$f":"IFERROR(IF(LataProjekcji<=Koniec,'Kapitał pracujący'!W93,0),0)","v":0}]
[null,"Wolne przepływy pieniężne (FCF)",null,null,null,null,null,null,null,{"$f":"J14-J15+J16-J17+J18+J19+J20","v":0},{"$f":"K14-K15+K16-K17+K18+K19+K20","v":0},0,0,0,0,0,0,0,0,0,0,0,0]
[]
[null,"Stopa dyskonta",null,null,null,null,null,null,null,{"$f":"IF(LataProjekcji<=Koniec,WACC,0)","v":0},0,0,0,0,0,0,0,0,0,0,0,0,0]
[null,"Współczynnik dyskonta",null,null,null,null,null,null,null,{"$f":"IF(LataProjekcji<=Koniec,(1/(1+WACC)^J66),0)","v":1},1,1,1,1,1,1,1,1,1,1,1,1,1]
[null,"Zdyskontowane przepływy pieniężne (FCF)",null,null,null,null,null,null,null,{"$f":"ROUND(J24*J21,0)","v":0},{"$f":"ROUND(K24*K21,0)","v":0},0,0,0,0,0,0,0,0,0,0,0,0]
[null,"Skumulowane zdyskontowane przepływy pienieżne (FCF)",null,null,null,null,null,null,null,{"$f":"IF(LataProjekcji<=Koniec,J25,0)","v":0},{"$f":"IF(LataProjekcji<=Koniec,J26+K25,0)","v":0},0,0,0,0,0,0,0,0,0,0,0,0]
[]
[null,null,"NPV",null,null,null,null,null,null,{"$f":"INDIRECT(C60)","v":0}]
[null,null,"IRR",null,null,null,null,null,null,{"$f":"IFERROR(IRR(INDIRECT(C52):INDIRECT(C56)),\"n/d\")","v":"n/d"}]
[]
[null,"Komentarz"]
[]
[]
[]
[]
[]
[]
[]
[]
[]
[]
[]
[]
[]
[]
[]
[]
[]
[]
[]
[]
[null,"adres początkowy_IRR",{"$f":"ADDRESS(C53,C54)","v":"$F$21"}]
[null,"wiersz",{"$f":"ROW(J21)","v":21}]
[null,"kolumna",{"$f":"MATCH(Poczatek,$A$12:$W$12,0)","v":6}]
[]
[null,"adres końcowy_IRR",{"$f":"ADDRESS(C53,C57)","v":"$J$21"}]
[null,"kolumna",{"$f":"MATCH(Koniec,$A$12:$W$12,0)","v":10}]
[]
[]
[null,"adres początkowy_NPV",{"$f":"ADDRESS(C61,C62)","v":"$J$26"}]
[null,"wiersz",{"$f":"ROW(J26)","v":26}]
[null,"kolumna",{"$f":"MATCH(Koniec,$A$12:$W$12,0)","v":10}]
[]
[null,null,null,null,null,null,null,null,null,{"$f":"J$12","v":"Uzupełnij dane"},{"$f":"K$12","v":""},"","","","","","","","","","","",""]
[null,"Pomocne liczby do dyskonta",null,null,null,null,null,null,null,{"$f":"IF(LataProjekcji=Poczatek,0,IF(AND(LataProjekcji>Poczatek,LataProjekcji<=Koniec),1,-1))","v":1},0,0,0,0,0,0,0,0,0,0,0,0,0]
[null,"Potęga (okres)",null,null,null,null,null,null,null,{"$f":"IF(J65<0,0,J65)","v":1},{"$f":"IF(K65<0,0,J66+K65)","v":1},1,1,1,1,1,1,1,1,1,1,1,1]
[]
[]
[]
[null,"Nakłady inwestycyjne do liczenia NPV",null,null,null,null,null,null,null,{"$f":"J$12","v":"Uzupełnij dane"},"","","","","","","","","","","","",""]
[null,"- wydatki na zakup infrastruktury (z arkusza Środki trwałe)",null,null,null,null,null,null,null,{"$f":"J72+J73","v":0},{"$f":"K72+K73","v":0},{"$f":"L72+L73","v":0},{"$f":"M72+M73","v":0},{"$f":"N72+N73","v":0},{"$f":"O72+O73","v":0},{"$f":"P72+P73","v":0},{"$f":"Q72+Q73","v":0},{"$f":"R72+R73","v":0},{"$f":"S72+S73","v":0},{"$f":"T72+T73","v":0},{"$f":"U72+U73","v":0},{"$f":"V72+V73","v":0},{"$f":"W72+W73","v":0}]
[null,"     - kwalifikowane",null,null,null,null,null,null,null,{"$f":"J75+J78+J81+J84+J87+J90+J93","v":0},{"$f":"K75+K78+K81+K84+K87+K90+K93","v":0},0,0,0,0,0,0,0,0,0,0,0,0]
[null,"     - niekwalifikowane",null,null,null,null,null,null,null,{"$f":"J76+J79+J82+J85+J88+J91+J94","v":0},{"$f":"K76+K79+K82+K85+K88+K91+K94","v":0},0,0,0,0,0,0,0,0,0,0,0,0]
[null,"   c) inne wartości niematerialne i prawne",null,null,null,null,null,null,null,{"$f":"J75+J76","v":0},{"$f":"K75+K76","v":0},0,0,0,0,0,0,0,0,0,0,0,0]
[null,"     - kwalifikowane",null,null,null,null,null,null,null,{"$f":"'Środki trwałe'!J630","v":0},{"$f":"'Środki trwałe'!K630","v":0},{"$f":"'Środki trwałe'!L630","v":0},{"$f":"'Środki trwałe'!M630","v":0},{"$f":"'Środki trwałe'!N630","v":0},{"$f":"'Środki trwałe'!O630","v":0},{"$f":"'Środki trwałe'!P630","v":0},{"$f":"'Środki trwałe'!Q630","v":0},{"$f":"'Środki trwałe'!R630","v":0},{"$f":"'Środki trwałe'!S630","v":0},{"$f":"'Środki trwałe'!T630","v":0},{"$f":"'Środki trwałe'!U630","v":0},{"$f":"'Środki trwałe'!V630","v":0},{"$f":"'Środki trwałe'!W630","v":0}]
[null,"     - niekwalifikowane",null,null,null,null,null,null,null,{"$f":"'Środki trwałe'!J631","v":0},{"$f":"'Środki trwałe'!K631","v":0},{"$f":"'Środki trwałe'!L631","v":0},{"$f":"'Środki trwałe'!M631","v":0},{"$f":"'Środki trwałe'!N631","v":0},{"$f":"'Środki trwałe'!O631","v":0},{"$f":"'Środki trwałe'!P631","v":0},{"$f":"'Środki trwałe'!Q631","v":0},{"$f":"'Środki trwałe'!R631","v":0},{"$f":"'Środki trwałe'!S631","v":0},{"$f":"'Środki trwałe'!T631","v":0},{"$f":"'Środki trwałe'!U631","v":0},{"$f":"'Środki trwałe'!V631","v":0},{"$f":"'Środki trwałe'!W631","v":0}]
[null,"   a) grunty",null,null,null,null,null,null,null,{"$f":"J78+J79","v":0},{"$f":"K78+K79","v":0},{"$f":"L78+L79","v":0},{"$f":"M78+M79","v":0},{"$f":"N78+N79","v":0},{"$f":"O78+O79","v":0},{"$f":"P78+P79","v":0},{"$f":"Q78+Q79","v":0},{"$f":"R78+R79","v":0},{"$f":"S78+S79","v":0},{"$f":"T78+T79","v":0},{"$f":"U78+U79","v":0},{"$f":"V78+V79","v":0},{"$f":"W78+W79","v":0}]
[null,"     - kwalifikowane",null,null,null,null,null,null,null,{"$f":"'Środki trwałe'!J640","v":0},{"$f":"'Środki trwałe'!K640","v":0},{"$f":"'Środki trwałe'!L640","v":0},{"$f":"'Środki trwałe'!M640","v":0},{"$f":"'Środki trwałe'!N640","v":0},{"$f":"'Środki trwałe'!O640","v":0},{"$f":"'Środki trwałe'!P640","v":0},{"$f":"'Środki trwałe'!Q640","v":0},{"$f":"'Środki trwałe'!R640","v":0},{"$f":"'Środki trwałe'!S640","v":0},{"$f":"'Środki trwałe'!T640","v":0},{"$f":"'Środki trwałe'!U640","v":0},{"$f":"'Środki trwałe'!V640","v":0},{"$f":"'Środki trwałe'!W640","v":0}]
[null,"     - niekwalifikowane",null,null,null,null,null,null,null,{"$f":"'Środki trwałe'!J641","v":0},{"$f":"'Środki trwałe'!K641","v":0},{"$f":"'Środki trwałe'!L641","v":0},{"$f":"'Środki trwałe'!M641","v":0},{"$f":"'Środki trwałe'!N641","v":0},{"$f":"'Środki trwałe'!O641","v":0},{"$f":"'Środki trwałe'!P641","v":0},{"$f":"'Środki trwałe'!Q641","v":0},{"$f":"'Środki trwałe'!R641","v":0},{"$f":"'Środki trwałe'!S641","v":0},{"$f":"'Środki trwałe'!T641","v":0},{"$f":"'Środki trwałe'!U641","v":0},{"$f":"'Środki trwałe'!V641","v":0},{"$f":"'Środki trwałe'!W641","v":0}]
[null,"   b) budynki i budowle ",null,null,null,null,null,null,null,{"$f":"J81+J82","v":0},{"$f":"K81+K82","v":0},{"$f":"L81+L82","v":0},{"$f":"M81+M82","v":0},{"$f":"N81+N82","v":0},{"$f":"O81+O82","v":0},{"$f":"P81+P82","v":0},{"$f":"Q81+Q82","v":0},{"$f":"R81+R82","v":0},{"$f":"S81+S82","v":0},{"$f":"T81+T82","v":0},{"$f":"U81+U82","v":0},{"$f":"V81+V82","v":0},{"$f":"W81+W82","v":0}]
[null,"     - kwalifikowane",null,null,null,null,null,null,null,{"$f":"'Środki trwałe'!J650","v":0},{"$f":"'Środki trwałe'!K650","v":0},{"$f":"'Środki trwałe'!L650","v":0},{"$f":"'Środki trwałe'!M650","v":0},{"$f":"'Środki trwałe'!N650","v":0},{"$f":"'Środki trwałe'!O650","v":0},{"$f":"'Środki trwałe'!P650","v":0},{"$f":"'Środki trwałe'!Q650","v":0},{"$f":"'Środki trwałe'!R650","v":0},{"$f":"'Środki trwałe'!S650","v":0},{"$f":"'Środki trwałe'!T650","v":0},{"$f":"'Środki trwałe'!U650","v":0},{"$f":"'Środki trwałe'!V650","v":0},{"$f":"'Środki trwałe'!W650","v":0}]
[null,"     - niekwalifikowane",null,null,null,null,null,null,null,{"$f":"'Środki trwałe'!J651","v":0},{"$f":"'Środki trwałe'!K651","v":0},{"$f":"'Środki trwałe'!L651","v":0},{"$f":"'Środki trwałe'!M651","v":0},{"$f":"'Środki trwałe'!N651","v":0},{"$f":"'Środki trwałe'!O651","v":0},{"$f":"'Środki trwałe'!P651","v":0},{"$f":"'Środki trwałe'!Q651","v":0},{"$f":"'Środki trwałe'!R651","v":0},{"$f":"'Środki trwałe'!S651","v":0},{"$f":"'Środki trwałe'!T651","v":0},{"$f":"'Środki trwałe'!U651","v":0},{"$f":"'Środki trwałe'!V651","v":0},{"$f":"'Środki trwałe'!W651","v":0}]
[null,"   c) urządzenia techniczne i maszyny ",null,null,null,null,null,null,null,{"$f":"J84+J85","v":0},{"$f":"K84+K85","v":0},{"$f":"L84+L85","v":0},{"$f":"M84+M85","v":0},{"$f":"N84+N85","v":0},{"$f":"O84+O85","v":0},{"$f":"P84+P85","v":0},{"$f":"Q84+Q85","v":0},{"$f":"R84+R85","v":0},{"$f":"S84+S85","v":0},{"$f":"T84+T85","v":0},{"$f":"U84+U85","v":0},{"$f":"V84+V85","v":0},{"$f":"W84+W85","v":0}]
[null,"     - kwalifikowane",null,null,null,null,null,null,null,{"$f":"'Środki trwałe'!J686","v":0},{"$f":"'Środki trwałe'!K686","v":0},{"$f":"'Środki trwałe'!L686","v":0},{"$f":"'Środki trwałe'!M686","v":0},{"$f":"'Środki trwałe'!N686","v":0},{"$f":"'Środki trwałe'!O686","v":0},{"$f":"'Środki trwałe'!P686","v":0},{"$f":"'Środki trwałe'!Q686","v":0},{"$f":"'Środki trwałe'!R686","v":0},{"$f":"'Środki trwałe'!S686","v":0},{"$f":"'Środki trwałe'!T686","v":0},{"$f":"'Środki trwałe'!U686","v":0},{"$f":"'Środki trwałe'!V686","v":0},{"$f":"'Środki trwałe'!W686","v":0}]
[null,"     - niekwalifikowane",null,null,null,null,null,null,null,{"$f":"'Środki trwałe'!J687","v":0},{"$f":"'Środki trwałe'!K687","v":0},{"$f":"'Środki trwałe'!L687","v":0},{"$f":"'Środki trwałe'!M687","v":0},{"$f":"'Środki trwałe'!N687","v":0},{"$f":"'Środki trwałe'!O687","v":0},{"$f":"'Środki trwałe'!P687","v":0},{"$f":"'Środki trwałe'!Q687","v":0},{"$f":"'Środki trwałe'!R687","v":0},{"$f":"'Środki trwałe'!S687","v":0},{"$f":"'Środki trwałe'!T687","v":0},{"$f":"'Środki trwałe'!U687","v":0},{"$f":"'Środki trwałe'!V687","v":0},{"$f":"'Środki trwałe'!W687","v":0}]
[null,"   d) środki transportu ",null,null,null,null,null,null,null,{"$f":"J87+J88","v":0},{"$f":"K87+K88","v":0},{"$f":"L87+L88","v":0},{"$f":"M87+M88","v":0},{"$f":"N87+N88","v":0},{"$f":"O87+O88","v":0},{"$f":"P87+P88","v":0},{"$f":"Q87+Q88","v":0},{"$f":"R87+R88","v":0},{"$f":"S87+S88","v":0},{"$f":"T87+T88","v":0},{"$f":"U87+U88","v":0},{"$f":"V87+V88","v":0},{"$f":"W87+W88","v":0}]
[null,"     - kwalifikowane",null,null,null,null,null,null,null,{"$f":"'Środki trwałe'!J696","v":0},{"$f":"'Środki trwałe'!K696","v":0},{"$f":"'Środki trwałe'!L696","v":0},{"$f":"'Środki trwałe'!M696","v":0},{"$f":"'Środki trwałe'!N696","v":0},{"$f":"'Środki trwałe'!O696","v":0},{"$f":"'Środki trwałe'!P696","v":0},{"$f":"'Środki trwałe'!Q696","v":0},{"$f":"'Środki trwałe'!R696","v":0},{"$f":"'Środki trwałe'!S696","v":0},{"$f":"'Środki trwałe'!T696","v":0},{"$f":"'Środki trwałe'!U696","v":0},{"$f":"'Środki trwałe'!V696","v":0},{"$f":"'Środki trwałe'!W696","v":0}]
[null,"     - niekwalifikowane",null,null,null,null,null,null,null,{"$f":"'Środki trwałe'!J697","v":0},{"$f":"'Środki trwałe'!K697","v":0},{"$f":"'Środki trwałe'!L697","v":0},{"$f":"'Środki trwałe'!M697","v":0},{"$f":"'Środki trwałe'!N697","v":0},{"$f":"'Środki trwałe'!O697","v":0},{"$f":"'Środki trwałe'!P697","v":0},{"$f":"'Środki trwałe'!Q697","v":0},{"$f":"'Środki trwałe'!R697","v":0},{"$f":"'Środki trwałe'!S697","v":0},{"$f":"'Środki trwałe'!T697","v":0},{"$f":"'Środki trwałe'!U697","v":0},{"$f":"'Środki trwałe'!V697","v":0},{"$f":"'Środki trwałe'!W697","v":0}]
[null,"   e) inne środki trwałe ",null,null,null,null,null,null,null,{"$f":"J90+J91","v":0},{"$f":"K90+K91","v":0},{"$f":"L90+L91","v":0},{"$f":"M90+M91","v":0},{"$f":"N90+N91","v":0},{"$f":"O90+O91","v":0},{"$f":"P90+P91","v":0},{"$f":"Q90+Q91","v":0},{"$f":"R90+R91","v":0},{"$f":"S90+S91","v":0},{"$f":"T90+T91","v":0},{"$f":"U90+U91","v":0},{"$f":"V90+V91","v":0},{"$f":"W90+W91","v":0}]
[null,"     - kwalifikowane",null,null,null,null,null,null,null,{"$f":"'Środki trwałe'!J706","v":0},{"$f":"'Środki trwałe'!K706","v":0},{"$f":"'Środki trwałe'!L706","v":0},{"$f":"'Środki trwałe'!M706","v":0},{"$f":"'Środki trwałe'!N706","v":0},{"$f":"'Środki trwałe'!O706","v":0},{"$f":"'Środki trwałe'!P706","v":0},{"$f":"'Środki trwałe'!Q706","v":0},{"$f":"'Środki trwałe'!R706","v":0},{"$f":"'Środki trwałe'!S706","v":0},{"$f":"'Środki trwałe'!T706","v":0},{"$f":"'Środki trwałe'!U706","v":0},{"$f":"'Środki trwałe'!V706","v":0},{"$f":"'Środki trwałe'!W706","v":0}]
[null,"     - niekwalifikowane",null,null,null,null,null,null,null,{"$f":"'Środki trwałe'!J707","v":0},{"$f":"'Środki trwałe'!K707","v":0},{"$f":"'Środki trwałe'!L707","v":0},{"$f":"'Środki trwałe'!M707","v":0},{"$f":"'Środki trwałe'!N707","v":0},{"$f":"'Środki trwałe'!O707","v":0},{"$f":"'Środki trwałe'!P707","v":0},{"$f":"'Środki trwałe'!Q707","v":0},{"$f":"'Środki trwałe'!R707","v":0},{"$f":"'Środki trwałe'!S707","v":0},{"$f":"'Środki trwałe'!T707","v":0},{"$f":"'Środki trwałe'!U707","v":0},{"$f":"'Środki trwałe'!V707","v":0},{"$f":"'Środki trwałe'!W707","v":0}]
[null,"   f) środki trwałe w budowie",null,null,null,null,null,null,null,{"$f":"J93+J94","v":0},{"$f":"K93+K94","v":0},0,0,0,0,0,0,0,0,0,0,0,0]
[null,"     - kwalifikowane",null,null,null,null,null,null,null,{"$f":"'Środki trwałe'!J665","v":0},{"$f":"'Środki trwałe'!K665","v":0},{"$f":"'Środki trwałe'!L665","v":0},{"$f":"'Środki trwałe'!M665","v":0},{"$f":"'Środki trwałe'!N665","v":0},{"$f":"'Środki trwałe'!O665","v":0},{"$f":"'Środki trwałe'!P665","v":0},{"$f":"'Środki trwałe'!Q665","v":0},{"$f":"'Środki trwałe'!R665","v":0},{"$f":"'Środki trwałe'!S665","v":0},{"$f":"'Środki trwałe'!T665","v":0},{"$f":"'Środki trwałe'!U665","v":0},{"$f":"'Środki trwałe'!V665","v":0},{"$f":"'Środki trwałe'!W665","v":0}]
[null,"     - niekwalifikowane",null,null,null,null,null,null,null,{"$f":"'Środki trwałe'!J676","v":0},{"$f":"'Środki trwałe'!K676","v":0},{"$f":"'Środki trwałe'!L676","v":0},{"$f":"'Środki trwałe'!M676","v":0},{"$f":"'Środki trwałe'!N676","v":0},{"$f":"'Środki trwałe'!O676","v":0},{"$f":"'Środki trwałe'!P676","v":0},{"$f":"'Środki trwałe'!Q676","v":0},{"$f":"'Środki trwałe'!R676","v":0},{"$f":"'Środki trwałe'!S676","v":0},{"$f":"'Środki trwałe'!T676","v":0},{"$f":"'Środki trwałe'!U676","v":0},{"$f":"'Środki trwałe'!V676","v":0},{"$f":"'Środki trwałe'!W676","v":0}]
[null,"- wydatki B+R (koszty operacyjne)",null,null,null,null,null,null,null,{"$f":"J96+J97","v":0},{"$f":"K96+K97","v":0},{"$f":"L96+L97","v":0},{"$f":"M96+M97","v":0},{"$f":"N96+N97","v":0},{"$f":"O96+O97","v":0},{"$f":"P96+P97","v":0},{"$f":"Q96+Q97","v":0},{"$f":"R96+R97","v":0},{"$f":"S96+S97","v":0},{"$f":"T96+T97","v":0},{"$f":"U96+U97","v":0},{"$f":"V96+V97","v":0},{"$f":"W96+W97","v":0}]
[null,"     - kwalifikowane",null,null,null,null,null,null,null,{"$f":"J99+J102+J105+J108+J111+J114+J117","v":0},{"$f":"K99+K102+K105+K108+K111+K114+K117","v":0},0,0,0,0,0,0,0,0,0,0,0,0]
[null,"     - niekwalifikowane",null,null,null,null,null,null,null,{"$f":"J100+J103+J106+J109+J112+J115+J118","v":0},{"$f":"K100+K103+K106+K109+K112+K115+K118","v":0},0,0,0,0,0,0,0,0,0,0,0,0]
[null,"   a) zużycie materiałów i energii",null,null,null,null,null,null,null,{"$f":"J99+J100","v":0},{"$f":"K99+K100","v":0},{"$f":"L99+L100","v":0},{"$f":"M99+M100","v":0},{"$f":"N99+N100","v":0},{"$f":"O99+O100","v":0},{"$f":"P99+P100","v":0},{"$f":"Q99+Q100","v":0},{"$f":"R99+R100","v":0},{"$f":"S99+S100","v":0},{"$f":"T99+T100","v":0},{"$f":"U99+U100","v":0},{"$f":"V99+V100","v":0},{"$f":"W99+W100","v":0}]
[null,"     - kwalifikowane",null,null,null,null,null,null,null,{"$f":"'Koszty operacyjne'!J498-J100","v":0},{"$f":"'Koszty operacyjne'!K498-K100","v":0},{"$f":"'Koszty operacyjne'!L498-L100","v":0},{"$f":"'Koszty operacyjne'!M498-M100","v":0},{"$f":"'Koszty operacyjne'!N498-N100","v":0},{"$f":"'Koszty operacyjne'!O498-O100","v":0},{"$f":"'Koszty operacyjne'!P498-P100","v":0},{"$f":"'Koszty operacyjne'!Q498-Q100","v":0},{"$f":"'Koszty operacyjne'!R498-R100","v":0},{"$f":"'Koszty operacyjne'!S498-S100","v":0},{"$f":"'Koszty operacyjne'!T498-T100","v":0},{"$f":"'Koszty operacyjne'!U498-U100","v":0},{"$f":"'Koszty operacyjne'!V498-V100","v":0},{"$f":"'Koszty operacyjne'!W498-W100","v":0}]
[null,"     - niekwalifikowane",null,null,null,null,null,null,null,{"$f":"'Koszty operacyjne'!J641","v":0},{"$f":"'Koszty operacyjne'!K641","v":0},{"$f":"'Koszty operacyjne'!L641","v":0},{"$f":"'Koszty operacyjne'!M641","v":0},{"$f":"'Koszty operacyjne'!N641","v":0},{"$f":"'Koszty operacyjne'!O641","v":0},{"$f":"'Koszty operacyjne'!P641","v":0},{"$f":"'Koszty operacyjne'!Q641","v":0},{"$f":"'Koszty operacyjne'!R641","v":0},{"$f":"'Koszty operacyjne'!S641","v":0},{"$f":"'Koszty operacyjne'!T641","v":0},{"$f":"'Koszty operacyjne'!U641","v":0},{"$f":"'Koszty operacyjne'!V641","v":0},{"$f":"'Koszty operacyjne'!W641","v":0}]
[null,"   b) usługi obce",null,null,null,null,null,null,null,{"$f":"J102+J103","v":0},{"$f":"K102+K103","v":0},{"$f":"L102+L103","v":0},{"$f":"M102+M103","v":0},{"$f":"N102+N103","v":0},{"$f":"O102+O103","v":0},{"$f":"P102+P103","v":0},{"$f":"Q102+Q103","v":0},{"$f":"R102+R103","v":0},{"$f":"S102+S103","v":0},{"$f":"T102+T103","v":0},{"$f":"U102+U103","v":0},{"$f":"V102+V103","v":0},{"$f":"W102+W103","v":0}]
[null,"     - kwalifikowane",null,null,null,null,null,null,null,{"$f":"'Koszty operacyjne'!J499-J103","v":0},{"$f":"'Koszty operacyjne'!K499-K103","v":0},{"$f":"'Koszty operacyjne'!L499-L103","v":0},{"$f":"'Koszty operacyjne'!M499-M103","v":0},{"$f":"'Koszty operacyjne'!N499-N103","v":0},{"$f":"'Koszty operacyjne'!O499-O103","v":0},{"$f":"'Koszty operacyjne'!P499-P103","v":0},{"$f":"'Koszty operacyjne'!Q499-Q103","v":0},{"$f":"'Koszty operacyjne'!R499-R103","v":0},{"$f":"'Koszty operacyjne'!S499-S103","v":0},{"$f":"'Koszty operacyjne'!T499-T103","v":0},{"$f":"'Koszty operacyjne'!U499-U103","v":0},{"$f":"'Koszty operacyjne'!V499-V103","v":0},{"$f":"'Koszty operacyjne'!W499-W103","v":0}]
[null,"     - niekwalifikowane",null,null,null,null,null,null,null,{"$f":"'Koszty operacyjne'!J642","v":0},{"$f":"'Koszty operacyjne'!K642","v":0},{"$f":"'Koszty operacyjne'!L642","v":0},{"$f":"'Koszty operacyjne'!M642","v":0},{"$f":"'Koszty operacyjne'!N642","v":0},{"$f":"'Koszty operacyjne'!O642","v":0},{"$f":"'Koszty operacyjne'!P642","v":0},{"$f":"'Koszty operacyjne'!Q642","v":0},{"$f":"'Koszty operacyjne'!R642","v":0},{"$f":"'Koszty operacyjne'!S642","v":0},{"$f":"'Koszty operacyjne'!T642","v":0},{"$f":"'Koszty operacyjne'!U642","v":0},{"$f":"'Koszty operacyjne'!V642","v":0},{"$f":"'Koszty operacyjne'!W642","v":0}]
[null,"   c) podatki i opłaty",null,null,null,null,null,null,null,{"$f":"J105+J106","v":0},{"$f":"K105+K106","v":0},{"$f":"L105+L106","v":0},{"$f":"M105+M106","v":0},{"$f":"N105+N106","v":0},{"$f":"O105+O106","v":0},{"$f":"P105+P106","v":0},{"$f":"Q105+Q106","v":0},{"$f":"R105+R106","v":0},{"$f":"S105+S106","v":0},{"$f":"T105+T106","v":0},{"$f":"U105+U106","v":0},{"$f":"V105+V106","v":0},{"$f":"W105+W106","v":0}]
[null,"     - kwalifikowane",null,null,null,null,null,null,null,{"$f":"'Koszty operacyjne'!J500-J106","v":0},{"$f":"'Koszty operacyjne'!K500-K106","v":0},{"$f":"'Koszty operacyjne'!L500-L106","v":0},{"$f":"'Koszty operacyjne'!M500-M106","v":0},{"$f":"'Koszty operacyjne'!N500-N106","v":0},{"$f":"'Koszty operacyjne'!O500-O106","v":0},{"$f":"'Koszty operacyjne'!P500-P106","v":0},{"$f":"'Koszty operacyjne'!Q500-Q106","v":0},{"$f":"'Koszty operacyjne'!R500-R106","v":0},{"$f":"'Koszty operacyjne'!S500-S106","v":0},{"$f":"'Koszty operacyjne'!T500-T106","v":0},{"$f":"'Koszty operacyjne'!U500-U106","v":0},{"$f":"'Koszty operacyjne'!V500-V106","v":0},{"$f":"'Koszty operacyjne'!W500-W106","v":0}]
[null,"     - niekwalifikowane",null,null,null,null,null,null,null,{"$f":"'Koszty operacyjne'!J643","v":0},{"$f":"'Koszty operacyjne'!K643","v":0},{"$f":"'Koszty operacyjne'!L643","v":0},{"$f":"'Koszty operacyjne'!M643","v":0},{"$f":"'Koszty operacyjne'!N643","v":0},{"$f":"'Koszty operacyjne'!O643","v":0},{"$f":"'Koszty operacyjne'!P643","v":0},{"$f":"'Koszty operacyjne'!Q643","v":0},{"$f":"'Koszty operacyjne'!R643","v":0},{"$f":"'Koszty operacyjne'!S643","v":0},{"$f":"'Koszty operacyjne'!T643","v":0},{"$f":"'Koszty operacyjne'!U643","v":0},{"$f":"'Koszty operacyjne'!V643","v":0},{"$f":"'Koszty operacyjne'!W643","v":0}]
[null,"   d) wynagrodzenia",null,null,null,null,null,null,null,{"$f":"J108+J109","v":0},{"$f":"K108+K109","v":0},{"$f":"L108+L109","v":0},{"$f":"M108+M109","v":0},{"$f":"N108+N109","v":0},{"$f":"O108+O109","v":0},{"$f":"P108+P109","v":0},{"$f":"Q108+Q109","v":0},{"$f":"R108+R109","v":0},{"$f":"S108+S109","v":0},{"$f":"T108+T109","v":0},{"$f":"U108+U109","v":0},{"$f":"V108+V109","v":0},{"$f":"W108+W109","v":0}]
[null,"     - kwalifikowane",null,null,null,null,null,null,null,{"$f":"'Koszty operacyjne'!J501-J109","v":0},{"$f":"'Koszty operacyjne'!K501-K109","v":0},{"$f":"'Koszty operacyjne'!L501-L109","v":0},{"$f":"'Koszty operacyjne'!M501-M109","v":0},{"$f":"'Koszty operacyjne'!N501-N109","v":0},{"$f":"'Koszty operacyjne'!O501-O109","v":0},{"$f":"'Koszty operacyjne'!P501-P109","v":0},{"$f":"'Koszty operacyjne'!Q501-Q109","v":0},{"$f":"'Koszty operacyjne'!R501-R109","v":0},{"$f":"'Koszty operacyjne'!S501-S109","v":0},{"$f":"'Koszty operacyjne'!T501-T109","v":0},{"$f":"'Koszty operacyjne'!U501-U109","v":0},{"$f":"'Koszty operacyjne'!V501-V109","v":0},{"$f":"'Koszty operacyjne'!W501-W109","v":0}]
[null,"     - niekwalifikowane",null,null,null,null,null,null,null,{"$f":"'Koszty operacyjne'!J644","v":0},{"$f":"'Koszty operacyjne'!K644","v":0},{"$f":"'Koszty operacyjne'!L644","v":0},{"$f":"'Koszty operacyjne'!M644","v":0},{"$f":"'Koszty operacyjne'!N644","v":0},{"$f":"'Koszty operacyjne'!O644","v":0},{"$f":"'Koszty operacyjne'!P644","v":0},{"$f":"'Koszty operacyjne'!Q644","v":0},{"$f":"'Koszty operacyjne'!R644","v":0},{"$f":"'Koszty operacyjne'!S644","v":0},{"$f":"'Koszty operacyjne'!T644","v":0},{"$f":"'Koszty operacyjne'!U644","v":0},{"$f":"'Koszty operacyjne'!V644","v":0},{"$f":"'Koszty operacyjne'!W644","v":0}]
[null,"   e) ubezpieczenia społeczne i inne świadczenia",null,null,null,null,null,null,null,{"$f":"J111+J112","v":0},{"$f":"K111+K112","v":0},{"$f":"L111+L112","v":0},{"$f":"M111+M112","v":0},{"$f":"N111+N112","v":0},{"$f":"O111+O112","v":0},{"$f":"P111+P112","v":0},{"$f":"Q111+Q112","v":0},{"$f":"R111+R112","v":0},{"$f":"S111+S112","v":0},{"$f":"T111+T112","v":0},{"$f":"U111+U112","v":0},{"$f":"V111+V112","v":0},{"$f":"W111+W112","v":0}]
[null,"     - kwalifikowane",null,null,null,null,null,null,null,{"$f":"'Koszty operacyjne'!J502-J112","v":0},{"$f":"'Koszty operacyjne'!K502-K112","v":0},{"$f":"'Koszty operacyjne'!L502-L112","v":0},{"$f":"'Koszty operacyjne'!M502-M112","v":0},{"$f":"'Koszty operacyjne'!N502-N112","v":0},{"$f":"'Koszty operacyjne'!O502-O112","v":0},{"$f":"'Koszty operacyjne'!P502-P112","v":0},{"$f":"'Koszty operacyjne'!Q502-Q112","v":0},{"$f":"'Koszty operacyjne'!R502-R112","v":0},{"$f":"'Koszty operacyjne'!S502-S112","v":0},{"$f":"'Koszty operacyjne'!T502-T112","v":0},{"$f":"'Koszty operacyjne'!U502-U112","v":0},{"$f":"'Koszty operacyjne'!V502-V112","v":0},{"$f":"'Koszty operacyjne'!W502-W112","v":0}]
[null,"     - niekwalifikowane",null,null,null,null,null,null,null,{"$f":"'Koszty operacyjne'!J645","v":0},{"$f":"'Koszty operacyjne'!K645","v":0},{"$f":"'Koszty operacyjne'!L645","v":0},{"$f":"'Koszty operacyjne'!M645","v":0},{"$f":"'Koszty operacyjne'!N645","v":0},{"$f":"'Koszty operacyjne'!O645","v":0},{"$f":"'Koszty operacyjne'!P645","v":0},{"$f":"'Koszty operacyjne'!Q645","v":0},{"$f":"'Koszty operacyjne'!R645","v":0},{"$f":"'Koszty operacyjne'!S645","v":0},{"$f":"'Koszty operacyjne'!T645","v":0},{"$f":"'Koszty operacyjne'!U645","v":0},{"$f":"'Koszty operacyjne'!V645","v":0},{"$f":"'Koszty operacyjne'!W645","v":0}]
[null,"   f) pozostałe koszty rodzajowe",null,null,null,null,null,null,null,{"$f":"J114+J115","v":0},{"$f":"K114+K115","v":0},{"$f":"L114+L115","v":0},{"$f":"M114+M115","v":0},{"$f":"N114+N115","v":0},{"$f":"O114+O115","v":0},{"$f":"P114+P115","v":0},{"$f":"Q114+Q115","v":0},{"$f":"R114+R115","v":0},{"$f":"S114+S115","v":0},{"$f":"T114+T115","v":0},{"$f":"U114+U115","v":0},{"$f":"V114+V115","v":0},{"$f":"W114+W115","v":0}]
[null,"     - kwalifikowane",null,null,null,null,null,null,null,{"$f":"'Koszty operacyjne'!J503-J115","v":0},{"$f":"'Koszty operacyjne'!K503-K115","v":0},{"$f":"'Koszty operacyjne'!L503-L115","v":0},{"$f":"'Koszty operacyjne'!M503-M115","v":0},{"$f":"'Koszty operacyjne'!N503-N115","v":0},{"$f":"'Koszty operacyjne'!O503-O115","v":0},{"$f":"'Koszty operacyjne'!P503-P115","v":0},{"$f":"'Koszty operacyjne'!Q503-Q115","v":0},{"$f":"'Koszty operacyjne'!R503-R115","v":0},{"$f":"'Koszty operacyjne'!S503-S115","v":0},{"$f":"'Koszty operacyjne'!T503-T115","v":0},{"$f":"'Koszty operacyjne'!U503-U115","v":0},{"$f":"'Koszty operacyjne'!V503-V115","v":0},{"$f":"'Koszty operacyjne'!W503-W115","v":0}]
[null,"     - niekwalifikowane",null,null,null,null,null,null,null,{"$f":"'Koszty operacyjne'!J646","v":0},{"$f":"'Koszty operacyjne'!K646","v":0},{"$f":"'Koszty operacyjne'!L646","v":0},{"$f":"'Koszty operacyjne'!M646","v":0},{"$f":"'Koszty operacyjne'!N646","v":0},{"$f":"'Koszty operacyjne'!O646","v":0},{"$f":"'Koszty operacyjne'!P646","v":0},{"$f":"'Koszty operacyjne'!Q646","v":0},{"$f":"'Koszty operacyjne'!R646","v":0},{"$f":"'Koszty operacyjne'!S646","v":0},{"$f":"'Koszty operacyjne'!T646","v":0},{"$f":"'Koszty operacyjne'!U646","v":0},{"$f":"'Koszty operacyjne'!V646","v":0},{"$f":"'Koszty operacyjne'!W646","v":0}]
[null,"   g) wartość sprzedanych towarów i materiałów",null,null,null,null,null,null,null,{"$f":"J117+J118","v":0},{"$f":"K117+K118","v":0},{"$f":"L117+L118","v":0},{"$f":"M117+M118","v":0},{"$f":"N117+N118","v":0},{"$f":"O117+O118","v":0},{"$f":"P117+P118","v":0},{"$f":"Q117+Q118","v":0},{"$f":"R117+R118","v":0},{"$f":"S117+S118","v":0},{"$f":"T117+T118","v":0},{"$f":"U117+U118","v":0},{"$f":"V117+V118","v":0},{"$f":"W117+W118","v":0}]
[null,"     - kwalifikowane",null,null,null,null,null,null,null,{"$f":"'Koszty operacyjne'!J504-J118","v":0},{"$f":"'Koszty operacyjne'!K504-K118","v":0},{"$f":"'Koszty operacyjne'!L504-L118","v":0},{"$f":"'Koszty operacyjne'!M504-M118","v":0},{"$f":"'Koszty operacyjne'!N504-N118","v":0},{"$f":"'Koszty operacyjne'!O504-O118","v":0},{"$f":"'Koszty operacyjne'!P504-P118","v":0},{"$f":"'Koszty operacyjne'!Q504-Q118","v":0},{"$f":"'Koszty operacyjne'!R504-R118","v":0},{"$f":"'Koszty operacyjne'!S504-S118","v":0},{"$f":"'Koszty operacyjne'!T504-T118","v":0},{"$f":"'Koszty operacyjne'!U504-U118","v":0},{"$f":"'Koszty operacyjne'!V504-V118","v":0},{"$f":"'Koszty operacyjne'!W504-W118","v":0}]
[null,"     - niekwalifikowane",null,null,null,null,null,null,null,{"$f":"'Koszty operacyjne'!J647","v":0},{"$f":"'Koszty operacyjne'!K647","v":0},{"$f":"'Koszty operacyjne'!L647","v":0},{"$f":"'Koszty operacyjne'!M647","v":0},{"$f":"'Koszty operacyjne'!N647","v":0},{"$f":"'Koszty operacyjne'!O647","v":0},{"$f":"'Koszty operacyjne'!P647","v":0},{"$f":"'Koszty operacyjne'!Q647","v":0},{"$f":"'Koszty operacyjne'!R647","v":0},{"$f":"'Koszty operacyjne'!S647","v":0},{"$f":"'Koszty operacyjne'!T647","v":0},{"$f":"'Koszty operacyjne'!U647","v":0},{"$f":"'Koszty operacyjne'!V647","v":0},{"$f":"'Koszty operacyjne'!W647","v":0}]
[null,"- kwalifikowane koszty operacyjne",null,null,null,null,null,null,null,{"$f":"J120+J121","v":0},{"$f":"K120+K121","v":0},{"$f":"L120+L121","v":0},{"$f":"M120+M121","v":0},{"$f":"N120+N121","v":0},{"$f":"O120+O121","v":0},{"$f":"P120+P121","v":0},{"$f":"Q120+Q121","v":0},{"$f":"R120+R121","v":0},{"$f":"S120+S121","v":0},{"$f":"T120+T121","v":0},{"$f":"U120+U121","v":0},{"$f":"V120+V121","v":0},{"$f":"W120+W121","v":0}]
[null,"     - kwalifikowane",null,null,null,null,null,null,null,{"$f":"J123+J126+J129+J132+J135+J138+J141","v":0},{"$f":"K123+K126+K129+K132+K135+K138+K141","v":0},0,0,0,0,0,0,0,0,0,0,0,0]
[null,"     - niekwalifikowane",null,null,null,null,null,null,null,{"$f":"J124+J127+J130+J133+J136+J139+J142","v":0},0,0,0,0,0,0,0,0,0,0,0,0,0]
[null,"   a) zużycie materiałów i energii",null,null,null,null,null,null,null,{"$f":"J123+J124","v":0},{"$f":"K123+K124","v":0},{"$f":"L123+L124","v":0},{"$f":"M123+M124","v":0},{"$f":"N123+N124","v":0},{"$f":"O123+O124","v":0},{"$f":"P123+P124","v":0},{"$f":"Q123+Q124","v":0},{"$f":"R123+R124","v":0},{"$f":"S123+S124","v":0},{"$f":"T123+T124","v":0},{"$f":"U123+U124","v":0},{"$f":"V123+V124","v":0},{"$f":"W123+W124","v":0}]
[null,"     - kwalifikowane",null,null,null,null,null,null,null,{"$f":"'Koszty operacyjne'!J1068","v":0},{"$f":"'Koszty operacyjne'!K1068","v":0},{"$f":"'Koszty operacyjne'!L1068","v":0},{"$f":"'Koszty operacyjne'!M1068","v":0},{"$f":"'Koszty operacyjne'!N1068","v":0},{"$f":"'Koszty operacyjne'!O1068","v":0},{"$f":"'Koszty operacyjne'!P1068","v":0},{"$f":"'Koszty operacyjne'!Q1068","v":0},{"$f":"'Koszty operacyjne'!R1068","v":0},{"$f":"'Koszty operacyjne'!S1068","v":0},{"$f":"'Koszty operacyjne'!T1068","v":0},{"$f":"'Koszty operacyjne'!U1068","v":0},{"$f":"'Koszty operacyjne'!V1068","v":0},{"$f":"'Koszty operacyjne'!W1068","v":0}]
[null,"     - niekwalifikowane"]
[null,"   b) usługi obce",null,null,null,null,null,null,null,{"$f":"J126+J127","v":0},{"$f":"K126+K127","v":0},{"$f":"L126+L127","v":0},{"$f":"M126+M127","v":0},{"$f":"N126+N127","v":0},{"$f":"O126+O127","v":0},{"$f":"P126+P127","v":0},{"$f":"Q126+Q127","v":0},{"$f":"R126+R127","v":0},{"$f":"S126+S127","v":0},{"$f":"T126+T127","v":0},{"$f":"U126+U127","v":0},{"$f":"V126+V127","v":0},{"$f":"W126+W127","v":0}]
[null,"     - kwalifikowane",null,null,null,null,null,null,null,{"$f":"'Koszty operacyjne'!J1069","v":0},{"$f":"'Koszty operacyjne'!K1069","v":0},{"$f":"'Koszty operacyjne'!L1069","v":0},{"$f":"'Koszty operacyjne'!M1069","v":0},{"$f":"'Koszty operacyjne'!N1069","v":0},{"$f":"'Koszty operacyjne'!O1069","v":0},{"$f":"'Koszty operacyjne'!P1069","v":0},{"$f":"'Koszty operacyjne'!Q1069","v":0},{"$f":"'Koszty operacyjne'!R1069","v":0},{"$f":"'Koszty operacyjne'!S1069","v":0},{"$f":"'Koszty operacyjne'!T1069","v":0},{"$f":"'Koszty operacyjne'!U1069","v":0},{"$f":"'Koszty operacyjne'!V1069","v":0},{"$f":"'Koszty operacyjne'!W1069","v":0}]
[null,"     - niekwalifikowane"]
[null,"   c) podatki i opłaty",null,null,null,null,null,null,null,{"$f":"J129+J130","v":0},{"$f":"K129+K130","v":0},{"$f":"L129+L130","v":0},{"$f":"M129+M130","v":0},{"$f":"N129+N130","v":0},{"$f":"O129+O130","v":0},{"$f":"P129+P130","v":0},{"$f":"Q129+Q130","v":0},{"$f":"R129+R130","v":0},{"$f":"S129+S130","v":0},{"$f":"T129+T130","v":0},{"$f":"U129+U130","v":0},{"$f":"V129+V130","v":0},{"$f":"W129+W130","v":0}]
[null,"     - kwalifikowane",null,null,null,null,null,null,null,{"$f":"'Koszty operacyjne'!J1070","v":0},{"$f":"'Koszty operacyjne'!K1070","v":0},{"$f":"'Koszty operacyjne'!L1070","v":0},{"$f":"'Koszty operacyjne'!M1070","v":0},{"$f":"'Koszty operacyjne'!N1070","v":0},{"$f":"'Koszty operacyjne'!O1070","v":0},{"$f":"'Koszty operacyjne'!P1070","v":0},{"$f":"'Koszty operacyjne'!Q1070","v":0},{"$f":"'Koszty operacyjne'!R1070","v":0},{"$f":"'Koszty operacyjne'!S1070","v":0},{"$f":"'Koszty operacyjne'!T1070","v":0},{"$f":"'Koszty operacyjne'!U1070","v":0},{"$f":"'Koszty operacyjne'!V1070","v":0},{"$f":"'Koszty operacyjne'!W1070","v":0}]
[null,"     - niekwalifikowane"]
[null,"   d) wynagrodzenia",null,null,null,null,null,null,null,{"$f":"J132+J133","v":0},{"$f":"K132+K133","v":0},{"$f":"L132+L133","v":0},{"$f":"M132+M133","v":0},{"$f":"N132+N133","v":0},{"$f":"O132+O133","v":0},{"$f":"P132+P133","v":0},{"$f":"Q132+Q133","v":0},{"$f":"R132+R133","v":0},{"$f":"S132+S133","v":0},{"$f":"T132+T133","v":0},{"$f":"U132+U133","v":0},{"$f":"V132+V133","v":0},{"$f":"W132+W133","v":0}]
[null,"     - kwalifikowane",null,null,null,null,null,null,null,{"$f":"'Koszty operacyjne'!J1071","v":0},{"$f":"'Koszty operacyjne'!K1071","v":0},{"$f":"'Koszty operacyjne'!L1071","v":0},{"$f":"'Koszty operacyjne'!M1071","v":0},{"$f":"'Koszty operacyjne'!N1071","v":0},{"$f":"'Koszty operacyjne'!O1071","v":0},{"$f":"'Koszty operacyjne'!P1071","v":0},{"$f":"'Koszty operacyjne'!Q1071","v":0},{"$f":"'Koszty operacyjne'!R1071","v":0},{"$f":"'Koszty operacyjne'!S1071","v":0},{"$f":"'Koszty operacyjne'!T1071","v":0},{"$f":"'Koszty operacyjne'!U1071","v":0},{"$f":"'Koszty operacyjne'!V1071","v":0},{"$f":"'Koszty operacyjne'!W1071","v":0}]
[null,"     - niekwalifikowane"]
[null,"   e) ubezpieczenia społeczne i inne świadczenia",null,null,null,null,null,null,null,{"$f":"J135+J136","v":0},{"$f":"K135+K136","v":0},{"$f":"L135+L136","v":0},{"$f":"M135+M136","v":0},{"$f":"N135+N136","v":0},{"$f":"O135+O136","v":0},{"$f":"P135+P136","v":0},{"$f":"Q135+Q136","v":0},{"$f":"R135+R136","v":0},{"$f":"S135+S136","v":0},{"$f":"T135+T136","v":0},{"$f":"U135+U136","v":0},{"$f":"V135+V136","v":0},{"$f":"W135+W136","v":0}]
[null,"     - kwalifikowane",null,null,null,null,null,null,null,{"$f":"'Koszty operacyjne'!J1072","v":0},{"$f":"'Koszty operacyjne'!K1072","v":0},{"$f":"'Koszty operacyjne'!L1072","v":0},{"$f":"'Koszty operacyjne'!M1072","v":0},{"$f":"'Koszty operacyjne'!N1072","v":0},{"$f":"'Koszty operacyjne'!O1072","v":0},{"$f":"'Koszty operacyjne'!P1072","v":0},{"$f":"'Koszty operacyjne'!Q1072","v":0},{"$f":"'Koszty operacyjne'!R1072","v":0},{"$f":"'Koszty operacyjne'!S1072","v":0},{"$f":"'Koszty operacyjne'!T1072","v":0},{"$f":"'Koszty operacyjne'!U1072","v":0},{"$f":"'Koszty operacyjne'!V1072","v":0},{"$f":"'Koszty operacyjne'!W1072","v":0}]
[null,"     - niekwalifikowane"]
[null,"   f) pozostałe koszty rodzajowe",null,null,null,null,null,null,null,{"$f":"J138+J139","v":0},{"$f":"K138+K139","v":0},{"$f":"L138+L139","v":0},{"$f":"M138+M139","v":0},{"$f":"N138+N139","v":0},{"$f":"O138+O139","v":0},{"$f":"P138+P139","v":0},{"$f":"Q138+Q139","v":0},{"$f":"R138+R139","v":0},{"$f":"S138+S139","v":0},{"$f":"T138+T139","v":0},{"$f":"U138+U139","v":0},{"$f":"V138+V139","v":0},{"$f":"W138+W139","v":0}]
[null,"     - kwalifikowane",null,null,null,null,null,null,null,{"$f":"'Koszty operacyjne'!J1073","v":0},{"$f":"'Koszty operacyjne'!K1073","v":0},{"$f":"'Koszty operacyjne'!L1073","v":0},{"$f":"'Koszty operacyjne'!M1073","v":0},{"$f":"'Koszty operacyjne'!N1073","v":0},{"$f":"'Koszty operacyjne'!O1073","v":0},{"$f":"'Koszty operacyjne'!P1073","v":0},{"$f":"'Koszty operacyjne'!Q1073","v":0},{"$f":"'Koszty operacyjne'!R1073","v":0},{"$f":"'Koszty operacyjne'!S1073","v":0},{"$f":"'Koszty operacyjne'!T1073","v":0},{"$f":"'Koszty operacyjne'!U1073","v":0},{"$f":"'Koszty operacyjne'!V1073","v":0},{"$f":"'Koszty operacyjne'!W1073","v":0}]
[null,"     - niekwalifikowane"]
[null,"   e) wartość sprzedanych towarów i materiałów",null,null,null,null,null,null,null,{"$f":"J141+J142","v":0},{"$f":"K141+K142","v":0},{"$f":"L141+L142","v":0},{"$f":"M141+M142","v":0},{"$f":"N141+N142","v":0},{"$f":"O141+O142","v":0},{"$f":"P141+P142","v":0},{"$f":"Q141+Q142","v":0},{"$f":"R141+R142","v":0},{"$f":"S141+S142","v":0},{"$f":"T141+T142","v":0},{"$f":"U141+U142","v":0},{"$f":"V141+V142","v":0},{"$f":"W141+W142","v":0}]
[null,"     - kwalifikowane",null,null,null,null,null,null,null,{"$f":"'Koszty operacyjne'!J1074","v":0},{"$f":"'Koszty operacyjne'!K1074","v":0},{"$f":"'Koszty operacyjne'!L1074","v":0},{"$f":"'Koszty operacyjne'!M1074","v":0},{"$f":"'Koszty operacyjne'!N1074","v":0},{"$f":"'Koszty operacyjne'!O1074","v":0},{"$f":"'Koszty operacyjne'!P1074","v":0},{"$f":"'Koszty operacyjne'!Q1074","v":0},{"$f":"'Koszty operacyjne'!R1074","v":0},{"$f":"'Koszty operacyjne'!S1074","v":0},{"$f":"'Koszty operacyjne'!T1074","v":0},{"$f":"'Koszty operacyjne'!U1074","v":0},{"$f":"'Koszty operacyjne'!V1074","v":0},{"$f":"'Koszty operacyjne'!W1074","v":0}]
[null,"     - niekwalifikowane"]
[null,"Razem wydatki projektowe ujęte w nakładach",null,null,null,null,null,null,null,{"$f":"J144+J145","v":0},{"$f":"K144+K145","v":0},0,0,0,0,0,0,0,0,0,0,0,0]
[null,"     - kwalifikowane",null,null,null,null,null,null,null,{"$f":"J120+J96+J72","v":0},{"$f":"K120+K96+K72","v":0},0,0,0,0,0,0,0,0,0,0,0,0]
[null,"     - niekwalifikowane",null,null,null,null,null,null,null,{"$f":"J121+J97+J73","v":0},{"$f":"K121+K97+K73","v":0},0,0,0,0,0,0,0,0,0,0,0,0]
[]
[]
[]
[]
[]
[]
[]
[null,"Koszty operacyjne projektu (z Koszty operacyjne)",null,null,null,null,null,null,null,{"$f":"J$70","v":"Uzupełnij dane"},{"$f":"K$70","v":""},"","","","","","","","","","","",""]
[null,"Zużycie materiałów i energii",null,null,null,null,null,null,null,{"$f":"'Koszty operacyjne'!J318","v":0},{"$f":"'Koszty operacyjne'!K318","v":0},{"$f":"'Koszty operacyjne'!L318","v":0},{"$f":"'Koszty operacyjne'!M318","v":0},{"$f":"'Koszty operacyjne'!N318","v":0},{"$f":"'Koszty operacyjne'!O318","v":0},{"$f":"'Koszty operacyjne'!P318","v":0},{"$f":"'Koszty operacyjne'!Q318","v":0},{"$f":"'Koszty operacyjne'!R318","v":0},{"$f":"'Koszty operacyjne'!S318","v":0},{"$f":"'Koszty operacyjne'!T318","v":0},{"$f":"'Koszty operacyjne'!U318","v":0},{"$f":"'Koszty operacyjne'!V318","v":0},{"$f":"'Koszty operacyjne'!W318","v":0}]
[null,"Usługi obce",null,null,null,null,null,null,null,{"$f":"'Koszty operacyjne'!J319","v":0},{"$f":"'Koszty operacyjne'!K319","v":0},{"$f":"'Koszty operacyjne'!L319","v":0},{"$f":"'Koszty operacyjne'!M319","v":0},{"$f":"'Koszty operacyjne'!N319","v":0},{"$f":"'Koszty operacyjne'!O319","v":0},{"$f":"'Koszty operacyjne'!P319","v":0},{"$f":"'Koszty operacyjne'!Q319","v":0},{"$f":"'Koszty operacyjne'!R319","v":0},{"$f":"'Koszty operacyjne'!S319","v":0},{"$f":"'Koszty operacyjne'!T319","v":0},{"$f":"'Koszty operacyjne'!U319","v":0},{"$f":"'Koszty operacyjne'!V319","v":0},{"$f":"'Koszty operacyjne'!W319","v":0}]
[null,"Podatki i opłaty",null,null,null,null,null,null,null,{"$f":"'Koszty operacyjne'!J320","v":0},{"$f":"'Koszty operacyjne'!K320","v":0},{"$f":"'Koszty operacyjne'!L320","v":0},{"$f":"'Koszty operacyjne'!M320","v":0},{"$f":"'Koszty operacyjne'!N320","v":0},{"$f":"'Koszty operacyjne'!O320","v":0},{"$f":"'Koszty operacyjne'!P320","v":0},{"$f":"'Koszty operacyjne'!Q320","v":0},{"$f":"'Koszty operacyjne'!R320","v":0},{"$f":"'Koszty operacyjne'!S320","v":0},{"$f":"'Koszty operacyjne'!T320","v":0},{"$f":"'Koszty operacyjne'!U320","v":0},{"$f":"'Koszty operacyjne'!V320","v":0},{"$f":"'Koszty operacyjne'!W320","v":0}]
[null,"Wynagrodzenia",null,null,null,null,null,null,null,{"$f":"'Koszty operacyjne'!J321","v":0},{"$f":"'Koszty operacyjne'!K321","v":0},{"$f":"'Koszty operacyjne'!L321","v":0},{"$f":"'Koszty operacyjne'!M321","v":0},{"$f":"'Koszty operacyjne'!N321","v":0},{"$f":"'Koszty operacyjne'!O321","v":0},{"$f":"'Koszty operacyjne'!P321","v":0},{"$f":"'Koszty operacyjne'!Q321","v":0},{"$f":"'Koszty operacyjne'!R321","v":0},{"$f":"'Koszty operacyjne'!S321","v":0},{"$f":"'Koszty operacyjne'!T321","v":0},{"$f":"'Koszty operacyjne'!U321","v":0},{"$f":"'Koszty operacyjne'!V321","v":0},{"$f":"'Koszty operacyjne'!W321","v":0}]
[null,"Ubezpieczenia społeczne i inne świadczenia",null,null,null,null,null,null,null,{"$f":"'Koszty operacyjne'!J322","v":0},{"$f":"'Koszty operacyjne'!K322","v":0},{"$f":"'Koszty operacyjne'!L322","v":0},{"$f":"'Koszty operacyjne'!M322","v":0},{"$f":"'Koszty operacyjne'!N322","v":0},{"$f":"'Koszty operacyjne'!O322","v":0},{"$f":"'Koszty operacyjne'!P322","v":0},{"$f":"'Koszty operacyjne'!Q322","v":0},{"$f":"'Koszty operacyjne'!R322","v":0},{"$f":"'Koszty operacyjne'!S322","v":0},{"$f":"'Koszty operacyjne'!T322","v":0},{"$f":"'Koszty operacyjne'!U322","v":0},{"$f":"'Koszty operacyjne'!V322","v":0},{"$f":"'Koszty operacyjne'!W322","v":0}]
[null,"Pozostałe koszty rodzajowe",null,null,null,null,null,null,null,{"$f":"'Koszty operacyjne'!J323","v":0},{"$f":"'Koszty operacyjne'!K323","v":0},{"$f":"'Koszty operacyjne'!L323","v":0},{"$f":"'Koszty operacyjne'!M323","v":0},{"$f":"'Koszty operacyjne'!N323","v":0},{"$f":"'Koszty operacyjne'!O323","v":0},{"$f":"'Koszty operacyjne'!P323","v":0},{"$f":"'Koszty operacyjne'!Q323","v":0},{"$f":"'Koszty operacyjne'!R323","v":0},{"$f":"'Koszty operacyjne'!S323","v":0},{"$f":"'Koszty operacyjne'!T323","v":0},{"$f":"'Koszty operacyjne'!U323","v":0},{"$f":"'Koszty operacyjne'!V323","v":0},{"$f":"'Koszty operacyjne'!W323","v":0}]
[null,"Wartość sprzedanych towarów i materiałów",null,null,null,null,null,null,null,{"$f":"'Koszty operacyjne'!J324","v":0},{"$f":"'Koszty operacyjne'!K324","v":0},{"$f":"'Koszty operacyjne'!L324","v":0},{"$f":"'Koszty operacyjne'!M324","v":0},{"$f":"'Koszty operacyjne'!N324","v":0},{"$f":"'Koszty operacyjne'!O324","v":0},{"$f":"'Koszty operacyjne'!P324","v":0},{"$f":"'Koszty operacyjne'!Q324","v":0},{"$f":"'Koszty operacyjne'!R324","v":0},{"$f":"'Koszty operacyjne'!S324","v":0},{"$f":"'Koszty operacyjne'!T324","v":0},{"$f":"'Koszty operacyjne'!U324","v":0},{"$f":"'Koszty operacyjne'!V324","v":0},{"$f":"'Koszty operacyjne'!W324","v":0}]
[null,"Razem",null,null,null,null,null,null,null,{"$f":"SUM(J154:J160)","v":0},0,0,0,0,0,0,0,0,0,0,0,0,0]
[]
[null,"Koszty operacyjne projektu B+R (z NPV)",null,null,null,null,null,null,null,{"$f":"J$70","v":"Uzupełnij dane"},{"$f":"K$70","v":""},"","","","","","","","","","","",""]
[null,"Zużycie materiałów i energii",null,null,null,null,null,null,null,{"$f":"J98","v":0},{"$f":"K98","v":0},0,0,0,0,0,0,0,0,0,0,0,0]
[null,"Usługi obce",null,null,null,null,null,null,null,{"$f":"J101","v":0},{"$f":"K101","v":0},0,0,0,0,0,0,0,0,0,0,0,0]
[null,"Podatki i opłaty",null,null,null,null,null,null,null,{"$f":"J104","v":0},{"$f":"K104","v":0},0,0,0,0,0,0,0,0,0,0,0,0]
[null,"Wynagrodzenia",null,null,null,null,null,null,null,{"$f":"J107","v":0},{"$f":"K107","v":0},0,0,0,0,0,0,0,0,0,0,0,0]
[null,"Ubezpieczenia społeczne i inne świadczenia",null,null,null,null,null,null,null,{"$f":"J110","v":0},{"$f":"K110","v":0},0,0,0,0,0,0,0,0,0,0,0,0]
[null,"Pozostałe koszty rodzajowe",null,null,null,null,null,null,null,{"$f":"J113","v":0},{"$f":"K113","v":0},0,0,0,0,0,0,0,0,0,0,0,0]
[null,"Wartość sprzedanych towarów i materiałów",null,null,null,null,null,null,null,{"$f":"J116","v":0},{"$f":"K116","v":0},0,0,0,0,0,0,0,0,0,0,0,0]
[null,"Razem",null,null,null,null,null,null,null,{"$f":"SUM(J164:J170)","v":0},0,0,0,0,0,0,0,0,0,0,0,0,0]
[]
[]
[null,"Koszty operacyjne projektu kwalifikowane bez B+R (z NPV)",null,null,null,null,null,null,null,{"$f":"J$70","v":"Uzupełnij dane"},{"$f":"K$70","v":""},"","","","","","","","","","","",""]
[null,"Zużycie materiałów i energii",null,null,null,null,null,null,null,{"$f":"J122","v":0},{"$f":"K122","v":0},0,0,0,0,0,0,0,0,0,0,0,0]
[null,"Usługi obce",null,null,null,null,null,null,null,{"$f":"J125","v":0},{"$f":"K125","v":0},0,0,0,0,0,0,0,0,0,0,0,0]
[null,"Podatki i opłaty",null,null,null,null,null,null,null,{"$f":"J128","v":0},{"$f":"K128","v":0},0,0,0,0,0,0,0,0,0,0,0,0]
[null,"Wynagrodzenia",null,null,null,null,null,null,null,{"$f":"J131","v":0},{"$f":"K131","v":0},0,0,0,0,0,0,0,0,0,0,0,0]
[null,"Ubezpieczenia społeczne i inne świadczenia",null,null,null,null,null,null,null,{"$f":"J134","v":0},{"$f":"K134","v":0},0,0,0,0,0,0,0,0,0,0,0,0]
[null,"Pozostałe koszty rodzajowe",null,null,null,null,null,null,null,{"$f":"J137","v":0},{"$f":"K137","v":0},0,0,0,0,0,0,0,0,0,0,0,0]
[null,"Wartość sprzedanych towarów i materiałów",null,null,null,null,null,null,null,{"$f":"J140","v":0},{"$f":"K140","v":0},0,0,0,0,0,0,0,0,0,0,0,0]
[null,"Razem",null,null,null,null,null,null,null,{"$f":"SUM(J175:J181)","v":0},{"$f":"SUM(K175:K181)","v":0},{"$f":"SUM(L175:L181)","v":0},{"$f":"SUM(M175:M181)","v":0},{"$f":"SUM(N175:N181)","v":0},{"$f":"SUM(O175:O181)","v":0},{"$f":"SUM(P175:P181)","v":0},{"$f":"SUM(Q175:Q181)","v":0},{"$f":"SUM(R175:R181)","v":0},{"$f":"SUM(S175:S181)","v":0},{"$f":"SUM(T175:T181)","v":0},{"$f":"SUM(U175:U181)","v":0},{"$f":"SUM(V175:V181)","v":0},{"$f":"SUM(W175:W181)","v":0}]
[]
[null,"Pozostałe Koszty operacyjne projektu NIEKWALIFIKOWANE",null,null,null,null,null,null,null,{"$f":"J$70","v":"Uzupełnij dane"},{"$f":"K$70","v":""},"","","","","","","","","","","",""]
[null,"Zużycie materiałów i energii",null,null,null,null,null,null,null,{"$f":"J154-J164-J175","v":0},{"$f":"K154-K164-K175","v":0},0,0,0,0,0,0,0,0,0,0,0,0]
[null,"Usługi obce",null,null,null,null,null,null,null,{"$f":"J155-J165-J176","v":0},0,0,0,0,0,0,0,0,0,0,0,0,0]
[null,"Podatki i opłaty",null,null,null,null,null,null,null,0,0,0,0,0,0,0,0,0,0,0,0,0,0]
[null,"Wynagrodzenia",null,null,null,null,null,null,null,0,0,0,0,0,0,0,0,0,0,0,0,0,0]
[null,"Ubezpieczenia społeczne i inne świadczenia",null,null,null,null,null,null,null,0,0,0,0,0,0,0,0,0,0,0,0,0,0]
[null,"Pozostałe koszty rodzajowe",null,null,null,null,null,null,null,0,0,0,0,0,0,0,0,0,0,0,0,0,0]
[null,"Wartość sprzedanych towarów i materiałów",null,null,null,null,null,null,null,0,0,0,0,0,0,0,0,0,0,0,0,0,0]
[null,"Razem",null,null,null,null,null,null,null,{"$f":"SUM(J185:J191)","v":0},0,0,0,0,0,0,0,0,0,0,0,0,0]
[]
[null,"Pozostałe Koszty operacyjne projektu NIEKWALIFIKOWANE",null,null,null,null,null,null,null,{"$f":"J$70","v":"Uzupełnij dane"},{"$f":"K$70","v":""},"","","","","","","","","","","",""]
[null,"Zużycie materiałów i energii",null,null,null,null,null,null,null,{"$f":"J154=(J185+J175+J164)","v":true},{"$f":"K154=(K185+K175+K164)","v":true},{"$f":"L154=(L185+L175+L164)","v":true},{"$f":"M154=(M185+M175+M164)","v":true},true,true,true,true,true,true,true,true,true,true]
[null,"Usługi obce",null,null,null,null,null,null,null,{"$f":"J155=(J186+J176+J165)","v":true},{"$f":"K155=(K186+K176+K165)","v":true},true,{"$f":"M155=(M186+M176+M165)","v":true},true,true,true,true,true,true,true,true,true,true]
[null,"Podatki i opłaty",null,null,null,null,null,null,null,true,{"$f":"K156=(K187+K177+K166)","v":true},true,{"$f":"M156=(M187+M177+M166)","v":true},true,true,true,true,true,true,true,true,true,true]
[null,"Wynagrodzenia",null,null,null,null,null,null,null,true,{"$f":"K157=(K188+K178+K167)","v":true},true,{"$f":"M157=(M188+M178+M167)","v":true},true,true,true,true,true,true,true,true,true,true]
[null,"Ubezpieczenia społeczne i inne świadczenia",null,null,null,null,null,null,null,true,{"$f":"K158=(K189+K179+K168)","v":true},true,{"$f":"M158=(M189+M179+M168)","v":true},true,true,true,true,true,true,true,true,true,true]
[null,"Pozostałe koszty rodzajowe",null,null,null,null,null,null,null,true,{"$f":"K159=(K190+K180+K169)","v":true},true,{"$f":"M159=(M190+M180+M169)","v":true},true,true,true,true,true,true,true,true,true,true]
[null,"Wartość sprzedanych towarów i materiałów",null,null,null,null,null,null,null,true,{"$f":"K160=(K191+K181+K170)","v":true},true,{"$f":"M160=(M191+M181+M170)","v":true},true,true,true,true,true,true,true,true,true,true]
[null,"Razem",null,null,null,null,null,null,null,true,{"$f":"K161=(K192+K182+K171)","v":true},true,{"$f":"M161=(M192+M182+M171)","v":true},true,true,true,true,true,true,true,true,true,true]
[]
[]
[]
[]
[]
[]
[null,"Poziom dotacji do liczenia NPV i nakładów projektowych"]
[null,"- dotacja na wydatki na zakup infrastruktury",null,null,null,null,null,null,null,{"$f":"J211+J212","v":0},{"$f":"K211+K212","v":0},0,0,0,0,0,0,0,0,0,0,0,0]
[null,"     - kwalifikowane",null,null,null,null,null,null,null,{"$f":"J214+J217+J220+J223+J226+J229+J232","v":0},{"$f":"K214+K217+K220+K223+K226+K229+K232","v":0},0,0,0,0,0,0,0,0,0,0,0,0]
[null,"     - niekwalifikowane",null,null,null,null,null,null,null,{"$f":"J215+J218+J221+J224+J227+J230+J233","v":0},{"$f":"K215+K218+K221+K224+K227+K230+K233","v":0},0,0,0,0,0,0,0,0,0,0,0,0]
[null,"   c) inne wartości niematerialne i prawne",null,null,null,null,null,null,null,{"$f":"J214+J215","v":0},{"$f":"K214+K215","v":0},0,0,0,0,0,0,0,0,0,0,0,0]
[null,"     - kwalifikowane",null,null,null,null,null,null,null,{"$f":"'Rozliczenie dotacji'!J78","v":0},{"$f":"'Rozliczenie dotacji'!K78","v":0},{"$f":"'Rozliczenie dotacji'!L78","v":0},{"$f":"'Rozliczenie dotacji'!M78","v":0},{"$f":"'Rozliczenie dotacji'!N78","v":0},{"$f":"'Rozliczenie dotacji'!O78","v":0},{"$f":"'Rozliczenie dotacji'!P78","v":0},{"$f":"'Rozliczenie dotacji'!Q78","v":0},{"$f":"'Rozliczenie dotacji'!R78","v":0},{"$f":"'Rozliczenie dotacji'!S78","v":0},{"$f":"'Rozliczenie dotacji'!T78","v":0},{"$f":"'Rozliczenie dotacji'!U78","v":0},{"$f":"'Rozliczenie dotacji'!V78","v":0},{"$f":"'Rozliczenie dotacji'!W78","v":0}]
[null,"     - niekwalifikowane"]
[null,"   a) grunty",null,null,null,null,null,null,null,{"$f":"J217+J218","v":0},{"$f":"K217+K218","v":0},0,0,0,0,0,0,0,0,0,0,0,0]
[null,"     - kwalifikowane",null,null,null,null,null,null,null,{"$f":"'Rozliczenie dotacji'!J123","v":0},{"$f":"'Rozliczenie dotacji'!K123","v":0},{"$f":"'Rozliczenie dotacji'!L123","v":0},{"$f":"'Rozliczenie dotacji'!M123","v":0},{"$f":"'Rozliczenie dotacji'!N123","v":0},{"$f":"'Rozliczenie dotacji'!O123","v":0},{"$f":"'Rozliczenie dotacji'!P123","v":0},{"$f":"'Rozliczenie dotacji'!Q123","v":0},{"$f":"'Rozliczenie dotacji'!R123","v":0},{"$f":"'Rozliczenie dotacji'!S123","v":0},{"$f":"'Rozliczenie dotacji'!T123","v":0},{"$f":"'Rozliczenie dotacji'!U123","v":0},{"$f":"'Rozliczenie dotacji'!V123","v":0},{"$f":"'Rozliczenie dotacji'!W123","v":0}]
[null,"     - niekwalifikowane"]
[null,"   b) budynki i budowle ",null,null,null,null,null,null,null,{"$f":"J220+J221","v":0},{"$f":"K220+K221","v":0},0,0,0,0,0,0,0,0,0,0,0,0]
[null,"     - kwalifikowane",null,null,null,null,null,null,null,{"$f":"'Rozliczenie dotacji'!J173-SUM('Rozliczenie dotacji'!J168:J172)","v":0},{"$f":"'Rozliczenie dotacji'!K173-SUM('Rozliczenie dotacji'!K168:K172)","v":0},{"$f":"'Rozliczenie dotacji'!L173-SUM('Rozliczenie dotacji'!L168:L172)","v":0},{"$f":"'Rozliczenie dotacji'!M173-SUM('Rozliczenie dotacji'!M168:M172)","v":0},{"$f":"'Rozliczenie dotacji'!N173-SUM('Rozliczenie dotacji'!N168:N172)","v":0},{"$f":"'Rozliczenie dotacji'!O173-SUM('Rozliczenie dotacji'!O168:O172)","v":0},{"$f":"'Rozliczenie dotacji'!P173-SUM('Rozliczenie dotacji'!P168:P172)","v":0},{"$f":"'Rozliczenie dotacji'!Q173-SUM('Rozliczenie dotacji'!Q168:Q172)","v":0},{"$f":"'Rozliczenie dotacji'!R173-SUM('Rozliczenie dotacji'!R168:R172)","v":0},{"$f":"'Rozliczenie dotacji'!S173-SUM('Rozliczenie dotacji'!S168:S172)","v":0},{"$f":"'Rozliczenie dotacji'!T173-SUM('Rozliczenie dotacji'!T168:T172)","v":0},{"$f":"'Rozliczenie dotacji'!U173-SUM('Rozliczenie dotacji'!U168:U172)","v":0},{"$f":"'Rozliczenie dotacji'!V173-SUM('Rozliczenie dotacji'!V168:V172)","v":0},{"$f":"'Rozliczenie dotacji'!W173-SUM('Rozliczenie dotacji'!W168:W172)","v":0}]
[null,"     - niekwalifikowane"]
[null,"   c) urządzenia techniczne i maszyny ",null,null,null,null,null,null,null,{"$f":"J223+J224","v":0},{"$f":"K223+K224","v":0},0,0,0,0,0,0,0,0,0,0,0,0]
[null,"     - kwalifikowane",null,null,null,null,null,null,null,{"$f":"'Rozliczenie dotacji'!J259-SUM('Rozliczenie dotacji'!J254:'Rozliczenie dotacji'!J258)","v":0},{"$f":"'Rozliczenie dotacji'!K259-SUM('Rozliczenie dotacji'!K254:'Rozliczenie dotacji'!K258)","v":0},{"$f":"'Rozliczenie dotacji'!L259-SUM('Rozliczenie dotacji'!L254:'Rozliczenie dotacji'!L258)","v":0},{"$f":"'Rozliczenie dotacji'!M259-SUM('Rozliczenie dotacji'!M254:'Rozliczenie dotacji'!M258)","v":0},{"$f":"'Rozliczenie dotacji'!N259-SUM('Rozliczenie dotacji'!N254:'Rozliczenie dotacji'!N258)","v":0},{"$f":"'Rozliczenie dotacji'!O259-SUM('Rozliczenie dotacji'!O254:'Rozliczenie dotacji'!O258)","v":0},{"$f":"'Rozliczenie dotacji'!P259-SUM('Rozliczenie dotacji'!P254:'Rozliczenie dotacji'!P258)","v":0},{"$f":"'Rozliczenie dotacji'!Q259-SUM('Rozliczenie dotacji'!Q254:'Rozliczenie dotacji'!Q258)","v":0},{"$f":"'Rozliczenie dotacji'!R259-SUM('Rozliczenie dotacji'!R254:'Rozliczenie dotacji'!R258)","v":0},{"$f":"'Rozliczenie dotacji'!S259-SUM('Rozliczenie dotacji'!S254:'Rozliczenie dotacji'!S258)","v":0},{"$f":"'Rozliczenie dotacji'!T259-SUM('Rozliczenie dotacji'!T254:'Rozliczenie dotacji'!T258)","v":0},{"$f":"'Rozliczenie dotacji'!U259-SUM('Rozliczenie dotacji'!U254:'Rozliczenie dotacji'!U258)","v":0},{"$f":"'Rozliczenie dotacji'!V259-SUM('Rozliczenie dotacji'!V254:'Rozliczenie dotacji'!V258)","v":0},{"$f":"'Rozliczenie dotacji'!W259-SUM('Rozliczenie dotacji'!W254:'Rozliczenie dotacji'!W258)","v":0}]
[null,"     - niekwalifikowane"]
[null,"   d) środki transportu ",null,null,null,null,null,null,null,{"$f":"J226+J227","v":0},{"$f":"K226+K227","v":0},0,0,0,0,0,0,0,0,0,0,0,0]
[null,"     - kwalifikowane",null,null,null,null,null,null,null,{"$f":"'Rozliczenie dotacji'!J339","v":0},{"$f":"'Rozliczenie dotacji'!K339","v":0},{"$f":"'Rozliczenie dotacji'!L339","v":0},{"$f":"'Rozliczenie dotacji'!M339","v":0},{"$f":"'Rozliczenie dotacji'!N339","v":0},{"$f":"'Rozliczenie dotacji'!O339","v":0},{"$f":"'Rozliczenie dotacji'!P339","v":0},{"$f":"'Rozliczenie dotacji'!Q339","v":0},{"$f":"'Rozliczenie dotacji'!R339","v":0},{"$f":"'Rozliczenie dotacji'!S339","v":0},{"$f":"'Rozliczenie dotacji'!T339","v":0},{"$f":"'Rozliczenie dotacji'!U339","v":0},{"$f":"'Rozliczenie dotacji'!V339","v":0},{"$f":"'Rozliczenie dotacji'!W339","v":0}]
[null,"     - niekwalifikowane"]
[null,"   e) inne środki trwałe ",null,null,null,null,null,null,null,{"$f":"J229+J230","v":0},{"$f":"K229+K230","v":0},0,0,0,0,0,0,0,0,0,0,0,0]
[null,"     - kwalifikowane",null,null,null,null,null,null,null,{"$f":"'Rozliczenie dotacji'!J384","v":0},{"$f":"'Rozliczenie dotacji'!K384","v":0},{"$f":"'Rozliczenie dotacji'!L384","v":0},{"$f":"'Rozliczenie dotacji'!M384","v":0},{"$f":"'Rozliczenie dotacji'!N384","v":0},{"$f":"'Rozliczenie dotacji'!O384","v":0},{"$f":"'Rozliczenie dotacji'!P384","v":0},{"$f":"'Rozliczenie dotacji'!Q384","v":0},{"$f":"'Rozliczenie dotacji'!R384","v":0},{"$f":"'Rozliczenie dotacji'!S384","v":0},{"$f":"'Rozliczenie dotacji'!T384","v":0},{"$f":"'Rozliczenie dotacji'!U384","v":0},{"$f":"'Rozliczenie dotacji'!V384","v":0},{"$f":"'Rozliczenie dotacji'!W384","v":0}]
[null,"     - niekwalifikowane"]
[null,"   f) środki trwałe w budowie",null,null,null,null,null,null,null,{"$f":"J232+J233","v":0},{"$f":"K232+K233","v":0},0,0,0,0,0,0,0,0,0,0,0,0]
[null,"     - kwalifikowane",null,null,null,null,null,null,null,{"$f":"'Środki trwałe'!J786","v":0},{"$f":"'Środki trwałe'!K786","v":0},{"$f":"'Środki trwałe'!L786","v":0},{"$f":"'Środki trwałe'!M786","v":0},{"$f":"'Środki trwałe'!N786","v":0},{"$f":"'Środki trwałe'!O786","v":0},{"$f":"'Środki trwałe'!P786","v":0},{"$f":"'Środki trwałe'!Q786","v":0},{"$f":"'Środki trwałe'!R786","v":0},{"$f":"'Środki trwałe'!S786","v":0},{"$f":"'Środki trwałe'!T786","v":0},{"$f":"'Środki trwałe'!U786","v":0},{"$f":"'Środki trwałe'!V786","v":0},{"$f":"'Środki trwałe'!W786","v":0}]
[null,"     - niekwalifikowane"]
[null,"- dotacja na wydatki B+R (koszty operacyjne)",null,null,null,null,null,null,null,{"$f":"J235+J236","v":0},{"$f":"K235+K236","v":0},0,0,0,0,0,0,0,0,0,0,0,0]
[null,"     - kwalifikowane",null,null,null,null,null,null,null,{"$f":"J238+J241+J244+J247+J250+J253+J256","v":0},{"$f":"K238+K241+K244+K247+K250+K253+K256","v":0},0,0,0,0,0,0,0,0,0,0,0,0]
[null,"     - niekwalifikowane",null,null,null,null,null,null,null,{"$f":"J239+J242+J245+J248+J251+J254+J257","v":0},{"$f":"K239+K242+K245+K248+K251+K254+K257","v":0},0,0,0,0,0,0,0,0,0,0,0,0]
[null,"   a) zużycie materiałów i energii",null,null,null,null,null,null,null,{"$f":"J238+J239","v":0},{"$f":"K238+K239","v":0},0,0,0,0,0,0,0,0,0,0,0,0]
[null,"     - kwalifikowane",null,null,null,null,null,null,null,{"$f":"'Koszty operacyjne'!J784","v":0},{"$f":"'Koszty operacyjne'!K784","v":0},{"$f":"'Koszty operacyjne'!L784","v":0},{"$f":"'Koszty operacyjne'!M784","v":0},{"$f":"'Koszty operacyjne'!N784","v":0},{"$f":"'Koszty operacyjne'!O784","v":0},{"$f":"'Koszty operacyjne'!P784","v":0},{"$f":"'Koszty operacyjne'!Q784","v":0},{"$f":"'Koszty operacyjne'!R784","v":0},{"$f":"'Koszty operacyjne'!S784","v":0},{"$f":"'Koszty operacyjne'!T784","v":0},{"$f":"'Koszty operacyjne'!U784","v":0},{"$f":"'Koszty operacyjne'!V784","v":0},{"$f":"'Koszty operacyjne'!W784","v":0}]
[null,"     - niekwalifikowane"]
[null,"   b) usługi obce",null,null,null,null,null,null,null,{"$f":"J241+J242","v":0},{"$f":"K241+K242","v":0},0,0,0,0,0,0,0,0,0,0,0,0]
[null,"     - kwalifikowane",null,null,null,null,null,null,null,{"$f":"'Koszty operacyjne'!J785","v":0},{"$f":"'Koszty operacyjne'!K785","v":0},{"$f":"'Koszty operacyjne'!L785","v":0},{"$f":"'Koszty operacyjne'!M785","v":0},{"$f":"'Koszty operacyjne'!N785","v":0},{"$f":"'Koszty operacyjne'!O785","v":0},{"$f":"'Koszty operacyjne'!P785","v":0},{"$f":"'Koszty operacyjne'!Q785","v":0},{"$f":"'Koszty operacyjne'!R785","v":0},{"$f":"'Koszty operacyjne'!S785","v":0},{"$f":"'Koszty operacyjne'!T785","v":0},{"$f":"'Koszty operacyjne'!U785","v":0},{"$f":"'Koszty operacyjne'!V785","v":0},{"$f":"'Koszty operacyjne'!W785","v":0}]
[null,"     - niekwalifikowane"]
[null,"   c) podatki i opłaty",null,null,null,null,null,null,null,{"$f":"J244+J245","v":0},{"$f":"K244+K245","v":0},0,0,0,0,0,0,0,0,0,0,0,0]
[null,"     - kwalifikowane",null,null,null,null,null,null,null,{"$f":"'Koszty operacyjne'!J786","v":0},{"$f":"'Koszty operacyjne'!K786","v":0},{"$f":"'Koszty operacyjne'!L786","v":0},{"$f":"'Koszty operacyjne'!M786","v":0},{"$f":"'Koszty operacyjne'!N786","v":0},{"$f":"'Koszty operacyjne'!O786","v":0},{"$f":"'Koszty operacyjne'!P786","v":0},{"$f":"'Koszty operacyjne'!Q786","v":0},{"$f":"'Koszty operacyjne'!R786","v":0},{"$f":"'Koszty operacyjne'!S786","v":0},{"$f":"'Koszty operacyjne'!T786","v":0},{"$f":"'Koszty operacyjne'!U786","v":0},{"$f":"'Koszty operacyjne'!V786","v":0},{"$f":"'Koszty operacyjne'!W786","v":0}]
[null,"     - niekwalifikowane"]
[null,"   d) wynagrodzenia",null,null,null,null,null,null,null,{"$f":"J247+J248","v":0},{"$f":"K247+K248","v":0},0,0,0,0,0,0,0,0,0,0,0,0]
[null,"     - kwalifikowane",null,null,null,null,null,null,null,{"$f":"'Koszty operacyjne'!J787","v":0},{"$f":"'Koszty operacyjne'!K787","v":0},{"$f":"'Koszty operacyjne'!L787","v":0},{"$f":"'Koszty operacyjne'!M787","v":0},{"$f":"'Koszty operacyjne'!N787","v":0},{"$f":"'Koszty operacyjne'!O787","v":0},{"$f":"'Koszty operacyjne'!P787","v":0},{"$f":"'Koszty operacyjne'!Q787","v":0},{"$f":"'Koszty operacyjne'!R787","v":0},{"$f":"'Koszty operacyjne'!S787","v":0},{"$f":"'Koszty operacyjne'!T787","v":0},{"$f":"'Koszty operacyjne'!U787","v":0},{"$f":"'Koszty operacyjne'!V787","v":0},{"$f":"'Koszty operacyjne'!W787","v":0}]
[null,"     - niekwalifikowane"]
[null,"   e) ubezpieczenia społeczne i inne świadczenia",null,null,null,null,null,null,null,{"$f":"J250+J251","v":0},{"$f":"K250+K251","v":0},0,0,0,0,0,0,0,0,0,0,0,0]
[null,"     - kwalifikowane",null,null,null,null,null,null,null,{"$f":"'Koszty operacyjne'!J788","v":0},{"$f":"'Koszty operacyjne'!K788","v":0},{"$f":"'Koszty operacyjne'!L788","v":0},{"$f":"'Koszty operacyjne'!M788","v":0},{"$f":"'Koszty operacyjne'!N788","v":0},{"$f":"'Koszty operacyjne'!O788","v":0},{"$f":"'Koszty operacyjne'!P788","v":0},{"$f":"'Koszty operacyjne'!Q788","v":0},{"$f":"'Koszty operacyjne'!R788","v":0},{"$f":"'Koszty operacyjne'!S788","v":0},{"$f":"'Koszty operacyjne'!T788","v":0},{"$f":"'Koszty operacyjne'!U788","v":0},{"$f":"'Koszty operacyjne'!V788","v":0},{"$f":"'Koszty operacyjne'!W788","v":0}]
[null,"     - niekwalifikowane"]
[null,"   f) pozostałe koszty rodzajowe",null,null,null,null,null,null,null,{"$f":"J253+J254","v":0},{"$f":"K253+K254","v":0},0,0,0,0,0,0,0,0,0,0,0,0]
[null,"     - kwalifikowane",null,null,null,null,null,null,null,{"$f":"'Koszty operacyjne'!J789","v":0},{"$f":"'Koszty operacyjne'!K789","v":0},{"$f":"'Koszty operacyjne'!L789","v":0},{"$f":"'Koszty operacyjne'!M789","v":0},{"$f":"'Koszty operacyjne'!N789","v":0},{"$f":"'Koszty operacyjne'!O789","v":0},{"$f":"'Koszty operacyjne'!P789","v":0},{"$f":"'Koszty operacyjne'!Q789","v":0},{"$f":"'Koszty operacyjne'!R789","v":0},{"$f":"'Koszty operacyjne'!S789","v":0},{"$f":"'Koszty operacyjne'!T789","v":0},{"$f":"'Koszty operacyjne'!U789","v":0},{"$f":"'Koszty operacyjne'!V789","v":0},{"$f":"'Koszty operacyjne'!W789","v":0}]
[null,"     - niekwalifikowane"]
[null,"   e) wartość sprzedanych towarów i materiałów",null,null,null,null,null,null,null,{"$f":"J256+J257","v":0},{"$f":"K256+K257","v":0},0,0,0,0,0,0,0,0,0,0,0,0]
[null,"     - kwalifikowane",null,null,null,null,null,null,null,{"$f":"'Koszty operacyjne'!J790","v":0},{"$f":"'Koszty operacyjne'!K790","v":0},{"$f":"'Koszty operacyjne'!L790","v":0},{"$f":"'Koszty operacyjne'!M790","v":0},{"$f":"'Koszty operacyjne'!N790","v":0},{"$f":"'Koszty operacyjne'!O790","v":0},{"$f":"'Koszty operacyjne'!P790","v":0},{"$f":"'Koszty operacyjne'!Q790","v":0},{"$f":"'Koszty operacyjne'!R790","v":0},{"$f":"'Koszty operacyjne'!S790","v":0},{"$f":"'Koszty operacyjne'!T790","v":0},{"$f":"'Koszty operacyjne'!U790","v":0},{"$f":"'Koszty operacyjne'!V790","v":0},{"$f":"'Koszty operacyjne'!W790","v":0}]
[null,"     - niekwalifikowane"]
[null,"- dotacja kwalifikowane koszty operacyjne",null,null,null,null,null,null,null,{"$f":"J259+J260","v":0},{"$f":"K259+K260","v":0},0,0,0,0,0,0,0,0,0,0,0,0]
[null,"     - kwalifikowane",null,null,null,null,null,null,null,{"$f":"J262+J265+J268+J271+J274+J277+J280","v":0},{"$f":"K262+K265+K268+K271+K274+K277+K280","v":0},0,0,0,0,0,0,0,0,0,0,0,0]
[null,"     - niekwalifikowane",null,null,null,null,null,null,null,{"$f":"J263+J266+J269+J272+J275+J278+J281","v":0},{"$f":"K263+K266+K269+K272+K275+K278+K281","v":0},0,0,0,0,0,0,0,0,0,0,0,0]
[null,"   a) zużycie materiałów i energii",null,null,null,null,null,null,null,{"$f":"J262+J263","v":0},{"$f":"K262+K263","v":0},0,0,0,0,0,0,0,0,0,0,0,0]
[null,"     - kwalifikowane",null,null,null,null,null,null,null,{"$f":"'Koszty operacyjne'!J926","v":0},{"$f":"'Koszty operacyjne'!K926","v":0},{"$f":"'Koszty operacyjne'!L926","v":0},{"$f":"'Koszty operacyjne'!M926","v":0},{"$f":"'Koszty operacyjne'!N926","v":0},{"$f":"'Koszty operacyjne'!O926","v":0},{"$f":"'Koszty operacyjne'!P926","v":0},{"$f":"'Koszty operacyjne'!Q926","v":0},{"$f":"'Koszty operacyjne'!R926","v":0},{"$f":"'Koszty operacyjne'!S926","v":0},{"$f":"'Koszty operacyjne'!T926","v":0},{"$f":"'Koszty operacyjne'!U926","v":0},{"$f":"'Koszty operacyjne'!V926","v":0},{"$f":"'Koszty operacyjne'!W926","v":0}]
[null,"     - niekwalifikowane"]
[null,"   b) usługi obce",null,null,null,null,null,null,null,{"$f":"J265+J266","v":0},{"$f":"K265+K266","v":0},0,0,0,0,0,0,0,0,0,0,0,0]
[null,"     - kwalifikowane",null,null,null,null,null,null,null,{"$f":"'Koszty operacyjne'!J927","v":0},{"$f":"'Koszty operacyjne'!K927","v":0},{"$f":"'Koszty operacyjne'!L927","v":0},{"$f":"'Koszty operacyjne'!M927","v":0},{"$f":"'Koszty operacyjne'!N927","v":0},{"$f":"'Koszty operacyjne'!O927","v":0},{"$f":"'Koszty operacyjne'!P927","v":0},{"$f":"'Koszty operacyjne'!Q927","v":0},{"$f":"'Koszty operacyjne'!R927","v":0},{"$f":"'Koszty operacyjne'!S927","v":0},{"$f":"'Koszty operacyjne'!T927","v":0},{"$f":"'Koszty operacyjne'!U927","v":0},{"$f":"'Koszty operacyjne'!V927","v":0},{"$f":"'Koszty operacyjne'!W927","v":0}]
[null,"     - niekwalifikowane"]
[null,"   c) podatki i opłaty",null,null,null,null,null,null,null,{"$f":"J268+J269","v":0},{"$f":"K268+K269","v":0},0,0,0,0,0,0,0,0,0,0,0,0]
[null,"     - kwalifikowane",null,null,null,null,null,null,null,{"$f":"'Koszty operacyjne'!J928","v":0},{"$f":"'Koszty operacyjne'!K928","v":0},{"$f":"'Koszty operacyjne'!L928","v":0},{"$f":"'Koszty operacyjne'!M928","v":0},{"$f":"'Koszty operacyjne'!N928","v":0},{"$f":"'Koszty operacyjne'!O928","v":0},{"$f":"'Koszty operacyjne'!P928","v":0},{"$f":"'Koszty operacyjne'!Q928","v":0},{"$f":"'Koszty operacyjne'!R928","v":0},{"$f":"'Koszty operacyjne'!S928","v":0},{"$f":"'Koszty operacyjne'!T928","v":0},{"$f":"'Koszty operacyjne'!U928","v":0},{"$f":"'Koszty operacyjne'!V928","v":0},{"$f":"'Koszty operacyjne'!W928","v":0}]
[null,"     - niekwalifikowane"]
[null,"   d) wynagrodzenia",null,null,null,null,null,null,null,{"$f":"J271+J272","v":0},{"$f":"K271+K272","v":0},0,0,0,0,0,0,0,0,0,0,0,0]
[null,"     - kwalifikowane",null,null,null,null,null,null,null,{"$f":"'Koszty operacyjne'!J929","v":0},{"$f":"'Koszty operacyjne'!K929","v":0},{"$f":"'Koszty operacyjne'!L929","v":0},{"$f":"'Koszty operacyjne'!M929","v":0},{"$f":"'Koszty operacyjne'!N929","v":0},{"$f":"'Koszty operacyjne'!O929","v":0},{"$f":"'Koszty operacyjne'!P929","v":0},{"$f":"'Koszty operacyjne'!Q929","v":0},{"$f":"'Koszty operacyjne'!R929","v":0},{"$f":"'Koszty operacyjne'!S929","v":0},{"$f":"'Koszty operacyjne'!T929","v":0},{"$f":"'Koszty operacyjne'!U929","v":0},{"$f":"'Koszty operacyjne'!V929","v":0},{"$f":"'Koszty operacyjne'!W929","v":0}]
[null,"     - niekwalifikowane"]
[null,"   e) ubezpieczenia społeczne i inne świadczenia",null,null,null,null,null,null,null,{"$f":"J274+J275","v":0},{"$f":"K274+K275","v":0},0,0,0,0,0,0,0,0,0,0,0,0]
[null,"     - kwalifikowane",null,null,null,null,null,null,null,{"$f":"'Koszty operacyjne'!J930","v":0},{"$f":"'Koszty operacyjne'!K930","v":0},{"$f":"'Koszty operacyjne'!L930","v":0},{"$f":"'Koszty operacyjne'!M930","v":0},{"$f":"'Koszty operacyjne'!N930","v":0},{"$f":"'Koszty operacyjne'!O930","v":0},{"$f":"'Koszty operacyjne'!P930","v":0},{"$f":"'Koszty operacyjne'!Q930","v":0},{"$f":"'Koszty operacyjne'!R930","v":0},{"$f":"'Koszty operacyjne'!S930","v":0},{"$f":"'Koszty operacyjne'!T930","v":0},{"$f":"'Koszty operacyjne'!U930","v":0},{"$f":"'Koszty operacyjne'!V930","v":0},{"$f":"'Koszty operacyjne'!W930","v":0}]
[null,"     - niekwalifikowane"]
[null,"   f) pozostałe koszty rodzajowe",null,null,null,null,null,null,null,{"$f":"J277+J278","v":0},{"$f":"K277+K278","v":0},0,0,0,0,0,0,0,0,0,0,0,0]
[null,"     - kwalifikowane",null,null,null,null,null,null,null,{"$f":"'Koszty operacyjne'!J931","v":0},{"$f":"'Koszty operacyjne'!K931","v":0},{"$f":"'Koszty operacyjne'!L931","v":0},{"$f":"'Koszty operacyjne'!M931","v":0},{"$f":"'Koszty operacyjne'!N931","v":0},{"$f":"'Koszty operacyjne'!O931","v":0},{"$f":"'Koszty operacyjne'!P931","v":0},{"$f":"'Koszty operacyjne'!Q931","v":0},{"$f":"'Koszty operacyjne'!R931","v":0},{"$f":"'Koszty operacyjne'!S931","v":0},{"$f":"'Koszty operacyjne'!T931","v":0},{"$f":"'Koszty operacyjne'!U931","v":0},{"$f":"'Koszty operacyjne'!V931","v":0},{"$f":"'Koszty operacyjne'!W931","v":0}]
[null,"     - niekwalifikowane"]
[null,"   g) wartość sprzedanych towarów i materiałów",null,null,null,null,null,null,null,{"$f":"J280+J281","v":0},{"$f":"K280+K281","v":0},0,0,0,0,0,0,0,0,0,0,0,0]
[null,"     - kwalifikowane",null,null,null,null,null,null,null,{"$f":"'Koszty operacyjne'!J932","v":0},{"$f":"'Koszty operacyjne'!K932","v":0},{"$f":"'Koszty operacyjne'!L932","v":0},{"$f":"'Koszty operacyjne'!M932","v":0},{"$f":"'Koszty operacyjne'!N932","v":0},{"$f":"'Koszty operacyjne'!O932","v":0},{"$f":"'Koszty operacyjne'!P932","v":0},{"$f":"'Koszty operacyjne'!Q932","v":0},{"$f":"'Koszty operacyjne'!R932","v":0},{"$f":"'Koszty operacyjne'!S932","v":0},{"$f":"'Koszty operacyjne'!T932","v":0},{"$f":"'Koszty operacyjne'!U932","v":0},{"$f":"'Koszty operacyjne'!V932","v":0},{"$f":"'Koszty operacyjne'!W932","v":0}]
[null,"     - niekwalifikowane"]
[null,"Razem dotacja na wydatki projektowe ujęte w nakładach",null,null,null,null,null,null,null,{"$f":"J283+J284","v":0},{"$f":"K283+K284","v":0},0,0,0,0,0,0,0,0,0,0,0,0]
[null,"     - kwalifikowane",null,null,null,null,null,null,null,{"$f":"J259+J235+J211","v":0},{"$f":"K259+K235+K211","v":0},0,0,0,0,0,0,0,0,0,0,0,0]
[null,"     - niekwalifikowane",null,null,null,null,null,null,null,{"$f":"J260+J236+J212","v":0},{"$f":"K260+K236+K212","v":0},0,0,0,0,0,0,0,0,0,0,0,{"$f":"W260+W236+W212","v":0}]
[]
[]
[]
[]
[]
[]
[]
[]
[]
[]
[]
[]
[]
[]
[]
[]
[]
[]
[]
[]
[]
[]
[]
[]
[]
[]
[]
[]
[]
[]
[]
[null,"Zużycie materiałów i energii",null,null,null,null,null,null,null,{"$f":"J154-J164","v":0},{"$f":"K154-K164","v":0},0,0,0,0,0,0,0,0,0,0,0,0]
[null,"Usługi obce",null,null,null,null,null,null,null,{"$f":"J155-J165","v":0},0,0,0,0,0,0,0,0,0,0,0,0,0]
[null,"Podatki i opłaty",null,null,null,null,null,null,null,0,0,0,0,0,0,0,0,0,0,0,0,0,0]
[null,"Wynagrodzenia",null,null,null,null,null,null,null,0,0,0,0,0,0,0,0,0,0,0,0,0,0]
[null,"Ubezpieczenia społeczne i inne świadczenia",null,null,null,null,null,null,null,0,0,0,0,0,0,0,0,0,0,0,0,0,0]
[null,"Pozostałe koszty rodzajowe",null,null,null,null,null,null,null,0,0,0,0,0,0,0,0,0,0,0,0,0,0]
[null,"Wartość sprzedanych towarów i materiałów",null,null,null,null,null,null,null,0,0,0,0,0,0,0,0,0,0,0,0,0,0]
[]
[]
[null,"Zużycie materiałów i energii",null,null,null,null,null,null,null,{"$f":"J316='Ocena kondycji finansowej'!J166","v":true},{"$f":"K316='Ocena kondycji finansowej'!K166","v":true},{"$f":"L316='Ocena kondycji finansowej'!L166","v":true},{"$f":"M316='Ocena kondycji finansowej'!M166","v":true},{"$f":"N316='Ocena kondycji finansowej'!N166","v":true},{"$f":"O316='Ocena kondycji finansowej'!O166","v":true},{"$f":"P316='Ocena kondycji finansowej'!P166","v":true},{"$f":"Q316='Ocena kondycji finansowej'!Q166","v":true},{"$f":"R316='Ocena kondycji finansowej'!R166","v":true},{"$f":"S316='Ocena kondycji finansowej'!S166","v":true},{"$f":"T316='Ocena kondycji finansowej'!T166","v":true},{"$f":"U316='Ocena kondycji finansowej'!U166","v":true},{"$f":"V316='Ocena kondycji finansowej'!V166","v":true},{"$f":"W316='Ocena kondycji finansowej'!W166","v":true}]
[null,"Usługi obce",null,null,null,null,null,null,null,{"$f":"J317='Ocena kondycji finansowej'!J167","v":true},{"$f":"K317='Ocena kondycji finansowej'!K167","v":true},{"$f":"L317='Ocena kondycji finansowej'!L167","v":true},{"$f":"M317='Ocena kondycji finansowej'!M167","v":true},{"$f":"N317='Ocena kondycji finansowej'!N167","v":true},{"$f":"O317='Ocena kondycji finansowej'!O167","v":true},{"$f":"P317='Ocena kondycji finansowej'!P167","v":true},{"$f":"Q317='Ocena kondycji finansowej'!Q167","v":true},{"$f":"R317='Ocena kondycji finansowej'!R167","v":true},{"$f":"S317='Ocena kondycji finansowej'!S167","v":true},{"$f":"T317='Ocena kondycji finansowej'!T167","v":true},{"$f":"U317='Ocena kondycji finansowej'!U167","v":true},{"$f":"V317='Ocena kondycji finansowej'!V167","v":true},{"$f":"W317='Ocena kondycji finansowej'!W167","v":true}]
[null,"Podatki i opłaty",null,null,null,null,null,null,null,{"$f":"J318='Ocena kondycji finansowej'!J168","v":true},{"$f":"K318='Ocena kondycji finansowej'!K168","v":true},{"$f":"L318='Ocena kondycji finansowej'!L168","v":true},{"$f":"M318='Ocena kondycji finansowej'!M168","v":true},{"$f":"N318='Ocena kondycji finansowej'!N168","v":true},{"$f":"O318='Ocena kondycji finansowej'!O168","v":true},{"$f":"P318='Ocena kondycji finansowej'!P168","v":true},{"$f":"Q318='Ocena kondycji finansowej'!Q168","v":true},{"$f":"R318='Ocena kondycji finansowej'!R168","v":true},{"$f":"S318='Ocena kondycji finansowej'!S168","v":true},{"$f":"T318='Ocena kondycji finansowej'!T168","v":true},{"$f":"U318='Ocena kondycji finansowej'!U168","v":true},{"$f":"V318='Ocena kondycji finansowej'!V168","v":true},{"$f":"W318='Ocena kondycji finansowej'!W168","v":true}]
[null,"Wynagrodzenia",null,null,null,null,null,null,null,{"$f":"J319='Ocena kondycji finansowej'!J169","v":true},{"$f":"K319='Ocena kondycji finansowej'!K169","v":true},{"$f":"L319='Ocena kondycji finansowej'!L169","v":true},{"$f":"M319='Ocena kondycji finansowej'!M169","v":true},{"$f":"N319='Ocena kondycji finansowej'!N169","v":true},{"$f":"O319='Ocena kondycji finansowej'!O169","v":true},{"$f":"P319='Ocena kondycji finansowej'!P169","v":true},{"$f":"Q319='Ocena kondycji finansowej'!Q169","v":true},{"$f":"R319='Ocena kondycji finansowej'!R169","v":true},{"$f":"S319='Ocena kondycji finansowej'!S169","v":true},{"$f":"T319='Ocena kondycji finansowej'!T169","v":true},{"$f":"U319='Ocena kondycji finansowej'!U169","v":true},{"$f":"V319='Ocena kondycji finansowej'!V169","v":true},{"$f":"W319='Ocena kondycji finansowej'!W169","v":true}]
[null,"Ubezpieczenia społeczne i inne świadczenia",null,null,null,null,null,null,null,{"$f":"J320='Ocena kondycji finansowej'!J170","v":true},{"$f":"K320='Ocena kondycji finansowej'!K170","v":true},{"$f":"L320='Ocena kondycji finansowej'!L170","v":true},{"$f":"M320='Ocena kondycji finansowej'!M170","v":true},{"$f":"N320='Ocena kondycji finansowej'!N170","v":true},{"$f":"O320='Ocena kondycji finansowej'!O170","v":true},{"$f":"P320='Ocena kondycji finansowej'!P170","v":true},{"$f":"Q320='Ocena kondycji finansowej'!Q170","v":true},{"$f":"R320='Ocena kondycji finansowej'!R170","v":true},{"$f":"S320='Ocena kondycji finansowej'!S170","v":true},{"$f":"T320='Ocena kondycji finansowej'!T170","v":true},{"$f":"U320='Ocena kondycji finansowej'!U170","v":true},{"$f":"V320='Ocena kondycji finansowej'!V170","v":true},{"$f":"W320='Ocena kondycji finansowej'!W170","v":true}]
[null,"Pozostałe koszty rodzajowe",null,null,null,null,null,null,null,{"$f":"J321='Ocena kondycji finansowej'!J171","v":true},{"$f":"K321='Ocena kondycji finansowej'!K171","v":true},{"$f":"L321='Ocena kondycji finansowej'!L171","v":true},{"$f":"M321='Ocena kondycji finansowej'!M171","v":true},{"$f":"N321='Ocena kondycji finansowej'!N171","v":true},{"$f":"O321='Ocena kondycji finansowej'!O171","v":true},{"$f":"P321='Ocena kondycji finansowej'!P171","v":true},{"$f":"Q321='Ocena kondycji finansowej'!Q171","v":true},{"$f":"R321='Ocena kondycji finansowej'!R171","v":true},{"$f":"S321='Ocena kondycji finansowej'!S171","v":true},{"$f":"T321='Ocena kondycji finansowej'!T171","v":true},{"$f":"U321='Ocena kondycji finansowej'!U171","v":true},{"$f":"V321='Ocena kondycji finansowej'!V171","v":true},{"$f":"W321='Ocena kondycji finansowej'!W171","v":true}]
[null,"Wartość sprzedanych towarów i materiałów",null,null,null,null,null,null,null,{"$f":"J322='Ocena kondycji finansowej'!J172","v":true},{"$f":"K322='Ocena kondycji finansowej'!K172","v":true},{"$f":"L322='Ocena kondycji finansowej'!L172","v":true},{"$f":"M322='Ocena kondycji finansowej'!M172","v":true},{"$f":"N322='Ocena kondycji finansowej'!N172","v":true},{"$f":"O322='Ocena kondycji finansowej'!O172","v":true},{"$f":"P322='Ocena kondycji finansowej'!P172","v":true},{"$f":"Q322='Ocena kondycji finansowej'!Q172","v":true},{"$f":"R322='Ocena kondycji finansowej'!R172","v":true},{"$f":"S322='Ocena kondycji finansowej'!S172","v":true},{"$f":"T322='Ocena kondycji finansowej'!T172","v":true},{"$f":"U322='Ocena kondycji finansowej'!U172","v":true},{"$f":"V322='Ocena kondycji finansowej'!V172","v":true},{"$f":"W322='Ocena kondycji finansowej'!W172","v":true}]

{"sheet":"Nakłady projektowe","index":12,"n_rows":68,"n_cols":23,"rows_kept":68,"cut":false,"hidden":false,"merged":[[1,1,2,12]]}
[]
[null,{"$f":"IF(ISBLANK(Firma),\"Wstaw nazwę firmy\",Firma)","v":"Wstaw nazwę firmy"}]
[]
[]
[]
[]
[]
[]
[]
[]
[]
[null,"Projekt",null,null,null,null,null,null,null,{"$f":"NPV!J12","v":"Uzupełnij dane"},{"$f":"NPV!K12","v":""},{"$f":"NPV!L12","v":""},{"$f":"NPV!M12","v":""},{"$f":"NPV!N12","v":""},{"$f":"NPV!O12","v":""},{"$f":"NPV!P12","v":""},{"$f":"NPV!Q12","v":""},{"$f":"NPV!R12","v":""},{"$f":"NPV!S12","v":""},{"$f":"NPV!T12","v":""},{"$f":"NPV!U12","v":""},{"$f":"NPV!V12","v":""},{"$f":"NPV!W12","v":""}]
[]
[null,"Wartości niematerialne i prawne",null,null,null,null,null,null,null,{"$f":"J15+J16","v":0},{"$f":"K15+K16","v":0},0,0,0,0,0,0,0,0,0,0,0,0]
[null,"      - kwalifikowane",null,null,null,null,null,null,null,{"$f":"IF(LataProjekcji<=Koniec_Projekt,ROUND(J18+J21,0),0)","v":0},0,0,0,0,0,0,0,0,0,0,0,0,0]
[null,"      - niekwalifikowane",null,null,null,null,null,null,null,{"$f":"IF(LataProjekcji<=Koniec_Projekt,ROUND(J19+J22,0),0)","v":0},0,0,0,0,0,0,0,0,0,0,0,0,0]
[null,"   a) koszty prac rozwojowych",null,null,null,null,null,null,null,{"$f":"J18+J19","v":0},{"$f":"K18+K19","v":0},0,0,0,0,0,0,0,0,0,0,0,0]
[null,"      - kwalifikowane",null,null,null,null,null,null,null,{"$f":"IF(LataProjekcji<=Koniec_Projekt,'Koszty operacyjne'!J507-J19,0)","v":0},{"$f":"IF(LataProjekcji<=Koniec_Projekt,'Koszty operacyjne'!K507-K19,0)","v":0},{"$f":"IF(LataProjekcji<=Koniec_Projekt,'Koszty operacyjne'!L507-L19,0)","v":0},{"$f":"IF(LataProjekcji<=Koniec_Projekt,'Koszty operacyjne'!M507-M19,0)","v":0},{"$f":"IF(LataProjekcji<=Koniec_Projekt,'Koszty operacyjne'!N507-N19,0)","v":0},{"$f":"IF(LataProjekcji<=Koniec_Projekt,'Koszty operacyjne'!O507-O19,0)","v":0},{"$f":"IF(LataProjekcji<=Koniec_Projekt,'Koszty operacyjne'!P507-P19,0)","v":0},{"$f":"IF(LataProjekcji<=Koniec_Projekt,'Koszty operacyjne'!Q507-Q19,0)","v":0},{"$f":"IF(LataProjekcji<=Koniec_Projekt,'Koszty operacyjne'!R507-R19,0)","v":0},{"$f":"IF(LataProjekcji<=Koniec_Projekt,'Koszty operacyjne'!S507-S19,0)","v":0},{"$f":"IF(LataProjekcji<=Koniec_Projekt,'Koszty operacyjne'!T507-T19,0)","v":0},{"$f":"IF(LataProjekcji<=Koniec_Projekt,'Koszty operacyjne'!U507-U19,0)","v":0},{"$f":"IF(LataProjekcji<=Koniec_Projekt,'Koszty operacyjne'!V507-V19,0)","v":0},{"$f":"IF(LataProjekcji<=Koniec_Projekt,'Koszty operacyjne'!W507-W19,0)","v":0}]
[null,"      - niekwalifikowane",null,null,null,null,null,null,null,{"$f":"IF(LataProjekcji<=Koniec_Projekt,'Koszty operacyjne'!J650,0)","v":0},{"$f":"IF(LataProjekcji<=Koniec_Projekt,'Koszty operacyjne'!K650,0)","v":0},{"$f":"IF(LataProjekcji<=Koniec_Projekt,'Koszty operacyjne'!L650,0)","v":0},{"$f":"IF(LataProjekcji<=Koniec_Projekt,'Koszty operacyjne'!M650,0)","v":0},{"$f":"IF(LataProjekcji<=Koniec_Projekt,'Koszty operacyjne'!N650,0)","v":0},{"$f":"IF(LataProjekcji<=Koniec_Projekt,'Koszty operacyjne'!O650,0)","v":0},{"$f":"IF(LataProjekcji<=Koniec_Projekt,'Koszty operacyjne'!P650,0)","v":0},{"$f":"IF(LataProjekcji<=Koniec_Projekt,'Koszty operacyjne'!Q650,0)","v":0},{"$f":"IF(LataProjekcji<=Koniec_Projekt,'Koszty operacyjne'!R650,0)","v":0},{"$f":"IF(LataProjekcji<=Koniec_Projekt,'Koszty operacyjne'!S650,0)","v":0},{"$f":"IF(LataProjekcji<=Koniec_Projekt,'Koszty operacyjne'!T650,0)","v":0},{"$f":"IF(LataProjekcji<=Koniec_Projekt,'Koszty operacyjne'!U650,0)","v":0},{"$f":"IF(LataProjekcji<=Koniec_Projekt,'Koszty operacyjne'!V650,0)","v":0},{"$f":"IF(LataProjekcji<=Koniec_Projekt,'Koszty operacyjne'!W650,0)","v":0}]
[null,"   c) inne wartości niematerialne i prawne",null,null,null,null,null,null,null,{"$f":"J21+J22","v":0},{"$f":"K21+K22","v":0},0,0,0,0,0,0,0,0,0,0,0,0]
[null,"      - kwalifikowane",null,null,null,null,null,null,null,{"$f":"IF(LataProjekcji<=Koniec_Projekt,'Środki trwałe'!J630,0)","v":0},{"$f":"IF(LataProjekcji<=Koniec_Projekt,'Środki trwałe'!K630,0)","v":0},{"$f":"IF(LataProjekcji<=Koniec_Projekt,'Środki trwałe'!L630,0)","v":0},{"$f":"IF(LataProjekcji<=Koniec_Projekt,'Środki trwałe'!M630,0)","v":0},{"$f":"IF(LataProjekcji<=Koniec_Projekt,'Środki trwałe'!N630,0)","v":0},{"$f":"IF(LataProjekcji<=Koniec_Projekt,'Środki trwałe'!O630,0)","v":0},{"$f":"IF(LataProjekcji<=Koniec_Projekt,'Środki trwałe'!P630,0)","v":0},{"$f":"IF(LataProjekcji<=Koniec_Projekt,'Środki trwałe'!Q630,0)","v":0},{"$f":"IF(LataProjekcji<=Koniec_Projekt,'Środki trwałe'!R630,0)","v":0},{"$f":"IF(LataProjekcji<=Koniec_Projekt,'Środki trwałe'!S630,0)","v":0},{"$f":"IF(LataProjekcji<=Koniec_Projekt,'Środki trwałe'!T630,0)","v":0},{"$f":"IF(LataProjekcji<=Koniec_Projekt,'Środki trwałe'!U630,0)","v":0},{"$f":"IF(LataProjekcji<=Koniec_Projekt,'Środki trwałe'!V630,0)","v":0},{"$f":"IF(LataProjekcji<=Koniec_Projekt,'Środki trwałe'!W630,0)","v":0}]
[null,"      - niekwalifikowane",null,null,null,null,null,null,null,{"$f":"IF(LataProjekcji<=Koniec_Projekt,'Środki trwałe'!J631,0)","v":0},{"$f":"IF(LataProjekcji<=Koniec_Projekt,'Środki trwałe'!K631,0)","v":0},{"$f":"IF(LataProjekcji<=Koniec_Projekt,'Środki trwałe'!L631,0)","v":0},{"$f":"IF(LataProjekcji<=Koniec_Projekt,'Środki trwałe'!M631,0)","v":0},{"$f":"IF(LataProjekcji<=Koniec_Projekt,'Środki trwałe'!N631,0)","v":0},{"$f":"IF(LataProjekcji<=Koniec_Projekt,'Środki trwałe'!O631,0)","v":0},{"$f":"IF(LataProjekcji<=Koniec_Projekt,'Środki trwałe'!P631,0)","v":0},{"$f":"IF(LataProjekcji<=Koniec_Projekt,'Środki trwałe'!Q631,0)","v":0},{"$f":"IF(LataProjekcji<=Koniec_Projekt,'Środki trwałe'!R631,0)","v":0},{"$f":"IF(LataProjekcji<=Koniec_Projekt,'Środki trwałe'!S631,0)","v":0},{"$f":"IF(LataProjekcji<=Koniec_Projekt,'Środki trwałe'!T631,0)","v":0},{"$f":"IF(LataProjekcji<=Koniec_Projekt,'Środki trwałe'!U631,0)","v":0},{"$f":"IF(LataProjekcji<=Koniec_Projekt,'Środki trwałe'!V631,0)","v":0},{"$f":"IF(LataProjekcji<=Koniec_Projekt,'Środki trwałe'!W631,0)","v":0}]
[null,"Środki trwałe",null,null,null,null,null,null,null,{"$f":"J24+J25","v":0},{"$f":"K24+K25","v":0},0,0,0,0,0,0,0,0,0,0,0,0]
[null,"      - kwalifikowane",null,null,null,null,null,null,null,{"$f":"ROUND(J27+J30+J33+J36+J39+J42,0)","v":0},{"$f":"ROUND(K27+K30+K33+K36+K39+K42,0)","v":0},0,0,0,0,0,0,0,0,0,0,0,0]
[null,"      - niekwalifikowane",null,null,null,null,null,null,null,{"$f":"ROUND(J28+J31+J34+J37+J40+J43,0)","v":0},0,0,0,0,0,0,0,0,0,0,0,0,0]
[null,"   a) grunty",null,null,null,null,null,null,null,{"$f":"J27+J28","v":0},{"$f":"K27+K28","v":0},0,0,0,0,0,0,0,0,0,0,0,0]
[null,"      - kwalifikowane",null,null,null,null,null,null,null,{"$f":"IF(LataProjekcji<=Koniec_Projekt,'Środki trwałe'!J640,0)","v":0},{"$f":"IF(LataProjekcji<=Koniec_Projekt,'Środki trwałe'!K640,0)","v":0},{"$f":"IF(LataProjekcji<=Koniec_Projekt,'Środki trwałe'!L640,0)","v":0},{"$f":"IF(LataProjekcji<=Koniec_Projekt,'Środki trwałe'!M640,0)","v":0},{"$f":"IF(LataProjekcji<=Koniec_Projekt,'Środki trwałe'!N640,0)","v":0},{"$f":"IF(LataProjekcji<=Koniec_Projekt,'Środki trwałe'!O640,0)","v":0},{"$f":"IF(LataProjekcji<=Koniec_Projekt,'Środki trwałe'!P640,0)","v":0},{"$f":"IF(LataProjekcji<=Koniec_Projekt,'Środki trwałe'!Q640,0)","v":0},{"$f":"IF(LataProjekcji<=Koniec_Projekt,'Środki trwałe'!R640,0)","v":0},{"$f":"IF(LataProjekcji<=Koniec_Projekt,'Środki trwałe'!S640,0)","v":0},{"$f":"IF(LataProjekcji<=Koniec_Projekt,'Środki trwałe'!T640,0)","v":0},{"$f":"IF(LataProjekcji<=Koniec_Projekt,'Środki trwałe'!U640,0)","v":0},{"$f":"IF(LataProjekcji<=Koniec_Projekt,'Środki trwałe'!V640,0)","v":0},{"$f":"IF(LataProjekcji<=Koniec_Projekt,'Środki trwałe'!W640,0)","v":0}]
[null,"      - niekwalifikowane",null,null,null,null,null,null,null,{"$f":"IF(LataProjekcji<=Koniec_Projekt,'Środki trwałe'!J641,0)","v":0},{"$f":"IF(LataProjekcji<=Koniec_Projekt,'Środki trwałe'!K641,0)","v":0},{"$f":"IF(LataProjekcji<=Koniec_Projekt,'Środki trwałe'!L641,0)","v":0},{"$f":"IF(LataProjekcji<=Koniec_Projekt,'Środki trwałe'!M641,0)","v":0},{"$f":"IF(LataProjekcji<=Koniec_Projekt,'Środki trwałe'!N641,0)","v":0},{"$f":"IF(LataProjekcji<=Koniec_Projekt,'Środki trwałe'!O641,0)","v":0},{"$f":"IF(LataProjekcji<=Koniec_Projekt,'Środki trwałe'!P641,0)","v":0},{"$f":"IF(LataProjekcji<=Koniec_Projekt,'Środki trwałe'!Q641,0)","v":0},{"$f":"IF(LataProjekcji<=Koniec_Projekt,'Środki trwałe'!R641,0)","v":0},{"$f":"IF(LataProjekcji<=Koniec_Projekt,'Środki trwałe'!S641,0)","v":0},{"$f":"IF(LataProjekcji<=Koniec_Projekt,'Środki trwałe'!T641,0)","v":0},{"$f":"IF(LataProjekcji<=Koniec_Projekt,'Środki trwałe'!U641,0)","v":0},{"$f":"IF(LataProjekcji<=Koniec_Projekt,'Środki trwałe'!V641,0)","v":0},{"$f":"IF(LataProjekcji<=Koniec_Projekt,'Środki trwałe'!W641,0)","v":0}]
[null,"   b) budynki i budowle ",null,null,null,null,null,null,null,{"$f":"J30+J31","v":0},{"$f":"K30+K31","v":0},0,0,0,0,0,0,0,0,0,0,0,0]
[null,"      - kwalifikowane",null,null,null,null,null,null,null,{"$f":"IF(LataProjekcji<=Koniec_Projekt,'Środki trwałe'!J650,0)","v":0},{"$f":"IF(LataProjekcji<=Koniec_Projekt,'Środki trwałe'!K650,0)","v":0},{"$f":"IF(LataProjekcji<=Koniec_Projekt,'Środki trwałe'!L650,0)","v":0},{"$f":"IF(LataProjekcji<=Koniec_Projekt,'Środki trwałe'!M650,0)","v":0},{"$f":"IF(LataProjekcji<=Koniec_Projekt,'Środki trwałe'!N650,0)","v":0},{"$f":"IF(LataProjekcji<=Koniec_Projekt,'Środki trwałe'!O650,0)","v":0},{"$f":"IF(LataProjekcji<=Koniec_Projekt,'Środki trwałe'!P650,0)","v":0},{"$f":"IF(LataProjekcji<=Koniec_Projekt,'Środki trwałe'!Q650,0)","v":0},{"$f":"IF(LataProjekcji<=Koniec_Projekt,'Środki trwałe'!R650,0)","v":0},{"$f":"IF(LataProjekcji<=Koniec_Projekt,'Środki trwałe'!S650,0)","v":0},{"$f":"IF(LataProjekcji<=Koniec_Projekt,'Środki trwałe'!T650,0)","v":0},{"$f":"IF(LataProjekcji<=Koniec_Projekt,'Środki trwałe'!U650,0)","v":0},{"$f":"IF(LataProjekcji<=Koniec_Projekt,'Środki trwałe'!V650,0)","v":0},{"$f":"IF(LataProjekcji<=Koniec_Projekt,'Środki trwałe'!W650,0)","v":0}]
[null,"      - niekwalifikowane",null,null,null,null,null,null,null,{"$f":"IF(LataProjekcji<=Koniec_Projekt,'Środki trwałe'!J651,0)","v":0},{"$f":"IF(LataProjekcji<=Koniec_Projekt,'Środki trwałe'!K651,0)","v":0},{"$f":"IF(LataProjekcji<=Koniec_Projekt,'Środki trwałe'!L651,0)","v":0},{"$f":"IF(LataProjekcji<=Koniec_Projekt,'Środki trwałe'!M651,0)","v":0},{"$f":"IF(LataProjekcji<=Koniec_Projekt,'Środki trwałe'!N651,0)","v":0},{"$f":"IF(LataProjekcji<=Koniec_Projekt,'Środki trwałe'!O651,0)","v":0},{"$f":"IF(LataProjekcji<=Koniec_Projekt,'Środki trwałe'!P651,0)","v":0},{"$f":"IF(LataProjekcji<=Koniec_Projekt,'Środki trwałe'!Q651,0)","v":0},{"$f":"IF(LataProjekcji<=Koniec_Projekt,'Środki trwałe'!R651,0)","v":0},{"$f":"IF(LataProjekcji<=Koniec_Projekt,'Środki trwałe'!S651,0)","v":0},{"$f":"IF(LataProjekcji<=Koniec_Projekt,'Środki trwałe'!T651,0)","v":0},{"$f":"IF(LataProjekcji<=Koniec_Projekt,'Środki trwałe'!U651,0)","v":0},{"$f":"IF(LataProjekcji<=Koniec_Projekt,'Środki trwałe'!V651,0)","v":0},{"$f":"IF(LataProjekcji<=Koniec_Projekt,'Środki trwałe'!W651,0)","v":0}]
[null,"   c) urządzenia techniczne i maszyny ",null,null,null,null,null,null,null,{"$f":"J33+J34","v":0},{"$f":"K33+K34","v":0},0,0,0,0,0,0,0,0,0,0,0,0]
[null,"      - kwalifikowane",null,null,null,null,null,null,null,{"$f":"IF(LataProjekcji<=Koniec_Projekt,'Środki trwałe'!J686,0)","v":0},{"$f":"IF(LataProjekcji<=Koniec_Projekt,'Środki trwałe'!K686,0)","v":0},{"$f":"IF(LataProjekcji<=Koniec_Projekt,'Środki trwałe'!L686,0)","v":0},{"$f":"IF(LataProjekcji<=Koniec_Projekt,'Środki trwałe'!M686,0)","v":0},{"$f":"IF(LataProjekcji<=Koniec_Projekt,'Środki trwałe'!N686,0)","v":0},{"$f":"IF(LataProjekcji<=Koniec_Projekt,'Środki trwałe'!O686,0)","v":0},{"$f":"IF(LataProjekcji<=Koniec_Projekt,'Środki trwałe'!P686,0)","v":0},{"$f":"IF(LataProjekcji<=Koniec_Projekt,'Środki trwałe'!Q686,0)","v":0},{"$f":"IF(LataProjekcji<=Koniec_Projekt,'Środki trwałe'!R686,0)","v":0},{"$f":"IF(LataProjekcji<=Koniec_Projekt,'Środki trwałe'!S686,0)","v":0},{"$f":"IF(LataProjekcji<=Koniec_Projekt,'Środki trwałe'!T686,0)","v":0},{"$f":"IF(LataProjekcji<=Koniec_Projekt,'Środki trwałe'!U686,0)","v":0},{"$f":"IF(LataProjekcji<=Koniec_Projekt,'Środki trwałe'!V686,0)","v":0},{"$f":"IF(LataProjekcji<=Koniec_Projekt,'Środki trwałe'!W686,0)","v":0}]
[null,"      - niekwalifikowane",null,null,null,null,null,null,null,{"$f":"IF(LataProjekcji<=Koniec_Projekt,'Środki trwałe'!J687,0)","v":0},{"$f":"IF(LataProjekcji<=Koniec_Projekt,'Środki trwałe'!K687,0)","v":0},{"$f":"IF(LataProjekcji<=Koniec_Projekt,'Środki trwałe'!L687,0)","v":0},{"$f":"IF(LataProjekcji<=Koniec_Projekt,'Środki trwałe'!M687,0)","v":0},{"$f":"IF(LataProjekcji<=Koniec_Projekt,'Środki trwałe'!N687,0)","v":0},{"$f":"IF(LataProjekcji<=Koniec_Projekt,'Środki trwałe'!O687,0)","v":0},{"$f":"IF(LataProjekcji<=Koniec_Projekt,'Środki trwałe'!P687,0)","v":0},{"$f":"IF(LataProjekcji<=Koniec_Projekt,'Środki trwałe'!Q687,0)","v":0},{"$f":"IF(LataProjekcji<=Koniec_Projekt,'Środki trwałe'!R687,0)","v":0},{"$f":"IF(LataProjekcji<=Koniec_Projekt,'Środki trwałe'!S687,0)","v":0},{"$f":"IF(LataProjekcji<=Koniec_Projekt,'Środki trwałe'!T687,0)","v":0},{"$f":"IF(LataProjekcji<=Koniec_Projekt,'Środki trwałe'!U687,0)","v":0},{"$f":"IF(LataProjekcji<=Koniec_Projekt,'Środki trwałe'!V687,0)","v":0},{"$f":"IF(LataProjekcji<=Koniec_Projekt,'Środki trwałe'!W687,0)","v":0}]
[null,"   d) środki transportu ",null,null,null,null,null,null,null,{"$f":"J36+J37","v":0},{"$f":"K36+K37","v":0},0,0,0,0,0,0,0,0,0,0,0,0]
[null,"      - kwalifikowane",null,null,null,null,null,null,null,{"$f":"IF(LataProjekcji<=Koniec_Projekt,'Środki trwałe'!J696,0)","v":0},{"$f":"IF(LataProjekcji<=Koniec_Projekt,'Środki trwałe'!K696,0)","v":0},{"$f":"IF(LataProjekcji<=Koniec_Projekt,'Środki trwałe'!L696,0)","v":0},{"$f":"IF(LataProjekcji<=Koniec_Projekt,'Środki trwałe'!M696,0)","v":0},{"$f":"IF(LataProjekcji<=Koniec_Projekt,'Środki trwałe'!N696,0)","v":0},{"$f":"IF(LataProjekcji<=Koniec_Projekt,'Środki trwałe'!O696,0)","v":0},{"$f":"IF(LataProjekcji<=Koniec_Projekt,'Środki trwałe'!P696,0)","v":0},{"$f":"IF(LataProjekcji<=Koniec_Projekt,'Środki trwałe'!Q696,0)","v":0},{"$f":"IF(LataProjekcji<=Koniec_Projekt,'Środki trwałe'!R696,0)","v":0},{"$f":"IF(LataProjekcji<=Koniec_Projekt,'Środki trwałe'!S696,0)","v":0},{"$f":"IF(LataProjekcji<=Koniec_Projekt,'Środki trwałe'!T696,0)","v":0},{"$f":"IF(LataProjekcji<=Koniec_Projekt,'Środki trwałe'!U696,0)","v":0},{"$f":"IF(LataProjekcji<=Koniec_Projekt,'Środki trwałe'!V696,0)","v":0},{"$f":"IF(LataProjekcji<=Koniec_Projekt,'Środki trwałe'!W696,0)","v":0}]
[null,"      - niekwalifikowane",null,null,null,null,null,null,null,{"$f":"IF(LataProjekcji<=Koniec_Projekt,'Środki trwałe'!J697,0)","v":0},{"$f":"IF(LataProjekcji<=Koniec_Projekt,'Środki trwałe'!K697,0)","v":0},{"$f":"IF(LataProjekcji<=Koniec_Projekt,'Środki trwałe'!L697,0)","v":0},{"$f":"IF(LataProjekcji<=Koniec_Projekt,'Środki trwałe'!M697,0)","v":0},{"$f":"IF(LataProjekcji<=Koniec_Projekt,'Środki trwałe'!N697,0)","v":0},{"$f":"IF(LataProjekcji<=Koniec_Projekt,'Środki trwałe'!O697,0)","v":0},{"$f":"IF(LataProjekcji<=Koniec_Projekt,'Środki trwałe'!P697,0)","v":0},{"$f":"IF(LataProjekcji<=Koniec_Projekt,'Środki trwałe'!Q697,0)","v":0},{"$f":"IF(LataProjekcji<=Koniec_Projekt,'Środki trwałe'!R697,0)","v":0},{"$f":"IF(LataProjekcji<=Koniec_Projekt,'Środki trwałe'!S697,0)","v":0},{"$f":"IF(LataProjekcji<=Koniec_Projekt,'Środki trwałe'!T697,0)","v":0},{"$f":"IF(LataProjekcji<=Koniec_Projekt,'Środki trwałe'!U697,0)","v":0},{"$f":"IF(LataProjekcji<=Koniec_Projekt,'Środki trwałe'!V697,0)","v":0},{"$f":"IF(LataProjekcji<=Koniec_Projekt,'Środki trwałe'!W697,0)","v":0}]
[null,"   e) inne środki trwałe ",null,null,null,null,null,null,null,{"$f":"J39+J40","v":0},{"$f":"K39+K40","v":0},0,0,0,0,0,0,0,0,0,0,0,0]
[null,"      - kwalifikowane",null,null,null,null,null,null,null,{"$f":"IF(LataProjekcji<=Koniec_Projekt,'Środki trwałe'!J706,0)","v":0},{"$f":"IF(LataProjekcji<=Koniec_Projekt,'Środki trwałe'!K706,0)","v":0},{"$f":"IF(LataProjekcji<=Koniec_Projekt,'Środki trwałe'!L706,0)","v":0},{"$f":"IF(LataProjekcji<=Koniec_Projekt,'Środki trwałe'!M706,0)","v":0},{"$f":"IF(LataProjekcji<=Koniec_Projekt,'Środki trwałe'!N706,0)","v":0},{"$f":"IF(LataProjekcji<=Koniec_Projekt,'Środki trwałe'!O706,0)","v":0},{"$f":"IF(LataProjekcji<=Koniec_Projekt,'Środki trwałe'!P706,0)","v":0},{"$f":"IF(LataProjekcji<=Koniec_Projekt,'Środki trwałe'!Q706,0)","v":0},{"$f":"IF(LataProjekcji<=Koniec_Projekt,'Środki trwałe'!R706,0)","v":0},{"$f":"IF(LataProjekcji<=Koniec_Projekt,'Środki trwałe'!S706,0)","v":0},{"$f":"IF(LataProjekcji<=Koniec_Projekt,'Środki trwałe'!T706,0)","v":0},{"$f":"IF(LataProjekcji<=Koniec_Projekt,'Środki trwałe'!U706,0)","v":0},{"$f":"IF(LataProjekcji<=Koniec_Projekt,'Środki trwałe'!V706,0)","v":0},{"$f":"IF(LataProjekcji<=Koniec_Projekt,'Środki trwałe'!W706,0)","v":0}]
[null,"      - niekwalifikowane",null,null,null,null,null,null,null,{"$f":"IF(LataProjekcji<=Koniec_Projekt,'Środki trwałe'!J707,0)","v":0},{"$f":"IF(LataProjekcji<=Koniec_Projekt,'Środki trwałe'!K707,0)","v":0},{"$f":"IF(LataProjekcji<=Koniec_Projekt,'Środki trwałe'!L707,0)","v":0},{"$f":"IF(LataProjekcji<=Koniec_Projekt,'Środki trwałe'!M707,0)","v":0},{"$f":"IF(LataProjekcji<=Koniec_Projekt,'Środki trwałe'!N707,0)","v":0},{"$f":"IF(LataProjekcji<=Koniec_Projekt,'Środki trwałe'!O707,0)","v":0},{"$f":"IF(LataProjekcji<=Koniec_Projekt,'Środki trwałe'!P707,0)","v":0},{"$f":"IF(LataProjekcji<=Koniec_Projekt,'Środki trwałe'!Q707,0)","v":0},{"$f":"IF(LataProjekcji<=Koniec_Projekt,'Środki trwałe'!R707,0)","v":0},{"$f":"IF(LataProjekcji<=Koniec_Projekt,'Środki trwałe'!S707,0)","v":0},{"$f":"IF(LataProjekcji<=Koniec_Projekt,'Środki trwałe'!T707,0)","v":0},{"$f":"IF(LataProjekcji<=Koniec_Projekt,'Środki trwałe'!U707,0)","v":0},{"$f":"IF(LataProjekcji<=Koniec_Projekt,'Środki trwałe'!V707,0)","v":0},{"$f":"IF(LataProjekcji<=Koniec_Projekt,'Środki trwałe'!W707,0)","v":0}]
[null,"   f) środki trwałe w budowie",null,null,null,null,null,null,null,{"$f":"J42+J43","v":0},0,0,0,0,0,0,0,0,0,0,0,0,0]
[null,"     - kwalifikowane",null,null,null,null,null,null,null,{"$f":"NPV!J93","v":0},{"$f":"NPV!K93","v":0},{"$f":"NPV!L93","v":0},{"$f":"NPV!M93","v":0},{"$f":"NPV!N93","v":0},{"$f":"NPV!O93","v":0},{"$f":"NPV!P93","v":0},{"$f":"NPV!Q93","v":0},{"$f":"NPV!R93","v":0},{"$f":"NPV!S93","v":0},{"$f":"NPV!T93","v":0},{"$f":"NPV!U93","v":0},{"$f":"NPV!V93","v":0},{"$f":"NPV!W93","v":0}]
[null,"     - niekwalifikowane",null,null,null,null,null,null,null,{"$f":"NPV!J94","v":0},{"$f":"NPV!K94","v":0},{"$f":"NPV!L94","v":0},{"$f":"NPV!M94","v":0},{"$f":"NPV!N94","v":0},{"$f":"NPV!O94","v":0},{"$f":"NPV!P94","v":0},{"$f":"NPV!Q94","v":0},{"$f":"NPV!R94","v":0},{"$f":"NPV!S94","v":0},{"$f":"NPV!T94","v":0},{"$f":"NPV!U94","v":0},{"$f":"NPV!V94","v":0},{"$f":"NPV!W94","v":0}]
[null,"Koszty operacyjne",null,null,null,null,null,null,null,{"$f":"J45+J46","v":0},{"$f":"K45+K46","v":0},{"$f":"L45+L46","v":0},{"$f":"M45+M46","v":0},{"$f":"N45+N46","v":0},{"$f":"O45+O46","v":0},{"$f":"P45+P46","v":0},{"$f":"Q45+Q46","v":0},{"$f":"R45+R46","v":0},{"$f":"S45+S46","v":0},{"$f":"T45+T46","v":0},{"$f":"U45+U46","v":0},{"$f":"V45+V46","v":0},{"$f":"W45+W46","v":0}]
[null,"      - kwalifikowane",null,null,null,null,null,null,null,{"$f":"IF(LataProjekcji<=Koniec_Projekt,'Koszty operacyjne'!J1077,0)","v":0},{"$f":"IF(LataProjekcji<=Koniec_Projekt,'Koszty operacyjne'!K1077,0)","v":0},{"$f":"IF(LataProjekcji<=Koniec_Projekt,'Koszty operacyjne'!L1077,0)","v":0},{"$f":"IF(LataProjekcji<=Koniec_Projekt,'Koszty operacyjne'!M1077,0)","v":0},{"$f":"IF(LataProjekcji<=Koniec_Projekt,'Koszty operacyjne'!N1077,0)","v":0},{"$f":"IF(LataProjekcji<=Koniec_Projekt,'Koszty operacyjne'!O1077,0)","v":0},{"$f":"IF(LataProjekcji<=Koniec_Projekt,'Koszty operacyjne'!P1077,0)","v":0},{"$f":"IF(LataProjekcji<=Koniec_Projekt,'Koszty operacyjne'!Q1077,0)","v":0},{"$f":"IF(LataProjekcji<=Koniec_Projekt,'Koszty operacyjne'!R1077,0)","v":0},{"$f":"IF(LataProjekcji<=Koniec_Projekt,'Koszty operacyjne'!S1077,0)","v":0},{"$f":"IF(LataProjekcji<=Koniec_Projekt,'Koszty operacyjne'!T1077,0)","v":0},{"$f":"IF(LataProjekcji<=Koniec_Projekt,'Koszty operacyjne'!U1077,0)","v":0},{"$f":"IF(LataProjekcji<=Koniec_Projekt,'Koszty operacyjne'!V1077,0)","v":0},{"$f":"IF(LataProjekcji<=Koniec_Projekt,'Koszty operacyjne'!W1077,0)","v":0}]
[null,"      - niekwalifikowane",null,null,null,null,null,null,null,{"$f":"IF(LataProjekcji<=Koniec_Projekt,'Koszty operacyjne'!J1141,0)","v":0},{"$f":"IF(LataProjekcji<=Koniec_Projekt,'Koszty operacyjne'!K1141,0)","v":0},{"$f":"IF(LataProjekcji<=Koniec_Projekt,'Koszty operacyjne'!L1141,0)","v":0},{"$f":"IF(LataProjekcji<=Koniec_Projekt,'Koszty operacyjne'!M1141,0)","v":0},{"$f":"IF(LataProjekcji<=Koniec_Projekt,'Koszty operacyjne'!N1141,0)","v":0},{"$f":"IF(LataProjekcji<=Koniec_Projekt,'Koszty operacyjne'!O1141,0)","v":0},{"$f":"IF(LataProjekcji<=Koniec_Projekt,'Koszty operacyjne'!P1141,0)","v":0},{"$f":"IF(LataProjekcji<=Koniec_Projekt,'Koszty operacyjne'!Q1141,0)","v":0},{"$f":"IF(LataProjekcji<=Koniec_Projekt,'Koszty operacyjne'!R1141,0)","v":0},{"$f":"IF(LataProjekcji<=Koniec_Projekt,'Koszty operacyjne'!S1141,0)","v":0},{"$f":"IF(LataProjekcji<=Koniec_Projekt,'Koszty operacyjne'!T1141,0)","v":0},{"$f":"IF(LataProjekcji<=Koniec_Projekt,'Koszty operacyjne'!U1141,0)","v":0},{"$f":"IF(LataProjekcji<=Koniec_Projekt,'Koszty operacyjne'!V1141,0)","v":0},{"$f":"IF(LataProjekcji<=Koniec_Projekt,'Koszty operacyjne'!W1141,0)","v":0}]
[null,"Razem Nakłady",null,null,null,null,null,null,null,{"$f":"J48+J49","v":0},0,0,0,0,0,0,0,0,0,0,0,0,0]
[null,"      - kwalifikowane",null,null,null,null,null,null,null,{"$f":"IF(LataProjekcji<=Koniec_Projekt,ROUND(J15+J24+J45,0),0)","v":0},0,0,0,0,0,0,0,0,0,0,0,0,0]
[null,"      - niekwalifikowane",null,null,null,null,null,null,null,{"$f":"IF(LataProjekcji<=Koniec_Projekt,ROUND(J16+J25+J46,0),0)","v":0},0,0,0,0,0,0,0,0,0,0,0,0,0]
[]
[]
[null,"Źródła finansowania Projektu",null,null,null,null,null,null,null,{"$f":"LataProjekcji","v":"Uzupełnij dane"},"","","","","","","","","","","","",""]
[null,"Nakłady projektowe",null,null,null,null,null,null,null,{"$f":"J54+J55","v":0},0,0,0,0,0,0,0,0,0,0,0,0,0]
[null,"      - kwalifikowane",null,null,null,null,null,null,null,{"$f":"IF(LataProjekcji<=Koniec_Projekt,NPV!J144,0)","v":0},{"$f":"IF(LataProjekcji<=Koniec_Projekt,NPV!K144,0)","v":0},{"$f":"IF(LataProjekcji<=Koniec_Projekt,NPV!L144,0)","v":0},{"$f":"IF(LataProjekcji<=Koniec_Projekt,NPV!M144,0)","v":0},{"$f":"IF(LataProjekcji<=Koniec_Projekt,NPV!N144,0)","v":0},{"$f":"IF(LataProjekcji<=Koniec_Projekt,NPV!O144,0)","v":0},{"$f":"IF(LataProjekcji<=Koniec_Projekt,NPV!P144,0)","v":0},{"$f":"IF(LataProjekcji<=Koniec_Projekt,NPV!Q144,0)","v":0},{"$f":"IF(LataProjekcji<=Koniec_Projekt,NPV!R144,0)","v":0},{"$f":"IF(LataProjekcji<=Koniec_Projekt,NPV!S144,0)","v":0},{"$f":"IF(LataProjekcji<=Koniec_Projekt,NPV!T144,0)","v":0},{"$f":"IF(LataProjekcji<=Koniec_Projekt,NPV!U144,0)","v":0},{"$f":"IF(LataProjekcji<=Koniec_Projekt,NPV!V144,0)","v":0},{"$f":"IF(LataProjekcji<=Koniec_Projekt,NPV!W144,0)","v":0}]
[null,"      - niekwalifikowane",null,null,null,null,null,null,null,{"$f":"IF(LataProjekcji<=Koniec_Projekt,NPV!J145,0)","v":0},{"$f":"IF(LataProjekcji<=Koniec_Projekt,NPV!K145,0)","v":0},{"$f":"IF(LataProjekcji<=Koniec_Projekt,NPV!L145,0)","v":0},{"$f":"IF(LataProjekcji<=Koniec_Projekt,NPV!M145,0)","v":0},{"$f":"IF(LataProjekcji<=Koniec_Projekt,NPV!N145,0)","v":0},{"$f":"IF(LataProjekcji<=Koniec_Projekt,NPV!O145,0)","v":0},{"$f":"IF(LataProjekcji<=Koniec_Projekt,NPV!P145,0)","v":0},{"$f":"IF(LataProjekcji<=Koniec_Projekt,NPV!Q145,0)","v":0},{"$f":"IF(LataProjekcji<=Koniec_Projekt,NPV!R145,0)","v":0},{"$f":"IF(LataProjekcji<=Koniec_Projekt,NPV!S145,0)","v":0},{"$f":"IF(LataProjekcji<=Koniec_Projekt,NPV!T145,0)","v":0},{"$f":"IF(LataProjekcji<=Koniec_Projekt,NPV!U145,0)","v":0},{"$f":"IF(LataProjekcji<=Koniec_Projekt,NPV!V145,0)","v":0},{"$f":"IF(LataProjekcji<=Koniec_Projekt,NPV!W145,0)","v":0}]
[null,"Koszty operacyjne niekwalifikowane",null,null,null,null,null,null,null,{"$f":"IF(LataProjekcji<=Koniec_Projekt,NPV!J192,0)","v":0},{"$f":"IF(LataProjekcji<=Koniec_Projekt,NPV!K192,0)","v":0},{"$f":"IF(LataProjekcji<=Koniec_Projekt,NPV!L192,0)","v":0},{"$f":"IF(LataProjekcji<=Koniec_Projekt,NPV!M192,0)","v":0},{"$f":"IF(LataProjekcji<=Koniec_Projekt,NPV!N192,0)","v":0},{"$f":"IF(LataProjekcji<=Koniec_Projekt,NPV!O192,0)","v":0},{"$f":"IF(LataProjekcji<=Koniec_Projekt,NPV!P192,0)","v":0},{"$f":"IF(LataProjekcji<=Koniec_Projekt,NPV!Q192,0)","v":0},{"$f":"IF(LataProjekcji<=Koniec_Projekt,NPV!R192,0)","v":0},{"$f":"IF(LataProjekcji<=Koniec_Projekt,NPV!S192,0)","v":0},{"$f":"IF(LataProjekcji<=Koniec_Projekt,NPV!T192,0)","v":0},{"$f":"IF(LataProjekcji<=Koniec_Projekt,NPV!U192,0)","v":0},{"$f":"IF(LataProjekcji<=Koniec_Projekt,NPV!V192,0)","v":0},{"$f":"IF(LataProjekcji<=Koniec_Projekt,NPV!W192,0)","v":0}]
[null,"Dotacja",null,null,null,null,null,null,null,{"$f":"IF(LataProjekcji<=Koniec_Projekt,NPV!J18,0)","v":0},{"$f":"IF(LataProjekcji<=Koniec_Projekt,NPV!K18,0)","v":0},{"$f":"IF(LataProjekcji<=Koniec_Projekt,NPV!L18,0)","v":0},{"$f":"IF(LataProjekcji<=Koniec_Projekt,NPV!M18,0)","v":0},{"$f":"IF(LataProjekcji<=Koniec_Projekt,NPV!N18,0)","v":0},{"$f":"IF(LataProjekcji<=Koniec_Projekt,NPV!O18,0)","v":0},{"$f":"IF(LataProjekcji<=Koniec_Projekt,NPV!P18,0)","v":0},{"$f":"IF(LataProjekcji<=Koniec_Projekt,NPV!Q18,0)","v":0},{"$f":"IF(LataProjekcji<=Koniec_Projekt,NPV!R18,0)","v":0},{"$f":"IF(LataProjekcji<=Koniec_Projekt,NPV!S18,0)","v":0},{"$f":"IF(LataProjekcji<=Koniec_Projekt,NPV!T18,0)","v":0},{"$f":"IF(LataProjekcji<=Koniec_Projekt,NPV!U18,0)","v":0},{"$f":"IF(LataProjekcji<=Koniec_Projekt,NPV!V18,0)","v":0},{"$f":"IF(LataProjekcji<=Koniec_Projekt,NPV!W18,0)","v":0}]
[null,"      - poziom dofinansowania (%)",null,null,null,null,null,null,null,{"$f":"IFERROR(ROUND((J57/J54)*100,2),0)","v":0},{"$f":"IFERROR(ROUND((K57/K54)*100,2),0)","v":0},0,0,0,0,0,0,0,0,0,0,0,0]
[null,"Dopłaty do kapitału",null,null,null,null,null,null,null,{"$f":"IF(LataProjekcji<=Koniec_Projekt,Finansowanie!J74,0)","v":0},{"$f":"IF(LataProjekcji<=Koniec_Projekt,Finansowanie!K74,0)","v":0},{"$f":"IF(LataProjekcji<=Koniec_Projekt,Finansowanie!L74,0)","v":0},{"$f":"IF(LataProjekcji<=Koniec_Projekt,Finansowanie!M74,0)","v":0},{"$f":"IF(LataProjekcji<=Koniec_Projekt,Finansowanie!N74,0)","v":0},{"$f":"IF(LataProjekcji<=Koniec_Projekt,Finansowanie!O74,0)","v":0},{"$f":"IF(LataProjekcji<=Koniec_Projekt,Finansowanie!P74,0)","v":0},{"$f":"IF(LataProjekcji<=Koniec_Projekt,Finansowanie!Q74,0)","v":0},{"$f":"IF(LataProjekcji<=Koniec_Projekt,Finansowanie!R74,0)","v":0},{"$f":"IF(LataProjekcji<=Koniec_Projekt,Finansowanie!S74,0)","v":0},{"$f":"IF(LataProjekcji<=Koniec_Projekt,Finansowanie!T74,0)","v":0},{"$f":"IF(LataProjekcji<=Koniec_Projekt,Finansowanie!U74,0)","v":0},{"$f":"IF(LataProjekcji<=Koniec_Projekt,Finansowanie!V74,0)","v":0},{"$f":"IF(LataProjekcji<=Koniec_Projekt,Finansowanie!W74,0)","v":0}]
[null,"Pożyczki od udziałowców",null,null,null,null,null,null,null,{"$f":"IF(LataProjekcji<=Koniec_Projekt,Finansowanie!J107,0)","v":0},{"$f":"IF(LataProjekcji<=Koniec_Projekt,Finansowanie!K107,0)","v":0},{"$f":"IF(LataProjekcji<=Koniec_Projekt,Finansowanie!L107,0)","v":0},{"$f":"IF(LataProjekcji<=Koniec_Projekt,Finansowanie!M107,0)","v":0},{"$f":"IF(LataProjekcji<=Koniec_Projekt,Finansowanie!N107,0)","v":0},{"$f":"IF(LataProjekcji<=Koniec_Projekt,Finansowanie!O107,0)","v":0},{"$f":"IF(LataProjekcji<=Koniec_Projekt,Finansowanie!P107,0)","v":0},{"$f":"IF(LataProjekcji<=Koniec_Projekt,Finansowanie!Q107,0)","v":0},{"$f":"IF(LataProjekcji<=Koniec_Projekt,Finansowanie!R107,0)","v":0},{"$f":"IF(LataProjekcji<=Koniec_Projekt,Finansowanie!S107,0)","v":0},{"$f":"IF(LataProjekcji<=Koniec_Projekt,Finansowanie!T107,0)","v":0},{"$f":"IF(LataProjekcji<=Koniec_Projekt,Finansowanie!U107,0)","v":0},{"$f":"IF(LataProjekcji<=Koniec_Projekt,Finansowanie!V107,0)","v":0},{"$f":"IF(LataProjekcji<=Koniec_Projekt,Finansowanie!W107,0)","v":0}]
[null,"Kredyty długoterminowe",null,null,null,null,null,null,null,{"$f":"IF(LataProjekcji<=Koniec_Projekt,Finansowanie!J116,0)","v":0},{"$f":"IF(LataProjekcji<=Koniec_Projekt,Finansowanie!K116,0)","v":0},{"$f":"IF(LataProjekcji<=Koniec_Projekt,Finansowanie!L116,0)","v":0},{"$f":"IF(LataProjekcji<=Koniec_Projekt,Finansowanie!M116,0)","v":0},{"$f":"IF(LataProjekcji<=Koniec_Projekt,Finansowanie!N116,0)","v":0},{"$f":"IF(LataProjekcji<=Koniec_Projekt,Finansowanie!O116,0)","v":0},{"$f":"IF(LataProjekcji<=Koniec_Projekt,Finansowanie!P116,0)","v":0},{"$f":"IF(LataProjekcji<=Koniec_Projekt,Finansowanie!Q116,0)","v":0},{"$f":"IF(LataProjekcji<=Koniec_Projekt,Finansowanie!R116,0)","v":0},{"$f":"IF(LataProjekcji<=Koniec_Projekt,Finansowanie!S116,0)","v":0},{"$f":"IF(LataProjekcji<=Koniec_Projekt,Finansowanie!T116,0)","v":0},{"$f":"IF(LataProjekcji<=Koniec_Projekt,Finansowanie!U116,0)","v":0},{"$f":"IF(LataProjekcji<=Koniec_Projekt,Finansowanie!V116,0)","v":0},{"$f":"IF(LataProjekcji<=Koniec_Projekt,Finansowanie!W116,0)","v":0}]
[null,"Kredyty krótkoterminowe",null,null,null,null,null,null,null,{"$f":"IF(LataProjekcji<=Koniec_Projekt,Finansowanie!J125,0)","v":0},{"$f":"IF(LataProjekcji<=Koniec_Projekt,Finansowanie!K125,0)","v":0},{"$f":"IF(LataProjekcji<=Koniec_Projekt,Finansowanie!L125,0)","v":0},{"$f":"IF(LataProjekcji<=Koniec_Projekt,Finansowanie!M125,0)","v":0},{"$f":"IF(LataProjekcji<=Koniec_Projekt,Finansowanie!N125,0)","v":0},{"$f":"IF(LataProjekcji<=Koniec_Projekt,Finansowanie!O125,0)","v":0},{"$f":"IF(LataProjekcji<=Koniec_Projekt,Finansowanie!P125,0)","v":0},{"$f":"IF(LataProjekcji<=Koniec_Projekt,Finansowanie!Q125,0)","v":0},{"$f":"IF(LataProjekcji<=Koniec_Projekt,Finansowanie!R125,0)","v":0},{"$f":"IF(LataProjekcji<=Koniec_Projekt,Finansowanie!S125,0)","v":0},{"$f":"IF(LataProjekcji<=Koniec_Projekt,Finansowanie!T125,0)","v":0},{"$f":"IF(LataProjekcji<=Koniec_Projekt,Finansowanie!U125,0)","v":0},{"$f":"IF(LataProjekcji<=Koniec_Projekt,Finansowanie!V125,0)","v":0},{"$f":"IF(LataProjekcji<=Koniec_Projekt,Finansowanie!W125,0)","v":0}]
[null,"Stan środków pieniężnych (działalność dotychczasowa)",null,null,null,null,null,null,null,{"$f":"IF(LataProjekcji<=Koniec_Projekt,'Ocena kondycji finansowej'!J123,0)","v":0},{"$f":"IF(LataProjekcji<=Koniec_Projekt,'Ocena kondycji finansowej'!K123,0)","v":0},{"$f":"IF(LataProjekcji<=Koniec_Projekt,'Ocena kondycji finansowej'!L123,0)","v":0},{"$f":"IF(LataProjekcji<=Koniec_Projekt,'Ocena kondycji finansowej'!M123,0)","v":0},{"$f":"IF(LataProjekcji<=Koniec_Projekt,'Ocena kondycji finansowej'!N123,0)","v":0},{"$f":"IF(LataProjekcji<=Koniec_Projekt,'Ocena kondycji finansowej'!O123,0)","v":0},{"$f":"IF(LataProjekcji<=Koniec_Projekt,'Ocena kondycji finansowej'!P123,0)","v":0},{"$f":"IF(LataProjekcji<=Koniec_Projekt,'Ocena kondycji finansowej'!Q123,0)","v":0},{"$f":"IF(LataProjekcji<=Koniec_Projekt,'Ocena kondycji finansowej'!R123,0)","v":0},{"$f":"IF(LataProjekcji<=Koniec_Projekt,'Ocena kondycji finansowej'!S123,0)","v":0},{"$f":"IF(LataProjekcji<=Koniec_Projekt,'Ocena kondycji finansowej'!T123,0)","v":0},{"$f":"IF(LataProjekcji<=Koniec_Projekt,'Ocena kondycji finansowej'!U123,0)","v":0},{"$f":"IF(LataProjekcji<=Koniec_Projekt,'Ocena kondycji finansowej'!V123,0)","v":0},{"$f":"IF(LataProjekcji<=Koniec_Projekt,'Ocena kondycji finansowej'!W123,0)","v":0}]
[null,"Saldo (źródła finansowania - nakłady)",null,null,null,null,null,null,null,{"$f":"IF(LataProjekcji<=Koniec_Projekt,-(J53)+(J57+J59+J60+J61+J62+J63),0)","v":0},0,0,0,0,0,0,0,0,0,0,0,0,0]
[null,"Finansowanie narastająco",null,null,null,null,null,null,null,{"$f":"IF(LataProjekcji<=Koniec_Projekt,J64,0)","v":0},{"$f":"IF(LataProjekcji<=Koniec_Projekt,J65+K64,0)","v":0},0,0,0,0,0,0,0,0,0,0,0,0]
[]
[]
[null,"Komentarz"]

{"sheet":"Projekty generujące dochód","index":13,"n_rows":74,"n_cols":23,"rows_kept":74,"cut":false,"hidden":true,"merged":[[1,1,2,11]]}
[]
[null,{"$f":"IF(ISBLANK(Firma),\"Wstaw nazwę firmy\",Firma)","v":"Wstaw nazwę firmy"}]
[]
[]
[]
[]
[]
[]
[]
[]
[null,null,null,null,null,null,null,null,null,{"$f":"Założenia!J25","v":0},{"$f":"Założenia!K25","v":1},{"$f":"Założenia!L25","v":2},{"$f":"Założenia!M25","v":3},{"$f":"Założenia!N25","v":4},{"$f":"Założenia!O25","v":5},{"$f":"Założenia!P25","v":6},{"$f":"Założenia!Q25","v":7},{"$f":"Założenia!R25","v":8},{"$f":"Założenia!S25","v":9},{"$f":"Założenia!T25","v":10},{"$f":"Założenia!U25","v":11},{"$f":"Założenia!V25","v":12},{"$f":"Założenia!W25","v":13}]
[null,"Projekt",null,null,null,{"$f":"Założenia!F26","v":0},{"$f":"Założenia!G26","v":0},{"$f":"Założenia!H26","v":0},{"$f":"Założenia!I26","v":""},{"$f":"LataProjekcji","v":"Uzupełnij dane"},"","","","","","","","","","","","",""]
[]
[null,"Przychody",null,null,null,null,null,null,null,{"$f":"IFERROR(IF(AND(LataProjekcji>=Poczatek,LataProjekcji<=(Koniec_Projekt+3)),NPV_Przychody,0),0)","v":0},0,0,0,0,0,0,0,0,0,0,0,0,0]
[null,"Koszty projektu, w tym:",null,null,null,null,null,null,null,{"$f":"SUM(J16:J21)","v":0},0,0,0,0,0,0,0,0,0,0,0,0,0]
[null,"  - zakup środków trwałych kwalifikowanych",null,null,null,null,null,null,null,{"$f":"IFERROR(IF(AND(LataProjekcji>=Poczatek,LataProjekcji<=(Koniec_Projekt+3)),'Środki trwałe'!J712,0),0)","v":0},{"$f":"IFERROR(IF(AND(LataProjekcji>=Poczatek,LataProjekcji<=(Koniec_Projekt+3)),'Środki trwałe'!K712,0),0)","v":0},{"$f":"IFERROR(IF(AND(LataProjekcji>=Poczatek,LataProjekcji<=(Koniec_Projekt+3)),'Środki trwałe'!L712,0),0)","v":0},{"$f":"IFERROR(IF(AND(LataProjekcji>=Poczatek,LataProjekcji<=(Koniec_Projekt+3)),'Środki trwałe'!M712,0),0)","v":0},{"$f":"IFERROR(IF(AND(LataProjekcji>=Poczatek,LataProjekcji<=(Koniec_Projekt+3)),'Środki trwałe'!N712,0),0)","v":0},{"$f":"IFERROR(IF(AND(LataProjekcji>=Poczatek,LataProjekcji<=(Koniec_Projekt+3)),'Środki trwałe'!O712,0),0)","v":0},{"$f":"IFERROR(IF(AND(LataProjekcji>=Poczatek,LataProjekcji<=(Koniec_Projekt+3)),'Środki trwałe'!P712,0),0)","v":0},{"$f":"IFERROR(IF(AND(LataProjekcji>=Poczatek,LataProjekcji<=(Koniec_Projekt+3)),'Środki trwałe'!Q712,0),0)","v":0},{"$f":"IFERROR(IF(AND(LataProjekcji>=Poczatek,LataProjekcji<=(Koniec_Projekt+3)),'Środki trwałe'!R712,0),0)","v":0},{"$f":"IFERROR(IF(AND(LataProjekcji>=Poczatek,LataProjekcji<=(Koniec_Projekt+3)),'Środki trwałe'!S712,0),0)","v":0},{"$f":"IFERROR(IF(AND(LataProjekcji>=Poczatek,LataProjekcji<=(Koniec_Projekt+3)),'Środki trwałe'!T712,0),0)","v":0},{"$f":"IFERROR(IF(AND(LataProjekcji>=Poczatek,LataProjekcji<=(Koniec_Projekt+3)),'Środki trwałe'!U712,0),0)","v":0},{"$f":"IFERROR(IF(AND(LataProjekcji>=Poczatek,LataProjekcji<=(Koniec_Projekt+3)),'Środki trwałe'!V712,0),0)","v":0},{"$f":"IFERROR(IF(AND(LataProjekcji>=Poczatek,LataProjekcji<=(Koniec_Projekt+3)),'Środki trwałe'!W712,0),0)","v":0}]
[null,"  - zakup środków trwałych niekwalifikowanych",null,null,null,null,null,null,null,{"$f":"IFERROR(IF(AND(LataProjekcji>=Poczatek,LataProjekcji<=(Koniec_Projekt+3)),'Środki trwałe'!J713,0),0)","v":0},{"$f":"IFERROR(IF(AND(LataProjekcji>=Poczatek,LataProjekcji<=(Koniec_Projekt+3)),'Środki trwałe'!K713,0),0)","v":0},{"$f":"IFERROR(IF(AND(LataProjekcji>=Poczatek,LataProjekcji<=(Koniec_Projekt+3)),'Środki trwałe'!L713,0),0)","v":0},{"$f":"IFERROR(IF(AND(LataProjekcji>=Poczatek,LataProjekcji<=(Koniec_Projekt+3)),'Środki trwałe'!M713,0),0)","v":0},{"$f":"IFERROR(IF(AND(LataProjekcji>=Poczatek,LataProjekcji<=(Koniec_Projekt+3)),'Środki trwałe'!N713,0),0)","v":0},{"$f":"IFERROR(IF(AND(LataProjekcji>=Poczatek,LataProjekcji<=(Koniec_Projekt+3)),'Środki trwałe'!O713,0),0)","v":0},{"$f":"IFERROR(IF(AND(LataProjekcji>=Poczatek,LataProjekcji<=(Koniec_Projekt+3)),'Środki trwałe'!P713,0),0)","v":0},{"$f":"IFERROR(IF(AND(LataProjekcji>=Poczatek,LataProjekcji<=(Koniec_Projekt+3)),'Środki trwałe'!Q713,0),0)","v":0},{"$f":"IFERROR(IF(AND(LataProjekcji>=Poczatek,LataProjekcji<=(Koniec_Projekt+3)),'Środki trwałe'!R713,0),0)","v":0},{"$f":"IFERROR(IF(AND(LataProjekcji>=Poczatek,LataProjekcji<=(Koniec_Projekt+3)),'Środki trwałe'!S713,0),0)","v":0},{"$f":"IFERROR(IF(AND(LataProjekcji>=Poczatek,LataProjekcji<=(Koniec_Projekt+3)),'Środki trwałe'!T713,0),0)","v":0},{"$f":"IFERROR(IF(AND(LataProjekcji>=Poczatek,LataProjekcji<=(Koniec_Projekt+3)),'Środki trwałe'!U713,0),0)","v":0},{"$f":"IFERROR(IF(AND(LataProjekcji>=Poczatek,LataProjekcji<=(Koniec_Projekt+3)),'Środki trwałe'!V713,0),0)","v":0},{"$f":"IFERROR(IF(AND(LataProjekcji>=Poczatek,LataProjekcji<=(Koniec_Projekt+3)),'Środki trwałe'!W713,0),0)","v":0}]
[null,"  - zakończone prace B+R kwalifikowane",null,null,null,null,null,null,null,{"$f":"IFERROR(IF(AND(LataProjekcji>=Poczatek,LataProjekcji<=(Koniec_Projekt+3)),NPV!J96,0),0)","v":0},{"$f":"IFERROR(IF(AND(LataProjekcji>=Poczatek,LataProjekcji<=(Koniec_Projekt+3)),NPV!K96,0),0)","v":0},{"$f":"IFERROR(IF(AND(LataProjekcji>=Poczatek,LataProjekcji<=(Koniec_Projekt+3)),NPV!L96,0),0)","v":0},{"$f":"IFERROR(IF(AND(LataProjekcji>=Poczatek,LataProjekcji<=(Koniec_Projekt+3)),NPV!M96,0),0)","v":0},{"$f":"IFERROR(IF(AND(LataProjekcji>=Poczatek,LataProjekcji<=(Koniec_Projekt+3)),NPV!N96,0),0)","v":0},{"$f":"IFERROR(IF(AND(LataProjekcji>=Poczatek,LataProjekcji<=(Koniec_Projekt+3)),NPV!O96,0),0)","v":0},{"$f":"IFERROR(IF(AND(LataProjekcji>=Poczatek,LataProjekcji<=(Koniec_Projekt+3)),NPV!P96,0),0)","v":0},{"$f":"IFERROR(IF(AND(LataProjekcji>=Poczatek,LataProjekcji<=(Koniec_Projekt+3)),NPV!Q96,0),0)","v":0},{"$f":"IFERROR(IF(AND(LataProjekcji>=Poczatek,LataProjekcji<=(Koniec_Projekt+3)),NPV!R96,0),0)","v":0},{"$f":"IFERROR(IF(AND(LataProjekcji>=Poczatek,LataProjekcji<=(Koniec_Projekt+3)),NPV!S96,0),0)","v":0},{"$f":"IFERROR(IF(AND(LataProjekcji>=Poczatek,LataProjekcji<=(Koniec_Projekt+3)),NPV!T96,0),0)","v":0},{"$f":"IFERROR(IF(AND(LataProjekcji>=Poczatek,LataProjekcji<=(Koniec_Projekt+3)),NPV!U96,0),0)","v":0},{"$f":"IFERROR(IF(AND(LataProjekcji>=Poczatek,LataProjekcji<=(Koniec_Projekt+3)),NPV!V96,0),0)","v":0},{"$f":"IFERROR(IF(AND(LataProjekcji>=Poczatek,LataProjekcji<=(Koniec_Projekt+3)),NPV!W96,0),0)","v":0}]
[null,"  - zakończone prace B+R niekwalifikowane",null,null,null,null,null,null,null,{"$f":"IFERROR(IF(AND(LataProjekcji>=Poczatek,LataProjekcji<=(Koniec_Projekt+3)),NPV!J97,0),0)","v":0},{"$f":"IFERROR(IF(AND(LataProjekcji>=Poczatek,LataProjekcji<=(Koniec_Projekt+3)),NPV!K97,0),0)","v":0},{"$f":"IFERROR(IF(AND(LataProjekcji>=Poczatek,LataProjekcji<=(Koniec_Projekt+3)),NPV!L97,0),0)","v":0},{"$f":"IFERROR(IF(AND(LataProjekcji>=Poczatek,LataProjekcji<=(Koniec_Projekt+3)),NPV!M97,0),0)","v":0},{"$f":"IFERROR(IF(AND(LataProjekcji>=Poczatek,LataProjekcji<=(Koniec_Projekt+3)),NPV!N97,0),0)","v":0},{"$f":"IFERROR(IF(AND(LataProjekcji>=Poczatek,LataProjekcji<=(Koniec_Projekt+3)),NPV!O97,0),0)","v":0},{"$f":"IFERROR(IF(AND(LataProjekcji>=Poczatek,LataProjekcji<=(Koniec_Projekt+3)),NPV!P97,0),0)","v":0},{"$f":"IFERROR(IF(AND(LataProjekcji>=Poczatek,LataProjekcji<=(Koniec_Projekt+3)),NPV!Q97,0),0)","v":0},{"$f":"IFERROR(IF(AND(LataProjekcji>=Poczatek,LataProjekcji<=(Koniec_Projekt+3)),NPV!R97,0),0)","v":0},{"$f":"IFERROR(IF(AND(LataProjekcji>=Poczatek,LataProjekcji<=(Koniec_Projekt+3)),NPV!S97,0),0)","v":0},{"$f":"IFERROR(IF(AND(LataProjekcji>=Poczatek,LataProjekcji<=(Koniec_Projekt+3)),NPV!T97,0),0)","v":0},{"$f":"IFERROR(IF(AND(LataProjekcji>=Poczatek,LataProjekcji<=(Koniec_Projekt+3)),NPV!U97,0),0)","v":0},{"$f":"IFERROR(IF(AND(LataProjekcji>=Poczatek,LataProjekcji<=(Koniec_Projekt+3)),NPV!V97,0),0)","v":0},{"$f":"IFERROR(IF(AND(LataProjekcji>=Poczatek,LataProjekcji<=(Koniec_Projekt+3)),NPV!W97,0),0)","v":0}]
[null,"  - koszty operacyjne niekwalifikowane (bez kosztów B+R)",null,null,null,null,null,null,null,{"$f":"IFERROR(IF(AND(LataProjekcji>=Poczatek,LataProjekcji<=(Koniec_Projekt+3)),'Koszty operacyjne'!J1141,0),0)","v":0},{"$f":"IFERROR(IF(AND(LataProjekcji>=Poczatek,LataProjekcji<=(Koniec_Projekt+3)),'Koszty operacyjne'!K1141,0),0)","v":0},{"$f":"IFERROR(IF(AND(LataProjekcji>=Poczatek,LataProjekcji<=(Koniec_Projekt+3)),'Koszty operacyjne'!L1141,0),0)","v":0},{"$f":"IFERROR(IF(AND(LataProjekcji>=Poczatek,LataProjekcji<=(Koniec_Projekt+3)),'Koszty operacyjne'!M1141,0),0)","v":0},{"$f":"IFERROR(IF(AND(LataProjekcji>=Poczatek,LataProjekcji<=(Koniec_Projekt+3)),'Koszty operacyjne'!N1141,0),0)","v":0},{"$f":"IFERROR(IF(AND(LataProjekcji>=Poczatek,LataProjekcji<=(Koniec_Projekt+3)),'Koszty operacyjne'!O1141,0),0)","v":0},{"$f":"IFERROR(IF(AND(LataProjekcji>=Poczatek,LataProjekcji<=(Koniec_Projekt+3)),'Koszty operacyjne'!P1141,0),0)","v":0},{"$f":"IFERROR(IF(AND(LataProjekcji>=Poczatek,LataProjekcji<=(Koniec_Projekt+3)),'Koszty operacyjne'!Q1141,0),0)","v":0},{"$f":"IFERROR(IF(AND(LataProjekcji>=Poczatek,LataProjekcji<=(Koniec_Projekt+3)),'Koszty operacyjne'!R1141,0),0)","v":0},{"$f":"IFERROR(IF(AND(LataProjekcji>=Poczatek,LataProjekcji<=(Koniec_Projekt+3)),'Koszty operacyjne'!S1141,0),0)","v":0},{"$f":"IFERROR(IF(AND(LataProjekcji>=Poczatek,LataProjekcji<=(Koniec_Projekt+3)),'Koszty operacyjne'!T1141,0),0)","v":0},{"$f":"IFERROR(IF(AND(LataProjekcji>=Poczatek,LataProjekcji<=(Koniec_Projekt+3)),'Koszty operacyjne'!U1141,0),0)","v":0},{"$f":"IFERROR(IF(AND(LataProjekcji>=Poczatek,LataProjekcji<=(Koniec_Projekt+3)),'Koszty operacyjne'!V1141,0),0)","v":0},{"$f":"IFERROR(IF(AND(LataProjekcji>=Poczatek,LataProjekcji<=(Koniec_Projekt+3)),'Koszty operacyjne'!W1141,0),0)","v":0}]
[null,"  - koszty operacyjne kwalifikowane (bez kosztów B+R)",null,null,null,null,null,null,null,{"$f":"IFERROR(IF(AND(LataProjekcji>=Poczatek,LataProjekcji<=(Koniec_Projekt+3)),'Koszty operacyjne'!J1113,0),0)","v":0},{"$f":"IFERROR(IF(AND(LataProjekcji>=Poczatek,LataProjekcji<=(Koniec_Projekt+3)),'Koszty operacyjne'!K1113,0),0)","v":0},{"$f":"IFERROR(IF(AND(LataProjekcji>=Poczatek,LataProjekcji<=(Koniec_Projekt+3)),'Koszty operacyjne'!L1113,0),0)","v":0},{"$f":"IFERROR(IF(AND(LataProjekcji>=Poczatek,LataProjekcji<=(Koniec_Projekt+3)),'Koszty operacyjne'!M1113,0),0)","v":0},{"$f":"IFERROR(IF(AND(LataProjekcji>=Poczatek,LataProjekcji<=(Koniec_Projekt+3)),'Koszty operacyjne'!N1113,0),0)","v":0},{"$f":"IFERROR(IF(AND(LataProjekcji>=Poczatek,LataProjekcji<=(Koniec_Projekt+3)),'Koszty operacyjne'!O1113,0),0)","v":0},{"$f":"IFERROR(IF(AND(LataProjekcji>=Poczatek,LataProjekcji<=(Koniec_Projekt+3)),'Koszty operacyjne'!P1113,0),0)","v":0},{"$f":"IFERROR(IF(AND(LataProjekcji>=Poczatek,LataProjekcji<=(Koniec_Projekt+3)),'Koszty operacyjne'!Q1113,0),0)","v":0},{"$f":"IFERROR(IF(AND(LataProjekcji>=Poczatek,LataProjekcji<=(Koniec_Projekt+3)),'Koszty operacyjne'!R1113,0),0)","v":0},{"$f":"IFERROR(IF(AND(LataProjekcji>=Poczatek,LataProjekcji<=(Koniec_Projekt+3)),'Koszty operacyjne'!S1113,0),0)","v":0},{"$f":"IFERROR(IF(AND(LataProjekcji>=Poczatek,LataProjekcji<=(Koniec_Projekt+3)),'Koszty operacyjne'!T1113,0),0)","v":0},{"$f":"IFERROR(IF(AND(LataProjekcji>=Poczatek,LataProjekcji<=(Koniec_Projekt+3)),'Koszty operacyjne'!U1113,0),0)","v":0},{"$f":"IFERROR(IF(AND(LataProjekcji>=Poczatek,LataProjekcji<=(Koniec_Projekt+3)),'Koszty operacyjne'!V1113,0),0)","v":0},{"$f":"IFERROR(IF(AND(LataProjekcji>=Poczatek,LataProjekcji<=(Koniec_Projekt+3)),'Koszty operacyjne'!W1113,0),0)","v":0}]
[null,"Stopa dyskonta",null,null,null,null,null,null,null,{"$f":"IFERROR(IF(AND(LataProjekcji>=Poczatek,LataProjekcji<=(Koniec_Projekt+3)),WACC,0),0)","v":0},0,0,0,0,0,0,0,0,0,0,0,0,0]
[null,"Współczynnik dyskonta",null,null,null,null,null,null,null,{"$f":"IFERROR(IF(AND(LataProjekcji>=Poczatek,LataProjekcji<=(Koniec_Projekt+3)),(1+J22)^J74,0),0)","v":0},{"$f":"IFERROR(IF(AND(LataProjekcji>=Poczatek,LataProjekcji<=(Koniec_Projekt+3)),(1+K22)^K74,0),0)","v":0},0,0,0,0,0,0,0,0,0,0,0,0]
[null,"Wartość przyszła przychodów",null,null,null,null,null,null,null,{"$f":"ROUND(J23*J14,0)","v":0},0,0,0,0,0,0,0,0,0,0,0,0,0]
[null,"Wartość przyszła kosztów",null,null,null,null,null,null,null,{"$f":"ROUND(J23*J15,0)","v":0},0,0,0,0,0,0,0,0,0,0,0,0,0]
[null,"Dochód w projekcie",null,null,null,null,null,null,null,{"$f":"SUM(J24:W24)-SUM(J25:W25)","v":0}]
[null,"Otrzymane dofinansowanie",null,null,null,null,null,null,null,{"$f":"SUM(NPV!J18:W18)","v":0}]
[null,"Udział dofinansowania w łącznych kosztach Projektu",null,null,null,null,null,null,null,{"$f":"IFERROR(J27/(SUM(J15:W15)),0)","v":0}]
[null,"Potencjalna wartość dochodu należnego do zwrotu",null,null,null,null,null,null,null,{"$f":"IF(J26<=0,0,ROUND(J26*J28,0))","v":0}]
[]
[null,"Komentarz"]
[]
[]
[]
[]
[]
[]
[]
[]
[]
[]
[]
[]
[]
[]
[]
[]
[]
[]
[]
[]
[]
[]
[]
[]
[]
[]
[]
[]
[]
[]
[]
[]
[]
[]
[]
[]
[]
[]
[]
[]
[]
[null,"Pomocne liczby do stopy dyskonta",null,null,null,null,null,null,null,{"$f":"IF(AND(LataProjekcji>=Poczatek,LataProjekcji<=(Koniec_Projekt+3)),1,0)","v":0},0,0,0,0,0,0,0,0,0,0,0,0,0]
[null,"Potęga (okres)",null,null,null,null,null,null,null,{"$f":"IF(J73=1,COUNTIF(J73:$W73,\">0\"),0)","v":0},{"$f":"IF(K73=1,COUNTIF(K73:$W73,\">0\"),0)","v":0},{"$f":"IF(L73=1,COUNTIF(L73:$W73,\">0\"),0)","v":0},{"$f":"IF(M73=1,COUNTIF(M73:$W73,\">0\"),0)","v":0},{"$f":"IF(N73=1,COUNTIF(N73:$W73,\">0\"),0)","v":0},{"$f":"IF(O73=1,COUNTIF(O73:$W73,\">0\"),0)","v":0},{"$f":"IF(P73=1,COUNTIF(P73:$W73,\">0\"),0)","v":0},{"$f":"IF(Q73=1,COUNTIF(Q73:$W73,\">0\"),0)","v":0},{"$f":"IF(R73=1,COUNTIF(R73:$W73,\">0\"),0)","v":0},{"$f":"IF(S73=1,COUNTIF(S73:$W73,\">0\"),0)","v":0},{"$f":"IF(T73=1,COUNTIF(T73:$W73,\">0\"),0)","v":0},{"$f":"IF(U73=1,COUNTIF(U73:$W73,\">0\"),0)","v":0},{"$f":"IF(V73=1,COUNTIF(V73:$W73,\">0\"),0)","v":0},{"$f":"IF(W73=1,COUNTIF(W73:$W73,\">0\"),0)","v":0}]